{"text_format":"1","workbook":"xlsx","n_sheets":11,"sheets":["HOME","2025Q3 Overview","Total CPI","CPI Qrtrly Comparison","CPI Sub-Categories","CPI Charts","Inflation","Inflation Sub-Categories","Inflation Charts","Lock","Press Release_Table & Chart"],"not_rendered":{"charts":10,"images":5,"macros":1,"external_links":26,"defined_names":5,"comments":0,"pivot_tables":0},"unopened":[],"bounds":{"document_bytes":16777216,"sheet_cells":100000,"rows_first":2000,"rows_last":500,"rows_between":2000,"halvings":0,"cell_chars":16384,"cell_head_chars":4096},"cells_cut":0,"cells_raw":0,"read":"whole","date_system":"1900"}

{"sheet":"HOME","index":0,"n_rows":22,"n_cols":2,"rows_kept":22,"cut":false,"hidden":false,"merged":[[9,0,9,1],[18,0,18,1],[1,0,1,1],[4,0,6,1]]}
[]
["The Department of Statistics (STAT)"]
[]
["CPI and Inflation"]
["The Consumer Price Index (CPI) is an index of the variation in prices paid by consumers for retail goods and services, while the inflation rate is the year on year percentage change of the CPI.  The sheets in this workbook contains the CPI figures and inflation rates for the 12 expenditure categories and subcategories from the base year 2018 to the current period. To navigate the sheets, click on the cell which represents the sheet that you would like to view. To return to the home page, click on the home button on the top left hand corner of the sheet."]
[]
[]
[]
[]
["Description"]
["Overview","The overview of the Consumer Price Index figures, quarterly percentage change and inflation rates for the current period."]
["Total CPI","Total Consumer Price Index figures by quarter and year"]
["CPI Qrtrly Comparison","Quarterly percentage change for the 12 major expenditure categories and sub categories"]
["CPI Sub-Categories","CPI for the 12 major expenditure categories and sub categories"]
["CPI Charts","Quarterly Index comparison between Total CPI and the four expenditure categories with the highest weight"]
["Inflation","Inflation rate by Quarter"]
["Inflation Sub-Categories","Quarterly Inflation rates for the 12 major expenditure categories and sub categories."]
["Inflation Charts","Quarterly comparison between Total Inflation and the four expenditure categories with the highest weight"]
["Information Key"]
["Not available","At this point in time, we are not able to monitor the prices necessary to calculate an index for these items. "]
["Not yet available","The prices were collected in a later quarter, and as such an index is not yet availble, but will be in a later quarter. "]
["Not relevant","There is either no local supplier, or the item/service is not relevant to the local market. "]

{"sheet":"2025Q3 Overview","index":1,"n_rows":187,"n_cols":15,"rows_kept":187,"cut":false,"hidden":false,"merged":[[186,0,187,8],[1,1,2,2],[4,0,6,0],[4,1,6,1],[4,2,6,2],[4,3,6,3]]}
[]
["Table 1. ","Overview of the Consumer Price Index figures, quarterly percentage change and inflation rates for 2025 Quarter 3."]
[]
[]
["Level","Code","Expenditure category","2018 WEIGHTS","INDEX ","INDEX ","INDEX ","Quarter-to-Quarter","Year-on-Year"]
[null,null,null,null,2024,2025,2025,"% Change","% Change"]
[null,null,null,null,"Quarter 3","Quarter 2","Quarter 3","Q2 2025 to Q3 2025","Q3 2024 to Q3 2025",null,null,"All items",{"$f":"G6&\" \"&\" \"&G7","v":"2025  Quarter 3"},{"$f":"F6&\" \"&\" \"&F7","v":"2025  Quarter 2"},{"$f":"E6&\" \"&\" \"&E7","v":"2024  Quarter 3"}]
[null,null,null,null,null,null,null,null,null,null,null,"Miscellaneous goods and services",{"$f":"G164","v":108.220556005551},{"$f":"F164","v":105.16177025722},{"$f":"E164","v":103.607462867772}]
[null,null,"All items",1,{"$f":"'CPI Sub-Categories'!AK8","v":113.822041355032},{"$f":"'CPI Sub-Categories'!AN8","v":114.22829585201499},{"$f":"'CPI Sub-Categories'!AO8","v":115.09192592725},{"$f":"(G9-F9)/F9","v":7.5605616698848233E-3},{"$f":"(G9-E9)/E9","v":1.1156754501151486E-2},null,null,"Restaurants and hotels",{"$f":"G158","v":126.351299199498},{"$f":"F158","v":127.97536447739699},{"$f":"E158","v":121.974855454692}]
[null,null,null,null,null,null,null,null,null,null,null,"Education",{"$f":"G147","v":108.960389978907},{"$f":"F147","v":107.563991500295},{"$f":"E147","v":107.563991500295}]
[1,"010000","Food and non-alcoholic beverages",7.1575201768881838E-2,{"$f":"'CPI Sub-Categories'!AK10","v":120.721958285993},{"$f":"'CPI Sub-Categories'!AN10","v":123.380029759834},{"$f":"'CPI Sub-Categories'!AL10","v":121.762387419002},{"$f":"(G11-F11)/F11","v":-1.311105487639155E-2},{"$f":"(G11-E11)/E11","v":8.6183917804265511E-3},null,null,"Recreation and culture",{"$f":"G119","v":111.561546219584},{"$f":"F119","v":107.378989820003},{"$f":"E119","v":108.474413840675}]
[2,"011000","Food",6.1133032935509389E-2,{"$f":"'CPI Sub-Categories'!AK11","v":120.34637683085001},{"$f":"'CPI Sub-Categories'!AN11","v":123.05825110532901},{"$f":"'CPI Sub-Categories'!AL11","v":121.122308336609},{"$f":"(G12-F12)/F12","v":-1.5731921682057576E-2},{"$f":"(G12-E12)/E12","v":6.4474853850364127E-3},null,null,"Communication",{"$f":"G112","v":116.678886102699},{"$f":"F112","v":115.79526090461},{"$f":"E112","v":115.806062888144}]
[3,"011100","Bread and cereals",1.3070338983809476E-2,{"$f":"'CPI Sub-Categories'!AK12","v":119.461783074981},{"$f":"'CPI Sub-Categories'!AN12","v":118.05376167397399},{"$f":"'CPI Sub-Categories'!AL12","v":119.84320051229599},1.5157829898413959E-2,3.1927987972152957E-3,null,null,"Transport",{"$f":"G94","v":123.238339744851},{"$f":"F94","v":116.333073044633},{"$f":"E94","v":114.721567247941}]
[3,"011200","Meat",1.1302029747486503E-2,{"$f":"'CPI Sub-Categories'!AK13","v":114.339895084983},{"$f":"'CPI Sub-Categories'!AN13","v":117.7292594083},{"$f":"'CPI Sub-Categories'!AL13","v":113.508370928009},-3.5852501761286196E-2,-7.2723886650059352E-3,null,null,"Health",{"$f":"G83","v":111.275480997155},{"$f":"F83","v":109.22570980818401},{"$f":"E83","v":109.160848334679}]
[3,"011300","Fish and seafood",3.8594645872996628E-3,{"$f":"'CPI Sub-Categories'!AK14","v":117.195463766391},{"$f":"'CPI Sub-Categories'!AN14","v":121.253922918119},{"$f":"'CPI Sub-Categories'!AL14","v":112.46388006796499},-7.2492853332999346E-2,-4.0373437216457503E-2,null,null,"Furnishings, household equipment and routine household maintenance",{"$f":"G64","v":114.753511296022},{"$f":"F64","v":117.34485022311701},{"$f":"E64","v":116.601492676314}]
[3,"011400","Milk, cheese and eggs",8.316532751475203E-3,{"$f":"'CPI Sub-Categories'!AK15","v":127.967122701447},{"$f":"'CPI Sub-Categories'!AN15","v":140.04215237199099},{"$f":"'CPI Sub-Categories'!AL15","v":134.187775618107},-4.1804389997756826E-2,4.8611336922633336E-2,null,null,"Housing, water, electricity, gas and other fuels",{"$f":"G43","v":111.576563892403},{"$f":"F43","v":112.458546058167},{"$f":"E43","v":112.18340255661199}]
[3,"011500","Oils and fats",2.4339020053864586E-3,{"$f":"'CPI Sub-Categories'!AK16","v":130.29174846095},{"$f":"'CPI Sub-Categories'!AN16","v":134.06243106852401},{"$f":"'CPI Sub-Categories'!AL16","v":134.27470327244799},1.5833832210269834E-3,3.0569509263218837E-2,null,null,"Clothing and footwear",{"$f":"G34","v":122.346358582166},{"$f":"F34","v":123.390207785325},{"$f":"E34","v":121.121053475068}]
[3,"011600","Fruit",6.3773254818105685E-3,{"$f":"'CPI Sub-Categories'!AK17","v":115.15568053957},{"$f":"'CPI Sub-Categories'!AN17","v":117.704973315624},{"$f":"'CPI Sub-Categories'!AL17","v":118.210928877444},4.2985062361238597E-3,2.653146005093648E-2,null,null,"Alcoholic beverages, tobacco and narcotics",{"$f":"G25","v":110.88519047477401},{"$f":"F25","v":112.327025140774},{"$f":"E25","v":112.442304543959}]
[3,"011700","Vegetables",8.369551942126378E-3,{"$f":"'CPI Sub-Categories'!AK18","v":121.553000263097},{"$f":"'CPI Sub-Categories'!AN18","v":119.496297019927},{"$f":"'CPI Sub-Categories'!AL18","v":120.04477109535},4.5898834449367007E-3,-1.2407996219611998E-2,null,null,"Food and non-alcoholic beverages",{"$f":"G11","v":121.762387419002},{"$f":"F11","v":123.380029759834},{"$f":"E11","v":120.721958285993}]
[3,"011800","Sugar, jam, honey, chocolate and confectionery",2.7254658952110935E-3,{"$f":"'CPI Sub-Categories'!AK19","v":121.225751157057},{"$f":"'CPI Sub-Categories'!AN19","v":124.27135944075},{"$f":"'CPI Sub-Categories'!AL19","v":121.24915061178901},-2.4319431625771541E-2,1.9302379658332785E-4,null,null,"TOTAL CPI",{"$f":"G9","v":115.09192592725},{"$f":"F9","v":114.22829585201499},{"$f":"E9","v":113.822041355032}]
[3,"011900","Food products n.e.c.",4.6784215409040554E-3,{"$f":"'CPI Sub-Categories'!AK20","v":125.611216867482},{"$f":"'CPI Sub-Categories'!AN20","v":128.448435520629},{"$f":"'CPI Sub-Categories'!AL20","v":125.98651785828601},-1.9166583480478519E-2,2.9877983842792008E-3]
[2,"012000","Non-alcoholic beverages",1.0442168833372442E-2,{"$f":"'CPI Sub-Categories'!AK21","v":122.920776875762},{"$f":"'CPI Sub-Categories'!AN21","v":125.263863153698},{"$f":"'CPI Sub-Categories'!AL21","v":125.509691142371},1.9624812973504597E-3,{"$f":"(G22-E22)/E22","v":2.1061649075205996E-2}]
[3,"012100","Coffee, tea and cocoa",1.4394571693830396E-3,{"$f":"'CPI Sub-Categories'!AK22","v":115.516473847974},{"$f":"'CPI Sub-Categories'!AN22","v":117.790306664037},{"$f":"'CPI Sub-Categories'!AL22","v":116.54827303082},-1.0544446893746097E-2,8.9320522733744891E-3]
[3,"012200","Mineral waters, soft drinks, fruit and vegetable juices",9.0027116639894034E-3,{"$f":"'CPI Sub-Categories'!AK23","v":124.104662021411},{"$f":"'CPI Sub-Categories'!AN23","v":126.458821339509},{"$f":"'CPI Sub-Categories'!AL23","v":126.94254576034101},3.8251536405936467E-3,2.2866858445981672E-2]
[1,"020000","Alcoholic beverages, tobacco and narcotics",3.9026875644902685E-3,{"$f":"'CPI Sub-Categories'!AK24","v":112.442304543959},{"$f":"'CPI Sub-Categories'!AN24","v":112.327025140774},{"$f":"'CPI Sub-Categories'!AL24","v":110.88519047477401},-1.2836044257319287E-2,{"$f":"(G25-E25)/E25","v":-1.3848115933769761E-2}]
[2,"021000","Alcoholic beverages",3.4672205153213078E-3,{"$f":"'CPI Sub-Categories'!AK25","v":111.34674445159099},{"$f":"'CPI Sub-Categories'!AN25","v":108.21693052496801},{"$f":"'CPI Sub-Categories'!AL25","v":110.128854669826},1.766751409029171E-2,-1.0937812216813255E-2]
[3,"021100","Spirits",1.4099524959385436E-3,{"$f":"'CPI Sub-Categories'!AK26","v":108.189362962429},{"$f":"'CPI Sub-Categories'!AN26","v":104.749680973482},{"$f":"'CPI Sub-Categories'!AL26","v":107.694105229417},2.8109147718363005E-2,-4.5776934021137085E-3]
[3,"021200","Wine",7.6442715081228381E-4,{"$f":"'CPI Sub-Categories'!AK27","v":121.859794553559},{"$f":"'CPI Sub-Categories'!AN27","v":112.900103669552},{"$f":"'CPI Sub-Categories'!AL27","v":117.34615095066},3.9380364911986009E-2,-3.7039645597918586E-2]
[3,"021300","Beer",1.2928408685704803E-3,{"$f":"'CPI Sub-Categories'!AK28","v":108.57401137390301},{"$f":"'CPI Sub-Categories'!AN28","v":109.229206158414},{"$f":"'CPI Sub-Categories'!AL28","v":108.51673353423},-6.5227300393514761E-3,-5.2754649983184827E-4]
[2,"022000","Tobacco",4.3546704916896088E-4,{"$f":"'CPI Sub-Categories'!AK29","v":115.858982148477},{"$f":"'CPI Sub-Categories'!AN29","v":116.907191291442},{"$f":"'CPI Sub-Categories'!AL29","v":116.907191291442},0,9.0472842375025637E-3]
[3,"022100","Tobacco",4.3546704916896088E-4,{"$f":"'CPI Sub-Categories'!AK30","v":115.858982148477},{"$f":"'CPI Sub-Categories'!AN30","v":116.907191291442},{"$f":"'CPI Sub-Categories'!AL30","v":116.907191291442},0,9.0472842375025637E-3]
[2,"023000","Narcotics","N/A",{"$f":"'CPI Sub-Categories'!AK31","v":"Not available"},{"$f":"'CPI Sub-Categories'!AN31","v":{"$error":"#N/A"}},{"$f":"'CPI Sub-Categories'!AL31","v":"Not available"},"Not available","Not available"]
[3,"023000","Narcotics","N/A",{"$f":"'CPI Sub-Categories'!AK32","v":"Not available"},{"$f":"'CPI Sub-Categories'!AN32","v":"Not available"},{"$f":"'CPI Sub-Categories'!AL32","v":"Not available"},"Not available","Not available"]
[1,"030000","Clothing and footwear",4.7592002679085331E-2,{"$f":"'CPI Sub-Categories'!AK33","v":121.121053475068},{"$f":"'CPI Sub-Categories'!AN33","v":123.390207785325},{"$f":"'CPI Sub-Categories'!AL33","v":122.346358582166},-8.4597410272223023E-3,{"$f":"(G34-E34)/E34","v":1.0116367649908449E-2}]
[2,"031000","Clothing",3.911025299001173E-2,{"$f":"'CPI Sub-Categories'!AK34","v":118.547998656202},{"$f":"'CPI Sub-Categories'!AN34","v":120.632671927817},{"$f":"'CPI Sub-Categories'!AL34","v":117.803160119521},-2.3455600900468325E-2,-6.2830123251687159E-3]
[3,"031100","Clothing materials",2.0878555163875826E-4,{"$f":"'CPI Sub-Categories'!AK35","v":62.5},{"$f":"'CPI Sub-Categories'!AN35","v":62.5},{"$f":"'CPI Sub-Categories'!AL35","v":62.5},0,0]
[3,"031200","Garments",3.5953857638554756E-2,{"$f":"'CPI Sub-Categories'!AK36","v":118.707860529179},{"$f":"'CPI Sub-Categories'!AN36","v":120.686452353108},{"$f":"'CPI Sub-Categories'!AL36","v":118.02974258598699},-2.2013322252177243E-2,-5.7124940182484525E-3]
[3,"031300","Other articles of clothing and clothing accessories",1.0785205624446884E-3,{"$f":"'CPI Sub-Categories'!AK37","v":126.068117213739},{"$f":"'CPI Sub-Categories'!AN37","v":135.705474003604},{"$f":"'CPI Sub-Categories'!AL37","v":121.664060063436},-0.10346976821137734,-3.4933948786085668E-2]
[3,"031400","Cleaning, repair and hire of clothing",1.8690892373735249E-3,{"$f":"'CPI Sub-Categories'!AK38","v":117.39437813840701},{"$f":"'CPI Sub-Categories'!AN38","v":117.39437813840701},{"$f":"'CPI Sub-Categories'!AL38","v":117.39437813840701},0,0]
[2,"032000","Footwear",8.4817496890735953E-3,{"$f":"'CPI Sub-Categories'!AK39","v":139.88054984328801},{"$f":"'CPI Sub-Categories'!AN39","v":138.86400126706599},{"$f":"'CPI Sub-Categories'!AL39","v":143.29552637750299},3.1912699259718229E-2,2.4413519521054767E-2]
[3,"032100","Shoes and other footwear",8.4161511304633365E-3,{"$f":"'CPI Sub-Categories'!AK40","v":140.41410125538201},{"$f":"'CPI Sub-Categories'!AN40","v":139.389629154657},{"$f":"'CPI Sub-Categories'!AL40","v":143.855695947236},3.2040165539315435E-2,2.4510320979760417E-2]
[3,"032200","Repair and hire of footwear",6.5598558610259087E-5,{"$f":"'CPI Sub-Categories'!AK41","v":71.428571428571402},{"$f":"'CPI Sub-Categories'!AN41","v":71.428571428571303},{"$f":"'CPI Sub-Categories'!AL41","v":71.428571428571303},0,-1.3926637620897968E-15,null,null,"All items",{"$f":"H7","v":"Q2 2025 to Q3 2025"},{"$f":"I7","v":"Q3 2024 to Q3 2025"}]
[1,"040000","Housing, water, electricity, gas and other fuels",0.36126906341259835,{"$f":"'CPI Sub-Categories'!AK42","v":112.18340255661199},{"$f":"'CPI Sub-Categories'!AN42","v":112.458546058167},{"$f":"'CPI Sub-Categories'!AL42","v":111.576563892403},-7.8427313590539605E-3,-5.4093444340196362E-3,null,null,"Miscellaneous goods and services",{"$f":"H164","v":2.9086480199500067E-2},{"$f":"I164","v":4.4524718684274878E-2}]
[2,"041000","Actual rentals for housing",0.12752715239982301,{"$f":"'CPI Sub-Categories'!AK43","v":113.46726543013401},{"$f":"'CPI Sub-Categories'!AN43","v":113.46726543013401},{"$f":"'CPI Sub-Categories'!AL43","v":113.46726543013401},0,0,null,null,"Restaurants and hotels",{"$f":"H158","v":-1.2690452451775084E-2},{"$f":"I158","v":3.587988465730662E-2}]
[3,"041100","Actual rentals paid by tenants",0.12752715239982301,{"$f":"'CPI Sub-Categories'!AK44","v":113.46726543013401},{"$f":"'CPI Sub-Categories'!AN44","v":113.46726543013401},{"$f":"'CPI Sub-Categories'!AL44","v":113.46726543013401},0,0,null,null,"Education",{"$f":"H147","v":1.2982025482088676E-2},{"$f":"I147","v":1.2982025482088676E-2}]
[3,"041200","Other actual rentals","N/A",{"$f":"'CPI Sub-Categories'!AK45","v":"Not available"},{"$f":"'CPI Sub-Categories'!AN45","v":"Not available"},{"$f":"'CPI Sub-Categories'!AL45","v":"Not available"},"Not available","Not available",null,null,"Recreation and culture",{"$f":"H119","v":3.8951347992676487E-2},{"$f":"I119","v":2.8459544233567568E-2}]
[2,"042000","Imputed rentals for housing",0.15128787254192383,{"$f":"'CPI Sub-Categories'!AK46","v":99.999999972998793},{"$f":"'CPI Sub-Categories'!AN46","v":99.999999972998793},{"$f":"'CPI Sub-Categories'!AL46","v":99.999999972998793},0,{"$f":"(G47-E47)/E47","v":0},null,null,"Communication",{"$f":"H112","v":7.6309271310930999E-3},{"$f":"I112","v":7.5369388509308874E-3}]
[3,"042100","Imputed rentals of owner-occupiers",0.15128787254192383,{"$f":"'CPI Sub-Categories'!AK47","v":99.999999972998793},{"$f":"'CPI Sub-Categories'!AN47","v":99.999999972998793},{"$f":"'CPI Sub-Categories'!AL47","v":99.999999972998793},0,{"$f":"(G48-E48)/E48","v":0},null,null,"Transport",{"$f":"H94","v":5.9357726220889001E-2},{"$f":"I94","v":7.4238634471434709E-2}]
[3,"042200","Other imputed rentals","N/A",{"$f":"'CPI Sub-Categories'!AK48","v":"Not available"},{"$f":"'CPI Sub-Categories'!AN48","v":"Not available"},{"$f":"'CPI Sub-Categories'!AL48","v":"Not available"},"Not available","Not available",null,null,"Health",{"$f":"H83","v":1.8766380118478379E-2},{"$f":"I83","v":1.9371713345362543E-2}]
[2,"043000","Maintenance and repair of the dwelling",1.8476865355389963E-2,{"$f":"'CPI Sub-Categories'!AK49","v":126.362267692654},{"$f":"'CPI Sub-Categories'!AN49","v":121.308223903997},{"$f":"'CPI Sub-Categories'!AL49","v":123.28649913715},1.630784104726981E-2,{"$f":"(G50-E50)/E50","v":-2.4340878109160479E-2},null,null,"Furnishings, household equipment and routine household maintenance",{"$f":"H64","v":-2.2083107372568054E-2},{"$f":"I64","v":-1.584869402505848E-2}]
[3,"043100","Materials for the maintenance and repair of the dwelling",1.3320181241777172E-2,{"$f":"'CPI Sub-Categories'!AK50","v":128.82531260281101},{"$f":"'CPI Sub-Categories'!AN50","v":124.25973243083099},{"$f":"'CPI Sub-Categories'!AL50","v":124.5588119921},2.4068904335963616E-3,{"$f":"(G51-E51)/E51","v":-3.3118496082096133E-2},null,null,"Housing, water, electricity, gas and other fuels",{"$f":"H43","v":-7.8427313590539605E-3},{"$f":"I43","v":-5.4093444340196362E-3}]
[3,"043200","Services for the maintenance and repair of the dwelling",5.1566841136127927E-3,{"$f":"'CPI Sub-Categories'!AK51","v":120},{"$f":"'CPI Sub-Categories'!AN51","v":113.68421052631599},{"$f":"'CPI Sub-Categories'!AL51","v":120},5.5555555555553658E-2,{"$f":"(G52-E52)/E52","v":0},null,null,"Clothing and footwear",{"$f":"H34","v":-8.4597410272223023E-3},{"$f":"I34","v":1.0116367649908449E-2}]
[2,"044000","Water supply and miscellaneous services relating to the dwelling",1.7006763303784658E-2,{"$f":"'CPI Sub-Categories'!AK52","v":102.28220994484199},{"$f":"'CPI Sub-Categories'!AN52","v":99.811248245664203},{"$f":"'CPI Sub-Categories'!AL52","v":102.28220994484199},{"$f":"(G53-F53)/F53","v":2.4756345027326421E-2},{"$f":"(G53-E53)/E53","v":0},null,null,"Alcoholic beverages, tobacco and narcotics",{"$f":"H25","v":-1.2836044257319287E-2},{"$f":"I25","v":-1.3848115933769761E-2}]
[3,"044100","Water supply",1.4305178801020117E-2,{"$f":"'CPI Sub-Categories'!AK53","v":100.042774988446},{"$f":"'CPI Sub-Categories'!AN53","v":100.042774988446},{"$f":"'CPI Sub-Categories'!AL53","v":100.042774988446},0,{"$f":"(G54-E54)/E54","v":0},null,null,"Food and non-alcoholic beverages",{"$f":"H11","v":-1.311105487639155E-2},{"$f":"I11","v":8.6183917804265511E-3}]
[3,"044200","Refuse collection","N/A",{"$f":"'CPI Sub-Categories'!AK54","v":"Not available"},{"$f":"'CPI Sub-Categories'!AN54","v":"Not available"},{"$f":"'CPI Sub-Categories'!AL54","v":"Not available"},"Not available","Not available",null,null,"TOTAL CPI",{"$f":"H9","v":7.5605616698848233E-3},{"$f":"I9","v":1.1156754501151486E-2}]
[3,"044300","Sewage collection",6.0043114404533112E-4,{"$f":"'CPI Sub-Categories'!AK55","v":93.634638754052702},{"$f":"'CPI Sub-Categories'!AN55","v":93.634638754052702},{"$f":"'CPI Sub-Categories'!AL55","v":93.634638754052801},1.0623844373203019E-15,{"$f":"(G56-E56)/E56","v":1.0623844373203019E-15}]
[3,"044400","Other services relating to the dwelling n.e.c.",2.1011533587192099E-3,{"$f":"'CPI Sub-Categories'!AK56","v":120},{"$f":"'CPI Sub-Categories'!AN56","v":99.999999999999901},{"$f":"'CPI Sub-Categories'!AL56","v":120},0.2000000000000012,{"$f":"(G57-E57)/E57","v":0}]
[2,"045000","Electricity, gas and other fuels",4.6970409811676848E-2,{"$f":"'CPI Sub-Categories'!AK57","v":145.94678850973199},{"$f":"'CPI Sub-Categories'!AN57","v":134.60692691155199},{"$f":"'CPI Sub-Categories'!AL57","v":142.48926095903099},{"$f":"(G58-F58)/F58","v":5.8558160626149235E-2},{"$f":"(G58-E58)/E58","v":-2.3690329783929764E-2},null,null,"All items","quartely","annually"]
[3,"045100","Electricity",4.1152649773324092E-2,{"$f":"'CPI Sub-Categories'!AK58","v":147.45323289536},{"$f":"'CPI Sub-Categories'!AN58","v":132.90508465768499},{"$f":"'CPI Sub-Categories'!AL58","v":143.50712572201201},7.977152335167613E-2,{"$f":"(G59-E59)/E59","v":-2.6761754190553062E-2},null,null,"Clothing and footwear",{"$f":"H34","v":-8.4597410272223023E-3},{"$f":"I34","v":1.0116367649908449E-2}]
[3,"045200","Cooking gas",5.771555661704131E-3,{"$f":"'CPI Sub-Categories'!AK59","v":135.28015394595801},{"$f":"'CPI Sub-Categories'!AN59","v":146.73297989684301},{"$f":"'CPI Sub-Categories'!AL59","v":135.28015394595801},-7.8052159500451954E-2,{"$f":"(G60-E60)/E60","v":0},null,null,"Transport",{"$f":"H94","v":5.9357726220889001E-2},{"$f":"I94","v":7.4238634471434709E-2}]
[3,"045300","Liquid fuels","N/A",{"$f":"'CPI Sub-Categories'!AK60","v":"Not available"},{"$f":"'CPI Sub-Categories'!AN60","v":"Not available"},{"$f":"'CPI Sub-Categories'!AL60","v":"Not available"},"Not available","Not available",null,null,"Miscellaneous goods and services",{"$f":"H164","v":2.9086480199500067E-2},{"$f":"I164","v":4.4524718684274878E-2}]
[3,"045400","Solid fuels",4.6204376648626344E-5,{"$f":"'CPI Sub-Categories'!AK61","v":136.61562336136799},{"$f":"'CPI Sub-Categories'!AN61","v":135.670233513688},{"$f":"'CPI Sub-Categories'!AL61","v":136.42719380907701},5.5794132270925575E-3,{"$f":"(G62-E62)/E62","v":-1.3792679611215513E-3},null,null,"Food and non-alcoholic beverages",{"$f":"H11","v":-1.311105487639155E-2},{"$f":"I11","v":8.6183917804265511E-3}]
[3,"045500","Heat energy","N/A",{"$f":"'CPI Sub-Categories'!AK62","v":"Not available"},{"$f":"'CPI Sub-Categories'!AN62","v":"Not available"},{"$f":"'CPI Sub-Categories'!AL62","v":"Not available"},"Not available","Not available",null,null,"Restaurants and hotels",{"$f":"H158","v":-1.2690452451775084E-2},{"$f":"I158","v":3.587988465730662E-2}]
[1,"050000","Furnishings, household equipment and routine household maintenance",6.4625948261438373E-2,{"$f":"'CPI Sub-Categories'!AK63","v":116.601492676314},{"$f":"'CPI Sub-Categories'!AN63","v":117.34485022311701},{"$f":"'CPI Sub-Categories'!AL63","v":114.753511296022},-2.2083107372568054E-2,{"$f":"(G64-E64)/E64","v":-1.584869402505848E-2},null,null,"Health",{"$f":"H83","v":1.8766380118478379E-2},{"$f":"I83","v":1.9371713345362543E-2}]
[2,"051000","Furniture and furnishings, carpets and other floor coverings",1.3465372388721511E-2,{"$f":"'CPI Sub-Categories'!AK64","v":105.48266786249999},{"$f":"'CPI Sub-Categories'!AN64","v":103.392824162122},{"$f":"'CPI Sub-Categories'!AL64","v":102.23866829176001},-1.1162823723165261E-2,{"$f":"(G65-E65)/E65","v":-3.0753863515934614E-2},null,null,"Recreation and culture",{"$f":"H119","v":3.8951347992676487E-2},{"$f":"I119","v":2.8459544233567568E-2}]
[3,"051100","Furniture and furnishings",1.2760626085750819E-2,{"$f":"'CPI Sub-Categories'!AK65","v":103.98918212128601},{"$f":"'CPI Sub-Categories'!AN65","v":102.929852203308},{"$f":"'CPI Sub-Categories'!AL65","v":100.906949731989},-1.9653214573002051E-2,{"$f":"(G66-E66)/E66","v":-2.9639932985549358E-2},null,null,"Education",{"$f":"H147","v":1.2982025482088676E-2},{"$f":"I147","v":1.2982025482088676E-2}]
[3,"051200","Carpets and other floor coverings",7.0474630297069347E-4,{"$f":"'CPI Sub-Categories'!AK66","v":132.52476952746099},{"$f":"'CPI Sub-Categories'!AN66","v":111.775719581047},{"$f":"'CPI Sub-Categories'!AL66","v":126.351699764796},0.13040381433805182,{"$f":"(G67-E67)/E67","v":-4.6580498005588666E-2},null,null,"Communication",{"$f":"H112","v":7.6309271310930999E-3},{"$f":"I112","v":7.5369388509308874E-3}]
[3,"051300","Repair of furniture, furnishings and floor coverings","N/R",{"$f":"'CPI Sub-Categories'!AK67","v":"Not available"},{"$f":"'CPI Sub-Categories'!AN67","v":"Not available"},{"$f":"'CPI Sub-Categories'!AL67","v":"Not available"},"Not relevant","Not relevant",null,null,"Housing, water, electricity, gas and other fuels",{"$f":"H43","v":-7.8427313590539605E-3},{"$f":"I43","v":-5.4093444340196362E-3}]
[2,"052000","Household textiles",5.4072938908236307E-3,{"$f":"'CPI Sub-Categories'!AK68","v":116.407449555664},{"$f":"'CPI Sub-Categories'!AN68","v":103.57601316407801},{"$f":"'CPI Sub-Categories'!AL68","v":102.489025630893},-1.049458750128834E-2,{"$f":"(G69-E69)/E69","v":-0.11956643649438826},null,null,"Furnishings, household equipment and routine household maintenance",{"$f":"H64","v":-2.2083107372568054E-2},{"$f":"I64","v":-1.584869402505848E-2}]
[3,"052100","Household textiles",5.4072938908236307E-3,{"$f":"'CPI Sub-Categories'!AK69","v":116.407449555664},{"$f":"'CPI Sub-Categories'!AN69","v":103.57601316407801},{"$f":"'CPI Sub-Categories'!AL69","v":102.489025630893},-1.049458750128834E-2,{"$f":"(G70-E70)/E70","v":-0.11956643649438826},null,null,"Alcoholic beverages, tobacco and narcotics",{"$f":"H25","v":-1.2836044257319287E-2},{"$f":"I25","v":-1.3848115933769761E-2}]
[2,"053000","Household appliances",7.747387583260869E-3,{"$f":"'CPI Sub-Categories'!AK70","v":127.400560191775},{"$f":"'CPI Sub-Categories'!AN70","v":123.366937013833},{"$f":"'CPI Sub-Categories'!AL70","v":122.601449701867},-6.2049632624028347E-3,{"$f":"(G71-E71)/E71","v":-3.7669461442586608E-2}]
[3,"053100","Major household appliances whether electric or not",7.1619393521293638E-3,{"$f":"'CPI Sub-Categories'!AK71","v":129.43375815788701},{"$f":"'CPI Sub-Categories'!AN71","v":123.885237322252},{"$f":"'CPI Sub-Categories'!AL71","v":124.532585054896},5.2253823509262661E-3,{"$f":"(G72-E72)/E72","v":-3.7866265901144724E-2}]
[3,"053200","Small electric household appliances",5.8544823113150491E-4,{"$f":"'CPI Sub-Categories'!AK72","v":102.527985438323},{"$f":"'CPI Sub-Categories'!AN72","v":117.02645104997499},{"$f":"'CPI Sub-Categories'!AL72","v":98.977430187873296},-0.15423026760329631,{"$f":"(G73-E73)/E73","v":-3.4630108406700194E-2}]
[3,"053300","Repair of household appliances","N/R",{"$f":"'CPI Sub-Categories'!AK73","v":"Not relevant"},{"$f":"'CPI Sub-Categories'!AN73","v":"Not relevant"},{"$f":"'CPI Sub-Categories'!AL73","v":"Not relevant"},"Not relevant","Not relevant"]
[2,"054000","Glassware, tableware and household utensils",3.3048653304418784E-3,{"$f":"'CPI Sub-Categories'!AK74","v":124.411615255819},{"$f":"'CPI Sub-Categories'!AN74","v":124.27172703110701},{"$f":"'CPI Sub-Categories'!AL74","v":123.169005881001},{"$f":"(G75-F75)/F75","v":-8.8734676539095614E-3},{"$f":"(G75-E75)/E75","v":-9.9878887695727652E-3}]
[3,"054100","Glassware, tableware and household utensils",3.3048653304418784E-3,{"$f":"'CPI Sub-Categories'!AK75","v":124.411615255819},{"$f":"'CPI Sub-Categories'!AN75","v":124.27172703110701},{"$f":"'CPI Sub-Categories'!AL75","v":123.169005881001},-8.8734676539095614E-3,-9.9878887695727652E-3]
[2,"055000","Tools and equipment for house and garden",4.9373487750295104E-3,{"$f":"'CPI Sub-Categories'!AK76","v":115.392805043308},{"$f":"'CPI Sub-Categories'!AN76","v":123.710012564197},{"$f":"'CPI Sub-Categories'!AL76","v":116.179927450257},-6.08688412349195E-2,6.8212433752137414E-3]
[3,"055100","Major tools and equipment",1.0088816734597941E-3,{"$f":"'CPI Sub-Categories'!AK77","v":93.352471041398701},{"$f":"'CPI Sub-Categories'!AN77","v":112.26933182407799},{"$f":"'CPI Sub-Categories'!AL77","v":112.26933182407799},0,0.2026391007292169]
[3,"055200","Small tools and miscellaneous accessories",3.9284671015697159E-3,{"$f":"'CPI Sub-Categories'!AK78","v":121.053052729878},{"$f":"'CPI Sub-Categories'!AN78","v":126.648129867066},{"$f":"'CPI Sub-Categories'!AL78","v":117.184219846383},-7.47260147513953E-2,-3.1959812629657934E-2]
[2,"056000","Goods and services for routine household maintenance",2.9763680293160961E-2,{"$f":"'CPI Sub-Categories'!AK79","v":119.31782634532399},{"$f":"'CPI Sub-Categories'!AN79","v":120.353823501318},{"$f":"'CPI Sub-Categories'!AL79","v":119.429648434185},-7.6788176748110205E-3,9.3717839392559656E-4]
[3,"056100","Non-durable household goods",8.8432653872775133E-3,{"$f":"'CPI Sub-Categories'!AK80","v":122.741412468348},{"$f":"'CPI Sub-Categories'!AN80","v":126.228256731402},{"$f":"'CPI Sub-Categories'!AL80","v":123.117770846141},-2.464175586199947E-2,3.0662705457300339E-3]
[3,"056200","Domestic services and household services",2.092041490588345E-2,{"$f":"'CPI Sub-Categories'!AK81","v":117.87064284842801},{"$f":"'CPI Sub-Categories'!AN81","v":117.870642848427},{"$f":"'CPI Sub-Categories'!AL81","v":117.87064284842801},8.5599828795097405E-15,0]
[1,"060000","Health",1.9365947128605548E-2,{"$f":"'CPI Sub-Categories'!AK82","v":109.160848334679},{"$f":"'CPI Sub-Categories'!AN82","v":109.22570980818401},{"$f":"'CPI Sub-Categories'!AL82","v":111.275480997155},1.8766380118478379E-2,1.9371713345362543E-2]
[2,"061000","Medical products, appliances and equipment",1.0610247535841817E-2,{"$f":"'CPI Sub-Categories'!AK83","v":111.580107976435},{"$f":"'CPI Sub-Categories'!AN83","v":114.576367561854},{"$f":"'CPI Sub-Categories'!AL83","v":114.173733511387},-3.5141107981943877E-3,2.3244515370963378E-2]
[3,"061100","Pharmaceutical products",6.8140411062359131E-3,{"$f":"'CPI Sub-Categories'!AK84","v":111.118254154433},{"$f":"'CPI Sub-Categories'!AN84","v":115.031402604644},{"$f":"'CPI Sub-Categories'!AL84","v":114.463503494463},-4.9369050304710069E-3,3.0105308668553602E-2]
[3,"061200","Other medical products",7.0357735464771185E-4,{"$f":"'CPI Sub-Categories'!AK85","v":112.432381252631},{"$f":"'CPI Sub-Categories'!AN85","v":118.974216555783},{"$f":"'CPI Sub-Categories'!AL85","v":119.058786069904},7.1082219802933789E-4,5.8936800443492657E-2]
[3,"061300","Therapeutic appliances and equipment",3.0926290749581919E-3,{"$f":"'CPI Sub-Categories'!AK86","v":112.403824951305},{"$f":"'CPI Sub-Categories'!AN86","v":112.573265075392},{"$f":"'CPI Sub-Categories'!AL86","v":112.423922858632},-1.3266224148334666E-3,1.7880092012621308E-4]
[2,"062000","Outpatient services",6.0021089613150769E-3,{"$f":"'CPI Sub-Categories'!AK87","v":107.746546134209},{"$f":"'CPI Sub-Categories'!AN87","v":115.629151866697},{"$f":"'CPI Sub-Categories'!AL87","v":107.746546134209},-6.8171439513587881E-2,0]
[3,"062100","Medical services",1.9702707632948944E-3,{"$f":"'CPI Sub-Categories'!AK88","v":103.616793149598},{"$f":"'CPI Sub-Categories'!AN88","v":106.93818533517199},{"$f":"'CPI Sub-Categories'!AL88","v":103.616793149598},-3.1058991464684896E-2,0]
[3,"062200","Dental services",3.4302782928391203E-3,{"$f":"'CPI Sub-Categories'!AK89","v":110.822402427089},{"$f":"'CPI Sub-Categories'!AN89","v":122.223467105916},{"$f":"'CPI Sub-Categories'!AL89","v":110.822402427089},-9.328048818110439E-2,0]
[3,"062300","Paramedical services",6.0155990518106172E-4,{"$f":"'CPI Sub-Categories'!AK90","v":103.733131628781},{"$f":"'CPI Sub-Categories'!AN90","v":106.49161750417301},{"$f":"'CPI Sub-Categories'!AL90","v":103.733131628781},-2.5903314646187215E-2,0]
[2,"063000","Hospital services",2.7535906314486579E-3,{"$f":"'CPI Sub-Categories'!AK91","v":107.799974524671},{"$f":"'CPI Sub-Categories'!AN91","v":117.655521264689},{"$f":"'CPI Sub-Categories'!AL91","v":107.799974524671},-8.376612193018998E-2,0]
[3,"063100","Hospital services",2.7535906314486579E-3,{"$f":"'CPI Sub-Categories'!AK92","v":107.799974524671},{"$f":"'CPI Sub-Categories'!AN92","v":117.655521264689},{"$f":"'CPI Sub-Categories'!AL92","v":107.799974524671},-8.376612193018998E-2,0]
[1,"070000","Transport",0.14575378806582548,{"$f":"'CPI Sub-Categories'!AK93","v":114.721567247941},{"$f":"'CPI Sub-Categories'!AN93","v":116.333073044633},{"$f":"'CPI Sub-Categories'!AL93","v":123.238339744851},5.9357726220889001E-2,7.4238634471434709E-2]
[2,"071000","Purchase of vehicles",4.2572509727739474E-2,{"$f":"'CPI Sub-Categories'!AK94","v":116.62743917395299},{"$f":"'CPI Sub-Categories'!AN94","v":115.330757801093},{"$f":"'CPI Sub-Categories'!AL94","v":117.185031980521},1.607788082539097E-2,4.7809744474998327E-3]
[3,"071100","Motor cars",4.1980871048571691E-2,{"$f":"'CPI Sub-Categories'!AK95","v":115.87894992071099},{"$f":"'CPI Sub-Categories'!AN95","v":114.591836207718},{"$f":"'CPI Sub-Categories'!AL95","v":116.418738292128},1.5942689679030977E-2,4.6582090343962237E-3]
[3,"071200","Motor cycles",4.0787386681427498E-4,{"$f":"'CPI Sub-Categories'!AK96","v":169.075936801615},{"$f":"'CPI Sub-Categories'!AN96","v":169.10044766551201},{"$f":"'CPI Sub-Categories'!AL96","v":169.100447665513},5.8826563962256223E-15,1.4496955842250442E-4]
[3,"071300","Bicycles",1.8376481235350448E-4,{"$f":"'CPI Sub-Categories'!AK97","v":171.20721368965101},{"$f":"'CPI Sub-Categories'!AN97","v":164.792372400392},{"$f":"'CPI Sub-Categories'!AL97","v":177.01540350624899},7.4172311059148968E-2,3.3924912925261057E-2]
[3,"071400","Animal drawn vehicles","N/R",{"$f":"'CPI Sub-Categories'!AK98","v":"Not relevant"},{"$f":"'CPI Sub-Categories'!AN98","v":"Not relevant"},{"$f":"'CPI Sub-Categories'!AL98","v":"Not relevant"},"Not relevant","Not relevant"]
[2,"072000","Operation of personal transport equipment (incl. fuel)",5.4538359292155468E-2,{"$f":"'CPI Sub-Categories'!AK99","v":119.05312173318001},{"$f":"'CPI Sub-Categories'!AN99","v":115.12755796183301},{"$f":"'CPI Sub-Categories'!AL99","v":115.68503426132899},4.8422489746616738E-3,{"$f":"(G100-E100)/E100","v":-2.8290627098376448E-2}]
[3,"072100","Spare parts and accessories for personal transport equipment",9.9686904345899011E-3,{"$f":"'CPI Sub-Categories'!AK100","v":123.50936832019801},{"$f":"'CPI Sub-Categories'!AN100","v":132.53477252838999},{"$f":"'CPI Sub-Categories'!AL100","v":125.94614511101599},-4.971244369822013E-2,1.9729489543664769E-2]
[3,"072200","Fuels and lubricants for personal transport equipment",3.6207309811877614E-2,{"$f":"'CPI Sub-Categories'!AK101","v":115.489606803684},{"$f":"'CPI Sub-Categories'!AN101","v":105.314014466028},{"$f":"'CPI Sub-Categories'!AL101","v":107.940588313258},2.4940401907072692E-2,-6.5365349310247955E-2]
[3,"072300","Maintenance and repair of personal transport equipment",7.4755388787595481E-3,{"$f":"'CPI Sub-Categories'!AK102","v":132.64189791586099},{"$f":"'CPI Sub-Categories'!AN102","v":141.383503914904},{"$f":"'CPI Sub-Categories'!AL102","v":141.383503914904},0,6.5903806688502625E-2]
[3,"072400","Other services in respect of personal transport equipment",8.8682016692840846E-4,{"$f":"'CPI Sub-Categories'!AK103","v":99.904842078310196},{"$f":"'CPI Sub-Categories'!AN103","v":98.796778118719004},{"$f":"'CPI Sub-Categories'!AL103","v":99.904842078310196},1.1215588004901217E-2,0]
[2,"073000","Transport services",4.864291904593053E-2,{"$f":"'CPI Sub-Categories'!AK104","v":116.731708923501},{"$f":"'CPI Sub-Categories'!AN104","v":128.90639962406701},{"$f":"'CPI Sub-Categories'!AL104","v":137.00497639400001},6.2825249898772195E-2,0.17367403987707314]
[3,"073100","Passenger transport by railway","N/R",{"$f":"'CPI Sub-Categories'!AK105","v":"Not relevant"},{"$f":"'CPI Sub-Categories'!AN105","v":"Not relevant"},{"$f":"'CPI Sub-Categories'!AL105","v":"Not relevant"},"Not relevant","Not relevant"]
[3,"073200","Passenger transport by road",2.7374593594422163E-2,{"$f":"'CPI Sub-Categories'!AK106","v":124.669549829602},{"$f":"'CPI Sub-Categories'!AN106","v":142.86276186146199},{"$f":"'CPI Sub-Categories'!AL106","v":156.849188945088},9.7901138836928275E-2,{"$f":"(G107-E107)/E107","v":0.2581194779276017}]
[3,"073300","Passenger transport by air",1.9928707455208222E-2,{"$f":"'CPI Sub-Categories'!AK107","v":103.727179180212},{"$f":"'CPI Sub-Categories'!AN107","v":109.568154260599},{"$f":"'CPI Sub-Categories'!AL107","v":109.35162237926301},-1.9762300715679888E-3,{"$f":"(G108-E108)/E108","v":5.4223427683107901E-2}]
[3,"073400","Passenger transport by sea and inland waterway",1.3396179963001387E-3,{"$f":"'CPI Sub-Categories'!AK108","v":147.98561181647099},{"$f":"'CPI Sub-Categories'!AN108","v":131.39701693217199},{"$f":"'CPI Sub-Categories'!AL108","v":142.87853728317299},8.7380373002895737E-2,{"$f":"(G109-E109)/E109","v":-3.4510615394364848E-2}]
[3,"073500","Combined passenger transport","N/R",{"$f":"'CPI Sub-Categories'!AK109","v":"Not relevant"},{"$f":"'CPI Sub-Categories'!AN109","v":"Not relevant"},{"$f":"'CPI Sub-Categories'!AL109","v":"Not relevant"},"Not relevant","Not relevant"]
[3,"073600","Other purchased transport services","N/R",{"$f":"'CPI Sub-Categories'!AK110","v":"Not relevant"},{"$f":"'CPI Sub-Categories'!AN110","v":"Not relevant"},{"$f":"'CPI Sub-Categories'!AL110","v":"Not relevant"},"Not relevant","Not relevant"]
[1,"080000","Communication",6.0220541079939932E-2,{"$f":"'CPI Sub-Categories'!AK111","v":115.806062888144},{"$f":"'CPI Sub-Categories'!AN111","v":115.79526090461},{"$f":"'CPI Sub-Categories'!AL111","v":116.678886102699},7.6309271310930999E-3,{"$f":"(G112-E112)/E112","v":7.5369388509308874E-3}]
[2,"081000","Postal services",9.259244429434965E-4,{"$f":"'CPI Sub-Categories'!AK112","v":140.67871646889299},{"$f":"'CPI Sub-Categories'!AN112","v":161.63565795432601},{"$f":"'CPI Sub-Categories'!AL112","v":136.43016223822801},-0.15594019311766227,-3.0200405130966796E-2]
[3,"081100","Postal services",9.259244429434965E-4,{"$f":"'CPI Sub-Categories'!AK113","v":140.67871646889299},{"$f":"'CPI Sub-Categories'!AN113","v":161.63565795432601},{"$f":"'CPI Sub-Categories'!AL113","v":136.43016223822801},-0.15594019311766227,-3.0200405130966796E-2]
[2,"082000","Telephone and telefax equipment",7.4854466858438025E-3,{"$f":"'CPI Sub-Categories'!AK114","v":116.395013970002},{"$f":"'CPI Sub-Categories'!AN114","v":118.26426956631001},{"$f":"'CPI Sub-Categories'!AL114","v":112.54533127121501},-4.8357279134831413E-2,-3.307429216666579E-2]
[3,"082100","Telephone and telefax equipment",7.4854466858438025E-3,{"$f":"'CPI Sub-Categories'!AK115","v":116.395013970002},{"$f":"'CPI Sub-Categories'!AN115","v":118.26426956631001},{"$f":"'CPI Sub-Categories'!AL115","v":112.54533127121501},-4.8357279134831413E-2,-3.307429216666579E-2]
[2,"083000","Telephone and telefax services",5.1809169951152631E-2,{"$f":"'CPI Sub-Categories'!AK116","v":114.923784018585},{"$f":"'CPI Sub-Categories'!AN116","v":116.92311555104099},{"$f":"'CPI Sub-Categories'!AL116","v":116.92311555104099},0,1.7397021421890126E-2]
[3,"083100","Telephone and telefax services",5.1809169951152631E-2,{"$f":"'CPI Sub-Categories'!AK117","v":114.923784018585},{"$f":"'CPI Sub-Categories'!AN117","v":116.92311555104099},{"$f":"'CPI Sub-Categories'!AL117","v":116.92311555104099},0,1.7397021421890126E-2]
[1,"090000","Recreation and culture",4.6015376247221684E-2,{"$f":"'CPI Sub-Categories'!AK118","v":108.474413840675},{"$f":"'CPI Sub-Categories'!AN118","v":107.378989820003},{"$f":"'CPI Sub-Categories'!AL118","v":111.561546219584},3.8951347992676487E-2,2.8459544233567568E-2]
[2,"091000","Audio-visual, photographic and information processing equipment",9.6999082700902246E-3,{"$f":"'CPI Sub-Categories'!AK119","v":98.279759927675101},{"$f":"'CPI Sub-Categories'!AN119","v":89.568916902783698},{"$f":"'CPI Sub-Categories'!AL119","v":88.410783024584404},-1.2930086890034734E-2,-0.10041718569879861]
[3,"091100","Equipment for the reception, recording and reproduction of sounds",1.9557510386922854E-3,{"$f":"'CPI Sub-Categories'!AK120","v":79.532724653267607},{"$f":"'CPI Sub-Categories'!AN120","v":85.802141337335101},{"$f":"'CPI Sub-Categories'!AL120","v":83.439101749992801},-2.7540566593226387E-2,4.9116600918119056E-2]
[3,"091200","Photographic and cinematographic equipment and optical instruments",8.498966124835908E-4,{"$f":"'CPI Sub-Categories'!AK121","v":71.512441491971899},{"$f":"'CPI Sub-Categories'!AN121","v":65.558554548446295},{"$f":"'CPI Sub-Categories'!AL121","v":74.090610560202805},0.13014405321355144,3.6052035344372006E-2]
[3,"091300","Information processing equipment",5.9782054421494901E-3,{"$f":"'CPI Sub-Categories'!AK122","v":112.800115573711},{"$f":"'CPI Sub-Categories'!AN122","v":97.048728359261801},{"$f":"'CPI Sub-Categories'!AL122","v":95.082721954749104},-2.0257930606105385E-2,-0.15706893143548409]
[3,"091400","Recording media",7.2862980500063913E-4,{"$f":"'CPI Sub-Categories'!AK123","v":62.816732699866698},{"$f":"'CPI Sub-Categories'!AN123","v":67.6525026387759},{"$f":"'CPI Sub-Categories'!AL123","v":63.309087228489901},-6.4201843847185552E-2,7.8379518873678625E-3]
[3,"091500","Repair of audio-visual, photographic and information processing eq",1.874253717642173E-4,{"$f":"'CPI Sub-Categories'!AK124","v":90},{"$f":"'CPI Sub-Categories'!AN124","v":84.375},{"$f":"'CPI Sub-Categories'!AL124","v":90},6.6666666666666666E-2,0]
[2,"092000","Other major durables for recreation and culture","N/R",{"$f":"'CPI Sub-Categories'!AK125","v":"Not available"},{"$f":"'CPI Sub-Categories'!AN125","v":"Not available"},{"$f":"'CPI Sub-Categories'!AL125","v":"Not available"},"Not relevant","Not relevant"]
[3,"092100","Major durables for outdoor recreation","N/R",{"$f":"'CPI Sub-Categories'!AK126","v":"Not relevant"},{"$f":"'CPI Sub-Categories'!AN126","v":"Not relevant"},{"$f":"'CPI Sub-Categories'!AL126","v":"Not relevant"},"Not relevant","Not relevant"]
[3,"092200","Musical instruments and major durables for indoor recreation","N/R",{"$f":"'CPI Sub-Categories'!AK127","v":"Not relevant"},{"$f":"'CPI Sub-Categories'!AN127","v":"Not relevant"},{"$f":"'CPI Sub-Categories'!AL127","v":"Not relevant"},"Not relevant","Not relevant"]
[3,"092300","Maintenance and repair of other major durables for recreation and","N/R",{"$f":"'CPI Sub-Categories'!AK128","v":"Not relevant"},{"$f":"'CPI Sub-Categories'!AN128","v":"Not relevant"},{"$f":"'CPI Sub-Categories'!AL128","v":"Not relevant"},"Not relevant","Not relevant"]
[2,"093000","Other recreational items and equipment, gardens and pets",1.3410587456602218E-2,{"$f":"'CPI Sub-Categories'!AK129","v":108.78749883758999},{"$f":"'CPI Sub-Categories'!AN129","v":112.301875707544},{"$f":"'CPI Sub-Categories'!AL129","v":112.55102901039},2.2186032181229164E-3,{"$f":"(G130-E130)/E130","v":3.4595244977721352E-2}]
[3,"093100","Games, toys and hobbies",4.6442818713058392E-3,{"$f":"'CPI Sub-Categories'!AK130","v":104.040134342388},{"$f":"'CPI Sub-Categories'!AN130","v":109.356203457296},{"$f":"'CPI Sub-Categories'!AL130","v":109.494067557194},1.2606884249765722E-3,5.2421435720733781E-2]
[3,"093200","Equipment for sport, camping and open-air recreation",3.569339052591821E-4,{"$f":"'CPI Sub-Categories'!AK131","v":136.98478993032401},{"$f":"'CPI Sub-Categories'!AN131","v":125.522388289156},{"$f":"'CPI Sub-Categories'!AL131","v":132.11470935264299},5.2519085665425541E-2,-3.5551980480155072E-2]
[3,"093300","Gardens, plants and flowers",6.0926488861374572E-4,{"$f":"'CPI Sub-Categories'!AK132","v":103.597816378511},{"$f":"'CPI Sub-Categories'!AN132","v":150.19739690690199},{"$f":"'CPI Sub-Categories'!AL132","v":141.714892534803},-5.6475708279796373E-2,0.36793320060941476]
[3,"093400","Pets and related products",3.0491571003705784E-3,{"$f":"'CPI Sub-Categories'!AK133","v":128.183143299802},{"$f":"'CPI Sub-Categories'!AN133","v":129.837870009884},{"$f":"'CPI Sub-Categories'!AL133","v":129.382309381054},-3.5086884034320645E-3,9.3550996674135606E-3]
[3,"093500","Veterinary and other services for pets",4.750949691052872E-3,{"$f":"'CPI Sub-Categories'!AK134","v":99.527257070275098},{"$f":"'CPI Sub-Categories'!AN134","v":98.073830299667407},{"$f":"'CPI Sub-Categories'!AL134","v":99.527257070275098},1.4819720675400406E-2,0]
[2,"094000","Recreational and cultural services",1.7686030542255319E-2,{"$f":"'CPI Sub-Categories'!AK135","v":103.884482980212},{"$f":"'CPI Sub-Categories'!AN135","v":109.006837138292},{"$f":"'CPI Sub-Categories'!AL135","v":111.071281981786},1.8938673001537829E-2,6.9180678340026489E-2]
[3,"094100","Sporting and recreational services",1.469974701719294E-3,{"$f":"'CPI Sub-Categories'!AK136","v":105.551390793461},{"$f":"'CPI Sub-Categories'!AN136","v":105.55139079346201},{"$f":"'CPI Sub-Categories'!AL136","v":105.55139079346201},0,9.5590468035959692E-15]
[3,"094200","Cultural services",1.3796641388418497E-2,{"$f":"'CPI Sub-Categories'!AK137","v":104.053246725051},{"$f":"'CPI Sub-Categories'!AN137","v":110.619635447234},{"$f":"'CPI Sub-Categories'!AL137","v":113.266064592806},2.392368348415284E-2,8.8539456073858436E-2]
[3,"094300","Games of chance",2.4194144521175283E-3,{"$f":"'CPI Sub-Categories'!AK138","v":101.90934115540701},{"$f":"'CPI Sub-Categories'!AN138","v":101.90934115540701},{"$f":"'CPI Sub-Categories'!AL138","v":101.90934115540701},{"$f":"(G139-F139)/F139","v":0},0]
[2,"095000","Newspapers, books and stationery",3.0465243442886585E-3,{"$f":"'CPI Sub-Categories'!AK139","v":156.772111723938},{"$f":"'CPI Sub-Categories'!AN139","v":162.68047179453501},{"$f":"'CPI Sub-Categories'!AL139","v":158.380833263326},-2.6429961038221258E-2,1.026152879933657E-2]
[3,"095100","Books",9.7671784048135009E-4,{"$f":"'CPI Sub-Categories'!AK140","v":289.11502888805302},{"$f":"'CPI Sub-Categories'!AN140","v":300.55259304545899},{"$f":"'CPI Sub-Categories'!AL140","v":289.11502888805302},-3.805511721429742E-2,0]
[3,"095200","Newspapers and periodicals",4.9200854329400521E-4,{"$f":"'CPI Sub-Categories'!AK141","v":133.333333333333},{"$f":"'CPI Sub-Categories'!AN141","v":133.333333333333},{"$f":"'CPI Sub-Categories'!AL141","v":133.333333333333},0,0]
[3,"095300","Miscellaneous printed matter","N/R",{"$f":"'CPI Sub-Categories'!AK142","v":"Not relevant"},{"$f":"'CPI Sub-Categories'!AN142","v":"Not relevant"},{"$f":"'CPI Sub-Categories'!AL142","v":"Not relevant"},"Not relevant","Not relevant"]
[3,"095400","Stationery and drawing materials",1.5777979605133029E-3,{"$f":"'CPI Sub-Categories'!AK143","v":82.155703635249594},{"$f":"'CPI Sub-Categories'!AN143","v":86.483692310214295},{"$f":"'CPI Sub-Categories'!AL143","v":85.261938012390203},-1.4126990478640725E-2,{"$f":"(G144-E144)/E144","v":3.7809114153918015E-2}]
[2,"096000","Package holidays",2.1723256339852715E-3,{"$f":"'CPI Sub-Categories'!AK144","v":127.02861192202},{"$f":"'CPI Sub-Categories'!AN144","v":147.15693057085301},{"$f":"'CPI Sub-Categories'!AL144","v":147.15693057085301},0,0.15845499958064033]
[3,"096100","Package holidays",2.1723256339852715E-3,{"$f":"'CPI Sub-Categories'!AK145","v":127.02861192202},{"$f":"'CPI Sub-Categories'!AN145","v":147.15693057085301},{"$f":"'CPI Sub-Categories'!AL145","v":147.15693057085301},0,0.15845499958064033]
[1,"100000","Education",2.6018666205681367E-2,{"$f":"'CPI Sub-Categories'!AK146","v":107.563991500295},{"$f":"'CPI Sub-Categories'!AN146","v":107.563991500295},{"$f":"'CPI Sub-Categories'!AL146","v":108.960389978907},1.2982025482088676E-2,1.2982025482088676E-2]
[2,"101000","Pre-primary and primary education",1.088271998771333E-2,{"$f":"'CPI Sub-Categories'!AK147","v":105.307710912369},{"$f":"'CPI Sub-Categories'!AN147","v":105.307710912369},{"$f":"'CPI Sub-Categories'!AL147","v":105.307710912369},0,0]
[3,"101100","Pre-primary and primary education",1.088271998771333E-2,{"$f":"'CPI Sub-Categories'!AK148","v":105.307710912369},{"$f":"'CPI Sub-Categories'!AN148","v":105.307710912369},{"$f":"'CPI Sub-Categories'!AL148","v":105.307710912369},0,0]
[2,"102000","Secondary education",7.9946717375756083E-3,{"$f":"'CPI Sub-Categories'!AK149","v":107.965344727615},{"$f":"'CPI Sub-Categories'!AN149","v":107.965344727615},{"$f":"'CPI Sub-Categories'!AL149","v":107.965344727615},0,0]
[3,"102100","Secondary education",7.9946717375756083E-3,{"$f":"'CPI Sub-Categories'!AK150","v":107.965344727615},{"$f":"'CPI Sub-Categories'!AN150","v":107.965344727615},{"$f":"'CPI Sub-Categories'!AL150","v":107.965344727615},0,0]
[2,"103000","Post-secondary non-tertiary education",4.4849281916770805E-3,{"$f":"'CPI Sub-Categories'!AK151","v":108.06639168436401},{"$f":"'CPI Sub-Categories'!AN151","v":108.06639168436401},{"$f":"'CPI Sub-Categories'!AL151","v":108.06639168436401},0,0]
[3,"103100","Post-secondary non-tertiary education",4.4849281916770805E-3,{"$f":"'CPI Sub-Categories'!AK152","v":108.06639168436401},{"$f":"'CPI Sub-Categories'!AN152","v":108.06639168436401},{"$f":"'CPI Sub-Categories'!AL152","v":108.06639168436401},0,0]
[2,"104000","Tertiary education",9.5002625685309801E-4,{"$f":"'CPI Sub-Categories'!AK153","v":129.25868109970801},{"$f":"'CPI Sub-Categories'!AN153","v":129.25868109970801},{"$f":"'CPI Sub-Categories'!AL153","v":129.25868109970801},0,0]
[3,"104100","Tertiary education",9.5002625685309801E-4,{"$f":"'CPI Sub-Categories'!AK154","v":129.25868109970801},{"$f":"'CPI Sub-Categories'!AN154","v":129.25868109970801},{"$f":"'CPI Sub-Categories'!AL154","v":129.25868109970801},0,0]
[2,"105000","Education not definable by level",1.7063200318622497E-3,{"$f":"'CPI Sub-Categories'!AK155","v":127.967233714575},{"$f":"'CPI Sub-Categories'!AN155","v":127.967233714575},{"$f":"'CPI Sub-Categories'!AL155","v":127.967233714575},0,0]
[3,"105100","Education not definable by level",1.7063200318622497E-3,{"$f":"'CPI Sub-Categories'!AK156","v":127.967233714575},{"$f":"'CPI Sub-Categories'!AN156","v":127.967233714575},{"$f":"'CPI Sub-Categories'!AL156","v":127.967233714575},0,0]
[1,"110000","Restaurants and hotels",1.9675778938253445E-2,{"$f":"'CPI Sub-Categories'!AK157","v":121.974855454692},{"$f":"'CPI Sub-Categories'!AN157","v":127.97536447739699},{"$f":"'CPI Sub-Categories'!AL157","v":126.351299199498},-1.2690452451775084E-2,3.587988465730662E-2]
[2,"111000","Catering services",1.6040599557138401E-2,{"$f":"'CPI Sub-Categories'!AK158","v":127.654170684307},{"$f":"'CPI Sub-Categories'!AN158","v":127.631131212634},{"$f":"'CPI Sub-Categories'!AL158","v":126.351299199498},-1.0027584970658889E-2,-1.0206258658254478E-2]
[3,"111100","Restaurants, cafés and the like",1.6040599557138401E-2,{"$f":"'CPI Sub-Categories'!AK159","v":127.654170684307},{"$f":"'CPI Sub-Categories'!AN159","v":127.631131212634},{"$f":"'CPI Sub-Categories'!AL159","v":126.351299199498},-1.0027584970658889E-2,-1.0206258658254478E-2]
[3,"111200","Canteens","N/R",{"$f":"'CPI Sub-Categories'!AK160","v":"Not relevant"},{"$f":"'CPI Sub-Categories'!AN160","v":"Not relevant"},{"$f":"'CPI Sub-Categories'!AL160","v":"Not relevant"},"Not relevant","Not relevant"]
[2,"112000","Accommodation services",3.6351793811150437E-3,{"$f":"'CPI Sub-Categories'!AK161","v":"Not available"},{"$f":"'CPI Sub-Categories'!AN161","v":"Not available"},{"$f":"'CPI Sub-Categories'!AL161","v":"Not available"},"Not available","Not available"]
[3,"112100","Accommodation services",3.6351793811150437E-3,{"$f":"'CPI Sub-Categories'!AK162","v":"Not available"},{"$f":"'CPI Sub-Categories'!AN162","v":"Not available"},{"$f":"'CPI Sub-Categories'!AL162","v":"Not relevant"},"Not available","Not available"]
[1,"120000","Miscellaneous goods and services",0.13398499864797866,{"$f":"'CPI Sub-Categories'!AK163","v":103.607462867772},{"$f":"'CPI Sub-Categories'!AN163","v":105.16177025722},{"$f":"'CPI Sub-Categories'!AL163","v":108.220556005551},2.9086480199500067E-2,{"$f":"(G164-E164)/E164","v":4.4524718684274878E-2}]
[2,"121000","Personal care",5.7132816962106696E-2,{"$f":"'CPI Sub-Categories'!AK164","v":107.16331278674799},{"$f":"'CPI Sub-Categories'!AN164","v":110.24353330194501},{"$f":"'CPI Sub-Categories'!AL164","v":111.579501433947},1.21183355793117E-2,{"$f":"(G165-E165)/E165","v":4.120989294150601E-2}]
[3,"121100","Hairdressing salons and personal grooming establishments",1.4536244325993172E-2,{"$f":"'CPI Sub-Categories'!AK165","v":99.613114950742499},{"$f":"'CPI Sub-Categories'!AN165","v":104.138223271934},{"$f":"'CPI Sub-Categories'!AL165","v":99.613114950742499},-4.3452904985474682E-2,{"$f":"(G166-E166)/E166","v":0}]
[3,"121200","Electric appliances for personal care",4.8777966416195799E-4,{"$f":"'CPI Sub-Categories'!AK166","v":126.632584930557},{"$f":"'CPI Sub-Categories'!AN166","v":135.21700436444999},{"$f":"'CPI Sub-Categories'!AL166","v":126.632584930557},-6.3486241795117943E-2,{"$f":"(G167-E167)/E167","v":0}]
[3,"121300","Other appliances, articles and products for personal care",4.210879297195156E-2,{"$f":"'CPI Sub-Categories'!AK167","v":109.544164662673},{"$f":"'CPI Sub-Categories'!AN167","v":112.06184042832901},{"$f":"'CPI Sub-Categories'!AL167","v":115.536008204556},3.1002237362404848E-2,{"$f":"(G168-E168)/E168","v":5.4697970999496894E-2}]
[2,"122000","Prostitution","N/A",{"$f":"'CPI Sub-Categories'!AK168","v":"Not available"},{"$f":"'CPI Sub-Categories'!AN168","v":"Not available"},{"$f":"'CPI Sub-Categories'!AL168","v":"Not available"},"Not yet available","Not yet available"]
[3,"122000","Prostitution","N/A",{"$f":"'CPI Sub-Categories'!AK169","v":"Not available"},{"$f":"'CPI Sub-Categories'!AN169","v":"Not available"},{"$f":"'CPI Sub-Categories'!AL169","v":"Not available"},"Not available","Not available"]
[2,"123000","Personal effects n.e.c.",1.1200869933849673E-2,{"$f":"'CPI Sub-Categories'!AK170","v":116.43200145395301},{"$f":"'CPI Sub-Categories'!AN170","v":116.94664458728499},{"$f":"'CPI Sub-Categories'!AL170","v":115.73800267118},-1.0334985842222309E-2,{"$f":"(G171-E171)/E171","v":-5.9605501417707169E-3}]
[3,"123100","Jewelry, clocks and watches",6.8014995931528835E-3,{"$f":"'CPI Sub-Categories'!AK171","v":123.988212935562},{"$f":"'CPI Sub-Categories'!AN171","v":124.46173920353399},{"$f":"'CPI Sub-Categories'!AL171","v":124.00781613553499},-3.6470892252011135E-3,1.5810535137867569E-4]
[3,"123200","Other personal effects ",4.3993703406967908E-3,{"$f":"'CPI Sub-Categories'!AK172","v":104.74997315536601},{"$f":"'CPI Sub-Categories'!AN172","v":105.32818364462101},{"$f":"'CPI Sub-Categories'!AL172","v":102.952733869512},-2.2552840967274345E-2,-1.7157420013734274E-2]
[2,"124000","Social protection",3.0499193273314023E-3,{"$f":"'CPI Sub-Categories'!AK173","v":106.007142307818},{"$f":"'CPI Sub-Categories'!AN173","v":106.007142307818},{"$f":"'CPI Sub-Categories'!AL173","v":106.007142307818},0,0]
[3,"124100","Social protection",3.0499193273314023E-3,{"$f":"'CPI Sub-Categories'!AK174","v":106.007142307818},{"$f":"'CPI Sub-Categories'!AN174","v":106.007142307818},{"$f":"'CPI Sub-Categories'!AL174","v":106.007142307818},0,0]
[2,"125000","Insurance",2.4719438585138635E-2,{"$f":"'CPI Sub-Categories'!AK175","v":105.47345940248999},{"$f":"'CPI Sub-Categories'!AN175","v":110.30687922119},{"$f":"'CPI Sub-Categories'!AL175","v":105.47345940248999},-4.3817936404563843E-2,0]
[3,"125100","Life insurance",7.1889013274595839E-3,{"$f":"'CPI Sub-Categories'!AK176","v":99.178610018876199},{"$f":"'CPI Sub-Categories'!AN176","v":116.135226363553},{"$f":"'CPI Sub-Categories'!AL176","v":99.178610018876199},-0.146007519644344,0]
[3,"125200","Insurance connected with the dwelling",3.3167323127932594E-3,{"$f":"'CPI Sub-Categories'!AK177","v":100.094151523202},{"$f":"'CPI Sub-Categories'!AN177","v":97.839346079782302},{"$f":"'CPI Sub-Categories'!AL177","v":100.094151523202},2.3045998708750931E-2,0]
[3,"125300","Insurance connected with health",4.6279230531282075E-3,{"$f":"'CPI Sub-Categories'!AK178","v":108.33818209009},{"$f":"'CPI Sub-Categories'!AN178","v":108.33818209009},{"$f":"'CPI Sub-Categories'!AL178","v":108.33818209009},0,0]
[3,"125400","Insurance connected with transport",9.5858818917575819E-3,{"$f":"'CPI Sub-Categories'!AK179","v":110.67246514815101},{"$f":"'CPI Sub-Categories'!AN179","v":111.20017566111601},{"$f":"'CPI Sub-Categories'!AL179","v":110.67246514815101},-4.7455906416299714E-3,0]
[3,"125500","Other insurance","N/A",{"$f":"'CPI Sub-Categories'!AK180","v":"Not available"},{"$f":"'CPI Sub-Categories'!AN180","v":"Not available"},{"$f":"'CPI Sub-Categories'!AL180","v":"Not available"},"Not available","Not available"]
[2,"126000","Financial services n.e.c.",2.4998184445331917E-2,{"$f":"'CPI Sub-Categories'!AK181","v":101.727572972731},{"$f":"'CPI Sub-Categories'!AN181","v":96.957137753043199},{"$f":"'CPI Sub-Categories'!AL181","v":101.727572972731},4.9201485627994083E-2,{"$f":"(G182-E182)/E182","v":0}]
[3,"126100","FISIM","N/A",{"$f":"'CPI Sub-Categories'!AK182","v":"Not available"},{"$f":"'CPI Sub-Categories'!AN182","v":"Not available"},{"$f":"'CPI Sub-Categories'!AL182","v":"Not available"},"Not available","Not available"]
[3,"126200","Other financial services n.e.c.",2.4998184445331917E-2,{"$f":"'CPI Sub-Categories'!AK183","v":101.727572972731},{"$f":"'CPI Sub-Categories'!AN183","v":96.957137753043199},{"$f":"'CPI Sub-Categories'!AL183","v":101.727572972731},4.9201485627994083E-2,{"$f":"(G184-E184)/E184","v":0}]
[2,"127000","Other services n.e.c.",1.2883769394220359E-2,{"$f":"'CPI Sub-Categories'!AK184","v":105.182800111563},{"$f":"'CPI Sub-Categories'!AN184","v":105.182800111563},{"$f":"'CPI Sub-Categories'!AL184","v":105.182800111563},0,{"$f":"(G185-E185)/E185","v":0}]
[3,"127100","Other services n.e.c.",1.2883769394220359E-2,{"$f":"'CPI Sub-Categories'!AK185","v":105.182800111563},{"$f":"'CPI Sub-Categories'!AN185","v":105.182800111563},{"$f":"'CPI Sub-Categories'!AL185","v":105.182800111563},0,{"$f":"(G186-E186)/E186","v":0}]
["Base Year 2018 = 100"]

{"sheet":"Total CPI","index":2,"n_rows":13,"n_cols":6,"rows_kept":13,"cut":false,"hidden":false,"merged":[[1,1,1,4]]}
[]
["Table 2. ","Total Consumer Price Index figures by Quarter and Year"]
[]
[]
["Year","Quarter 1","Quarter 2","Quarter 3","Quarter 4","Annual Average"]
[2018,99.628071550000001,99.637934970000003,100.4999535,100.23403999999999,100.000000005]
[2019,100.295144989363,100.241957731474,100.591352449789,100.43615723636999,100.391153101749]
[2020,100.455870031472,100.69715724595299,101.19254326005,102.090730976849,101.109075378581]
[2021,102.783563714295,103.55538950205199,104.044818827643,105.250117333357,103.90847234433676]
[2022,{"$f":"'CPI Sub-Categories'!Y8","v":105.99716825485},{"$f":"'CPI Sub-Categories'!Z8","v":108.63739956853099},{"$f":"'CPI Sub-Categories'!AA8","v":107.29051975442999},{"$f":"'CPI Sub-Categories'!AB8","v":108.85886874257601},{"$f":"AVERAGE(B10:E10)","v":107.69598908009675}]
[2023,{"$f":"'CPI Sub-Categories'!AD8","v":109.351037943989},{"$f":"'CPI Sub-Categories'!AE8","v":108.691413717518},{"$f":"'CPI Sub-Categories'!AF8","v":109.437713633071},{"$f":"'CPI Sub-Categories'!AG8","v":112.29646654464},{"$f":"AVERAGE(B11:E11)","v":109.9441579598045}]
[2024,{"$f":"'CPI Sub-Categories'!AI8","v":113.31000289621799},{"$f":"'CPI Sub-Categories'!AJ8","v":113.485723011283},{"$f":"'CPI Sub-Categories'!AK8","v":113.822041355032},{"$f":"'CPI Sub-Categories'!AL8","v":114.794258697682},{"$f":"AVERAGE(B12:E12)","v":113.85300649005374}]
[2025,{"$f":"'CPI Sub-Categories'!AM8","v":115.01942829105499},{"$f":"'CPI Sub-Categories'!AN8","v":114.22829585201499},{"$f":"'CPI Sub-Categories'!AO8","v":115.09192592725},null,{"$f":"AVERAGE(B13:E13)","v":114.77988335677333}]

{"sheet":"CPI Qrtrly Comparison","index":3,"n_rows":184,"n_cols":64,"rows_kept":184,"cut":false,"hidden":false,"merged":[[3,56,3,63],[3,47,3,54],[3,38,3,45],[1,1,2,2],[3,3,3,9],[3,11,3,18],[3,20,3,27],[3,29,3,36]]}
[]
["Table 3. ","Quarterly percentage change for the 12 major expenditure categories and sub-categories"]
[]
[null,null,null,2019,null,null,null,null,null,null,null,2020,null,null,null,null,null,null,null,null,2021,null,null,null,null,null,null,null,null,2022,null,null,null,null,null,null,null,null,2023,null,null,null,null,null,null,null,null,2024,null,null,null,null,null,null,null,null,2025]
["Level","Code","Expenditure category"," Q1 Index","Q2 Index","Q1 - Q2 \n% Change","Q3 Index","Q2 - Q3 \n% Change","Q4 Index","Q3 - Q4 \n% Change",null," Q1 Index","Q4 - Q1\n% Change","Q2 Index","Q1 - Q2 \n% Change","Q3 Index","Q2 - Q3 \n% Change","Q4 Index","Q3 - Q4 \n% Change",null," Q1 Index","Q4 - Q1\n% Change","Q2 Index","Q1 - Q2 \n% Change","Q3 Index","Q2 - Q3 \n% Change","Q4 Index","Q3 - Q4 \n% Change",null," Q1 Index","Q4 - Q1\n% Change","Q2 Index","Q1 - Q2 \n% Change","Q3 Index","Q2 - Q3 \n% Change","Q4 Index","Q3 - Q4 \n% Change",null," Q1 Index","Q4 - Q1\n% Change","Q2 Index","Q1 - Q2 \n% Change","Q3 Index","Q2 - Q3 \n% Change","Q4 Index","Q3 - Q4 \n% Change",null," Q1 Index","Q4 - Q1\n% Change","Q2 Index","Q1 - Q2 \n% Change","Q3 Index","Q2 - Q3 \n% Change","Q4 Index","Q3 - Q4 \n% Change",null," Q1 Index","Q4 - Q1\n% Change","Q2 Index","Q1 - Q2 \n% Change","Q3 Index","Q2 - Q3 \n% Change","Q4 Index","Q3 - Q4 \n% Change"]
[null,null,null,null,null,null,null,null,null,null,null,null,null,null,null,null,null,null,null,null,null,null,null,null,null,null,null,null,null,null,null,null,null,null,null,null,null,null,null,null,null,null,null,{"$f":"(AQ6-AO6)/AO6","v":{"$error":"#DIV/0!"}},null,null,null,null,null,null,null,null,{"$f":"(AZ6-AX6)/AX6","v":{"$error":"#DIV/0!"}},null,null,null,null,null,null,null,null,{"$f":"(BI6-BG6)/BG6","v":{"$error":"#DIV/0!"}}]
[null,null,"TOTAL CPI",100.295144989363,100.241957731474,-5.303074031612799E-4,100.591352449789,3.4855137132392012E-3,100.43615723636999,-1.5428285795886178E-3,null,100.455870031472,1.9627189693863445E-4,100.69715724595299,2.4019224999534392E-3,101.19254326005,{"$f":"(P7-N7)/N7","v":4.9195630506929464E-3},102.090730976849,8.8760267097032029E-3,null,102.783563714295,{"$f":"(U7-R7)/R7","v":6.7864411471704493E-3},103.55538950205199,{"$f":"(W7-U7)/U7","v":7.5092335765124954E-3},104.044818827643,4.7262564309248824E-3,105.250117333357,{"$f":"(AA7-Y7)/Y7","v":1.1584416401461115E-2},null,{"$f":"'CPI Sub-Categories'!Y8","v":105.99716825485},{"$f":"(AD7-AA7)/AA7","v":7.0978630753149351E-3},{"$f":"'CPI Sub-Categories'!Z8","v":108.63739956853099},{"$f":"(AF7-AD7)/AD7","v":2.4908508002148382E-2},{"$f":"'CPI Sub-Categories'!AA8","v":107.29051975442999},{"$f":"(AH7-AF7)/AF7","v":-1.2397938642220151E-2},{"$f":"'CPI Sub-Categories'!AB8","v":108.85886874257601},{"$f":"IFERROR((AJ7-AH7)/AH7,\"\")","v":1.4617777896273604E-2},null,{"$f":"'CPI Sub-Categories'!AD8","v":109.351037943989},{"$f":"(AM7-AJ7)/AJ7","v":4.5211677017960635E-3},{"$f":"'CPI Sub-Categories'!AE8","v":108.691413717518},{"$f":"(AO7-AM7)/AM7","v":-6.0321716087309903E-3},{"$f":"'CPI Sub-Categories'!AF8","v":109.437713633071},{"$f":"(AQ7-AO7)/AO7","v":6.8662269633605211E-3},{"$f":"'CPI Sub-Categories'!AG8","v":112.29646654464},{"$f":"(AS7-AQ7)/AQ7","v":2.6122191488338185E-2},null,{"$f":"'CPI Sub-Categories'!AI8","v":113.31000289621799},{"$f":"(AV7-AS7)/AS7","v":9.0255408986986869E-3},{"$f":"'CPI Sub-Categories'!AJ8","v":113.485723011283},{"$f":"(AX7-AV7)/AV7","v":1.5507908443524523E-3},{"$f":"'CPI Sub-Categories'!AK8","v":113.822041355032},{"$f":"(AZ7-AX7)/AX7","v":2.9635299914823813E-3},{"$f":"'CPI Sub-Categories'!AL8","v":114.794258697682},{"$f":"(BB7-AZ7)/AZ7","v":8.5415560209245595E-3},null,{"$f":"'CPI Sub-Categories'!AM8","v":115.01942829105499},{"$f":"(BE7-BB7)/BB7","v":1.9615057053157573E-3},{"$f":"'CPI Sub-Categories'!AN8","v":114.22829585201499},{"$f":"(BG7-BE7)/BE7","v":-6.8782504903262881E-3},{"$f":"'CPI Sub-Categories'!AO8","v":115.09192592725},{"$f":"(BI7-BG7)/BG7","v":7.5605616698848233E-3},{"$f":"'CPI Sub-Categories'!AU8","v":0},{"$f":"(BK7-BI7)/BI7","v":-1}]
[null,null,null,null,null,null,null,null,null,null,null,null,null,null,null,null,null,null,null,null,null,null,null,null,null,null,null,null,null,null,null,null,null,null,null,null,null,null,null,null,null,null,null,{"$f":"(AQ8-AO8)/AO8","v":{"$error":"#DIV/0!"}},null,{"$error":"#DIV/0!"}]
[1,"010000","Food and non-alcoholic beverages",100.032018361144,98.982214564386297,-1.0494677743756111E-2,99.253662901090706,2.742395064598569E-3,99.281474347583995,2.8020574435628966E-4,null,99.608257046872296,3.291477100191289E-3,102.304817177768,2.7071652600313991E-2,101.548769338867,-7.3901489661749283E-3,101.78639609348301,2.3400259418510988E-3,null,101.457336939331,{"$f":"(U9-R9)/R9","v":-3.232840210294804E-3},101.37549645486,{"$f":"(W9-U9)/U9","v":-8.0664924725887765E-4},102.319885429973,9.3157519138119659E-3,103.74626576500999,{"$f":"IFERROR((AA9-Y9)/Y9,\"Not available\")","v":1.3940401995594492E-2},null,{"$f":"'CPI Sub-Categories'!Y10","v":105.60469908767701},{"$f":"(AD9-AA9)/AA9","v":1.7913255084057167E-2},{"$f":"'CPI Sub-Categories'!Z10","v":110.54930138685},{"$f":"(AF9-AD9)/AD9","v":4.6821801888453883E-2},{"$f":"'CPI Sub-Categories'!AA10","v":111.427210849772},7.9413388588489061E-3,{"$f":"'CPI Sub-Categories'!AB10","v":115.39155263970299},{"$f":"IFERROR((AJ9-AH9)/AH9,\"Not available\")","v":3.5577860737049133E-2},null,{"$f":"'CPI Sub-Categories'!AD10","v":116.697600243916},{"$f":"(AM9-AJ9)/AJ9","v":1.1318398741812509E-2},{"$f":"'CPI Sub-Categories'!AE10","v":115.941257845823},{"$f":"(AO9-AM9)/AM9","v":-6.481216379018287E-3},{"$f":"'CPI Sub-Categories'!AF10","v":116.141545624499},1.7274935807781156E-3,{"$f":"'CPI Sub-Categories'!AG10","v":116.72025367076699},4.9827823726320188E-3,null,{"$f":"'CPI Sub-Categories'!AI10","v":119.163742370023},{"$f":"(AV9-AS9)/AS9","v":2.093457324166173E-2},{"$f":"'CPI Sub-Categories'!AJ10","v":119.751994483167},{"$f":"(AX9-AV9)/AV9","v":4.9365025086017767E-3},{"$f":"'CPI Sub-Categories'!AK10","v":120.721958285993},8.0997715905461991E-3,{"$f":"'CPI Sub-Categories'!AL10","v":121.762387419002},8.6183917804265511E-3,null,{"$f":"'CPI Sub-Categories'!AM10","v":123.94516709055701},{"$f":"(BE9-BB9)/BB9","v":1.7926551193873607E-2},{"$f":"'CPI Sub-Categories'!AN10","v":123.380029759834},{"$f":"(BG9-BE9)/BE9","v":-4.5595753669854912E-3},{"$f":"'CPI Sub-Categories'!AO10","v":123.504784075562},{"$f":"(BI9-BG9)/BG9","v":1.0111386418923621E-3},{"$f":"'CPI Sub-Categories'!AU10","v":0},{"$f":"(BK9-BI9)/BI9","v":-1}]
[2,"011000","Food",99.808219236700694,98.859496641723794,-9.5054555850450743E-3,99.329891830257907,4.7582195389773178E-3,99.513210140907802,1.8455502897673803E-3,null,99.685295363691694,1.7292701395143838E-3,102.103709758083,2.4260492839670744E-2,101.12830456176199,-9.5530828275687454E-3,101.486613348212,3.5431107838971086E-3,null,101.20218870212901,{"$f":"(U10-R10)/R10","v":-2.8025828894999525E-3},101.31216536411701,1.0867024063253925E-3,102.369956378502,1.0440908163232687E-2,104.111426044634,1.7011530801997285E-2,null,{"$f":"'CPI Sub-Categories'!Y11","v":105.913778926386},{"$f":"(AD10-AA10)/AA10","v":1.7311768268156339E-2},{"$f":"'CPI Sub-Categories'!Z11","v":111.13508492635999},4.9297702838107527E-2,{"$f":"'CPI Sub-Categories'!AA11","v":111.626298829983},4.4199714603942817E-3,{"$f":"'CPI Sub-Categories'!AB11","v":115.849072155973},3.78295560298176E-2,null,{"$f":"'CPI Sub-Categories'!AD11","v":117.111083304399},{"$f":"(AM10-AJ10)/AJ10","v":1.0893580111948532E-2},{"$f":"'CPI Sub-Categories'!AE11","v":115.84898924654},{"$f":"(AO10-AM10)/AM10","v":-1.077689679104518E-2},{"$f":"'CPI Sub-Categories'!AF11","v":115.944721377634},8.2635275211825128E-4,{"$f":"'CPI Sub-Categories'!AG11","v":116.468170002783},{"$f":"(AS10-AQ10)/AQ10","v":4.5146395534827301E-3},null,{"$f":"'CPI Sub-Categories'!AI11","v":118.93972162940101},{"$f":"(AV10-AS10)/AS10","v":2.1220833353515826E-2},{"$f":"'CPI Sub-Categories'!AJ11","v":119.484602623866},4.5811524274687642E-3,{"$f":"'CPI Sub-Categories'!AK11","v":120.34637683085001},7.2124289495011243E-3,{"$f":"'CPI Sub-Categories'!AL11","v":121.122308336609},6.4474853850364127E-3,null,{"$f":"'CPI Sub-Categories'!AM11","v":123.81519601909901},{"$f":"(BE10-BB10)/BB10","v":2.2232796909767032E-2},{"$f":"'CPI Sub-Categories'!AN11","v":123.05825110532901},-6.113505757833127E-3,{"$f":"'CPI Sub-Categories'!AO11","v":123.109853348418},4.1933184183501435E-4,{"$f":"'CPI Sub-Categories'!AU11","v":0},-1]
[3,"011100","Bread and cereals",100.475597994872,101.530149461199,1.0495597810533257E-2,101.793841820203,2.5971828112473162E-3,101.11477775013,-6.6709739796678245E-3,null,101.595756666477,4.7567618408416099E-3,102.542861872505,9.3222909804904271E-3,103.58097732875299,1.0123722288331659E-2,102.84719295655201,-7.0841615045979644E-3,null,102.81944969115,-2.6975228593481478E-4,103.791981996831,9.4586414204929237E-3,103.613138174295,-1.7230986353209432E-3,104.671040135845,1.0210114085825967E-2,null,{"$f":"'CPI Sub-Categories'!Y12","v":106.20149266631699},1.4621546976945354E-2,{"$f":"'CPI Sub-Categories'!Z12","v":109.58107850119001},3.182239486493476E-2,{"$f":"'CPI Sub-Categories'!AA12","v":110.326083559439},6.7986651385339462E-3,{"$f":"'CPI Sub-Categories'!AB12","v":113.02882128230399},2.4497721986196267E-2,null,{"$f":"'CPI Sub-Categories'!AD12","v":114.52696324267301},1.3254512816931971E-2,{"$f":"'CPI Sub-Categories'!AE12","v":115.78805558742501},{"$f":"(AO11-AM11)/AM11","v":1.1011313921594622E-2},{"$f":"'CPI Sub-Categories'!AF12","v":117.330331591898},1.3319819532754051E-2,{"$f":"'CPI Sub-Categories'!AG12","v":116.385418625287},-8.0534415422742114E-3,null,{"$f":"'CPI Sub-Categories'!AI12","v":116.85554260538601},4.0393718186692174E-3,{"$f":"'CPI Sub-Categories'!AJ12","v":117.383076734208},4.5144125563940773E-3,{"$f":"'CPI Sub-Categories'!AK12","v":119.461783074981},1.7708739612268275E-2,{"$f":"'CPI Sub-Categories'!AL12","v":119.84320051229599},3.1927987972152957E-3,null,{"$f":"'CPI Sub-Categories'!AM12","v":118.964632771521},-7.3309769517116291E-3,{"$f":"'CPI Sub-Categories'!AN12","v":118.05376167397399},-7.6566545562863761E-3,{"$f":"'CPI Sub-Categories'!AO12","v":118.109641222569},4.7333983943114442E-4,{"$f":"'CPI Sub-Categories'!AU12","v":0},-1]
[3,"011200","Meat",96.734789603286799,95.748949959060695,-1.0191159233085339E-2,96.700299086784597,9.935870086624124E-3,95.838715529400204,-8.9098334288620559E-3,null,95.8374363131352,-1.3347594006640848E-5,102.32828832406599,6.772773000440932E-2,100.631855456715,-1.6578337184518489E-2,99.788888525451199,-8.3767404211918736E-3,null,99.605722006368694,-1.8355402268639179E-3,99.088649075199896,-5.1911970592988287E-3,99.097812590040803,9.2477947034604291E-5,102.4473767328,3.380058605951327E-2,null,{"$f":"'CPI Sub-Categories'!Y13","v":104.16056604955899},1.6722627473686177E-2,{"$f":"'CPI Sub-Categories'!Z13","v":106.68342818505199},2.4220895019835403E-2,{"$f":"'CPI Sub-Categories'!AA13","v":108.11404597056401},1.3409934512326296E-2,{"$f":"'CPI Sub-Categories'!AB13","v":111.63216133402901},3.2540779802310522E-2,null,{"$f":"'CPI Sub-Categories'!AD13","v":113.26155233116199},1.4596071397896485E-2,{"$f":"'CPI Sub-Categories'!AE13","v":111.847354143671},-1.2486127537401793E-2,{"$f":"'CPI Sub-Categories'!AF13","v":112.844814141379},8.918047327491907E-3,{"$f":"'CPI Sub-Categories'!AG13","v":111.28870204396},-1.3789841467321743E-2,null,{"$f":"'CPI Sub-Categories'!AI13","v":112.528578355093},1.1141079807393574E-2,{"$f":"'CPI Sub-Categories'!AJ13","v":113.92866455846099},1.2442050044833107E-2,{"$f":"'CPI Sub-Categories'!AK13","v":114.339895084983},3.6095439906695904E-3,{"$f":"'CPI Sub-Categories'!AL13","v":113.508370928009},-7.2723886650059352E-3,null,{"$f":"'CPI Sub-Categories'!AM13","v":116.054487821489},2.2431093607138818E-2,{"$f":"'CPI Sub-Categories'!AN13","v":117.7292594083},1.4430907569787963E-2,{"$f":"'CPI Sub-Categories'!AO13","v":120.978881509159},2.7602501852057853E-2,{"$f":"'CPI Sub-Categories'!AU13","v":0},-1]
[3,"011300","Fish and seafood",99.257481386187706,99.565311140048294,3.1013254574019898E-3,98.4563577192759,-1.1137949634010018E-2,100.270335973206,1.8424186065284027E-2,null,100.216136435218,-5.4053412170156567E-4,102.757510112281,2.535892689004025E-2,102.943423458054,1.8092433883407529E-3,102.648930276046,-2.8607284673021717E-3,null,105.034202037169,2.3237180891300693E-2,104.10566380901101,-8.8403416234780676E-3,105.552868673642,1.390130768760081E-2,108.09994501073599,2.413081111958483E-2,null,{"$f":"'CPI Sub-Categories'!Y14","v":110.416062479961},2.1425704416361911E-2,{"$f":"'CPI Sub-Categories'!Z14","v":119.913911954187},8.6018730073350785E-2,{"$f":"'CPI Sub-Categories'!AA14","v":116.833855729682},-2.5685562036219224E-2,{"$f":"'CPI Sub-Categories'!AB14","v":115.210435194845},-1.3895120765277975E-2,null,{"$f":"'CPI Sub-Categories'!AD14","v":120.424245133727},4.5254667513965625E-2,{"$f":"'CPI Sub-Categories'!AE14","v":120.082380431451},-2.8388361653948454E-3,{"$f":"'CPI Sub-Categories'!AF14","v":118.557368207273},-1.2699716800239083E-2,{"$f":"'CPI Sub-Categories'!AG14","v":116.537237821026},-1.7039264760965549E-2,null,{"$f":"'CPI Sub-Categories'!AI14","v":115.82741258470701},-6.0909735771249134E-3,{"$f":"'CPI Sub-Categories'!AJ14","v":118.53368069354499},2.3364659957838898E-2,{"$f":"'CPI Sub-Categories'!AK14","v":117.195463766391},-1.1289761014118826E-2,{"$f":"'CPI Sub-Categories'!AL14","v":112.46388006796499},-4.0373437216457503E-2,null,{"$f":"'CPI Sub-Categories'!AM14","v":117.74868677785},4.699114690593327E-2,{"$f":"'CPI Sub-Categories'!AN14","v":121.253922918119},2.9768791790282488E-2,{"$f":"'CPI Sub-Categories'!AO14","v":120.226416953362},-8.4740018304468156E-3,{"$f":"'CPI Sub-Categories'!AU14","v":0},-1]
[3,"011400","Milk, cheese and eggs",99.143894188486797,96.230590073082098,-2.9384604460523704E-2,94.965902324082805,-1.3142263266169614E-2,97.902285040765705,3.0920389790665422E-2,null,97.502557415555103,-4.0829243673338022E-3,102.016863652609,4.6299362362506709E-2,98.410973303192506,-3.5346022415425241E-2,100.22837256734699,1.8467445277218195E-2,null,100.434704960239,2.0586225996373072E-3,100.555457169346,1.2022956522329668E-3,100.972070973122,4.143124754277438E-3,101.522253436165,5.4488578647600002E-3,null,{"$f":"'CPI Sub-Categories'!Y15","v":104.202097277242},2.6396615031422935E-2,{"$f":"'CPI Sub-Categories'!Z15","v":118.83861043240201},0.14046275015192669,{"$f":"'CPI Sub-Categories'!AA15","v":120.47925065019901},1.3805615967970539E-2,{"$f":"'CPI Sub-Categories'!AB15","v":130.62586960009301},8.4218808592641636E-2,null,{"$f":"'CPI Sub-Categories'!AD15","v":131.12290017563399},3.8049934294226624E-3,{"$f":"'CPI Sub-Categories'!AE15","v":119.21347020027},-9.0826468598633622E-2,{"$f":"'CPI Sub-Categories'!AF15","v":115.33286531572401},-3.2551731595656538E-2,{"$f":"'CPI Sub-Categories'!AG15","v":119.420126406639},3.5438823788224674E-2,null,{"$f":"'CPI Sub-Categories'!AI15","v":127.35709417545399},6.6462563787520412E-2,{"$f":"'CPI Sub-Categories'!AJ15","v":127.776882962119},3.2961555018418175E-3,{"$f":"'CPI Sub-Categories'!AK15","v":127.967122701447},1.4888431687944017E-3,{"$f":"'CPI Sub-Categories'!AL15","v":134.187775618107},4.8611336922633336E-2,null,{"$f":"'CPI Sub-Categories'!AM15","v":146.24462832396301},8.985060412782557E-2,{"$f":"'CPI Sub-Categories'!AN15","v":140.04215237199099},-4.2411649734116819E-2,{"$f":"'CPI Sub-Categories'!AO15","v":129.84418433189401},-7.2820703390850033E-2,{"$f":"'CPI Sub-Categories'!AU15","v":0},-1]
[3,"011500","Oils and fats",98.424965843144506,100.45264586624999,2.0601277386643066E-2,102.832446729461,2.369077332596738E-2,104.89361932951699,2.0043990643135022E-2,null,105.70260523786099,7.7124415528328607E-3,104.359250174552,-1.2708816970840586E-2,102.22493458666401,-2.0451618656881165E-2,101.676824818914,-5.3618011101325856E-3,null,102.661876173582,9.6880617232331396E-3,101.899306855555,-7.4279698214129936E-3,101.940648697268,4.057126882286766E-4,101.798735034045,-1.3921204645699992E-3,null,{"$f":"'CPI Sub-Categories'!Y16","v":105.72113864287699},3.853096610208577E-2,{"$f":"'CPI Sub-Categories'!Z16","v":109.662422549113},3.7279998653339842E-2,{"$f":"'CPI Sub-Categories'!AA16","v":104.480626765393},-4.7252246150218918E-2,{"$f":"'CPI Sub-Categories'!AB16","v":108.997096987118},4.3227824732201804E-2,null,{"$f":"'CPI Sub-Categories'!AD16","v":111.437456256419},2.2389213444734369E-2,{"$f":"'CPI Sub-Categories'!AE16","v":118.073939973652},5.9553438674716089E-2,{"$f":"'CPI Sub-Categories'!AF16","v":121.410928643483},2.8261855838601174E-2,{"$f":"'CPI Sub-Categories'!AG16","v":132.96058044009001},9.5128601071176808E-2,null,{"$f":"'CPI Sub-Categories'!AI16","v":123.574223476106},-7.0595036009288195E-2,{"$f":"'CPI Sub-Categories'!AJ16","v":122.785835558247},-6.3798735341552733E-3,{"$f":"'CPI Sub-Categories'!AK16","v":130.29174846095},6.1130120331692135E-2,{"$f":"'CPI Sub-Categories'!AL16","v":134.27470327244799},3.0569509263218837E-2,null,{"$f":"'CPI Sub-Categories'!AM16","v":134.471655878826},1.4667886174984245E-3,{"$f":"'CPI Sub-Categories'!AN16","v":134.06243106852401},-3.0432049611313627E-3,{"$f":"'CPI Sub-Categories'!AO16","v":135.138357908882},8.0255656396984922E-3,{"$f":"'CPI Sub-Categories'!AU16","v":0},-1]
[3,"011600","Fruit",100.969303403928,98.860541604912498,-2.088517725609524E-2,99.579897376861993,7.2764700685571514E-3,99.324549604033194,-2.5642502106869047E-3,null,98.293680477720798,-1.0378794874198316E-2,97.688847636766297,-6.1533237743762364E-3,96.718393845717202,-9.9341308094605309E-3,100.416210036393,3.8232812225712308E-2,null,98.464214865969296,-1.943904445025614E-2,100.826687986392,2.3993215440132578E-2,105.47545475022601,4.6106510653820362E-2,105.565714248147,8.5573935788888476E-4,null,{"$f":"'CPI Sub-Categories'!Y17","v":108.187286112601},2.483355399170251E-2,{"$f":"'CPI Sub-Categories'!Z17","v":110.21816079148},1.8771842347216967E-2,{"$f":"'CPI Sub-Categories'!AA17","v":110.984259698439},6.9507502344225468E-3,{"$f":"'CPI Sub-Categories'!AB17","v":113.098653243825},1.905129205827133E-2,null,{"$f":"'CPI Sub-Categories'!AD17","v":113.334143089425},2.0821631279049511E-3,{"$f":"'CPI Sub-Categories'!AE17","v":112.607715135159},-6.4096126239099986E-3,{"$f":"'CPI Sub-Categories'!AF17","v":110.80775099421599},-1.5984376725720541E-2,{"$f":"'CPI Sub-Categories'!AG17","v":111.32952523041899},4.7088243513780615E-3,null,{"$f":"'CPI Sub-Categories'!AI17","v":118.610193196629},6.5397458141864762E-2,{"$f":"'CPI Sub-Categories'!AJ17","v":116.85254699620501},-1.4818677493511959E-2,{"$f":"'CPI Sub-Categories'!AK17","v":115.15568053957},-1.4521433210096104E-2,{"$f":"'CPI Sub-Categories'!AL17","v":118.210928877444},2.653146005093648E-2,null,{"$f":"'CPI Sub-Categories'!AM17","v":120.08934642003},1.5890388142821E-2,{"$f":"'CPI Sub-Categories'!AN17","v":117.704973315624},-1.9854992765688827E-2,{"$f":"'CPI Sub-Categories'!AO17","v":118.746757212745},8.8508061110337821E-3,{"$f":"'CPI Sub-Categories'!AU17","v":0},-1]
[3,"011700","Vegetables",102.669323361689,99.991972315395799,-2.6077419803978652E-2,101.146829040054,1.1549494403566122E-2,99.821175230374905,-1.3106232021906876E-2,null,100.032434672108,2.1163790272507857E-3,101.31957592216401,1.2867239053763658E-2,101.302579306526,-1.6775253432825473E-4,102.349875595151,1.0338298351279375E-2,null,100.585616629469,-1.7237529165747108E-2,98.784936792102897,-1.7901961510057008E-2,102.174578017561,3.431334103692095E-2,107.110282165548,4.830657726953063E-2,null,{"$f":"'CPI Sub-Categories'!Y18","v":107.28562076838401},1.6369913260522108E-3,{"$f":"'CPI Sub-Categories'!Z18","v":112.527228441914},4.8856572166795412E-2,{"$f":"'CPI Sub-Categories'!AA18","v":112.524262366786},-2.6358732629157259E-5,{"$f":"'CPI Sub-Categories'!AB18","v":120.708575561682},7.2733764458888572E-2,null,{"$f":"'CPI Sub-Categories'!AD18","v":120.161540640674},-4.5318646041718653E-3,{"$f":"'CPI Sub-Categories'!AE18","v":119.449239831234},-5.9278601592671273E-3,{"$f":"'CPI Sub-Categories'!AF18","v":119.51562140520601},5.5573040117959458E-4,{"$f":"'CPI Sub-Categories'!AG18","v":119.459428047336},-4.7017584152855304E-4,null,{"$f":"'CPI Sub-Categories'!AI18","v":122.696007668886},2.7093546942711735E-2,{"$f":"'CPI Sub-Categories'!AJ18","v":121.135018661947},-1.2722410749920768E-2,{"$f":"'CPI Sub-Categories'!AK18","v":121.553000263097},3.4505430862768935E-3,{"$f":"'CPI Sub-Categories'!AL18","v":120.04477109535},-1.2407996219611998E-2,null,{"$f":"'CPI Sub-Categories'!AM18","v":120.836647593075},6.5965097063329986E-3,{"$f":"'CPI Sub-Categories'!AN18","v":119.496297019927},-1.1092252225183504E-2,{"$f":"'CPI Sub-Categories'!AO18","v":123.166576529726},3.0714587826825734E-2,{"$f":"'CPI Sub-Categories'!AU18","v":0},-1]
[3,"011800","Sugar, jam, honey, chocolate and confectionery",100.863630061726,99.087550952194206,-1.7608716922491063E-2,98.050433894168904,-1.0466673644256984E-2,98.246334158855802,1.9979540824709026E-3,null,99.809358330218302,1.5909236560778188E-2,100.06427462771001,2.5540320242147608E-3,101.109648998547,1.0447028919425238E-2,102.275125371371,1.1526856085127456E-2,null,101.60440408439101,-6.5580099222029078E-3,102.46836426436001,8.5031764888006903E-3,103.568634980949,1.0737662540902731E-2,103.706322209107,1.3294297852175765E-3,null,{"$f":"'CPI Sub-Categories'!Y19","v":104.29564698391199},5.6826311284736827E-3,{"$f":"'CPI Sub-Categories'!Z19","v":106.40874180473099},2.0260623352237831E-2,{"$f":"'CPI Sub-Categories'!AA19","v":106.707455771122},2.8072314485136094E-3,{"$f":"'CPI Sub-Categories'!AB19","v":108.216043996298},1.4137608419900723E-2,null,{"$f":"'CPI Sub-Categories'!AD19","v":109.371717921712},1.067932150110331E-2,{"$f":"'CPI Sub-Categories'!AE19","v":111.150030103131},1.6259342133511226E-2,{"$f":"'CPI Sub-Categories'!AF19","v":112.894810771867},1.5697527631050544E-2,{"$f":"'CPI Sub-Categories'!AG19","v":113.143668024319},2.2043285315821838E-3,null,{"$f":"'CPI Sub-Categories'!AI19","v":113.905477661226},6.733117727306317E-3,{"$f":"'CPI Sub-Categories'!AJ19","v":118.440639352723},3.9815132552144042E-2,{"$f":"'CPI Sub-Categories'!AK19","v":121.225751157057},2.3514832573976453E-2,{"$f":"'CPI Sub-Categories'!AL19","v":121.24915061178901},1.9302379658332785E-4,null,{"$f":"'CPI Sub-Categories'!AM19","v":122.13545215938601},7.3097546920945231E-3,{"$f":"'CPI Sub-Categories'!AN19","v":124.27135944075},1.7488020419956792E-2,{"$f":"'CPI Sub-Categories'!AO19","v":123.907462874988},-2.9282416109361314E-3,{"$f":"'CPI Sub-Categories'!AU19","v":0},-1]
[3,"011900","Food products n.e.c.",100.40735446600399,100.014667302798,-3.9109402423200754E-3,102.608911822812,2.593864070116669E-2,103.79980309462501,1.1606119299554274E-2,null,105.158937065834,1.3093801054420012E-2,107.384848256721,2.116711382783841E-2,103.94840068972501,-3.2001233160758452E-2,102.421106749826,-1.4692808448855519E-2,null,102.585320240078,1.603316889097069E-3,103.000251469807,4.0447427444583557E-3,102.302127936114,-6.7778818374791766E-3,101.972154100637,-3.2254835958355518E-3,null,{"$f":"'CPI Sub-Categories'!Y20","v":104.16353694469301},2.1490012282111035E-2,{"$f":"'CPI Sub-Categories'!Z20","v":107.57355534201599},3.2737160213113535E-2,{"$f":"'CPI Sub-Categories'!AA20","v":109.562043587277},1.8484917031317528E-2,{"$f":"'CPI Sub-Categories'!AB20","v":111.24141058874299},1.5327999975905972E-2,null,{"$f":"'CPI Sub-Categories'!AD20","v":113.14058318106601},1.707253245236354E-2,{"$f":"'CPI Sub-Categories'!AE20","v":115.77060883047101},2.324564338859738E-2,{"$f":"'CPI Sub-Categories'!AF20","v":118.041896567458},1.9618863197937896E-2,{"$f":"'CPI Sub-Categories'!AG20","v":118.917439858874},7.4172248741840325E-3,null,{"$f":"'CPI Sub-Categories'!AI20","v":122.10578427615501},2.6811411522689933E-2,{"$f":"'CPI Sub-Categories'!AJ20","v":124.347506241001},1.8358851532996216E-2,{"$f":"'CPI Sub-Categories'!AK20","v":125.611216867482},1.0162733975796596E-2,{"$f":"'CPI Sub-Categories'!AL20","v":125.98651785828601},2.9877983842792008E-3,null,{"$f":"'CPI Sub-Categories'!AM20","v":127.089810650749},8.7572290370309027E-3,{"$f":"'CPI Sub-Categories'!AN20","v":128.448435520629},1.0690273775083293E-2,{"$f":"'CPI Sub-Categories'!AO20","v":131.75830392503201},2.5768070984962956E-2,{"$f":"'CPI Sub-Categories'!AU20","v":0},-1]
[2,"012000","Non-alcoholic beverages",101.342236606643,99.700659114703996,-1.6198354673291251E-2,98.807385311408297,-8.9595576521515462E-3,97.924791360984599,-8.9324694469148421E-3,null,99.1572409468301,1.258567487064911E-2,103.482188229741,4.3617059547169254E-2,104.010354583772,5.1039349192966189E-3,103.54145578603899,-4.5081934352540253E-3,null,102.951086642421,-5.7017659171988734E-3,101.74626444068301,-1.1702860465404257E-2,102.026748133322,2.756697694808386E-3,101.608457308048,-4.099815322227105E-3,null,{"$f":"'CPI Sub-Categories'!Y21","v":103.795210131904},2.1521366250315001E-2,{"$f":"'CPI Sub-Categories'!Z21","v":107.119867588627},3.2030933339775455E-2,{"$f":"'CPI Sub-Categories'!AA21","v":110.261662482324},2.9329712259937139E-2,{"$f":"'CPI Sub-Categories'!AB21","v":112.713032697407},2.2232298696530001E-2,null,{"$f":"'CPI Sub-Categories'!AD21","v":114.27688903068901},1.3874671773586136E-2,{"$f":"'CPI Sub-Categories'!AE21","v":116.481438700274},1.9291299301934631E-2,{"$f":"'CPI Sub-Categories'!AF21","v":117.29384110393799},6.9745224022725281E-3,{"$f":"'CPI Sub-Categories'!AG21","v":118.196062041362},7.6919719648750927E-3,null,{"$f":"'CPI Sub-Categories'!AI21","v":120.475258053845},1.9283180616333963E-2,{"$f":"'CPI Sub-Categories'!AJ21","v":121.317423720771},6.9903620090160865E-3,{"$f":"'CPI Sub-Categories'!AK21","v":122.920776875762},1.3216182027417095E-2,{"$f":"'CPI Sub-Categories'!AL21","v":125.509691142371},2.1061649075205996E-2,null,{"$f":"'CPI Sub-Categories'!AM21","v":161.31891878317899},0.28531045941454874,{"$f":"'CPI Sub-Categories'!AN21","v":125.263863153698},-0.22350171884018674,{"$f":"'CPI Sub-Categories'!AT21","v":0},-1,{"$f":"'CPI Sub-Categories'!AU21","v":0},{"$error":"#DIV/0!"}]
[3,"012100","Coffee, tea and cocoa",102.872627852508,103.485180921859,5.9544806246150592E-3,102.32989772950501,-1.1163754868693115E-2,101.831770595351,-4.8678552916248796E-3,null,100.81263176047599,-1.0008063582874946E-2,99.982794947226793,-8.2314765397736838E-3,99.793661718482994,-1.8916577481518481E-3,100.412633786306,6.2025188490339531E-3,null,99.767781095441094,-6.4220274536096458E-3,99.478271739015895,-2.9018321671226239E-3,101.67616439018801,2.2094198187704205E-2,102.541651704537,8.5121947659988449E-3,null,{"$f":"'CPI Sub-Categories'!Y22","v":103.186492490719},6.2885742082645843E-3,{"$f":"'CPI Sub-Categories'!Z22","v":105.309157409576},2.0571151006493593E-2,{"$f":"'CPI Sub-Categories'!AA22","v":107.720391331214},2.289671649598387E-2,{"$f":"'CPI Sub-Categories'!AB22","v":108.78126490917801},9.8484007053230484E-3,null,{"$f":"'CPI Sub-Categories'!AD22","v":110.111928865553},1.2232473647791913E-2,{"$f":"'CPI Sub-Categories'!AE22","v":112.18311254838299},1.8809802935692083E-2,{"$f":"'CPI Sub-Categories'!AF22","v":116.05013629263399},3.4470640512699338E-2,{"$f":"'CPI Sub-Categories'!AG22","v":115.10137442051},-8.1754481505440148E-3,null,{"$f":"'CPI Sub-Categories'!AI22","v":114.305901013416},-6.9110678399705323E-3,{"$f":"'CPI Sub-Categories'!AJ22","v":114.703787381349},3.4808908761963038E-3,{"$f":"'CPI Sub-Categories'!AK22","v":115.516473847974},7.0850883408331098E-3,{"$f":"'CPI Sub-Categories'!AL22","v":116.54827303082},8.9320522733744891E-3,null,{"$f":"'CPI Sub-Categories'!AM22","v":116.034935796979},-4.404503134124116E-3,{"$f":"'CPI Sub-Categories'!AN22","v":117.790306664037},1.5127951379481926E-2,{"$f":"'CPI Sub-Categories'!AO22","v":118.778336725736},8.3880421885398817E-3,{"$f":"'CPI Sub-Categories'!AU22","v":0},-1]
[3,"012200","Mineral waters, soft drinks, fruit and vegetable juices",101.097540048951,99.095546231822098,-1.9802596741320795E-2,98.244165503750693,-8.5915135487492252E-3,97.300098575915399,-9.609394339038407E-3,null,98.892558020271906,1.6366473083416658E-2,104.041711484044,5.2068159291789921E-2,104.68456794703501,6.1788339870744542E-3,104.04172784067499,-6.1407341976637466E-3,null,103.460070153359,-5.5906192581376716E-3,102.10889720434299,-1.3059849534348451E-2,102.08280349521699,-2.5554784979983116E-4,101.45924745266301,-6.1083357941203297E-3,null,{"$f":"'CPI Sub-Categories'!Y23","v":103.892538910938},2.398294408215746E-2,{"$f":"'CPI Sub-Categories'!Z23","v":107.409384762088},3.3850802839314721E-2,{"$f":"'CPI Sub-Categories'!AA23","v":110.66799014822},3.0338181280433002E-2,{"$f":"'CPI Sub-Categories'!AB23","v":113.34168896163},2.4159640107578144E-2,null,{"$f":"'CPI Sub-Categories'!AD23","v":114.942830774729},1.4126680374782891E-2,{"$f":"'CPI Sub-Categories'!AE23","v":117.16870453249101},1.936505080620806E-2,{"$f":"'CPI Sub-Categories'!AF23","v":117.492698936492},2.7651957516621238E-3,{"$f":"'CPI Sub-Categories'!AG23","v":118.690876298828},1.0197887810745113E-2,null,{"$f":"'CPI Sub-Categories'!AI23","v":121.46168582847299},2.3344755856961791E-2,{"$f":"'CPI Sub-Categories'!AJ23","v":122.37488798061899},7.5184379824565755E-3,{"$f":"'CPI Sub-Categories'!AK23","v":124.104662021411},1.4135040851403763E-2,{"$f":"'CPI Sub-Categories'!AL23","v":126.94254576034101},2.2866858445981672E-2,null,{"$f":"'CPI Sub-Categories'!AM23","v":126.09251620325099},-6.6961754390431824E-3,{"$f":"'CPI Sub-Categories'!AN23","v":126.458821339509},2.9050505714990405E-3,{"$f":"'CPI Sub-Categories'!AO23","v":126.94228534635501},3.8230943616660096E-3,{"$f":"'CPI Sub-Categories'!AU23","v":0},-1]
[1,"020000","Alcoholic beverages, tobacco and narcotics",100.91714010522399,101.66869477722,7.4472450488824336E-3,102.44743303745901,7.6595677946432591E-3,102.80335478828199,3.4741890574539504E-3,null,103.393848053231,5.743910460559316E-3,103.936654044367,5.2498867326859705E-3,103.301175948962,-6.1140903682904953E-3,102.847407770942,-4.3926719502611674E-3,null,102.825141072725,-2.1650227944088811E-4,103.12112857301,2.8785518521744738E-3,104.149309533435,9.9706139241586157E-3,104.759020708949,5.8542027618364396E-3,null,{"$f":"'CPI Sub-Categories'!Y24","v":105.88326633957},1.0731731005241883E-2,{"$f":"'CPI Sub-Categories'!Z24","v":109.597320863711},3.5076879024773841E-2,{"$f":"'CPI Sub-Categories'!AA24","v":109.712140692834},1.0476517876360917E-3,{"$f":"'CPI Sub-Categories'!AB24","v":110.657529268217},8.6169914233088681E-3,null,{"$f":"'CPI Sub-Categories'!AD24","v":110.45800047771},-1.8031198764918697E-3,{"$f":"'CPI Sub-Categories'!AE24","v":113.63967145795399},2.8804350671602478E-2,{"$f":"'CPI Sub-Categories'!AF24","v":113.806865886794},1.4712681468976837E-3,{"$f":"'CPI Sub-Categories'!AG24","v":112.82762416944399},-8.6044168752004695E-3,null,{"$f":"'CPI Sub-Categories'!AI24","v":112.442304543959},-3.4151177809640396E-3,{"$f":"'CPI Sub-Categories'!AJ24","v":112.327025140774},-1.0252315945724071E-3,{"$f":"'CPI Sub-Categories'!AK24","v":112.442304543959},1.0262837731216084E-3,{"$f":"'CPI Sub-Categories'!AL24","v":110.88519047477401},-1.3848115933769761E-2,null,{"$f":"'CPI Sub-Categories'!AM24","v":109.806669733353},-9.7264633518969502E-3,{"$f":"'CPI Sub-Categories'!AN24","v":112.327025140774},2.2952662288559082E-2,{"$f":"'CPI Sub-Categories'!AO24","v":109.797856857298},-2.2516115603580824E-2,{"$f":"'CPI Sub-Categories'!AU24","v":0},-1]
[2,"021000","Alcoholic beverages",100.83289415552299,101.620089467745,7.8069296613449725E-3,102.05858566115801,4.315054195579939E-3,102.459209558677,3.925430623241224E-3,null,103.123866081397,6.4870354317866814E-3,102.89126757426401,-2.2555254760270333E-3,102.19425240916,-6.7742888345788885E-3,101.61962783282399,-5.6228658930382374E-3,null,101.553910099592,-6.4670314813694324E-4,101.744941203416,1.8810807347217045E-3,102.90225699759699,1.1374676524380676E-2,103.588545112696,6.6693203348788541E-3,null,{"$f":"'CPI Sub-Categories'!Y25","v":104.895341032464},1.2615255078120058E-2,{"$f":"'CPI Sub-Categories'!Z25","v":109.179679158852},4.0843931524680736E-2,{"$f":"'CPI Sub-Categories'!AA25","v":109.180903184172},1.1211109333067312E-5,{"$f":"'CPI Sub-Categories'!AB25","v":110.24502824779501},9.7464394650407724E-3,null,{"$f":"'CPI Sub-Categories'!AD25","v":109.97738974223699},-2.4276696175037195E-3,{"$f":"'CPI Sub-Categories'!AE25","v":113.597517833628},3.2917021397541803E-2,{"$f":"'CPI Sub-Categories'!AF25","v":113.91193865463499},2.7678493949795909E-3,{"$f":"'CPI Sub-Categories'!AG25","v":112.62630991555601},-1.1286163278959137E-2,null,{"$f":"'CPI Sub-Categories'!AI25","v":112.045668935645},-5.1554648318528594E-3,{"$f":"'CPI Sub-Categories'!AJ25","v":111.89635653837099},-1.3326030242165087E-3,{"$f":"'CPI Sub-Categories'!AK25","v":111.34674445159099},-4.9117960922305023E-3,{"$f":"'CPI Sub-Categories'!AL25","v":110.128854669826},-1.0937812216813255E-2,null,{"$f":"'CPI Sub-Categories'!AM25","v":108.91487664801799},-1.1023251131119037E-2,{"$f":"'CPI Sub-Categories'!AN25","v":108.21693052496801},-6.4081798972747493E-3,{"$f":"'CPI Sub-Categories'!AO25","v":108.904956914971},6.3578442547328222E-3,{"$f":"'CPI Sub-Categories'!AU25","v":0},-1]
[3,"021100","Spirits",99.544442357167497,100.169171726866,6.2758839660476268E-3,100.087252248189,-8.1781128130285622E-4,99.335300765467096,-7.5129596010616116E-3,null,99.104977605010404,-2.318643610900117E-3,99.168170107584203,6.3763197470924707E-4,98.036478813170106,-1.1411840040875646E-2,96.512188527938903,-1.5548194954411515E-2,null,96.606691040640698,9.7917697384343407E-4,97.036946844259006,4.4536853398416034E-3,97.612583887658204,5.932142983878866E-3,98.485233277629703,8.939927161192936E-3,null,{"$f":"'CPI Sub-Categories'!Y26","v":99.550880618615906},1.0820376878045717E-2,{"$f":"'CPI Sub-Categories'!Z26","v":103.952649554712},4.4216273213689324E-2,{"$f":"'CPI Sub-Categories'!AA26","v":105.19587975909801},1.1959581691389949E-2,{"$f":"'CPI Sub-Categories'!AB26","v":106.92825480648899},1.6468088401923951E-2,null,{"$f":"'CPI Sub-Categories'!AD26","v":105.86000179263399},-9.9903717290462293E-3,{"$f":"'CPI Sub-Categories'!AE26","v":111.724747534664},5.5400960161688696E-2,{"$f":"'CPI Sub-Categories'!AF26","v":111.022266764232},-6.2876022182466827E-3,{"$f":"'CPI Sub-Categories'!AG26","v":110.626879761769},-3.56133065903477E-3,null,{"$f":"'CPI Sub-Categories'!AI26","v":109.228572658923},-1.2639849427708785E-2,{"$f":"'CPI Sub-Categories'!AJ26","v":108.034902215407},-1.0928188609067996E-2,{"$f":"'CPI Sub-Categories'!AK26","v":108.189362962429},1.4297300581068348E-3,{"$f":"'CPI Sub-Categories'!AL26","v":107.694105229417},-4.5776934021137085E-3,null,{"$f":"'CPI Sub-Categories'!AM26","v":105.848381161086},-1.7138580281614552E-2,{"$f":"'CPI Sub-Categories'!AN26","v":104.749680973482},-1.0379943231554311E-2,{"$f":"'CPI Sub-Categories'!AO26","v":105.883599084311},1.0825026866822235E-2,{"$f":"'CPI Sub-Categories'!AU26","v":0},-1]
[3,"021200","Wine",103.97536964317899,105.38581580643999,1.3565194988980046E-2,107.329482069775,1.8443338398640825E-2,108.725348426666,1.3005432710311148E-2,null,111.679634295874,2.7172006454415965E-2,109.899711112159,-1.5937759779902486E-2,109.14272264339399,-6.8879932540718992E-3,109.326963354451,1.6880714223977827E-3,null,109.326963354451,0,109.139332035113,-1.7162401074808297E-3,112.547181078162,3.1224756277165075E-2,114.27023224436,1.5309589717768022E-2,null,{"$f":"'CPI Sub-Categories'!Y27","v":116.17248182446301},1.6646938951127337E-2,{"$f":"'CPI Sub-Categories'!Z27","v":122.813011962823},5.7160956141006393E-2,{"$f":"'CPI Sub-Categories'!AA27","v":121.168790272769},-1.3388008841862148E-2,{"$f":"'CPI Sub-Categories'!AB27","v":122.068400042766},7.4244346912422229E-3,null,{"$f":"'CPI Sub-Categories'!AD27","v":121.94717441794501},-9.9309587721738992E-4,{"$f":"'CPI Sub-Categories'!AE27","v":125.556681409083},2.959893911741868E-2,{"$f":"'CPI Sub-Categories'!AF27","v":127.749558164625},1.7465233478075708E-2,{"$f":"'CPI Sub-Categories'!AG27","v":123.260893195286},-3.5136442222012711E-2,null,{"$f":"'CPI Sub-Categories'!AI27","v":123.573010170885},2.5321654541680164E-3,{"$f":"'CPI Sub-Categories'!AJ27","v":124.69825441802899},9.1059062621193215E-3,{"$f":"'CPI Sub-Categories'!AK27","v":121.859794553559},-2.2762627093034987E-2,{"$f":"'CPI Sub-Categories'!AL27","v":117.34615095066},-3.7039645597918586E-2,null,{"$f":"'CPI Sub-Categories'!AM27","v":115.635363173683},-1.4578985020960143E-2,{"$f":"'CPI Sub-Categories'!AN27","v":112.900103669552},-2.3654178350464291E-2,{"$f":"'CPI Sub-Categories'!AO27","v":114.9211303065},1.7901016662157931E-2,{"$f":"'CPI Sub-Categories'!AU27","v":0},-1]
[3,"021300","Beer",100.379986242169,100.97585052628099,5.9360865289865717E-3,101.091931570928,1.1495921454683991E-3,102.161072134481,1.0575923784806476E-2,null,102.447974472274,2.80833327018463E-3,102.807688271781,3.5111850806221335E-3,102.620184864481,-1.8238267045195882E-3,102.632551225577,1.2050612764272734E-4,null,102.35324244297701,-2.7214444078867564E-3,102.50727320122699,1.5048937832702403E-3,102.96827037478,4.4972142869125981E-3,102.838301795443,-1.262219699951727E-3,null,{"$f":"'CPI Sub-Categories'!Y28","v":104.056012565329},1.1841023710291923E-2,{"$f":"'CPI Sub-Categories'!Z28","v":106.819120628511},2.6554045221051051E-2,{"$f":"'CPI Sub-Categories'!AA28","v":106.438746325561},-3.5609196248005551E-3,{"$f":"'CPI Sub-Categories'!AB28","v":106.871362588989},4.064462222288602E-3,null,{"$f":"'CPI Sub-Categories'!AD28","v":107.390291084335},4.8556365594562799E-3,{"$f":"'CPI Sub-Categories'!AE28","v":108.568754585921},1.0973650315004099E-2,{"$f":"'CPI Sub-Categories'!AF28","v":108.881504666276},2.8806637927074365E-3,{"$f":"'CPI Sub-Categories'!AG28","v":108.518873619383},-3.3305109807627246E-3,null,{"$f":"'CPI Sub-Categories'!AI28","v":108.302099270951},-1.9975727834432491E-3,{"$f":"'CPI Sub-Categories'!AJ28","v":108.538131400956},2.1793864716739553E-3,{"$f":"'CPI Sub-Categories'!AK28","v":108.57401137390301},3.3057481719907982E-4,{"$f":"'CPI Sub-Categories'!AL28","v":108.51673353423},-5.2754649983184827E-4,null,{"$f":"'CPI Sub-Categories'!AM28","v":108.28547990969901},-2.1310411491334406E-3,{"$f":"'CPI Sub-Categories'!AN28","v":109.229206158414},8.7151689174022554E-3,{"$f":"'CPI Sub-Categories'!AO28","v":108.64277783718001},-5.3687868094866916E-3,{"$f":"'CPI Sub-Categories'!AU28","v":0},-1]
[2,"022000","Tobacco",101.587912498365,102.05569379464001,4.6046944441597362E-3,105.54346419494399,3.4175167211367929E-2,105.54346419494399,0,null,105.54346419494399,0,112.26009732909201,6.36385510498505E-2,112.11458186874501,-1.2962349384075332E-3,112.623081144683,4.5355320196734461E-3,null,112.94677475487801,2.8741320775904702E-3,114.078432735213,1.0019391724916145E-2,114.078432735213,0,114.078432735213,0,null,{"$f":"'CPI Sub-Categories'!Y29","v":113.749199655537},-2.8860238678084125E-3,{"$f":"'CPI Sub-Categories'!Z29","v":112.92261456431901},-7.2667332492985758E-3,{"$f":"'CPI Sub-Categories'!AA29","v":113.94189246457},9.0263398893445992E-3,{"$f":"'CPI Sub-Categories'!AB29","v":113.94189246457},0,null,{"$f":"'CPI Sub-Categories'!AD29","v":114.284658190578},3.0082502457520538E-3,{"$f":"'CPI Sub-Categories'!AE29","v":113.975301687881},-2.7068944125564539E-3,{"$f":"'CPI Sub-Categories'!AF29","v":112.970268849326},-8.8179879646842936E-3,{"$f":"'CPI Sub-Categories'!AG29","v":114.430502934922},1.2925826418485251E-2,null,{"$f":"'CPI Sub-Categories'!AI29","v":115.6003461725},1.0223176579441383E-2,{"$f":"'CPI Sub-Categories'!AJ29","v":115.756039949296},1.3468279460311613E-3,{"$f":"'CPI Sub-Categories'!AK29","v":115.858982148477},8.8930304825642222E-4,{"$f":"'CPI Sub-Categories'!AL29","v":116.907191291442},9.0472842375025637E-3,null,{"$f":"'CPI Sub-Categories'!AM29","v":116.907191291442},0,{"$f":"'CPI Sub-Categories'!AN29","v":116.907191291442},0,{"$f":"'CPI Sub-Categories'!AO29","v":116.907191291442},0,{"$f":"'CPI Sub-Categories'!AU29","v":0},-1]
[3,"022100","Tobacco",101.587912498365,102.05569379464001,4.6046944441597362E-3,105.54346419494399,3.4175167211367929E-2,105.54346419494399,0,null,105.54346419494399,0,112.26009732909201,6.36385510498505E-2,112.11458186874501,-1.2962349384075332E-3,112.623081144683,4.5355320196734461E-3,null,112.94677475487801,2.8741320775904702E-3,114.078432735213,1.0019391724916145E-2,114.078432735213,0,114.078432735213,0,null,{"$f":"'CPI Sub-Categories'!Y30","v":113.749199655537},-2.8860238678084125E-3,{"$f":"'CPI Sub-Categories'!Z30","v":112.92261456431901},-7.2667332492985758E-3,{"$f":"'CPI Sub-Categories'!AA30","v":113.94189246457},9.0263398893445992E-3,{"$f":"'CPI Sub-Categories'!AB30","v":113.94189246457},0,null,{"$f":"'CPI Sub-Categories'!AD30","v":114.284658190578},3.0082502457520538E-3,{"$f":"'CPI Sub-Categories'!AE30","v":113.975301687881},-2.7068944125564539E-3,{"$f":"'CPI Sub-Categories'!AF30","v":112.970268849326},-8.8179879646842936E-3,{"$f":"'CPI Sub-Categories'!AG30","v":114.430502934922},1.2925826418485251E-2,null,{"$f":"'CPI Sub-Categories'!AI30","v":115.6003461725},1.0223176579441383E-2,{"$f":"'CPI Sub-Categories'!AJ30","v":115.756039949296},1.3468279460311613E-3,{"$f":"'CPI Sub-Categories'!AK30","v":115.858982148477},8.8930304825642222E-4,{"$f":"'CPI Sub-Categories'!AL30","v":116.907191291442},9.0472842375025637E-3,null,{"$f":"'CPI Sub-Categories'!AM30","v":116.907191291442},0,{"$f":"'CPI Sub-Categories'!AN30","v":116.907191291442},0,{"$f":"'CPI Sub-Categories'!AO30","v":116.907191291442},0,{"$f":"'CPI Sub-Categories'!AU30","v":0},-1]
[3,"023000","Narcotics","Not available","Not available","Not available","Not available","Not available","Not available","Not available",null,"Not available","Not available","Not available","Not available","Not available","Not available","Not available","Not available",null,"Not available","Not available","Not available","Not available","Not available","Not available","Not available","Not available",null,{"$f":"'CPI Sub-Categories'!Y31","v":"Not available"},"Not available",{"$f":"'CPI Sub-Categories'!Z31","v":"Not available"},"Not available",{"$f":"'CPI Sub-Categories'!AA31","v":"Not available"},"Not available",{"$f":"'CPI Sub-Categories'!AB31","v":"Not available"},"Not available",null,{"$f":"'CPI Sub-Categories'!AD31","v":"Not available"},"Not available",{"$f":"'CPI Sub-Categories'!AE31","v":"Not available"},"Not available",{"$f":"'CPI Sub-Categories'!AF31","v":"Not available"},"Not available",{"$f":"'CPI Sub-Categories'!AG31","v":"Not available"},"Not available",null,{"$f":"'CPI Sub-Categories'!AI31","v":"Not available"},"Not available",{"$f":"'CPI Sub-Categories'!AJ31","v":"Not available"},"Not available",{"$f":"'CPI Sub-Categories'!AK31","v":"Not available"},"Not available",{"$f":"'CPI Sub-Categories'!AL31","v":"Not available"},"Not available",null,{"$f":"'CPI Sub-Categories'!AM31","v":"Not available"},"Not available",{"$f":"'CPI Sub-Categories'!AN31","v":{"$error":"#N/A"}},"Not available",{"$f":"'CPI Sub-Categories'!AO31","v":"Not available"},"Not available",{"$f":"'CPI Sub-Categories'!AU31","v":0},"Not available"]
[2,"023000","Narcotics","Not available","Not available","Not available","Not available","Not available","Not available","Not available",null,"Not available","Not available","Not available","Not available","Not available","Not available","Not available","Not available",null,"Not available","Not available","Not available","Not available","Not available","Not available","Not available","Not available",null,{"$f":"'CPI Sub-Categories'!Y32","v":"Not available"},"Not available",{"$f":"'CPI Sub-Categories'!Z32","v":"Not available"},"Not available",{"$f":"'CPI Sub-Categories'!AA32","v":"Not available"},"Not available",{"$f":"'CPI Sub-Categories'!AB32","v":"Not available"},"Not available",null,{"$f":"'CPI Sub-Categories'!AD32","v":"Not available"},"Not available",{"$f":"'CPI Sub-Categories'!AE32","v":"Not available"},"Not available",{"$f":"'CPI Sub-Categories'!AF32","v":"Not available"},"Not available",{"$f":"'CPI Sub-Categories'!AG32","v":"Not available"},"Not available",null,{"$f":"'CPI Sub-Categories'!AI32","v":"Not available"},"Not available",{"$f":"'CPI Sub-Categories'!AJ32","v":"Not available"},"Not available",{"$f":"'CPI Sub-Categories'!AK32","v":"Not available"},"Not available",{"$f":"'CPI Sub-Categories'!AL32","v":"Not available"},"Not available",null,{"$f":"'CPI Sub-Categories'!AM32","v":"Not available"},"Not available",{"$f":"'CPI Sub-Categories'!AN32","v":"Not available"},"Not available",{"$f":"'CPI Sub-Categories'!AO32","v":"Not available"},"Not available",{"$f":"'CPI Sub-Categories'!AU32","v":0},"Not available"]
[1,"030000","Clothing and footwear",102.89907241188,103.25555648112901,3.4644050805636749E-3,102.891675970135,-3.5240767993004892E-3,103.366937931755,4.6190516107246071E-3,null,106.062184031454,2.6074547177536097E-2,103.337811173049,-2.5686561928585643E-2,95.984565644042405,-7.1157357075164768E-2,97.3753150270758,1.4489302250853247E-2,null,99.242588197971003,1.9176042412555955E-2,101.801813307003,2.5787569182766659E-2,100.885919005159,-8.9968368154892259E-3,101.766171477716,8.7252262876446642E-3,null,{"$f":"'CPI Sub-Categories'!Y33","v":101.98370592875401},{"$f":"(AD32-AA32)/AA32","v":2.1375909880390833E-3},{"$f":"'CPI Sub-Categories'!Z33","v":102.896915182035},{"$f":"(AF32-AD32)/AD32","v":8.954462332629547E-3},{"$f":"'CPI Sub-Categories'!AA33","v":104.5512895411},1.6077978199232189E-2,{"$f":"'CPI Sub-Categories'!AB33","v":108.326341813084},3.610718039493898E-2,null,{"$f":"'CPI Sub-Categories'!AD33","v":109.117856115267},{"$f":"(AM32-AJ32)/AJ32","v":7.3067574233121732E-3},{"$f":"'CPI Sub-Categories'!AE33","v":109.760025543062},5.8850993838867119E-3,{"$f":"'CPI Sub-Categories'!AF33","v":111.819934051814},1.8767383649558659E-2,{"$f":"'CPI Sub-Categories'!AG33","v":114.919124377511},2.7715901927297892E-2,null,{"$f":"'CPI Sub-Categories'!AI33","v":121.121053475068},{"$f":"(AV32-AS32)/AS32","v":5.3967771953983668E-2},{"$f":"'CPI Sub-Categories'!AJ33","v":123.390207785325},1.8734598528934519E-2,{"$f":"'CPI Sub-Categories'!AK33","v":121.121053475068},-1.8390067988254755E-2,{"$f":"'CPI Sub-Categories'!AL33","v":122.346358582166},1.0116367649908449E-2,null,{"$f":"'CPI Sub-Categories'!AM33","v":123.73629245287501},{"$f":"(BE32-BB32)/BB32","v":1.1360647646701654E-2},{"$f":"'CPI Sub-Categories'!AN33","v":123.390207785325},{"$f":"(BG32-BE32)/BE32","v":-2.7969535912982738E-3},{"$f":"'CPI Sub-Categories'!AO33","v":124.256832751296},{"$f":"(BI32-BG32)/BG32","v":7.0234500899679017E-3},{"$f":"'CPI Sub-Categories'!AU33","v":0},{"$f":"(BK32-BI32)/BI32","v":-1}]
[2,"031000","Clothing",105.291790050514,105.402289667863,1.0494609056982888E-3,104.683693972014,-6.8176478719143285E-3,105.482381567495,7.6295320233399381E-3,null,108.379597364199,2.7466347968737908E-2,106.013968050784,-2.1827256891032119E-2,98.062179954769206,-7.5006984855105513E-2,99.981535442985802,1.9572841324778732E-2,null,102.433391081076,2.4523084459813663E-2,106.215393482388,3.6921577635934608E-2,105.064148250016,-1.0838779527403284E-2,105.397022811553,3.1682982928188932E-3,null,{"$f":"'CPI Sub-Categories'!Y34","v":104.508528744012},-8.4299731039804288E-3,{"$f":"'CPI Sub-Categories'!Z34","v":104.950293088623},4.227065005317221E-3,{"$f":"'CPI Sub-Categories'!AA34","v":105.514561009022},5.3765254368801085E-3,{"$f":"'CPI Sub-Categories'!AB34","v":108.73905978805401},3.0559751641825943E-2,null,{"$f":"'CPI Sub-Categories'!AD34","v":109.147621414619},3.7572664998329628E-3,{"$f":"'CPI Sub-Categories'!AE34","v":110.184415610146},9.499008609528365E-3,{"$f":"'CPI Sub-Categories'!AF34","v":110.513198159083},2.9839296883898375E-3,{"$f":"'CPI Sub-Categories'!AG34","v":112.202681679089},1.5287617661503135E-2,null,{"$f":"'CPI Sub-Categories'!AI34","v":116.824592404938},4.1192515692879225E-2,{"$f":"'CPI Sub-Categories'!AJ34","v":118.25729131364901},1.22636756458347E-2,{"$f":"'CPI Sub-Categories'!AK34","v":118.547998656202},2.4582614680557862E-3,{"$f":"'CPI Sub-Categories'!AL34","v":117.803160119521},-6.2830123251687159E-3,null,{"$f":"'CPI Sub-Categories'!AM34","v":120.29504451259901},2.115295031601689E-2,{"$f":"'CPI Sub-Categories'!AN34","v":120.632671927817},2.8066610439853438E-3,{"$f":"'CPI Sub-Categories'!AO34","v":121.03988466846501},3.3756422214677494E-3,{"$f":"'CPI Sub-Categories'!AU34","v":0},-1]
[3,"031100","Clothing materials",62.5,62.5,0,62.5,0,62.5,0,null,62.5,0,62.5,0,62.5,0,62.5,0,null,62.5,0,62.5,0,62.5,0,62.5,0,null,{"$f":"'CPI Sub-Categories'!Y35","v":62.5},0,{"$f":"'CPI Sub-Categories'!Z35","v":62.5},0,{"$f":"'CPI Sub-Categories'!AA35","v":62.5},0,{"$f":"'CPI Sub-Categories'!AB35","v":62.5},0,null,{"$f":"'CPI Sub-Categories'!AD35","v":62.5},0,{"$f":"'CPI Sub-Categories'!AE35","v":62.5},0,{"$f":"'CPI Sub-Categories'!AF35","v":62.5},0,{"$f":"'CPI Sub-Categories'!AG35","v":62.5},0,null,{"$f":"'CPI Sub-Categories'!AI35","v":62.5},0,{"$f":"'CPI Sub-Categories'!AJ35","v":62.5},0,{"$f":"'CPI Sub-Categories'!AK35","v":62.5},0,{"$f":"'CPI Sub-Categories'!AL35","v":62.5},0,null,{"$f":"'CPI Sub-Categories'!AM35","v":62.5},0,{"$f":"'CPI Sub-Categories'!AN35","v":62.5},0,{"$f":"'CPI Sub-Categories'!AO35","v":62.5},0,{"$f":"'CPI Sub-Categories'!AU35","v":0},-1]
[3,"031200","Garments",105.86715669017801,106.08031664402,2.0134663148252008E-3,105.197905847958,-8.3183273200735462E-3,105.762759889241,5.3694418793790392E-3,null,108.967628166268,3.0302426680083518E-2,106.381716644059,-2.3731006774445854E-2,97.834826564590799,-8.0341719884678225E-2,99.998607677537507,2.2116675512458484E-2,null,102.792492759187,2.7939239820806795E-2,107.03431950319001,4.1265919622558198E-2,105.696801639768,-1.2496158892121932E-2,105.950422672926,2.3995147367124694E-3,null,{"$f":"'CPI Sub-Categories'!Y36","v":105.077241546233},-8.2414123951968545E-3,{"$f":"'CPI Sub-Categories'!Z36","v":105.48369229926701},3.8681140373786221E-3,{"$f":"'CPI Sub-Categories'!AA36","v":106.065683038082},5.5173527407803725E-3,{"$f":"'CPI Sub-Categories'!AB36","v":109.546139552385},3.2814162079674455E-2,null,{"$f":"'CPI Sub-Categories'!AD36","v":109.748004862022},1.8427423409153379E-3,{"$f":"'CPI Sub-Categories'!AE36","v":110.689625975005},8.5798472069431291E-3,{"$f":"'CPI Sub-Categories'!AF36","v":110.11138172574},-5.2240148448561207E-3,{"$f":"'CPI Sub-Categories'!AG36","v":111.710791215425},1.4525378436070595E-2,null,{"$f":"'CPI Sub-Categories'!AI36","v":116.690263594103},4.457467648828569E-2,{"$f":"'CPI Sub-Categories'!AJ36","v":118.537136363044},1.5827136832642565E-2,{"$f":"'CPI Sub-Categories'!AK36","v":118.707860529179},1.440258904282327E-3,{"$f":"'CPI Sub-Categories'!AL36","v":118.02974258598699},-5.7124940182484525E-3,null,{"$f":"'CPI Sub-Categories'!AM36","v":120.64335982222801},2.2143717159570524E-2,{"$f":"'CPI Sub-Categories'!AN36","v":120.686452353108},3.5718941302270441E-4,{"$f":"'CPI Sub-Categories'!AO36","v":120.784680558708},8.1391244572016908E-4,{"$f":"'CPI Sub-Categories'!AU36","v":0},-1]
[3,"031300","Other articles of clothing and clothing accessories",101.97358246954001,98.874658470539998,-3.0389478568389715E-2,100.768219101847,1.9151121840498584E-2,110.220607476121,9.3803269111270363E-2,null,108.443606157627,-1.6122223957792864E-2,108.863748512358,3.8742934656775E-3,105.43054699794899,-3.1536682884103301E-2,102.89948991373799,-2.4006866665125411E-2,null,98.673099591335799,-4.1072995852022544E-2,94.412670846292997,-4.3177205972932647E-2,97.253073471326999,3.00849727009447E-2,100.86927940507201,3.7183461711481736E-2,null,{"$f":"'CPI Sub-Categories'!Y37","v":97.758539399449901},-3.0839320197083592E-2,{"$f":"'CPI Sub-Categories'!Z37","v":100.228628593164},2.5267247330906847E-2,{"$f":"'CPI Sub-Categories'!AA37","v":97.641952090708003},-2.580776110342213E-2,{"$f":"'CPI Sub-Categories'!AB37","v":98.546085603378401},9.2596828853899922E-3,null,{"$f":"'CPI Sub-Categories'!AD37","v":106.632263166713},8.2054781920809117E-2,{"$f":"'CPI Sub-Categories'!AE37","v":112.839256397993},5.8209335964066918E-2,{"$f":"'CPI Sub-Categories'!AF37","v":119.47157433489799},5.8776689501677373E-2,{"$f":"'CPI Sub-Categories'!AG37","v":127.418742651762},6.6519323622427712E-2,null,{"$f":"'CPI Sub-Categories'!AI37","v":129.02544260043899},1.2609604483919085E-2,{"$f":"'CPI Sub-Categories'!AJ37","v":119.411366422603},-7.4513026144839484E-2,{"$f":"'CPI Sub-Categories'!AK37","v":126.068117213739},5.574637482647523E-2,{"$f":"'CPI Sub-Categories'!AL37","v":121.664060063436},-3.4933948786085668E-2,null,{"$f":"'CPI Sub-Categories'!AM37","v":124.89868282344899},2.6586510086269145E-2,{"$f":"'CPI Sub-Categories'!AN37","v":135.705474003604},8.6524460753769378E-2,{"$f":"'CPI Sub-Categories'!AO37","v":137.755075767823},1.5103309422614545E-2,{"$f":"'CPI Sub-Categories'!AU37","v":0},-1]
[3,"031400","Cleaning, repair and hire of clothing",100.91876809999999,100.91876809999999,0,101.763761230726,8.3730028282619339E-3,102.156248358441,3.8568457274798028E-3,null,102.156248358441,0,102.156248358441,0,102.156248358441,0,102.156248358441,0,null,102.156248358441,0,102.156248358441,0,102.156248358441,0,102.156248358441,0,null,{"$f":"'CPI Sub-Categories'!Y38","v":102.156248358441},0,{"$f":"'CPI Sub-Categories'!Z38","v":102.156248358441},0,{"$f":"'CPI Sub-Categories'!AA38","v":104.26082135538999},2.060151024305985E-2,{"$f":"'CPI Sub-Categories'!AB38","v":104.26082135538999},0,null,{"$f":"'CPI Sub-Categories'!AD38","v":104.26082135538999},0,{"$f":"'CPI Sub-Categories'!AE38","v":104.26082135538999},0,{"$f":"'CPI Sub-Categories'!AF38","v":118.43659706936999},0.13596455053485107,{"$f":"'CPI Sub-Categories'!AG38","v":118.43659706936999},0,null,{"$f":"'CPI Sub-Categories'!AI38","v":118.43659706936999},0,{"$f":"'CPI Sub-Categories'!AJ38","v":118.43659706936999},0,{"$f":"'CPI Sub-Categories'!AK38","v":117.39437813840701},-8.7998047626490494E-3,{"$f":"'CPI Sub-Categories'!AL38","v":117.39437813840701},0,null,{"$f":"'CPI Sub-Categories'!AM38","v":117.39437813840701},0,{"$f":"'CPI Sub-Categories'!AN38","v":117.39437813840701},0,{"$f":"'CPI Sub-Categories'!AO38","v":122.84300697240199},4.6413030337543924E-2,{"$f":"'CPI Sub-Categories'!AU38","v":0},-1]
[2,"032000","Footwear",91.865998750059504,93.356743098777997,1.6227378671126981E-2,94.628491757005094,1.3622461709932372E-2,93.612403972677996,-1.0737651688841165E-2,null,95.376346474939794,1.8843042453825117E-2,90.997769253398005,-4.5908418422090258E-2,86.404466696730793,-5.0477089651246476E-2,85.357757516996898,-1.2114063308876353E-2,null,84.529459209741006,-9.7038433453568267E-3,81.450329119695297,-3.6426709916663892E-2,81.619662807550696,2.0789810143867558E-3,85.023932621568804,4.1708942391062855E-2,null,{"$f":"'CPI Sub-Categories'!Y39","v":90.3414813494757},6.2541787517341255E-2,{"$f":"'CPI Sub-Categories'!Z39","v":93.428572853158101},3.417136245243025E-2,{"$f":"'CPI Sub-Categories'!AA39","v":100.10954309751099},7.1508854736049413E-2,{"$f":"'CPI Sub-Categories'!AB39","v":106.423255654532},6.3068038886873942E-2,null,{"$f":"'CPI Sub-Categories'!AD39","v":108.98060517725},2.4029987684454898E-2,{"$f":"'CPI Sub-Categories'!AE39","v":107.80311813540099},-1.080455591097056E-2,{"$f":"'CPI Sub-Categories'!AF39","v":117.845431222164},9.3154198695345997E-2,{"$f":"'CPI Sub-Categories'!AG39","v":127.444928469838},8.1458374313866197E-2,null,{"$f":"'CPI Sub-Categories'!AI39","v":140.932489102267},0.10583050102006258,{"$f":"'CPI Sub-Categories'!AJ39","v":147.05862758444599},4.3468603451214033E-2,{"$f":"'CPI Sub-Categories'!AK39","v":139.88054984328801},-4.881099367689995E-2,{"$f":"'CPI Sub-Categories'!AL39","v":143.29552637750299},2.4413519521054767E-2,null,{"$f":"'CPI Sub-Categories'!AM39","v":139.60425004243601},-2.5759885380807729E-2,{"$f":"'CPI Sub-Categories'!AN39","v":138.86400126706599},-5.3024802263899841E-3,{"$f":"'CPI Sub-Categories'!AO39","v":139.09052001595001},1.6312272930143574E-3,{"$f":"'CPI Sub-Categories'!AU39","v":0},-1]
[3,"032100","Shoes and other footwear",91.802597984246802,93.304961993503298,1.6365157874010272E-2,94.5866233424684,1.3736261411845838E-2,93.562615625296402,-1.0826136730395668E-2,null,95.340307240947396,1.9000020507874322E-2,90.927601041491101,-4.6283742177422899E-2,86.298495822548105,-5.0909791591561872E-2,85.243628030399606,-1.2223478313197705E-2,null,84.408873522144006,-9.7925736802041002E-3,81.305743041669601,-3.6763083678167122E-2,81.476396607056103,2.0989115774889479E-3,84.907201124796302,4.2107955930921488E-2,null,{"$f":"'CPI Sub-Categories'!Y40","v":90.266197677855502},6.3115925175563914E-2,{"$f":"'CPI Sub-Categories'!Z40","v":93.377351627492004},3.4466434054746323E-2,{"$f":"'CPI Sub-Categories'!AA40","v":100.110396935132},7.2105764302461392E-2,{"$f":"'CPI Sub-Categories'!AB40","v":106.473321952163},6.3559082890800575E-2,null,{"$f":"'CPI Sub-Categories'!AD40","v":109.050604827877},2.4205902741270043E-2,{"$f":"'CPI Sub-Categories'!AE40","v":107.863939820856},-1.0881782901562047E-2,{"$f":"'CPI Sub-Categories'!AF40","v":118.251769314123},9.6304932960166692E-2,{"$f":"'CPI Sub-Categories'!AG40","v":127.926090188966},8.1811214588630984E-2,null,{"$f":"'CPI Sub-Categories'!AI40","v":141.51878009870401},0.10625424328735111,{"$f":"'CPI Sub-Categories'!AJ40","v":147.69266898800899},4.3625933498005857E-2,{"$f":"'CPI Sub-Categories'!AK40","v":140.41410125538201},-4.9281848466141004E-2,{"$f":"'CPI Sub-Categories'!AL40","v":143.855695947236},2.4510320979760417E-2,null,{"$f":"'CPI Sub-Categories'!AM40","v":140.13564782577799},-2.5859581693744416E-2,{"$f":"'CPI Sub-Categories'!AN40","v":139.389629154657},-5.3235467398593103E-3,{"$f":"'CPI Sub-Categories'!AO40","v":139.61791351209101},1.6377427705236086E-3,{"$f":"'CPI Sub-Categories'!AU40","v":0},-1]
[3,"032200","Repair and hire of footwear",100,100,0,100,0,100,0,null,100,0,100,0,100,0,100,0,null,100,0,100,0,100,0,100,0,null,{"$f":"'CPI Sub-Categories'!Y41","v":100},0,{"$f":"'CPI Sub-Categories'!Z41","v":100},0,{"$f":"'CPI Sub-Categories'!AA41","v":100},0,{"$f":"'CPI Sub-Categories'!AB41","v":100},0,null,{"$f":"'CPI Sub-Categories'!AD41","v":100},0,{"$f":"'CPI Sub-Categories'!AE41","v":100},0,{"$f":"'CPI Sub-Categories'!AF41","v":65.714285714285694},-0.34285714285714308,{"$f":"'CPI Sub-Categories'!AG41","v":65.714285714285793},1.5137649587932574E-15,null,{"$f":"'CPI Sub-Categories'!AI41","v":65.714285714285793},0,{"$f":"'CPI Sub-Categories'!AJ41","v":65.714285714285793},0,{"$f":"'CPI Sub-Categories'!AK41","v":71.428571428571402},8.6956521739128725E-2,{"$f":"'CPI Sub-Categories'!AL41","v":71.428571428571303},-1.3926637620897968E-15,null,{"$f":"'CPI Sub-Categories'!AM41","v":71.428571428571303},0,{"$f":"'CPI Sub-Categories'!AN41","v":71.428571428571303},0,{"$f":"'CPI Sub-Categories'!AO41","v":71.428571428571303},0,{"$f":"'CPI Sub-Categories'!AU41","v":0},-1]
[1,"040000","Housing, water, electricity, gas and other fuels",100.03407397772099,100.314025490139,2.7985615429434391E-3,100.801218291178,4.8566768072415998E-3,99.793179875320902,-1.000026024432805E-2,null,99.447961605026606,-3.4593373086778409E-3,100.789888988051,1.3493764591717586E-2,102.972467039073,2.165473216545306E-2,105.263521832211,2.2249197858575726E-2,null,105.917853074882,6.2161253137055722E-3,105.525504571784,-3.7042716757166782E-3,105.74302108095,2.0612695485197822E-3,106.44020976256699,6.5932358891398644E-3,null,{"$f":"'CPI Sub-Categories'!Y42","v":106.490712633581},4.7447173513335899E-4,{"$f":"'CPI Sub-Categories'!Z42","v":107.587882777955},1.0302965556716732E-2,{"$f":"'CPI Sub-Categories'!AA42","v":105.53157902999099},-1.9112781986870272E-2,{"$f":"'CPI Sub-Categories'!AB42","v":108.450586598245},2.7660038777818825E-2,null,{"$f":"'CPI Sub-Categories'!AD42","v":107.95829533763499},-4.5393139498054978E-3,{"$f":"'CPI Sub-Categories'!AE42","v":108.80724097449701},7.8636443286453448E-3,{"$f":"'CPI Sub-Categories'!AF42","v":108.048267223417},-6.9753974485751349E-3,{"$f":"'CPI Sub-Categories'!AG42","v":111.991732838253},3.6497259198816141E-2,null,{"$f":"'CPI Sub-Categories'!AI42","v":113.93492200281401},1.7351184014337086E-2,{"$f":"'CPI Sub-Categories'!AJ42","v":112.458546058167},-1.295806341632936E-2,{"$f":"'CPI Sub-Categories'!AK42","v":112.18340255661199},-2.4466215436636943E-3,{"$f":"'CPI Sub-Categories'!AL42","v":111.576563892403},-5.4093444340196362E-3,null,{"$f":"'CPI Sub-Categories'!AM42","v":111.636110685204},5.3368548666209061E-4,{"$f":"'CPI Sub-Categories'!AN42","v":112.458546058167},7.3671087958459601E-3,{"$f":"'CPI Sub-Categories'!AO42","v":111.859737468826},-5.3247050609322505E-3,{"$f":"'CPI Sub-Categories'!AU42","v":0},-1]
[2,"041000","Actual rentals for housing",100.034073979414,101.390552944939,1.3560169165999869E-2,104.251268175565,2.8214810428931526E-2,100.18137004873699,-3.9039315281748616E-2,null,99.122971573164804,-1.0564823330498399E-2,102.201105959355,3.1053693582200195E-2,108.15747946627999,5.8280910475605005E-2,114.28944025097999,5.6694745614996933E-2,null,114.03693530573599,-2.2093462413456306E-3,109.99326511111001,-3.5459302582841287E-2,109.474554178094,-4.7158426699310408E-3,109.93755282423101,4.229280946728497E-3,null,{"$f":"'CPI Sub-Categories'!Y43","v":109.81266670860001},-1.1359732177290576E-3,{"$f":"'CPI Sub-Categories'!Z43","v":103.34415877315},-5.8904934460929752E-2,{"$f":"'CPI Sub-Categories'!AA43","v":97.1775218519021},-5.9670880236049322E-2,{"$f":"'CPI Sub-Categories'!AB43","v":108.632340239811},0.11787518522406826,null,{"$f":"'CPI Sub-Categories'!AD43","v":111.507478717496},2.6466690042191814E-2,{"$f":"'CPI Sub-Categories'!AE43","v":111.474950712332},-2.917114218536507E-4,{"$f":"'CPI Sub-Categories'!AF43","v":107.715388967001},-3.3725619265199583E-2,{"$f":"'CPI Sub-Categories'!AG43","v":115.19304447398299},6.9420493939568798E-2,null,{"$f":"'CPI Sub-Categories'!AI43","v":119.888524746488},4.0761838476849263E-2,{"$f":"'CPI Sub-Categories'!AJ43","v":114.279056182823},-4.6789036528112983E-2,{"$f":"'CPI Sub-Categories'!AK43","v":113.46726543013401},-7.1035829294065394E-3,{"$f":"'CPI Sub-Categories'!AL43","v":113.46726543013401},0,null,{"$f":"'CPI Sub-Categories'!AM43","v":108.75738676506499},-4.1508699863477889E-2,{"$f":"'CPI Sub-Categories'!AN43","v":113.46726543013401},4.3306287555834495E-2,{"$f":"'CPI Sub-Categories'!AO43","v":118.336790227996},4.2915679508116332E-2,{"$f":"'CPI Sub-Categories'!AU43","v":0},-1]
[3,"041100","Actual rentals paid by tenants",100.034073979414,101.390552944939,1.3560169165999869E-2,104.251268175565,2.8214810428931526E-2,100.18137004873699,-3.9039315281748616E-2,null,99.122971573164804,-1.0564823330498399E-2,102.201105959355,3.1053693582200195E-2,108.15747946627999,5.8280910475605005E-2,114.28944025097999,5.6694745614996933E-2,null,114.03693530573599,-2.2093462413456306E-3,109.99326511111001,-3.5459302582841287E-2,109.474554178094,-4.7158426699310408E-3,109.93755282423101,4.229280946728497E-3,null,{"$f":"'CPI Sub-Categories'!Y44","v":109.81266670860001},-1.1359732177290576E-3,{"$f":"'CPI Sub-Categories'!Z44","v":103.34415877315},-5.8904934460929752E-2,{"$f":"'CPI Sub-Categories'!AA44","v":97.1775218519021},-5.9670880236049322E-2,{"$f":"'CPI Sub-Categories'!AB44","v":108.632340239811},0.11787518522406826,null,{"$f":"'CPI Sub-Categories'!AD44","v":111.507478717496},2.6466690042191814E-2,{"$f":"'CPI Sub-Categories'!AE44","v":111.474950712332},-2.917114218536507E-4,{"$f":"'CPI Sub-Categories'!AF44","v":107.715388967001},-3.3725619265199583E-2,{"$f":"'CPI Sub-Categories'!AG44","v":115.19304447398299},6.9420493939568798E-2,null,{"$f":"'CPI Sub-Categories'!AI44","v":119.888524746488},4.0761838476849263E-2,{"$f":"'CPI Sub-Categories'!AJ44","v":114.279056182823},-4.6789036528112983E-2,{"$f":"'CPI Sub-Categories'!AK44","v":113.46726543013401},-7.1035829294065394E-3,{"$f":"'CPI Sub-Categories'!AL44","v":113.46726543013401},0,null,{"$f":"'CPI Sub-Categories'!AM44","v":113.46726543013401},0,{"$f":"'CPI Sub-Categories'!AN44","v":113.46726543013401},0,{"$f":"'CPI Sub-Categories'!AO44","v":118.336790227996},4.2915679508116332E-2,{"$f":"'CPI Sub-Categories'!AU44","v":0},-1]
[3,"041200","Other actual rentals","Not available","Not available","Not available","Not available","Not available","Not available","Not available",null,"Not available","Not available","Not available","Not available","Not available","Not available","Not available","Not available",null,"Not available","Not available","Not available","Not available","Not available","Not available","Not available","Not available",null,{"$f":"'CPI Sub-Categories'!Y45","v":"Not available"},"Not available",{"$f":"'CPI Sub-Categories'!Z45","v":"Not available"},"Not available",{"$f":"'CPI Sub-Categories'!AA45","v":"Not available"},"Not available",{"$f":"'CPI Sub-Categories'!AB45","v":"Not available"},"Not available",null,{"$f":"'CPI Sub-Categories'!AD45","v":"Not available"},"Not available",{"$f":"'CPI Sub-Categories'!AE45","v":"Not available"},"Not available",{"$f":"'CPI Sub-Categories'!AF45","v":"Not available"},"Not available",{"$f":"'CPI Sub-Categories'!AG45","v":"Not available"},"Not available",null,{"$f":"'CPI Sub-Categories'!AI45","v":"Not available"},"Not available",{"$f":"'CPI Sub-Categories'!AJ45","v":"Not available"},"Not available",{"$f":"'CPI Sub-Categories'!AK45","v":"Not available"},"Not available",{"$f":"'CPI Sub-Categories'!AL45","v":"Not available"},"Not available",null,{"$f":"'CPI Sub-Categories'!AM45","v":"Not available"},"Not available",{"$f":"'CPI Sub-Categories'!AN45","v":"Not available"},"Not available",{"$f":"'CPI Sub-Categories'!AO45","v":"Not available"},"Not available",{"$f":"'CPI Sub-Categories'!AU45","v":0},"Not available"]
[2,"042000","Imputed rentals for housing",100.034073979414,99.999999972998793,-3.4062400000046147E-4,99.999999972998793,0,99.999999972998793,0,null,99.999999972998793,0,99.999999972998793,0,99.999999972998793,0,99.999999972998793,0,null,99.999999972998793,0,99.999999972998793,0,99.999999972998793,0,99.999999972998793,0,null,{"$f":"'CPI Sub-Categories'!Y46","v":99.999999972998793},{"$f":"(AD45-AA45)/AA45","v":0},{"$f":"'CPI Sub-Categories'!Z46","v":99.999999972998793},{"$f":"(AF45-AD45)/AD45","v":0},{"$f":"'CPI Sub-Categories'!AA46","v":99.999999972998793},0,{"$f":"'CPI Sub-Categories'!AB46","v":99.999999972998793},0,null,{"$f":"'CPI Sub-Categories'!AD46","v":99.999999972998793},{"$f":"(AM45-AJ45)/AJ45","v":0},{"$f":"'CPI Sub-Categories'!AE46","v":99.999999972998793},0,{"$f":"'CPI Sub-Categories'!AF46","v":99.999999972998793},0,{"$f":"'CPI Sub-Categories'!AG46","v":99.999999972998793},0,null,{"$f":"'CPI Sub-Categories'!AI46","v":99.999999972998793},{"$f":"(AV45-AS45)/AS45","v":0},{"$f":"'CPI Sub-Categories'!AJ46","v":99.999999972998793},0,{"$f":"'CPI Sub-Categories'!AK46","v":99.999999972998793},0,{"$f":"'CPI Sub-Categories'!AL46","v":99.999999972998793},0,null,{"$f":"'CPI Sub-Categories'!AM46","v":99.999999972998793},{"$f":"(BE45-BB45)/BB45","v":0},{"$f":"'CPI Sub-Categories'!AN46","v":99.999999972998793},{"$f":"(BG45-BE45)/BE45","v":0},{"$f":"'CPI Sub-Categories'!AO46","v":99.999999972998793},{"$f":"(BI45-BG45)/BG45","v":0},{"$f":"'CPI Sub-Categories'!AU46","v":0},{"$f":"(BK45-BI45)/BI45","v":-1}]
[3,"042100","Imputed rentals of owner-occupiers",100.034073979414,99.999999972998793,-3.4062400000046147E-4,99.999999972998793,0,99.999999972998793,0,null,99.999999972998793,0,99.999999972998793,0,99.999999972998793,0,99.999999972998793,0,null,99.999999972998793,0,99.999999972998793,0,99.999999972998793,0,99.999999972998793,0,null,{"$f":"'CPI Sub-Categories'!Y47","v":99.999999972998793},{"$f":"(AD46-AA46)/AA46","v":0},{"$f":"'CPI Sub-Categories'!Z47","v":99.999999972998793},0,{"$f":"'CPI Sub-Categories'!AA47","v":99.999999972998793},0,{"$f":"'CPI Sub-Categories'!AB47","v":99.999999972998793},0,null,{"$f":"'CPI Sub-Categories'!AD47","v":99.999999972998793},{"$f":"(AM46-AJ46)/AJ46","v":0},{"$f":"'CPI Sub-Categories'!AE47","v":99.999999972998793},0,{"$f":"'CPI Sub-Categories'!AF47","v":99.999999972998793},0,{"$f":"'CPI Sub-Categories'!AG47","v":99.999999972998793},0,null,{"$f":"'CPI Sub-Categories'!AI47","v":99.999999972998793},{"$f":"(AV46-AS46)/AS46","v":0},{"$f":"'CPI Sub-Categories'!AJ47","v":99.999999972998793},0,{"$f":"'CPI Sub-Categories'!AK47","v":99.999999972998793},0,{"$f":"'CPI Sub-Categories'!AL47","v":99.999999972998793},0,null,{"$f":"'CPI Sub-Categories'!AM47","v":99.999999972998793},{"$f":"(BE46-BB46)/BB46","v":0},{"$f":"'CPI Sub-Categories'!AN47","v":99.999999972998793},{"$f":"(BG46-BE46)/BE46","v":0},{"$f":"'CPI Sub-Categories'!AO47","v":99.999999972998793},{"$f":"(BI46-BG46)/BG46","v":0},{"$f":"'CPI Sub-Categories'!AU47","v":0},-1]
[3,"042200","Other imputed rentals","Not available","Not available","Not available","Not available","Not available","Not available","Not available",null,"Not available","Not available","Not available","Not available","Not available","Not available","Not available","Not available",null,"Not available","Not available","Not available","Not available","Not available","Not available","Not available","Not available",null,{"$f":"'CPI Sub-Categories'!Y48","v":"Not available"},"Not available",{"$f":"'CPI Sub-Categories'!Z48","v":"Not available"},"Not available",{"$f":"'CPI Sub-Categories'!AA48","v":"Not available"},"Not available",{"$f":"'CPI Sub-Categories'!AB48","v":"Not available"},"Not available",null,{"$f":"'CPI Sub-Categories'!AD48","v":"Not available"},"Not available",{"$f":"'CPI Sub-Categories'!AE48","v":"Not available"},"Not available",{"$f":"'CPI Sub-Categories'!AF48","v":"Not available"},"Not available",{"$f":"'CPI Sub-Categories'!AG48","v":"Not available"},"Not available",null,{"$f":"'CPI Sub-Categories'!AI48","v":"Not available"},"Not available",{"$f":"'CPI Sub-Categories'!AJ48","v":"Not available"},"Not available",{"$f":"'CPI Sub-Categories'!AK48","v":"Not available"},"Not available",{"$f":"'CPI Sub-Categories'!AL48","v":"Not available"},{"$error":"#VALUE!"},null,{"$f":"'CPI Sub-Categories'!AM48","v":"Not available"},"Not available",{"$f":"'CPI Sub-Categories'!AN48","v":"Not available"},"Not available",{"$f":"'CPI Sub-Categories'!AO48","v":"Not available"},"Not available",{"$f":"'CPI Sub-Categories'!AU48","v":0},{"$error":"#VALUE!"}]
[2,"043000","Maintenance and repair of the dwelling",97.672497813520295,98.141731943956898,4.80415819131074E-3,98.450473063871399,3.1458698944787852E-3,100.083290228306,1.6585163215775318E-2,null,100.08779174865801,4.4977741456534123E-5,100.10705636520601,1.9247718639229782E-4,100.247909212848,1.4070221696274999E-3,101.959166945654,1.7070258584372406E-2,null,103.43814258440401,1.4505568092159091E-2,104.766293971153,1.2840054486334643E-2,106.952968265991,2.0871925616077359E-2,106.429567399565,-4.8937479240810672E-3,null,{"$f":"'CPI Sub-Categories'!Y49","v":107.256028826359},{"$f":"(AD48-AA48)/AA48","v":7.7653367103451693E-3},{"$f":"'CPI Sub-Categories'!Z49","v":115.276883331359},{"$f":"(AF48-AD48)/AD48","v":7.4782318465149211E-2},{"$f":"'CPI Sub-Categories'!AA49","v":123.40326694709},7.0494477130961478E-2,{"$f":"'CPI Sub-Categories'!AB49","v":123.415774586917},1.0135582417242877E-4,null,{"$f":"'CPI Sub-Categories'!AD49","v":123.59428557856801},{"$f":"(AM48-AJ48)/AJ48","v":1.4464195703385635E-3},{"$f":"'CPI Sub-Categories'!AE49","v":123.832217874447},1.9251075789239421E-3,{"$f":"'CPI Sub-Categories'!AF49","v":121.74532389372401},-1.6852593101731282E-2,{"$f":"'CPI Sub-Categories'!AG49","v":126.909969571883},4.2421717015327841E-2,null,{"$f":"'CPI Sub-Categories'!AI49","v":129.481668299658},{"$f":"(AV48-AS48)/AS48","v":2.0263961424388858E-2},{"$f":"'CPI Sub-Categories'!AJ49","v":126.69328338698099},-2.1534978265988006E-2,{"$f":"'CPI Sub-Categories'!AK49","v":126.362267692654},-2.6127327785476608E-3,{"$f":"'CPI Sub-Categories'!AL49","v":123.28649913715},-2.4340878109160479E-2,null,{"$f":"'CPI Sub-Categories'!AM49","v":123.90307580455899},{"$f":"(BE48-BB48)/BB48","v":5.001169403983821E-3},{"$f":"'CPI Sub-Categories'!AN49","v":121.308223903997},{"$f":"(BG48-BE48)/BE48","v":-2.0942594715364721E-2},{"$f":"'CPI Sub-Categories'!AO49","v":121.374110129624},{"$f":"(BI48-BG48)/BG48","v":5.4313074173057839E-4},{"$f":"'CPI Sub-Categories'!AU49","v":0},-1]
[3,"043100","Materials for the maintenance and repair of the dwelling",96.771444495627307,97.422334726133101,6.7260567815044386E-3,97.850599776931503,4.3959637387290147E-3,100.115534639073,2.3146867441843366E-2,null,100.121778847304,6.2370023328614499E-5,100.148501436077,2.6690085894051603E-4,100.343883094235,1.950919438197557E-3,102.717625471254,2.3656074529124702E-2,null,104.769161648988,1.9972581806889017E-2,106.611484502748,1.7584590968976136E-2,109.644692966259,2.8451048005365864E-2,108.91866625912699,-6.6216310839178295E-3,null,{"$f":"'CPI Sub-Categories'!Y50","v":110.065078324442},{"$f":"(AD49-AA49)/AA49","v":1.0525395735085395E-2},{"$f":"'CPI Sub-Categories'!Z50","v":121.191071722994},0.10108559016108258,{"$f":"'CPI Sub-Categories'!AA50","v":132.46344805227},9.3013257239289299E-2,{"$f":"'CPI Sub-Categories'!AB50","v":132.48079781445099},1.309777333755678E-4,null,{"$f":"'CPI Sub-Categories'!AD50","v":132.72841633357999},{"$f":"(AM49-AJ49)/AJ49","v":1.8690898848284356E-3},{"$f":"'CPI Sub-Categories'!AE50","v":133.05846011527601},2.4866098067992956E-3,{"$f":"'CPI Sub-Categories'!AF50","v":130.16366023597001},-2.1755849848240125E-2,{"$f":"'CPI Sub-Categories'!AG50","v":129.58504805105699},-4.4452667039638957E-3,null,{"$f":"'CPI Sub-Categories'!AI50","v":133.15233667977699},{"$f":"(AV49-AS49)/AS49","v":2.7528551189906433E-2},{"$f":"'CPI Sub-Categories'!AJ50","v":129.2844754548},-2.9048391649926165E-2,{"$f":"'CPI Sub-Categories'!AK50","v":128.82531260281101},-3.5515699032984301E-3,{"$f":"'CPI Sub-Categories'!AL50","v":124.5588119921},-3.3118496082096133E-2,null,{"$f":"'CPI Sub-Categories'!AM50","v":125.414085944148},{"$f":"(BE49-BB49)/BB49","v":6.866426697311784E-3},{"$f":"'CPI Sub-Categories'!AN50","v":124.25973243083099},{"$f":"(BG49-BE49)/BE49","v":-9.2043370138748682E-3},{"$f":"'CPI Sub-Categories'!AO50","v":124.351125400361},{"$f":"(BI49-BG49)/BG49","v":7.3549948758242574E-4},{"$f":"'CPI Sub-Categories'!AU50","v":0},-1]
[3,"043200","Services for the maintenance and repair of the dwelling",100,100,0,100,0,100,0,null,100,0,100,0,100,0,100,0,null,100,0,100,0,100,0,100,0,null,{"$f":"'CPI Sub-Categories'!Y51","v":100},{"$f":"(AD50-AA50)/AA50","v":0},{"$f":"'CPI Sub-Categories'!Z51","v":100},0,{"$f":"'CPI Sub-Categories'!AA51","v":100},0,{"$f":"'CPI Sub-Categories'!AB51","v":100},0,null,{"$f":"'CPI Sub-Categories'!AD51","v":100},{"$f":"(AM50-AJ50)/AJ50","v":0},{"$f":"'CPI Sub-Categories'!AE51","v":100},0,{"$f":"'CPI Sub-Categories'!AF51","v":100},0,{"$f":"'CPI Sub-Categories'!AG51","v":120},0.2,null,{"$f":"'CPI Sub-Categories'!AI51","v":120},{"$f":"(AV50-AS50)/AS50","v":0},{"$f":"'CPI Sub-Categories'!AJ51","v":120},0,{"$f":"'CPI Sub-Categories'!AK51","v":120},0,{"$f":"'CPI Sub-Categories'!AL51","v":120},0,null,{"$f":"'CPI Sub-Categories'!AM51","v":120},{"$f":"(BE50-BB50)/BB50","v":0},{"$f":"'CPI Sub-Categories'!AN51","v":113.68421052631599},{"$f":"(BG50-BE50)/BE50","v":-5.2631578947366718E-2},{"$f":"'CPI Sub-Categories'!AO51","v":113.68421052631599},{"$f":"(BI50-BG50)/BG50","v":0},{"$f":"'CPI Sub-Categories'!AU51","v":0},-1]
[2,"044000","Water supply and miscellaneous services relating to the dwelling",100.023987595346,100.00035983719999,-2.3622091774218757E-4,100.00035983719999,0,100.20828115975,2.0792057437443389E-3,null,100.824013736927,6.1445278778448527E-3,100.824013736927,0,100.824013736927,0,100.758016468487,-6.5457886463637861E-4,null,100.622098626133,-1.3489531366123503E-3,100.622098626133,0,100.622098626133,0,101.17120122595,5.4570775934342786E-3,null,{"$f":"'CPI Sub-Categories'!Y52","v":102.28721752363001},{"$f":"(AD51-AA51)/AA51","v":1.1030968142678843E-2},{"$f":"'CPI Sub-Categories'!Z52","v":102.305026619766},1.7410871629074438E-4,{"$f":"'CPI Sub-Categories'!AA52","v":102.305026619766},0,{"$f":"'CPI Sub-Categories'!AB52","v":102.56205439131099},2.5123669875995918E-3,null,{"$f":"'CPI Sub-Categories'!AD52","v":102.56205439131099},{"$f":"(AM51-AJ51)/AJ51","v":0},{"$f":"'CPI Sub-Categories'!AE52","v":102.56205439131099},0,{"$f":"'CPI Sub-Categories'!AF52","v":102.56205439131099},0,{"$f":"'CPI Sub-Categories'!AG52","v":102.28220994484199},-2.7285378411131709E-3,null,{"$f":"'CPI Sub-Categories'!AI52","v":102.28220994484199},{"$f":"(AV51-AS51)/AS51","v":0},{"$f":"'CPI Sub-Categories'!AJ52","v":102.28220994484199},0,{"$f":"'CPI Sub-Categories'!AK52","v":102.28220994484199},0,{"$f":"'CPI Sub-Categories'!AL52","v":102.28220994484199},0,null,{"$f":"'CPI Sub-Categories'!AM52","v":102.28220994484199},{"$f":"(BE51-BB51)/BB51","v":0},{"$f":"'CPI Sub-Categories'!AN52","v":99.811248245664203},{"$f":"(BG51-BE51)/BE51","v":-2.4158274449782757E-2},{"$f":"'CPI Sub-Categories'!AO52","v":99.811248245664203},{"$f":"(BI51-BG51)/BG51","v":0},{"$f":"'CPI Sub-Categories'!AU52","v":0},-1]
[3,"044100","Water supply",100.028517738155,100.000427793737,-2.8081936084997818E-4,100.000427793737,0,100.000427793737,0,null,100.000427793737,0,100.000427793737,0,100.000427793737,0,100.000427793737,0,null,100.000427793737,0,100.000427793737,0,100.000427793737,0,100.000427793737,0,null,{"$f":"'CPI Sub-Categories'!Y53","v":100.02160258107899},{"$f":"(AD52-AA52)/AA52","v":2.1174696757964403E-4},{"$f":"'CPI Sub-Categories'!Z53","v":100.042774988446},2.1167834568378797E-4,{"$f":"'CPI Sub-Categories'!AA53","v":100.042774988446},0,{"$f":"'CPI Sub-Categories'!AB53","v":100.042774988446},0,null,{"$f":"'CPI Sub-Categories'!AD53","v":100.042774988446},{"$f":"(AM52-AJ52)/AJ52","v":0},{"$f":"'CPI Sub-Categories'!AE53","v":100.042774988446},0,{"$f":"'CPI Sub-Categories'!AF53","v":100.042774988446},0,{"$f":"'CPI Sub-Categories'!AG53","v":100.042774988446},0,null,{"$f":"'CPI Sub-Categories'!AI53","v":100.042774988446},{"$f":"(AV52-AS52)/AS52","v":0},{"$f":"'CPI Sub-Categories'!AJ53","v":100.042774988446},0,{"$f":"'CPI Sub-Categories'!AK53","v":100.042774988446},0,{"$f":"'CPI Sub-Categories'!AL53","v":100.042774988446},0,null,{"$f":"'CPI Sub-Categories'!AM53","v":100.042774988446},{"$f":"(BE52-BB52)/BB52","v":0},{"$f":"'CPI Sub-Categories'!AN53","v":100.042774988446},{"$f":"(BG52-BE52)/BE52","v":0},{"$f":"'CPI Sub-Categories'!AO53","v":100.042774988446},{"$f":"(BI52-BG52)/BG52","v":0},{"$f":"'CPI Sub-Categories'!AU53","v":0},-1]
[3,"044200","Refuse collection","Not available","Not available","Not available","Not available","Not available","Not available","Not available",null,"Not available","Not available","Not available","Not available","Not available","Not available","Not available","Not available",null,"Not available","Not available","Not available","Not available","Not available","Not available","Not available","Not available",null,{"$f":"'CPI Sub-Categories'!Y54","v":"Not available"},"Not available",{"$f":"'CPI Sub-Categories'!Z54","v":"Not available"},"Not available",{"$f":"'CPI Sub-Categories'!AA54","v":"Not available"},"Not available",{"$f":"'CPI Sub-Categories'!AB54","v":"Not available"},"Not available",null,{"$f":"'CPI Sub-Categories'!AD54","v":"Not available"},"Not available",{"$f":"'CPI Sub-Categories'!AE54","v":"Not available"},"Not available",{"$f":"'CPI Sub-Categories'!AF54","v":"Not available"},"Not available",{"$f":"'CPI Sub-Categories'!AG54","v":"Not available"},"Not available",null,{"$f":"'CPI Sub-Categories'!AI54","v":"Not available"},"Not available",{"$f":"'CPI Sub-Categories'!AJ54","v":"Not available"},"Not available",{"$f":"'CPI Sub-Categories'!AK54","v":"Not available"},"Not available",{"$f":"'CPI Sub-Categories'!AL54","v":"Not available"},"Not available",null,{"$f":"'CPI Sub-Categories'!AM54","v":"Not available"},"Not available",{"$f":"'CPI Sub-Categories'!AN54","v":"Not available"},"Not available",{"$f":"'CPI Sub-Categories'!AO54","v":"Not available"},"Not available",{"$f":"'CPI Sub-Categories'!AU54","v":0},"Not available"]
[3,"044300","Sewage collection",100,100,0,100,0,98.1127552813889,-1.8872447186111002E-2,null,100,1.9235467531193609E-2,100,0,100,0,98.130676292531703,-1.869323707468297E-2,null,94.280904158206397,-3.9231077169477283E-2,94.280904158206397,0,94.280904158206397,0,94.280904158206397,0,null,{"$f":"'CPI Sub-Categories'!Y55","v":94.280904158206397},{"$f":"(AD54-AA54)/AA54","v":0},{"$f":"'CPI Sub-Categories'!Z55","v":94.280904158206397},{"$f":"(AF54-AD54)/AD54","v":0},{"$f":"'CPI Sub-Categories'!AA55","v":94.280904158206397},0,{"$f":"'CPI Sub-Categories'!AB55","v":101.561025263006},7.7217345015946459E-2,null,{"$f":"'CPI Sub-Categories'!AD55","v":101.561025263006},{"$f":"(AM54-AJ54)/AJ54","v":0},{"$f":"'CPI Sub-Categories'!AE55","v":101.561025263006},0,{"$f":"'CPI Sub-Categories'!AF55","v":101.561025263006},0,{"$f":"'CPI Sub-Categories'!AG55","v":93.634638754052702},-7.8045554270714093E-2,null,{"$f":"'CPI Sub-Categories'!AI55","v":93.634638754052702},{"$f":"(AV54-AS54)/AS54","v":0},{"$f":"'CPI Sub-Categories'!AJ55","v":93.634638754052702},0,{"$f":"'CPI Sub-Categories'!AK55","v":93.634638754052702},0,{"$f":"'CPI Sub-Categories'!AL55","v":93.634638754052801},1.0623844373203019E-15,null,{"$f":"'CPI Sub-Categories'!AM55","v":93.634638754052702},{"$f":"(BE54-BB54)/BB54","v":-1.0623844373203009E-15},{"$f":"'CPI Sub-Categories'!AN55","v":93.634638754052702},{"$f":"(BG54-BE54)/BE54","v":0},{"$f":"'CPI Sub-Categories'!AO55","v":93.634638754052702},{"$f":"(BI54-BG54)/BG54","v":0},{"$f":"'CPI Sub-Categories'!AU55","v":0},{"$f":"(BK54-BI54)/BI54","v":-1}]
[3,"044400","Other services relating to the dwelling n.e.c.",100,100,0,100,0,102.222222222222,2.2222222222220013E-2,null,106.666666666667,4.3478260869570719E-2,106.666666666667,0,106.666666666667,0,106.666666666667,0,null,106.666666666667,0,106.666666666667,0,106.666666666667,0,111.111111111111,4.166666666666239E-2,null,{"$f":"'CPI Sub-Categories'!Y56","v":120},{"$f":"(AD55-AA55)/AA55","v":8.000000000000107E-2},{"$f":"'CPI Sub-Categories'!Z56","v":120},0,{"$f":"'CPI Sub-Categories'!AA56","v":120},0,{"$f":"'CPI Sub-Categories'!AB56","v":120},0,null,{"$f":"'CPI Sub-Categories'!AD56","v":120},{"$f":"(AM55-AJ55)/AJ55","v":0},{"$f":"'CPI Sub-Categories'!AE56","v":120},0,{"$f":"'CPI Sub-Categories'!AF56","v":120},0,{"$f":"'CPI Sub-Categories'!AG56","v":120},0,null,{"$f":"'CPI Sub-Categories'!AI56","v":120},{"$f":"(AV55-AS55)/AS55","v":0},{"$f":"'CPI Sub-Categories'!AJ56","v":120},0,{"$f":"'CPI Sub-Categories'!AK56","v":120},0,{"$f":"'CPI Sub-Categories'!AL56","v":120},0,null,{"$f":"'CPI Sub-Categories'!AM56","v":120},{"$f":"(BE55-BB55)/BB55","v":0},{"$f":"'CPI Sub-Categories'!AN56","v":99.999999999999901},{"$f":"(BG55-BE55)/BE55","v":-0.16666666666666749},{"$f":"'CPI Sub-Categories'!AO56","v":100},{"$f":"(BI55-BG55)/BG55","v":9.9475983006414134E-16},{"$f":"'CPI Sub-Categories'!AU56","v":0},-1]
[2,"045000","Electricity, gas and other fuels",100.96670505218199,99.370737586888197,-1.580686885314285E-2,95.229497052278603,-4.1674648243287503E-2,97.8086533009932,2.7083585743382689E-2,null,97.802331695358703,-6.4632375778072654E-5,99.758780218464807,2.0004109198543261E-2,100.318623155518,5.6119665439690932E-3,100.642219165724,3.2256823312292846E-3,null,105.82794309078599,5.1526327301297317E-2,113.26654805326,7.0289611091587503E-2,115.487708901593,1.9610033911235374E-2,119.60008871801401,3.5608809418196767E-2,null,{"$f":"'CPI Sub-Categories'!Y57","v":119.598412225149},{"$f":"(AD56-AA56)/AA56","v":-1.4017488473229049E-5},{"$f":"'CPI Sub-Categories'!Z57","v":142.437918857635},0.19096830975890941,{"$f":"'CPI Sub-Categories'!AA57","v":140.168077522505},-1.5935653604983346E-2,{"$f":"'CPI Sub-Categories'!AB57","v":131.42096214399001},-6.2404475634693486E-2,null,{"$f":"'CPI Sub-Categories'!AD57","v":119.758168647315},{"$f":"(AM56-AJ56)/AJ56","v":-8.8743784145308494E-2},{"$f":"'CPI Sub-Categories'!AE57","v":126.282484241266},5.447908620884942E-2,{"$f":"'CPI Sub-Categories'!AF57","v":131.47323621481399},4.1104290945297856E-2,{"$f":"'CPI Sub-Categories'!AG57","v":139.57154366052899},6.1596623608497603E-2,null,{"$f":"'CPI Sub-Categories'!AI57","v":140.75731080721599},{"$f":"(AV56-AS56)/AS56","v":8.4957657957202577E-3},{"$f":"'CPI Sub-Categories'!AJ57","v":145.72876482242199},3.5319330745207322E-2,{"$f":"'CPI Sub-Categories'!AK57","v":145.94678850973199},1.4960923299917311E-3,{"$f":"'CPI Sub-Categories'!AL57","v":142.48926095903099},-2.3690329783929764E-2,null,{"$f":"'CPI Sub-Categories'!AM57","v":142.704715983119},{"$f":"(BE56-BB56)/BB56","v":1.5120790341523627E-3},{"$f":"'CPI Sub-Categories'!AN57","v":134.60692691155199},{"$f":"(BG56-BE56)/BE56","v":-5.6745069816227518E-2},{"$f":"'CPI Sub-Categories'!AO57","v":133.09320072363701},{"$f":"(BI56-BG56)/BG56","v":-1.1245529651751339E-2},{"$f":"'CPI Sub-Categories'!AU57","v":0},-1]
[3,"045100","Electricity",101.084280101489,98.888642492889701,-2.1720861111093337E-2,93.430332439390298,-5.5196531329589918E-2,96.3731132137586,3.1497059868403329E-2,null,96.3731132137586,0,98.2627821003028,1.960784313725401E-2,98.2627821003028,0,98.630585096705502,3.7430549852258709E-3,null,104.548491908504,6.0000727015824776E-2,112.930577302125,8.0174139680145834E-2,115.148222918274,1.9637246785838138E-2,119.83538652378,4.0705479309330696E-2,null,{"$f":"'CPI Sub-Categories'!Y58","v":119.833483837203},{"$f":"(AD57-AA57)/AA57","v":-1.5877501898153918E-5},{"$f":"'CPI Sub-Categories'!Z58","v":142.02892874612201},0.18521905729680785,{"$f":"'CPI Sub-Categories'!AA58","v":139.435949183639},-1.8256700134083131E-2,{"$f":"'CPI Sub-Categories'!AB58","v":129.44923959467801},-7.1622201071033426E-2,null,{"$f":"'CPI Sub-Categories'!AD58","v":116.133546746153},{"$f":"(AM57-AJ57)/AJ57","v":-0.10286420291241669},{"$f":"'CPI Sub-Categories'!AE58","v":125.010686647165},7.6439066486239576E-2,{"$f":"'CPI Sub-Categories'!AF58","v":130.93291868783101},4.7373806188115264E-2,{"$f":"'CPI Sub-Categories'!AG58","v":140.178619543884},7.0614028532400633E-2,null,{"$f":"'CPI Sub-Categories'!AI58","v":141.53277062035301},{"$f":"(AV57-AS57)/AS57","v":9.6601827074283709E-3},{"$f":"'CPI Sub-Categories'!AJ58","v":147.206135896723},4.0085170745284192E-2,{"$f":"'CPI Sub-Categories'!AK58","v":147.45323289536},1.678578118580353E-3,{"$f":"'CPI Sub-Categories'!AL58","v":143.50712572201201},-2.6761754190553062E-2,null,{"$f":"'CPI Sub-Categories'!AM58","v":143.754552290763},{"$f":"(BE57-BB57)/BB57","v":1.7241413449411993E-3},{"$f":"'CPI Sub-Categories'!AN58","v":132.90508465768499},{"$f":"(BG57-BE57)/BE57","v":-7.5472167386626432E-2},{"$f":"'CPI Sub-Categories'!AO58","v":131.17763804631599},{"$f":"(BI57-BG57)/BG57","v":-1.2997596110173483E-2},{"$f":"'CPI Sub-Categories'!AU58","v":0},-1]
[3,"045200","Cooking gas",100,102.673749093361,2.6737490933609963E-2,107.90579562053399,5.0957976828288502E-2,107.90579562053399,0,null,107.90579562053399,0,110.332251084772,2.2486794618251808E-2,114.888372941654,4.1294560856746938E-2,114.888372941654,0,null,114.888372941654,0,115.647353321848,6.606241874270875E-3,117.873963241792,1.9253444683228621E-2,117.873963241792,0,null,{"$f":"'CPI Sub-Categories'!Y59","v":117.873963241792},{"$f":"(AD58-AA58)/AA58","v":0},{"$f":"'CPI Sub-Categories'!Z59","v":145.491828084551},0.23429995974689635,{"$f":"'CPI Sub-Categories'!AA59","v":145.491828084551},0,{"$f":"'CPI Sub-Categories'!AB59","v":145.491828084551},0,null,{"$f":"'CPI Sub-Categories'!AD59","v":145.491828084551},{"$f":"(AM58-AJ58)/AJ58","v":0},{"$f":"'CPI Sub-Categories'!AE59","v":135.28015394595801},-7.0187269436594008E-2,{"$f":"'CPI Sub-Categories'!AF59","v":135.28015394595801},0,{"$f":"'CPI Sub-Categories'!AG59","v":135.28015394595801},0,null,{"$f":"'CPI Sub-Categories'!AI59","v":135.28015394595801},{"$f":"(AV58-AS58)/AS58","v":0},{"$f":"'CPI Sub-Categories'!AJ59","v":135.28015394595801},0,{"$f":"'CPI Sub-Categories'!AK59","v":135.28015394595801},0,{"$f":"'CPI Sub-Categories'!AL59","v":135.28015394595801},0,null,{"$f":"'CPI Sub-Categories'!AM59","v":135.28015394595801},{"$f":"(BE58-BB58)/BB58","v":0},{"$f":"'CPI Sub-Categories'!AN59","v":146.73297989684301},{"$f":"(BG58-BE58)/BE58","v":8.4660060007473073E-2},{"$f":"'CPI Sub-Categories'!AO59","v":146.73297989684301},{"$f":"(BI58-BG58)/BG58","v":0},{"$f":"'CPI Sub-Categories'!AU59","v":0},-1]
[3,"045300","Liquid fuels","Not available","Not available","Not available","Not available","Not available","Not available","Not available",null,"Not available","Not available","Not available","Not available","Not available","Not available","Not available","Not available",null,"Not available","Not available","Not available","Not available","Not available","Not available","Not available","Not available",null,{"$f":"'CPI Sub-Categories'!Y60","v":"Not available"},"Not available",{"$f":"'CPI Sub-Categories'!Z60","v":"Not available"},"Not available",{"$f":"'CPI Sub-Categories'!AA60","v":"Not available"},"Not available",{"$f":"'CPI Sub-Categories'!AB60","v":"Not available"},"Not available",null,{"$f":"'CPI Sub-Categories'!AD60","v":"Not available"},"Not available",{"$f":"'CPI Sub-Categories'!AE60","v":"Not available"},"Not available",{"$f":"'CPI Sub-Categories'!AF60","v":"Not available"},"Not available",{"$f":"'CPI Sub-Categories'!AG60","v":"Not available"},"Not available",null,{"$f":"'CPI Sub-Categories'!AI60","v":"Not available"},"Not available",{"$f":"'CPI Sub-Categories'!AJ60","v":"Not available"},"Not available",{"$f":"'CPI Sub-Categories'!AK60","v":"Not available"},"Not available",{"$f":"'CPI Sub-Categories'!AL60","v":"Not available"},{"$error":"#VALUE!"},null,{"$f":"'CPI Sub-Categories'!AM60","v":"Not available"},"Not available",{"$f":"'CPI Sub-Categories'!AN60","v":"Not available"},"Not available",{"$f":"'CPI Sub-Categories'!AO60","v":"Not available"},"Not available",{"$f":"'CPI Sub-Categories'!AU60","v":0},{"$error":"#VALUE!"}]
[3,"045400","Solid fuels",117.002797936485,116.166728751036,-7.145719591277226E-3,114.243015389319,-1.6559934005198968E-2,115.125892126526,7.728058771893572E-3,null,108.69887084460601,-5.5826028039431368E-2,111.423449874765,2.5065384847042269E-2,111.4264284417,2.6731957575778445E-5,112.79803016126,1.2309482936336305E-2,null,113.62076621189701,7.2938866880990078E-3,115.109314264506,1.3101021074201556E-2,119.780940432351,4.0584258517171123E-2,125.645577951633,4.8961358110176018E-2,null,{"$f":"'CPI Sub-Categories'!Y61","v":125.635946874349},{"$f":"(AD60-AA60)/AA60","v":-7.665273574296377E-5},{"$f":"'CPI Sub-Categories'!Z61","v":125.23486237501299},{"$f":"(AF60-AD60)/AD60","v":-3.1924342460453664E-3},{"$f":"'CPI Sub-Categories'!AA61","v":127.239436517638},{"$f":"(AH60-AF60)/AF60","v":1.600651850937761E-2},{"$f":"'CPI Sub-Categories'!AB61","v":129.92349947095801},2.1094583776688939E-2,null,{"$f":"'CPI Sub-Categories'!AD61","v":133.60102479262},{"$f":"(AM60-AJ60)/AJ60","v":2.8305313023715403E-2},{"$f":"'CPI Sub-Categories'!AE61","v":135.09821347862001},1.1206416180744137E-2,{"$f":"'CPI Sub-Categories'!AF61","v":137.180145394796},1.5410506642306308E-2,{"$f":"'CPI Sub-Categories'!AG61","v":134.92251128669599},-1.6457440700348252E-2,null,{"$f":"'CPI Sub-Categories'!AI61","v":134.25279276456899},{"$f":"(AV60-AS60)/AS60","v":-4.9637270737120983E-3},{"$f":"'CPI Sub-Categories'!AJ61","v":135.057943500036},5.9972736424109517E-3,{"$f":"'CPI Sub-Categories'!AK61","v":136.61562336136799},1.1533419071582233E-2,{"$f":"'CPI Sub-Categories'!AL61","v":136.42719380907701},-1.3792679611215513E-3,null,{"$f":"'CPI Sub-Categories'!AM61","v":135.07981224191701},{"$f":"(BE60-BB60)/BB60","v":-9.8761949838651088E-3},{"$f":"'CPI Sub-Categories'!AN61","v":135.670233513688},{"$f":"(BG60-BE60)/BE60","v":4.3709068140663073E-3},{"$f":"'CPI Sub-Categories'!AO61","v":135.42504243408001},{"$f":"(BI60-BG60)/BG60","v":-1.8072577400204276E-3},{"$f":"'CPI Sub-Categories'!AU61","v":0},-1]
[3,"045500","Heat energy","Not available","Not available","Not available","Not available","Not available","Not available","Not available",null,"Not available","Not available","Not available","Not available","Not available","Not available","Not available","Not available",null,"Not available","Not available","Not available","Not available","Not available","Not available","Not available","Not available",null,{"$f":"'CPI Sub-Categories'!Y62","v":"Not available"},"Not available",{"$f":"'CPI Sub-Categories'!Z62","v":"Not available"},"Not available",{"$f":"'CPI Sub-Categories'!AA62","v":"Not available"},"Not available",{"$f":"'CPI Sub-Categories'!AB62","v":"Not available"},"Not available",null,{"$f":"'CPI Sub-Categories'!AD62","v":"Not available"},"Not available",{"$f":"'CPI Sub-Categories'!AE62","v":"Not available"},"Not available",{"$f":"'CPI Sub-Categories'!AF62","v":"Not available"},"Not available",{"$f":"'CPI Sub-Categories'!AG62","v":"Not available"},"Not available",null,{"$f":"'CPI Sub-Categories'!AI62","v":"Not available"},"Not available",{"$f":"'CPI Sub-Categories'!AJ62","v":"Not available"},"Not available",{"$f":"'CPI Sub-Categories'!AK62","v":"Not available"},"Not available",{"$f":"'CPI Sub-Categories'!AL62","v":"Not available"},"Not available",null,{"$f":"'CPI Sub-Categories'!AM62","v":"Not available"},"Not available",{"$f":"'CPI Sub-Categories'!AN62","v":"Not available"},"Not available",{"$f":"'CPI Sub-Categories'!AO62","v":"Not available"},"Not available",{"$f":"'CPI Sub-Categories'!AU62","v":0},"Not available"]
[1,"050000","Furnishings, household equipment and routine household maintenance",101.018864100965,100.699938069807,-3.1570938160544351E-3,102.220311614035,1.5098058383849684E-2,102.90017842034899,6.6509952433039636E-3,null,103.015582928271,1.1215190264352983E-3,102.204809802027,-7.8703930337271077E-3,101.693202156891,-5.0057100651817784E-3,101.52835218913501,-1.6210519902959666E-3,null,102.003493228023,4.6798852600588589E-3,107.139370631641,5.0350014897401943E-2,107.604298992721,4.3394725798649881E-3,109.024980779912,1.3202834835503217E-2,null,{"$f":"'CPI Sub-Categories'!Y63","v":109.596892329933},{"$f":"(AD62-AA62)/AA62","v":5.2456927387633618E-3},{"$f":"'CPI Sub-Categories'!Z63","v":112.066162600526},{"$f":"(AF62-AD62)/AD62","v":2.2530477079217286E-2},{"$f":"'CPI Sub-Categories'!AA63","v":113.972225254115},1.7008369068399396E-2,{"$f":"'CPI Sub-Categories'!AB63","v":115.90193976821899},1.6931445444725305E-2,null,{"$f":"'CPI Sub-Categories'!AD63","v":118.32735505072201},{"$f":"(AM62-AJ62)/AJ62","v":2.0926442537142712E-2},{"$f":"'CPI Sub-Categories'!AE63","v":117.99705432343301},-2.7914147759612626E-3,{"$f":"'CPI Sub-Categories'!AF63","v":118.14078771344801},1.2181099845172735E-3,{"$f":"'CPI Sub-Categories'!AG63","v":116.186063479371},-1.6545718645606243E-2,null,{"$f":"'CPI Sub-Categories'!AI63","v":116.601492676314},{"$f":"(AV62-AS62)/AS62","v":3.5755510127663021E-3},{"$f":"'CPI Sub-Categories'!AJ63","v":117.34485022311701},6.3751975188394332E-3,{"$f":"'CPI Sub-Categories'!AK63","v":116.601492676314},-6.334811842101354E-3,{"$f":"'CPI Sub-Categories'!AL63","v":114.753511296022},-1.584869402505848E-2,null,{"$f":"'CPI Sub-Categories'!AM63","v":115.477699930325},{"$f":"(BE62-BB62)/BB62","v":6.3108189555512893E-3},{"$f":"'CPI Sub-Categories'!AN63","v":117.34485022311701},{"$f":"(BG62-BE62)/BE62","v":1.6168925203035516E-2},{"$f":"'CPI Sub-Categories'!AO63","v":117.287774691899},{"$f":"(BI62-BG62)/BG62","v":-4.8639144461373306E-4},{"$f":"'CPI Sub-Categories'!AU63","v":0},{"$f":"(BK62-BI62)/BI62","v":-1}]
[2,"051000","Furniture and furnishings, carpets and other floor coverings",102.87618327207601,98.722866515541796,-4.037199499858931E-2,103.589326487044,4.9294151833973433E-2,104.733981708312,1.104993400465017E-2,null,103.343502914081,-1.3276290765909535E-2,104.168669448735,7.984696777116598E-3,103.727317793,-4.236894433524558E-3,101.329105654692,-2.3120352375195028E-2,null,102.60957384295899,1.2636726437027448E-2,101.231849370145,-1.3426860878718418E-2,101.19842028822001,-3.3022296967787838E-4,102.20019892562,9.8991529170797329E-3,null,{"$f":"'CPI Sub-Categories'!Y64","v":104.85713220968999},{"$f":"(AD63-AA63)/AA63","v":2.5997339652965596E-2},{"$f":"'CPI Sub-Categories'!Z64","v":108.430996737125},3.4083180153049619E-2,{"$f":"'CPI Sub-Categories'!AA64","v":109.661871798281},1.1351689998202951E-2,{"$f":"'CPI Sub-Categories'!AB64","v":110.275395190362},5.5946828375277088E-3,null,{"$f":"'CPI Sub-Categories'!AD64","v":111.67283983857401},{"$f":"(AM63-AJ63)/AJ63","v":1.2672315939559083E-2},{"$f":"'CPI Sub-Categories'!AE64","v":107.73499096229899},-3.5262368915908962E-2,{"$f":"'CPI Sub-Categories'!AF64","v":108.952320992016},1.1299300430098884E-2,{"$f":"'CPI Sub-Categories'!AG64","v":105.00924754731901},-3.6190816393768609E-2,null,{"$f":"'CPI Sub-Categories'!AI64","v":103.98082765976},{"$f":"(AV63-AS63)/AS63","v":-9.7936125777454662E-3},{"$f":"'CPI Sub-Categories'!AJ64","v":103.91360746833701},-6.4646717030320412E-4,{"$f":"'CPI Sub-Categories'!AK64","v":105.48266786249999},1.5099662425261189E-2,{"$f":"'CPI Sub-Categories'!AL64","v":102.23866829176001},-3.0753863515934614E-2,null,{"$f":"'CPI Sub-Categories'!AM64","v":101.78544949755999},{"$f":"(BE63-BB63)/BB63","v":-4.4329489201351381E-3},{"$f":"'CPI Sub-Categories'!AN64","v":103.392824162122},{"$f":"(BG63-BE63)/BE63","v":1.5791792171635829E-2},{"$f":"'CPI Sub-Categories'!AO64","v":104.72151828401999},{"$f":"(BI63-BG63)/BG63","v":1.285093170309941E-2},{"$f":"'CPI Sub-Categories'!AU64","v":0},{"$f":"(BK63-BI63)/BI63","v":-1}]
[3,"051100","Furniture and furnishings",102.58943787118,98.4355160720215,-4.0490735550910345E-2,103.414596166358,5.0582150559290953E-2,104.124171923576,6.8614662100168634E-3,null,103.25122211329101,-8.3837383208743496E-3,103.464638626183,2.0669635528171052E-3,103.753287145024,2.7898277389619623E-3,101.222626143187,-2.4391140478274224E-2,null,101.102665410748,-1.1851177647703374E-3,99.539310458477999,-1.5463043886316837E-2,99.843299014174804,3.0539548073683993E-3,101.14642314848,1.3051693475394758E-2,null,{"$f":"'CPI Sub-Categories'!Y65","v":103.63357134550699},{"$f":"(AD64-AA64)/AA64","v":2.4589581317926941E-2},{"$f":"'CPI Sub-Categories'!Z65","v":107.381624842208},3.6166402914025411E-2,{"$f":"'CPI Sub-Categories'!AA65","v":108.76364079387299},1.2870134473154051E-2,{"$f":"'CPI Sub-Categories'!AB65","v":108.959175999349},1.797799375313121E-3,null,{"$f":"'CPI Sub-Categories'!AD65","v":109.46339446201399},{"$f":"(AM64-AJ64)/AJ64","v":4.6275906369556861E-3},{"$f":"'CPI Sub-Categories'!AE65","v":104.26095907364601},-4.7526713509449391E-2,{"$f":"'CPI Sub-Categories'!AF65","v":105.00654545630999},7.151155996343108E-3,{"$f":"'CPI Sub-Categories'!AG65","v":102.153247785581},-2.7172569655823615E-2,null,{"$f":"'CPI Sub-Categories'!AI65","v":102.404398035109},{"$f":"(AV64-AS64)/AS64","v":2.4585635305023126E-3},{"$f":"'CPI Sub-Categories'!AJ65","v":102.333465395643},-6.9267180733463139E-4,{"$f":"'CPI Sub-Categories'!AK65","v":103.98918212128601},1.6179621390144949E-2,{"$f":"'CPI Sub-Categories'!AL65","v":100.906949731989},-2.9639932985549358E-2,null,{"$f":"'CPI Sub-Categories'!AM65","v":101.233705180294},{"$f":"(BE64-BB64)/BB64","v":3.2381857659245757E-3},{"$f":"'CPI Sub-Categories'!AN65","v":102.929852203308},{"$f":"(BG64-BE64)/BE64","v":1.6754765816318021E-2},{"$f":"'CPI Sub-Categories'!AO65","v":103.438582300318},{"$f":"(BI64-BG64)/BG64","v":4.9424932234931546E-3},{"$f":"'CPI Sub-Categories'!AU65","v":0},{"$f":"(BK64-BI64)/BI64","v":-1}]
[3,"051200","Carpets and other floor coverings",108.06819687420101,103.92583544434299,-3.8330994220991899E-2,106.753116381765,2.7204793931496857E-2,115.775625923617,8.4517528365037786E-2,null,105.014403899491,-9.2948942735370896E-2,116.916345943598,0.11333628152094563,103.257098467679,-0.11682923688453627,103.257098467679,0,null,129.89471617748401,0.2579737190479256,131.878147528954,1.5269530661739089E-2,125.735197741001,-4.6580498005587383E-2,121.280603184662,-3.5428381522212407E-2,null,{"$f":"'CPI Sub-Categories'!Y66","v":127.011784490203},{"$f":"(AD65-AA65)/AA65","v":4.7255547507582034E-2},{"$f":"'CPI Sub-Categories'!Z66","v":127.431661211913},3.3058091687735011E-3,{"$f":"'CPI Sub-Categories'!AA66","v":125.925873167367},-1.1816435807439863E-2,{"$f":"'CPI Sub-Categories'!AB66","v":134.107784207864},6.497402666108569E-2,null,{"$f":"'CPI Sub-Categories'!AD66","v":151.67860946012101},{"$f":"(AM65-AJ65)/AJ65","v":0.13102017422808682},{"$f":"'CPI Sub-Categories'!AE66","v":170.638252056613},0.12499878963801296,{"$f":"'CPI Sub-Categories'!AF66","v":180.397303852639},5.7191466030654253E-2,{"$f":"'CPI Sub-Categories'!AG66","v":156.72198492452199},-0.1312398712314273,null,{"$f":"'CPI Sub-Categories'!AI66","v":132.52476952746099},{"$f":"(AV65-AS65)/AS65","v":-0.15439579462137676},{"$f":"'CPI Sub-Categories'!AJ66","v":132.52476952746099},0,{"$f":"'CPI Sub-Categories'!AK66","v":132.52476952746099},0,{"$f":"'CPI Sub-Categories'!AL66","v":126.351699764796},-4.6580498005588666E-2,null,{"$f":"'CPI Sub-Categories'!AM66","v":111.775719581047},{"$f":"(BE65-BB65)/BB65","v":-0.11536038067459496},{"$f":"'CPI Sub-Categories'!AN66","v":111.775719581047},{"$f":"(BG65-BE65)/BE65","v":0},{"$f":"'CPI Sub-Categories'!AO66","v":127.951258176072},{"$f":"(BI65-BG65)/BG65","v":0.14471424255333332},{"$f":"'CPI Sub-Categories'!AU66","v":0},{"$f":"(BK65-BI65)/BI65","v":-1}]
[3,"051300","Repair of furniture, furnishings and floor coverings","Not relevant","Not relevant","Not relevent","Not relevant","Not relevant","Not relevant","Not relevant",null,"Not relevant","Not relevant","Not relevant","Not relevant","Not relevant","Not relevant","Not relevant","Not relevant",null,"Not relevant","Not relevant","Not relevant","Not relevant","Not relevant","Not relevant","Not relevant","Not available",null,{"$f":"'CPI Sub-Categories'!Y67","v":"Not relevant"},"Not relevant",{"$f":"'CPI Sub-Categories'!Z67","v":"Not available"},"Not relevant",{"$f":"'CPI Sub-Categories'!AA67","v":"Not available"},"Not relevant",{"$f":"'CPI Sub-Categories'!AB67","v":"Not available"},"Not available",null,{"$f":"'CPI Sub-Categories'!AD67","v":"Not available"},"Not relevant",{"$f":"'CPI Sub-Categories'!AE67","v":"Not available"},"Not available",{"$f":"'CPI Sub-Categories'!AF67","v":"Not available"},"Not available",{"$f":"'CPI Sub-Categories'!AG67","v":"Not available"},"Not available",null,{"$f":"'CPI Sub-Categories'!AI67","v":"Not available"},"Not relevant",{"$f":"'CPI Sub-Categories'!AJ67","v":"Not available"},"Not available",{"$f":"'CPI Sub-Categories'!AK67","v":"Not available"},"Not available",{"$f":"'CPI Sub-Categories'!AL67","v":"Not available"},"Not available",null,{"$f":"'CPI Sub-Categories'!AM67","v":"Not available"},"Not relevant",{"$f":"'CPI Sub-Categories'!AN67","v":"Not available"},"Not available",{"$f":"'CPI Sub-Categories'!AO67","v":"Not available"},"Not available",{"$f":"'CPI Sub-Categories'!AU67","v":0},"Not available"]
[2,"052000","Household textiles",97.598519122000098,94.773893558596399,-2.8941274814558011E-2,91.290121272445106,-3.6758775600976665E-2,92.268489113616695,1.0717127193333009E-2,null,94.977038036477694,2.9355080470926227E-2,89.553722701910502,-5.7101331507982668E-2,87.437354248887701,-2.3632389466012128E-2,92.735383948584897,6.0592291992464908E-2,null,88.183267344461299,-4.9087159725864929E-2,88.474604643398095,3.3037707459712801E-3,95.463077128941094,7.8988456786107539E-2,102.126418166558,6.9800191215466365E-2,null,{"$f":"'CPI Sub-Categories'!Y68","v":98.012212800325102},{"$f":"(AD67-AA67)/AA67","v":-4.028541723183747E-2},{"$f":"'CPI Sub-Categories'!Z68","v":100.047478111621},{"$f":"(AF67-AD67)/AD67","v":2.0765425584689492E-2},{"$f":"'CPI Sub-Categories'!AA68","v":103.88597757522901},3.8366778814009322E-2,{"$f":"'CPI Sub-Categories'!AB68","v":102.11192002222801},-1.707696836867437E-2,null,{"$f":"'CPI Sub-Categories'!AD68","v":106.60718420193299},{"$f":"(AM67-AJ67)/AJ67","v":4.4022913081317519E-2},{"$f":"'CPI Sub-Categories'!AE68","v":109.545885750007},2.7565698973040911E-2,{"$f":"'CPI Sub-Categories'!AF68","v":113.663684409388},3.7589715315992429E-2,{"$f":"'CPI Sub-Categories'!AG68","v":101.09805507761},-0.11055095914821626,null,{"$f":"'CPI Sub-Categories'!AI68","v":110.17879958895},{"$f":"(AV67-AS67)/AS67","v":8.982115931279766E-2},{"$f":"'CPI Sub-Categories'!AJ68","v":117.79005776693199},6.908096844744839E-2,{"$f":"'CPI Sub-Categories'!AK68","v":116.407449555664},-1.1737902480731628E-2,{"$f":"'CPI Sub-Categories'!AL68","v":102.489025630893},-0.11956643649438826,null,{"$f":"'CPI Sub-Categories'!AM68","v":101.08067384929301},{"$f":"(BE67-BB67)/BB67","v":-1.374148864164315E-2},{"$f":"'CPI Sub-Categories'!AN68","v":103.57601316407801},{"$f":"(BG67-BE67)/BE67","v":2.4686611394235898E-2},{"$f":"'CPI Sub-Categories'!AO68","v":108.38139572588101},{"$f":"(BI67-BG67)/BG67","v":4.6394743483615684E-2},{"$f":"'CPI Sub-Categories'!AU68","v":0},{"$f":"(BK67-BI67)/BI67","v":-1}]
[3,"052100","Household textiles",97.598519122000098,94.773893558596399,-2.8941274814558011E-2,91.290121272445106,-3.6758775600976665E-2,92.268489113616695,1.0717127193333009E-2,null,94.977038036477694,2.9355080470926227E-2,89.553722701910502,-5.7101331507982668E-2,87.437354248887701,-2.3632389466012128E-2,92.735383948584897,6.0592291992464908E-2,null,88.183267344461299,-4.9087159725864929E-2,88.474604643398095,3.3037707459712801E-3,95.463077128941094,7.8988456786107539E-2,102.126418166558,6.9800191215466365E-2,null,{"$f":"'CPI Sub-Categories'!Y69","v":98.012212800325102},{"$f":"(AD68-AA68)/AA68","v":-4.028541723183747E-2},{"$f":"'CPI Sub-Categories'!Z69","v":100.047478111621},2.0765425584689492E-2,{"$f":"'CPI Sub-Categories'!AA69","v":103.88597757522901},3.8366778814009322E-2,{"$f":"'CPI Sub-Categories'!AB69","v":102.11192002222801},-1.707696836867437E-2,null,{"$f":"'CPI Sub-Categories'!AD69","v":106.60718420193299},{"$f":"(AM68-AJ68)/AJ68","v":4.4022913081317519E-2},{"$f":"'CPI Sub-Categories'!AE69","v":109.545885750007},2.7565698973040911E-2,{"$f":"'CPI Sub-Categories'!AF69","v":113.663684409388},3.7589715315992429E-2,{"$f":"'CPI Sub-Categories'!AG69","v":101.09805507761},-0.11055095914821626,null,{"$f":"'CPI Sub-Categories'!AI69","v":110.17879958895},{"$f":"(AV68-AS68)/AS68","v":8.982115931279766E-2},{"$f":"'CPI Sub-Categories'!AJ69","v":117.79005776693199},6.908096844744839E-2,{"$f":"'CPI Sub-Categories'!AK69","v":116.407449555664},-1.1737902480731628E-2,{"$f":"'CPI Sub-Categories'!AL69","v":102.489025630893},-0.11956643649438826,null,{"$f":"'CPI Sub-Categories'!AM69","v":101.08067384929301},{"$f":"(BE68-BB68)/BB68","v":-1.374148864164315E-2},{"$f":"'CPI Sub-Categories'!AN69","v":103.57601316407801},{"$f":"(BG68-BE68)/BE68","v":2.4686611394235898E-2},{"$f":"'CPI Sub-Categories'!AO69","v":108.38139572588101},{"$f":"(BI68-BG68)/BG68","v":4.6394743483615684E-2},{"$f":"'CPI Sub-Categories'!AU69","v":0},{"$f":"(BK68-BI68)/BI68","v":-1}]
[2,"053000","Household appliances",102.715554022288,108.86956720922301,5.9913157705401253E-2,112.997301757077,3.7914493955150987E-2,110.78433839509999,-1.9584214203047602E-2,null,109.160070716939,-1.4661527989346477E-2,107.068956873236,-1.9156398763476697E-2,108.577216082912,1.408680212941364E-2,111.87157832185,3.034119272704822E-2,null,117.09682418439201,4.6707536810727653E-2,114.52434748429501,-2.1968799905675733E-2,108.591396731722,-5.1805147838861129E-2,111.095103663982,2.3056218150002049E-2,null,{"$f":"'CPI Sub-Categories'!Y70","v":113.913170874108},{"$f":"(AD69-AA69)/AA69","v":2.53662593326302E-2},{"$f":"'CPI Sub-Categories'!Z70","v":117.179208827774},2.8671293482607788E-2,{"$f":"'CPI Sub-Categories'!AA70","v":125.344647175056},6.9683337419381916E-2,{"$f":"'CPI Sub-Categories'!AB70","v":135.96482432380699},8.4727807593721061E-2,null,{"$f":"'CPI Sub-Categories'!AD70","v":144.91328570773501},{"$f":"(AM69-AJ69)/AJ69","v":6.5814532754566099E-2},{"$f":"'CPI Sub-Categories'!AE70","v":145.169866270575},1.770579982276189E-3,{"$f":"'CPI Sub-Categories'!AF70","v":140.73018118444699},-3.0582690472781018E-2,{"$f":"'CPI Sub-Categories'!AG70","v":137.48859781180701},-2.3034031117969086E-2,null,{"$f":"'CPI Sub-Categories'!AI70","v":136.7203810501},{"$f":"(AV69-AS69)/AS69","v":-5.58749433722887E-3},{"$f":"'CPI Sub-Categories'!AJ70","v":137.81502006588201},8.0064069992672616E-3,{"$f":"'CPI Sub-Categories'!AK70","v":127.400560191775},-7.5568395006062564E-2,{"$f":"'CPI Sub-Categories'!AL70","v":122.601449701867},-3.7669461442586608E-2,null,{"$f":"'CPI Sub-Categories'!AM70","v":122.963994752974},{"$f":"(BE69-BB69)/BB69","v":2.9571024811583832E-3},{"$f":"'CPI Sub-Categories'!AN70","v":123.366937013833},{"$f":"(BG69-BE69)/BE69","v":3.2769125764698448E-3},{"$f":"'CPI Sub-Categories'!AO70","v":125.06300113669},{"$f":"(BI69-BG69)/BG69","v":1.3748125420888354E-2},{"$f":"'CPI Sub-Categories'!AU70","v":0},{"$f":"(BK69-BI69)/BI69","v":-1}]
[3,"053100","Major household appliances whether electric or not",101.98563093830499,107.918524487927,5.8173818164747565E-2,112.279161470139,4.0406751323771396E-2,110.609597927713,-1.4869754285349115E-2,null,109.14929230451899,-1.3202340941048902E-2,106.931133570471,-2.0322245680342844E-2,108.329820714875,1.3080261077399074E-2,111.28205317870299,2.7252260221110287E-2,null,117.36863437222399,5.4695083525704041E-2,114.534409533,-2.4148060121714502E-2,108.867883418217,-4.9474442989557124E-2,111.456725166384,2.3779664551959175E-2,null,{"$f":"'CPI Sub-Categories'!Y71","v":114.546562531917},{"$f":"(AD70-AA70)/AA70","v":2.7722305324514536E-2},{"$f":"'CPI Sub-Categories'!Z71","v":117.790848011214},2.8322853236150237E-2,{"$f":"'CPI Sub-Categories'!AA71","v":126.67482861882399},7.5421654208349204E-2,{"$f":"'CPI Sub-Categories'!AB71","v":137.957212970673},8.9065716329474715E-2,null,{"$f":"'CPI Sub-Categories'!AD71","v":147.747086944583},{"$f":"(AM70-AJ70)/AJ70","v":7.0963117934189787E-2},{"$f":"'CPI Sub-Categories'!AE71","v":147.99885686721601},1.7040601465627288E-3,{"$f":"'CPI Sub-Categories'!AF71","v":143.84752360948599},-2.8049765691464605E-2,{"$f":"'CPI Sub-Categories'!AG71","v":140.6655797539},-2.2120254667881901E-2,null,{"$f":"'CPI Sub-Categories'!AI71","v":139.92946530076},{"$f":"(AV70-AS70)/AS70","v":-5.2330815713969667E-3},{"$f":"'CPI Sub-Categories'!AJ71","v":141.00320361922601},7.6734254372955247E-3,{"$f":"'CPI Sub-Categories'!AK71","v":129.43375815788701},-8.2050940435239084E-2,{"$f":"'CPI Sub-Categories'!AL71","v":124.532585054896},-3.7866265901144724E-2,null,{"$f":"'CPI Sub-Categories'!AM71","v":128.878056336105},{"$f":"(BE70-BB70)/BB70","v":3.4894251005015642E-2},{"$f":"'CPI Sub-Categories'!AN71","v":123.885237322252},{"$f":"(BG70-BE70)/BE70","v":-3.874064488396755E-2},{"$f":"'CPI Sub-Categories'!AO71","v":125.58992137074},{"$f":"(BI70-BG70)/BG70","v":1.3760187132335689E-2},{"$f":"'CPI Sub-Categories'!AU71","v":0},{"$f":"(BK70-BI70)/BI70","v":-1}]
[3,"053200","Small electric household appliances",111.644869697998,120.50388987402,7.9349997899463343E-2,121.782475787377,1.0610328966921156E-2,112.921978413435,-7.275675187792828E-2,null,109.29192549602,-3.214655790146085E-2,108.754980791189,-4.9129402963126881E-3,111.603660082822,2.6193552432347961E-2,119.083373944491,6.7020327613971087E-2,null,113.771708121769,-4.4604596315838033E-2,114.401256146034,5.5334321217292903E-3,105.209071993648,-8.0350377802251738E-2,106.671305292708,1.3898357540386682E-2,null,{"$f":"'CPI Sub-Categories'!Y72","v":106.164746166009},{"$f":"(AD71-AA71)/AA71","v":-4.7487853018109713E-3},{"$f":"'CPI Sub-Categories'!Z72","v":109.69688710316601},3.3270375192475179E-2,{"$f":"'CPI Sub-Categories'!AA72","v":109.07223398794299},-5.6943558902956652E-3,{"$f":"'CPI Sub-Categories'!AB72","v":111.591479286544},2.3097035849467314E-2,null,{"$f":"'CPI Sub-Categories'!AD72","v":110.246748422767},{"$f":"(AM71-AJ71)/AJ71","v":-1.2050479771166125E-2},{"$f":"'CPI Sub-Categories'!AE72","v":110.562178645185},2.8611294839137598E-3,{"$f":"'CPI Sub-Categories'!AF72","v":102.595019832133},-7.2060436133590658E-2,{"$f":"'CPI Sub-Categories'!AG72","v":98.623852635920201},-3.8707212130866267E-2,null,{"$f":"'CPI Sub-Categories'!AI72","v":97.462921006854899},{"$f":"(AV71-AS71)/AS71","v":-1.1771306819162679E-2},{"$f":"'CPI Sub-Categories'!AJ72","v":98.813243023043398},1.3854725491897856E-2,{"$f":"'CPI Sub-Categories'!AK72","v":102.527985438323},3.7593568449254502E-2,{"$f":"'CPI Sub-Categories'!AL72","v":98.977430187873296},-3.4630108406700194E-2,null,{"$f":"'CPI Sub-Categories'!AM72","v":109.213182554357},{"$f":"(BE71-BB71)/BB71","v":0.10341501438312542},{"$f":"'CPI Sub-Categories'!AN72","v":117.02645104997499},{"$f":"(BG71-BE71)/BE71","v":7.1541441361524391E-2},{"$f":"'CPI Sub-Categories'!AO72","v":118.617065655266},{"$f":"(BI71-BG71)/BG71","v":1.3591923800301801E-2},{"$f":"'CPI Sub-Categories'!AU72","v":0},{"$f":"(BK71-BI71)/BI71","v":-1}]
[3,"053300","Repair of household appliances","Not relevant","Not relevant","Not relevent","Not relevant","Not relevant","Not relevant","Not relevant",null,"Not relevant","Not relevant","Not relevant","Not relevant","Not relevant","Not relevant","Not relevant","Not relevant",null,"Not relevant","Not relevant","Not relevant","Not relevant","Not relevant","Not relevant","Not relevant","Not available",null,{"$f":"'CPI Sub-Categories'!Y73","v":"Not relevant"},"Not relevant",{"$f":"'CPI Sub-Categories'!Z73","v":"Not relevant"},"Not relevant",{"$f":"'CPI Sub-Categories'!AA73","v":"Not relevant"},"Not relevant",{"$f":"'CPI Sub-Categories'!AB73","v":"Not relevant"},"Not available",null,{"$f":"'CPI Sub-Categories'!AD73","v":"Not relevant"},"Not relevant",{"$f":"'CPI Sub-Categories'!AE73","v":"Not relevant"},"Not relevant",{"$f":"'CPI Sub-Categories'!AF73","v":"Not relevant"},"Not available",{"$f":"'CPI Sub-Categories'!AG73","v":"Not relevant"},"Not available",null,{"$f":"'CPI Sub-Categories'!AI73","v":"Not relevant"},"Not relevant",{"$f":"'CPI Sub-Categories'!AJ73","v":"Not relevant"},"Not relevant",{"$f":"'CPI Sub-Categories'!AK73","v":"Not relevant"},"Not relevant",{"$f":"'CPI Sub-Categories'!AL73","v":"Not relevant"},"Not relevant",null,{"$f":"'CPI Sub-Categories'!AM73","v":"Not relevant"},"Not relevant",{"$f":"'CPI Sub-Categories'!AN73","v":"Not relevant"},"Not relevant",{"$f":"'CPI Sub-Categories'!AO73","v":"Not relevant"},"Not relevant",{"$f":"'CPI Sub-Categories'!AU73","v":0},"Not relevant"]
[2,"054000","Glassware, tableware and household utensils",103.189786790974,103.541569288473,3.4090825113495867E-3,103.31401469084901,-2.1977124664781912E-3,108.570296812455,5.0876757982298841E-2,null,111.844108781735,3.0153845622575823E-2,112.26855316833699,3.794964180279701E-3,109.675104661364,-2.310040019028604E-2,107.598994815518,-1.892963633138315E-2,null,107.190875215864,-3.7929685156793034E-3,105.26618279454399,{"$f":"(W73-U73)/U73","v":-1.7955748728089062E-2},111.088008665529,5.5305756477822599E-2,110.387243644951,{"$f":"IFERROR((AA73-Y73)/Y73,\"Not available\")","v":-6.3081967981612908E-3},null,{"$f":"'CPI Sub-Categories'!Y74","v":108.578920944694},{"$f":"(AD73-AA73)/AA73","v":-1.6381627446675585E-2},{"$f":"'CPI Sub-Categories'!Z74","v":117.51242587582399},{"$f":"(AF73-AD73)/AD73","v":8.2276604458800778E-2},{"$f":"'CPI Sub-Categories'!AA74","v":117.26756723968199},-2.083682932396799E-3,{"$f":"'CPI Sub-Categories'!AB74","v":125.630683673357},{"$f":"IFERROR((AJ73-AH73)/AH73,\"Not available\")","v":7.1316533893652917E-2},null,{"$f":"'CPI Sub-Categories'!AD74","v":127.54391940753899},{"$f":"(AM73-AJ73)/AJ73","v":1.5229048177087513E-2},{"$f":"'CPI Sub-Categories'!AE74","v":126.852725963678},-5.4192582999777281E-3,{"$f":"'CPI Sub-Categories'!AF74","v":126.255976834365},{"$f":"(AQ73-AO73)/AO73","v":-4.7042672893278237E-3},{"$f":"'CPI Sub-Categories'!AG74","v":126.18480032034699},-5.6374767993267068E-4,null,{"$f":"'CPI Sub-Categories'!AI74","v":126.941405490313},{"$f":"(AV73-AS73)/AS73","v":5.9960087747906602E-3},{"$f":"'CPI Sub-Categories'!AJ74","v":124.557879910575},{"$f":"(AX73-AV73)/AV73","v":-1.8776580978693311E-2},{"$f":"'CPI Sub-Categories'!AK74","v":124.411615255819},-1.1742705869833747E-3,{"$f":"'CPI Sub-Categories'!AL74","v":123.169005881001},-9.9878887695727652E-3,null,{"$f":"'CPI Sub-Categories'!AM74","v":105.182800111563},{"$f":"(BE73-BB73)/BB73","v":-0.14602866720232577},{"$f":"'CPI Sub-Categories'!AN74","v":124.27172703110701},{"$f":"(BG73-BE73)/BE73","v":0.18148334993266182},{"$f":"'CPI Sub-Categories'!AO74","v":125.479511763863},{"$f":"(BI73-BG73)/BG73","v":9.7189019707891455E-3},{"$f":"'CPI Sub-Categories'!AU74","v":0},{"$f":"(BK73-BI73)/BI73","v":-1}]
[3,"054100","Glassware, tableware and household utensils",103.189786790974,103.541569288473,3.4090825113495867E-3,103.31401469084901,-2.1977124664781912E-3,108.570296812455,5.0876757982298841E-2,null,111.844108781735,3.0153845622575823E-2,112.26855316833699,3.794964180279701E-3,109.675104661364,-2.310040019028604E-2,107.598994815518,-1.892963633138315E-2,null,107.190875215864,{"$f":"(U74-R74)/R74","v":-3.7929685156793034E-3},105.26618279454399,-1.7955748728089062E-2,111.088008665529,5.5305756477822599E-2,110.387243644951,-6.3081967981612908E-3,null,{"$f":"'CPI Sub-Categories'!Y75","v":108.578920944694},-1.6381627446675585E-2,{"$f":"'CPI Sub-Categories'!Z75","v":117.51242587582399},8.2276604458800778E-2,{"$f":"'CPI Sub-Categories'!AA75","v":117.26756723968199},-2.083682932396799E-3,{"$f":"'CPI Sub-Categories'!AB75","v":125.630683673357},7.1316533893652917E-2,null,{"$f":"'CPI Sub-Categories'!AD75","v":127.54391940753899},1.5229048177087513E-2,{"$f":"'CPI Sub-Categories'!AE75","v":126.852725963678},-5.4192582999777281E-3,{"$f":"'CPI Sub-Categories'!AF75","v":126.255976834365},-4.7042672893278237E-3,{"$f":"'CPI Sub-Categories'!AG75","v":126.18480032034699},-5.6374767993267068E-4,null,{"$f":"'CPI Sub-Categories'!AI75","v":126.941405490313},5.9960087747906602E-3,{"$f":"'CPI Sub-Categories'!AJ75","v":124.557879910575},-1.8776580978693311E-2,{"$f":"'CPI Sub-Categories'!AK75","v":124.411615255819},-1.1742705869833747E-3,{"$f":"'CPI Sub-Categories'!AL75","v":123.169005881001},-9.9878887695727652E-3,null,{"$f":"'CPI Sub-Categories'!AM75","v":122.963994752974},-1.6644701039891987E-3,{"$f":"'CPI Sub-Categories'!AN75","v":124.27172703110701},1.0635082901788807E-2,{"$f":"'CPI Sub-Categories'!AO75","v":125.479511763863},9.7189019707891455E-3,{"$f":"'CPI Sub-Categories'!AU75","v":0},-1]
[2,"055000","Tools and equipment for house and garden",101.10884267367,100.293853515866,-8.0605131683128845E-3,101.664807893256,1.3669375832419421E-2,107.499336508699,5.7389855313246925E-2,null,107.252654822219,-2.294727525690733E-3,103.82160226908501,-3.1990374120074466E-2,105.567157864192,1.6813028858703786E-2,102.527389526696,-2.8794640293400172E-2,null,103.483679042739,9.3271614585876336E-3,102.103361217358,-1.3338507464649806E-2,104.35940900694401,2.2095724985814361E-2,107.035977654143,2.564760257525887E-2,null,{"$f":"'CPI Sub-Categories'!Y76","v":109.361919961174},2.1730471921755461E-2,{"$f":"'CPI Sub-Categories'!Z76","v":110.681862238416},1.2069487054640376E-2,{"$f":"'CPI Sub-Categories'!AA76","v":111.27647372950599},5.3722577400185049E-3,{"$f":"'CPI Sub-Categories'!AB76","v":113.533535685589},2.0283370603291554E-2,null,{"$f":"'CPI Sub-Categories'!AD76","v":115.158070857241},1.4308857394795324E-2,{"$f":"'CPI Sub-Categories'!AE76","v":116.589844935901},{"$f":"(AO75-AM75)/AM75","v":1.2433119693668176E-2},{"$f":"'CPI Sub-Categories'!AF76","v":117.56480637239299},8.362318665300664E-3,{"$f":"'CPI Sub-Categories'!AG76","v":116.900372693732},-5.6516375874967892E-3,null,{"$f":"'CPI Sub-Categories'!AI76","v":115.691876594051},-1.0337829314258442E-2,{"$f":"'CPI Sub-Categories'!AJ76","v":114.685989861444},-8.6945320814229028E-3,{"$f":"'CPI Sub-Categories'!AK76","v":115.392805043308},6.1630473148283323E-3,{"$f":"'CPI Sub-Categories'!AL76","v":116.179927450257},6.8212433752137414E-3,null,{"$f":"'CPI Sub-Categories'!AM76","v":120.158625614858},3.4246003177308734E-2,{"$f":"'CPI Sub-Categories'!AN76","v":123.710012564197},2.9555821990858926E-2,{"$f":"'CPI Sub-Categories'!AO76","v":124.26579433652},4.4926175400280483E-3,{"$f":"'CPI Sub-Categories'!AU76","v":0},-1]
[3,"055100","Major tools and equipment",97.647752466213902,97.647752466213902,0,96.478909386398698,-1.196999470335606E-2,96.755521222464395,2.867070511316263E-3,null,97.282638059986596,5.4479251505475433E-3,97.282638059986596,0,97.282638059986596,0,97.282638059986596,0,null,97.282638059986596,0,97.282638059986596,0,97.282638059986596,0,99.818163331352196,2.6063492129008055E-2,null,{"$f":"'CPI Sub-Categories'!Y77","v":101.01667525896001},1.2006952318179618E-2,{"$f":"'CPI Sub-Categories'!Z77","v":101.03416782943199},1.7316517720607978E-4,{"$f":"'CPI Sub-Categories'!AA77","v":101.161147560743},1.2567998929370135E-3,{"$f":"'CPI Sub-Categories'!AB77","v":101.21345732969},5.1709347124189137E-4,null,{"$f":"'CPI Sub-Categories'!AD77","v":100.12622889188999},-1.0741935573433666E-2,{"$f":"'CPI Sub-Categories'!AE77","v":103.884832172977},3.7538648191227784E-2,{"$f":"'CPI Sub-Categories'!AF77","v":106.45857949157499},2.4775005790185895E-2,{"$f":"'CPI Sub-Categories'!AG77","v":101.988504004356},-4.1988870305870916E-2,null,{"$f":"'CPI Sub-Categories'!AI77","v":93.352471041398701},-8.4676533372706891E-2,{"$f":"'CPI Sub-Categories'!AJ77","v":93.352471041398701},0,{"$f":"'CPI Sub-Categories'!AK77","v":93.352471041398701},0,{"$f":"'CPI Sub-Categories'!AL77","v":112.26933182407799},0.2026391007292169,null,{"$f":"'CPI Sub-Categories'!AM77","v":112.26933182407799},0,{"$f":"'CPI Sub-Categories'!AN77","v":112.26933182407799},0,{"$f":"'CPI Sub-Categories'!AO77","v":113.809898124905},1.3722058159578446E-2,{"$f":"'CPI Sub-Categories'!AU77","v":0},-1]
[3,"055200","Small tools and miscellaneous accessories",101.997696165549,100.973407071788,-1.0042276759844749E-2,102.996614844261,2.0037035801263807E-2,110.258489596559,7.0505955591633043E-2,null,109.813086270699,-4.039628399497861E-3,105.500894290427,-3.9268470878252783E-2,107.69473152310501,2.0794489444219549E-2,103.874310691933,-3.5474537864021341E-2,null,105.07618793456901,1.1570495482761753E-2,103.34138633516,-1.6509940391911365E-2,106.176816872788,2.7437512096383565E-2,108.88960731416201,2.5549743543585839E-2,null,{"$f":"'CPI Sub-Categories'!Y78","v":111.50508857266},2.4019567367452782E-2,{"$f":"'CPI Sub-Categories'!Z78","v":113.159517066807},1.4837246580625097E-2,{"$f":"'CPI Sub-Categories'!AA78","v":113.874222544958},6.3159113495425802E-3,{"$f":"'CPI Sub-Categories'!AB78","v":116.697493863641},2.4792892154046182E-2,null,{"$f":"'CPI Sub-Categories'!AD78","v":119.018445600287},1.9888616797186637E-2,{"$f":"'CPI Sub-Categories'!AE78","v":119.85265933303999},7.0091129870291985E-3,{"$f":"'CPI Sub-Categories'!AF78","v":120.417031524845},4.7088833484850738E-3,{"$f":"'CPI Sub-Categories'!AG78","v":120.729936721399},2.5985127900237152E-3,null,{"$f":"'CPI Sub-Categories'!AI78","v":121.428929788788},5.7897244575056831E-3,{"$f":"'CPI Sub-Categories'!AJ78","v":120.164718111982},-1.0411124260132685E-2,{"$f":"'CPI Sub-Categories'!AK78","v":121.053052729878},7.3926409669447567E-3,{"$f":"'CPI Sub-Categories'!AL78","v":117.184219846383},{"$f":"(BB77-AZ77)/AZ77","v":-3.1959812629657934E-2},null,{"$f":"'CPI Sub-Categories'!AM78","v":121.850834191164},3.9822890410487595E-2,{"$f":"'CPI Sub-Categories'!AN78","v":126.648129867066},3.9370232528534319E-2,{"$f":"'CPI Sub-Categories'!AO78","v":126.951006018778},2.3914774898761439E-3,{"$f":"'CPI Sub-Categories'!AU78","v":0},-1]
[2,"056000","Goods and services for routine household maintenance",100.102363714701,100.29630946238601,1.937474206281143E-3,100.75219124189501,4.5453494944394544E-3,100.55731359757,-1.9342273544912195E-3,null,101.045081305753,4.850643784449579E-3,100.96295168091601,-8.1280180861528642E-4,100.04207142476101,-9.1209720082804004E-3,99.683858294501803,-3.5806248826885235E-3,null,99.489810721689807,-1.9466298368860319E-3,112.324008133672,0.12900011889543378,112.602647704619,2.4806768880203246E-3,113.00570791873599,3.5794914447687281E-3,null,{"$f":"'CPI Sub-Categories'!Y79","v":112.874343436727},-1.1624588211372171E-3,{"$f":"'CPI Sub-Categories'!Z79","v":114.188224948863},1.1640213994888075E-2,{"$f":"'CPI Sub-Categories'!AA79","v":114.87576603582001},6.0211207177002166E-3,{"$f":"'CPI Sub-Categories'!AB79","v":115.043078546083},1.4564648057347241E-3,null,{"$f":"'CPI Sub-Categories'!AD79","v":116.049321274817},8.7466603071729883E-3,{"$f":"'CPI Sub-Categories'!AE79","v":116.352223838622},2.6101192189455931E-3,{"$f":"'CPI Sub-Categories'!AF79","v":116.425644667429},6.3102213593128464E-4,{"$f":"'CPI Sub-Categories'!AG79","v":117.209977887292},6.7367736902248336E-3,null,{"$f":"'CPI Sub-Categories'!AI79","v":117.24395366765501},2.8987105855167591E-4,{"$f":"'CPI Sub-Categories'!AJ79","v":117.65223915823999},3.4823586019824232E-3,{"$f":"'CPI Sub-Categories'!AK79","v":119.31782634532399},1.4156867723051301E-2,{"$f":"'CPI Sub-Categories'!AL79","v":119.429648434185},9.3717839392559656E-4,null,{"$f":"'CPI Sub-Categories'!AM79","v":119.62283600966801},1.6175847288830473E-3,{"$f":"'CPI Sub-Categories'!AN79","v":120.353823501318},6.1107687798918169E-3,{"$f":"'CPI Sub-Categories'!AO79","v":120.49993429365399},1.214010391073192E-3,{"$f":"'CPI Sub-Categories'!AU79","v":0},-1]
[3,"056100","Non-durable household goods",100.344524431642,100.99728550704,6.5051987549423944E-3,102.531641811317,1.519205488121802E-2,101.875744261618,-6.3970257192020371E-3,null,103.517418686246,1.6114477852668934E-2,103.240995908893,-2.6703020695562664E-3,104.33943004484,1.0639515110027963E-2,103.133796041921,-1.1554922260940811E-2,null,102.480692254807,-6.3325874948744962E-3,103.698302572876,1.1881363125861327E-2,104.63611672014,9.0436788645110681E-3,105.99269206123,1.2964695017479546E-2,null,{"$f":"'CPI Sub-Categories'!Y80","v":105.550560065196},-4.1713441505815858E-3,{"$f":"'CPI Sub-Categories'!Z80","v":109.97267665733099},4.1895718880160984E-2,{"$f":"'CPI Sub-Categories'!AA80","v":112.286726151387},2.1042040299396027E-2,{"$f":"'CPI Sub-Categories'!AB80","v":112.849848031763},5.0150351664611801E-3,null,{"$f":"'CPI Sub-Categories'!AD80","v":116.23654814539},3.0010675004841579E-2,{"$f":"'CPI Sub-Categories'!AE80","v":117.256023981552},8.7706995125735304E-3,{"$f":"'CPI Sub-Categories'!AF80","v":117.503135659645},2.1074540113339519E-3,{"$f":"'CPI Sub-Categories'!AG80","v":120.142957373613},2.2465968241174507E-2,null,{"$f":"'CPI Sub-Categories'!AI80","v":120.257309284865},9.5179870507429486E-4,{"$f":"'CPI Sub-Categories'!AJ80","v":121.63147128164},1.1426848022350907E-2,{"$f":"'CPI Sub-Categories'!AK80","v":122.741412468348},9.1254440566447582E-3,{"$f":"'CPI Sub-Categories'!AL80","v":123.117770846141},3.0662705457300339E-3,null,{"$f":"'CPI Sub-Categories'!AM80","v":123.767980149678},5.2811978243949564E-3,{"$f":"'CPI Sub-Categories'!AN80","v":126.228256731402},1.9878134706154883E-2,{"$f":"'CPI Sub-Categories'!AO80","v":126.72002022233301},3.8958273184221985E-3,{"$f":"'CPI Sub-Categories'!AU80","v":0},-1]
[3,"056200","Domestic services and household services",100,100,0,100,0,100,0,null,100,0,100,0,98.2255357070228,-1.7744642929772E-2,98.2255357070228,0,null,98.2255357070228,0,115.970178636795,0.18065203515610365,115.970178636795,0,115.970178636795,0,null,{"$f":"'CPI Sub-Categories'!Y81","v":115.970178636795},0,{"$f":"'CPI Sub-Categories'!Z81","v":115.970178636795},0,{"$f":"'CPI Sub-Categories'!AA81","v":115.970178636795},0,{"$f":"'CPI Sub-Categories'!AB81","v":115.970178636795},0,null,{"$f":"'CPI Sub-Categories'!AD81","v":115.970178636795},0,{"$f":"'CPI Sub-Categories'!AE81","v":115.970178636795},0,{"$f":"'CPI Sub-Categories'!AF81","v":115.970178636795},0,{"$f":"'CPI Sub-Categories'!AG81","v":115.970178636795},0,null,{"$f":"'CPI Sub-Categories'!AI81","v":115.970178636795},0,{"$f":"'CPI Sub-Categories'!AJ81","v":115.970178636795},0,{"$f":"'CPI Sub-Categories'!AK81","v":117.87064284842801},1.6387525085953678E-2,{"$f":"'CPI Sub-Categories'!AL81","v":117.87064284842801},0,null,{"$f":"'CPI Sub-Categories'!AM81","v":117.870642848427},-8.5599828795096663E-15,{"$f":"'CPI Sub-Categories'!AN81","v":117.870642848427},0,{"$f":"'CPI Sub-Categories'!AO81","v":117.87064284842801},8.5599828795097405E-15,{"$f":"'CPI Sub-Categories'!AU81","v":0},-1]
[1,"060000","Health",101.040395794402,102.72746487278199,1.6696976146182724E-2,102.29587885123,-4.2012719975760213E-3,103.137580446535,8.2281085490168437E-3,null,103.800148163741,6.4241153839115668E-3,106.471274574072,2.5733358358192251E-2,106.35408247098199,-1.1006922154244965E-3,104.87233488786001,-1.3932211615160816E-2,null,104.845068991518,-2.5999131583326346E-4,106.328101309383,1.4144988716493419E-2,105.569574044886,-7.1338362592398502E-3,105.776864670206,1.9635451520516999E-3,null,{"$f":"'CPI Sub-Categories'!Y82","v":105.82521715704},4.5711779210662188E-4,{"$f":"'CPI Sub-Categories'!Z82","v":106.90226316463099},1.0177593172265402E-2,{"$f":"'CPI Sub-Categories'!AA82","v":107.544275816029},6.0056039263574482E-3,{"$f":"'CPI Sub-Categories'!AB82","v":109.08619927909599},1.433756888841476E-2,null,{"$f":"'CPI Sub-Categories'!AD82","v":108.19960230283},-8.1274898394584419E-3,{"$f":"'CPI Sub-Categories'!AE82","v":108.278982313657},7.3364420143454308E-4,{"$f":"'CPI Sub-Categories'!AF82","v":108.55327284440099},2.5331834939992894E-3,{"$f":"'CPI Sub-Categories'!AG82","v":108.662323121448},1.0045784359105901E-3,null,{"$f":"'CPI Sub-Categories'!AI82","v":109.160848334679},4.5878387182447904E-3,{"$f":"'CPI Sub-Categories'!AJ82","v":109.22570980818401},5.9418257089890114E-4,{"$f":"'CPI Sub-Categories'!AK82","v":109.160848334679},-5.9382972762466488E-4,{"$f":"'CPI Sub-Categories'!AL82","v":111.275480997155},1.9371713345362543E-2,null,{"$f":"'CPI Sub-Categories'!AM82","v":111.05234224603301},-2.005282287907599E-3,{"$f":"'CPI Sub-Categories'!AN82","v":109.22570980818401},-1.6448391820517865E-2,{"$f":"'CPI Sub-Categories'!AO82","v":115.37358469953899},5.6285968771926841E-2,{"$f":"'CPI Sub-Categories'!AU82","v":0},-1]
[2,"061000","Medical products, appliances and equipment",101.89894258007401,100.225350114958,-1.6424041533118591E-2,99.437614257411596,-7.8596468522472533E-3,100.97389785990499,1.5449723064719357E-2,null,102.183224211621,1.1976623437810297E-2,108.039483674064,5.7311359155341579E-2,107.93128105927001,-1.0015099213212066E-3,105.226778029123,-2.5057638560426636E-2,null,105.177011996017,-4.729407669616444E-4,105.14371820427201,-3.1655008174463235E-4,103.75924536379,-1.3167432768472832E-2,104.13759463912299,3.6464150640886451E-3,null,{"$f":"'CPI Sub-Categories'!Y83","v":104.225848163978},8.4747036035197625E-4,{"$f":"'CPI Sub-Categories'!Z83","v":106.191685142098},1.886131907535215E-2,{"$f":"'CPI Sub-Categories'!AA83","v":107.363494147138},1.1034847064268487E-2,{"$f":"'CPI Sub-Categories'!AB83","v":110.177830897622},2.6213162796537254E-2,null,{"$f":"'CPI Sub-Categories'!AD83","v":108.559603720372},-1.4687411832909232E-2,{"$f":"'CPI Sub-Categories'!AE83","v":108.70448904514799},1.3346154537298637E-3,{"$f":"'CPI Sub-Categories'!AF83","v":109.205127331984},4.6054978155325192E-3,{"$f":"'CPI Sub-Categories'!AG83","v":109.40416717390499},1.822623596380329E-3,null,{"$f":"'CPI Sub-Categories'!AI83","v":110.31408122751699},8.3169963002015426E-3,{"$f":"'CPI Sub-Categories'!AJ83","v":110.43246714805601},1.073171432166011E-3,{"$f":"'CPI Sub-Categories'!AK83","v":111.580107976435},1.0392241140826482E-2,{"$f":"'CPI Sub-Categories'!AL83","v":114.173733511387},2.3244515370963378E-2,null,{"$f":"'CPI Sub-Categories'!AM83","v":113.76645805136501},-3.5671554874867357E-3,{"$f":"'CPI Sub-Categories'!AN83","v":114.576367561854},7.1190535801274784E-3,{"$f":"'CPI Sub-Categories'!AO83","v":114.63680053396099},5.2744709396001566E-4,{"$f":"'CPI Sub-Categories'!AU83","v":0},-1]
[3,"061100","Pharmaceutical products",101.357523041158,98.5775721494186,-2.742717864771178E-2,98.894935141247998,3.2194239004827234E-3,99.817508661750693,9.3288247692868923E-3,null,96.4966273187691,-3.3269527435662492E-2,103.725113237131,7.4909207909237663E-2,103.67977876646199,-4.3706359293494643E-4,102.549056778241,-1.0905906645190104E-2,null,102.59418014609901,4.4001738558735633E-4,101.78387047101,-7.8982031333071929E-3,99.922371728558005,-1.8288739992277953E-2,100.801015988312,8.7932686600039854E-3,null,{"$f":"'CPI Sub-Categories'!Y84","v":101.12714056244801},3.2353302289514357E-3,{"$f":"'CPI Sub-Categories'!Z84","v":103.762189864162},2.6056796296804182E-2,{"$f":"'CPI Sub-Categories'!AA84","v":106.090801321535},2.2441811033686272E-2,{"$f":"'CPI Sub-Categories'!AB84","v":109.54686523244899},3.2576470983940647E-2,null,{"$f":"'CPI Sub-Categories'!AD84","v":107.241026297183},-2.1048881046237193E-2,{"$f":"'CPI Sub-Categories'!AE84","v":107.535640784466},2.7472180885939352E-3,{"$f":"'CPI Sub-Categories'!AF84","v":107.942309499346},3.781710992870595E-3,{"$f":"'CPI Sub-Categories'!AG84","v":106.686496171418},-1.1634115795304569E-2,null,{"$f":"'CPI Sub-Categories'!AI84","v":108.54289646029601},1.740051792398585E-2,{"$f":"'CPI Sub-Categories'!AJ84","v":110.445022937665},1.7524191258934899E-2,{"$f":"'CPI Sub-Categories'!AK84","v":111.118254154433},6.0956229521358582E-3,{"$f":"'CPI Sub-Categories'!AL84","v":114.463503494463},3.0105308668553602E-2,null,{"$f":"'CPI Sub-Categories'!AM84","v":113.886808344944},-5.0382447846958828E-3,{"$f":"'CPI Sub-Categories'!AN84","v":115.031402604644},1.0050279539252836E-2,{"$f":"'CPI Sub-Categories'!AO84","v":114.93710959293399},-8.1971539575229719E-4,{"$f":"'CPI Sub-Categories'!AU84","v":0},-1]
[3,"061200","Other medical products",100.65715056624801,98.766845478484498,-1.8779640364639513E-2,97.859685683421006,-9.1848614853362841E-3,101.145692360677,3.3578757731619197E-2,null,101.527591817282,3.7757362443392724E-3,99.952555507297106,-1.5513381946648253E-2,104.75592026186401,4.8056447683483459E-2,105.422475478037,6.3629359992902635E-3,null,102.79423234146699,-2.4930576944359049E-2,104.005027154011,1.1778820513216446E-2,102.266891294182,-1.6712036979281426E-2,99.463020862347193,-2.7417186504370871E-2,null,{"$f":"'CPI Sub-Categories'!Y85","v":99.784066398611898},3.2277879103332222E-3,{"$f":"'CPI Sub-Categories'!Z85","v":100.09593504920601},3.1254353710969377E-3,{"$f":"'CPI Sub-Categories'!AA85","v":99.1196620176583},-9.753373411895111E-3,{"$f":"'CPI Sub-Categories'!AB85","v":106.01412880997501},6.9557004654519985E-2,null,{"$f":"'CPI Sub-Categories'!AD85","v":106.127144979093},1.0660481804323802E-3,{"$f":"'CPI Sub-Categories'!AE85","v":105.560154145097},-5.3425618309782914E-3,{"$f":"'CPI Sub-Categories'!AF85","v":106.141077624479},5.5032458420199871E-3,{"$f":"'CPI Sub-Categories'!AG85","v":111.242189398218},4.8059732272423744E-2,null,{"$f":"'CPI Sub-Categories'!AI85","v":108.688447888721},-2.2956591589143156E-2,{"$f":"'CPI Sub-Categories'!AJ85","v":107.271934035638},-1.3032791254258037E-2,{"$f":"'CPI Sub-Categories'!AK85","v":112.432381252631},4.8106219612658395E-2,{"$f":"'CPI Sub-Categories'!AL85","v":119.058786069904},5.8936800443492657E-2,null,{"$f":"'CPI Sub-Categories'!AM85","v":117.504005365124},-1.3058932953231432E-2,{"$f":"'CPI Sub-Categories'!AN85","v":118.974216555783},1.2512009153139637E-2,{"$f":"'CPI Sub-Categories'!AO85","v":120.288824764297},1.1049521876007705E-2,{"$f":"'CPI Sub-Categories'!AU85","v":0},-1]
[3,"061300","Therapeutic appliances and equipment",103.374370520539,104.187738404242,7.8681773790476445E-3,100.992288937008,-3.0670110669221481E-2,103.48270598034399,2.4659477169483156E-2,null,114.861755083405,0.10996087699158542,119.38519429930901,3.9381595837704057E-2,118.021085480864,-1.1426113819650578E-2,111.08212445640901,-5.8794248469948907E-2,null,111.40989382001101,2.9506940491638282E-3,112.80558034204201,1.252749171708044E-2,112.552605401972,-2.2425746962424142E-3,112.552605401972,0,null,{"$f":"'CPI Sub-Categories'!Y86","v":112.06379320457999},-4.3429665234870126E-3,{"$f":"'CPI Sub-Categories'!Z86","v":112.931423402416},7.742288325472706E-3,{"$f":"'CPI Sub-Categories'!AA86","v":112.043121665417},-7.8658508875218275E-3,{"$f":"'CPI Sub-Categories'!AB86","v":112.515295538806},4.2142156195808366E-3,null,{"$f":"'CPI Sub-Categories'!AD86","v":112.018234757946},-4.4177174177048896E-3,{"$f":"'CPI Sub-Categories'!AE86","v":111.995172048844},-2.058835255870773E-4,{"$f":"'CPI Sub-Categories'!AF86","v":112.68459007652299},6.1557834598291762E-3,{"$f":"'CPI Sub-Categories'!AG86","v":114.973904595671},2.0316127676316312E-2,null,{"$f":"'CPI Sub-Categories'!AI86","v":114.586395769622},-3.3704067667507114E-3,{"$f":"'CPI Sub-Categories'!AJ86","v":111.12382803889101},-3.0217965295745493E-2,{"$f":"'CPI Sub-Categories'!AK86","v":112.403824951305},1.1518653874720911E-2,{"$f":"'CPI Sub-Categories'!AL86","v":112.423922858632},1.7880092012621308E-4,null,{"$f":"'CPI Sub-Categories'!AM86","v":112.65099151426099},2.0197538909447763E-3,{"$f":"'CPI Sub-Categories'!AN86","v":112.573265075392},-6.8997563025579895E-4,{"$f":"'CPI Sub-Categories'!AO86","v":112.68928193654},1.0305898213958638E-3,{"$f":"'CPI Sub-Categories'!AU86","v":0},-1]
[2,"062000","Outpatient services",100,108.401866708765,8.401866708764999E-2,108.401866708765,0,108.401866708765,0,null,108.401866708765,0,106.667898381992,-1.5995742319009278E-2,106.481050794209,-1.7516759082838614E-3,106.481050794209,0,null,106.481050794209,0,107.746546134209,1.1884699958922882E-2,107.746546134209,0,107.746546134209,0,null,{"$f":"'CPI Sub-Categories'!Y87","v":107.746546134209},0,{"$f":"'CPI Sub-Categories'!Z87","v":107.746546134209},0,{"$f":"'CPI Sub-Categories'!AA87","v":107.746546134209},0,{"$f":"'CPI Sub-Categories'!AB87","v":107.746546134209},0,null,{"$f":"'CPI Sub-Categories'!AD87","v":107.746546134209},0,{"$f":"'CPI Sub-Categories'!AE87","v":107.746546134209},0,{"$f":"'CPI Sub-Categories'!AF87","v":107.746546134209},0,{"$f":"'CPI Sub-Categories'!AG87","v":107.746546134209},0,null,{"$f":"'CPI Sub-Categories'!AI87","v":107.746546134209},0,{"$f":"'CPI Sub-Categories'!AJ87","v":107.746546134209},0,{"$f":"'CPI Sub-Categories'!AK87","v":107.746546134209},0,{"$f":"'CPI Sub-Categories'!AL87","v":107.746546134209},0,null,{"$f":"'CPI Sub-Categories'!AM87","v":107.746546134209},0,{"$f":"'CPI Sub-Categories'!AN87","v":115.629151866697},7.3158778775789579E-2,{"$f":"'CPI Sub-Categories'!AO87","v":115.629151866698},8.603019342483361E-15,{"$f":"'CPI Sub-Categories'!AU87","v":0},-1]
[3,"062100","Medical services",100,100.901461955532,9.0146195553199963E-3,100.901461955532,0,100.901461955532,0,null,100.901461955532,0,101.47066263313501,5.6411539195919463E-3,100.901461955532,-5.6095098113327566E-3,100.901461955532,0,null,100.901461955532,0,103.616793149598,2.6910722019693453E-2,103.616793149598,0,103.616793149598,0,null,{"$f":"'CPI Sub-Categories'!Y88","v":103.616793149598},0,{"$f":"'CPI Sub-Categories'!Z88","v":103.616793149598},0,{"$f":"'CPI Sub-Categories'!AA88","v":103.616793149598},0,{"$f":"'CPI Sub-Categories'!AB88","v":103.616793149598},0,null,{"$f":"'CPI Sub-Categories'!AD88","v":103.616793149598},0,{"$f":"'CPI Sub-Categories'!AE88","v":103.616793149598},0,{"$f":"'CPI Sub-Categories'!AF88","v":103.616793149598},0,{"$f":"'CPI Sub-Categories'!AG88","v":103.616793149598},0,null,{"$f":"'CPI Sub-Categories'!AI88","v":103.616793149598},0,{"$f":"'CPI Sub-Categories'!AJ88","v":103.616793149598},0,{"$f":"'CPI Sub-Categories'!AK88","v":103.616793149598},0,{"$f":"'CPI Sub-Categories'!AL88","v":103.616793149598},0,null,{"$f":"'CPI Sub-Categories'!AM88","v":103.616793149598},0,{"$f":"'CPI Sub-Categories'!AN88","v":106.93818533517199},3.2054574211524751E-2,{"$f":"'CPI Sub-Categories'!AO88","v":106.93818533517199},0,{"$f":"'CPI Sub-Categories'!AU88","v":0},-1]
[3,"062200","Dental services",100,114.183338913315,0.14183338913314997,114.183338913315,0,114.183338913315,0,null,114.183338913315,0,110.822402427089,-2.9434561278485035E-2,110.822402427089,0,110.822402427089,0,null,110.822402427089,0,110.822402427089,0,110.822402427089,0,110.822402427089,0,null,{"$f":"'CPI Sub-Categories'!Y89","v":110.822402427089},0,{"$f":"'CPI Sub-Categories'!Z89","v":110.822402427089},0,{"$f":"'CPI Sub-Categories'!AA89","v":110.822402427089},0,{"$f":"'CPI Sub-Categories'!AB89","v":110.822402427089},0,null,{"$f":"'CPI Sub-Categories'!AD89","v":110.822402427089},0,{"$f":"'CPI Sub-Categories'!AE89","v":110.822402427089},0,{"$f":"'CPI Sub-Categories'!AF89","v":110.822402427089},0,{"$f":"'CPI Sub-Categories'!AG89","v":110.822402427089},0,null,{"$f":"'CPI Sub-Categories'!AI89","v":110.822402427089},0,{"$f":"'CPI Sub-Categories'!AJ89","v":110.822402427089},0,{"$f":"'CPI Sub-Categories'!AK89","v":110.822402427089},0,{"$f":"'CPI Sub-Categories'!AL89","v":110.822402427089},0,null,{"$f":"'CPI Sub-Categories'!AM89","v":110.822402427089},0,{"$f":"'CPI Sub-Categories'!AN89","v":122.223467105916},0.1028768951866736,{"$f":"'CPI Sub-Categories'!AO89","v":122.223467105916},0,{"$f":"'CPI Sub-Categories'!AU89","v":0},-1]
[3,"062300","Paramedical services",100,100,0,100,0,100,0,null,100,0,100,0,100,0,100,0,null,100,0,103.733131628781,3.7331316287809953E-2,103.733131628781,0,103.733131628781,0,null,{"$f":"'CPI Sub-Categories'!Y90","v":103.733131628781},0,{"$f":"'CPI Sub-Categories'!Z90","v":103.733131628781},0,{"$f":"'CPI Sub-Categories'!AA90","v":103.733131628781},0,{"$f":"'CPI Sub-Categories'!AB90","v":103.733131628781},0,null,{"$f":"'CPI Sub-Categories'!AD90","v":103.733131628781},0,{"$f":"'CPI Sub-Categories'!AE90","v":103.733131628781},0,{"$f":"'CPI Sub-Categories'!AF90","v":103.733131628781},0,{"$f":"'CPI Sub-Categories'!AG90","v":103.733131628781},0,null,{"$f":"'CPI Sub-Categories'!AI90","v":103.733131628781},0,{"$f":"'CPI Sub-Categories'!AJ90","v":103.733131628781},0,{"$f":"'CPI Sub-Categories'!AK90","v":103.733131628781},0,{"$f":"'CPI Sub-Categories'!AL90","v":103.733131628781},0,null,{"$f":"'CPI Sub-Categories'!AM90","v":103.733131628781},0,{"$f":"'CPI Sub-Categories'!AN90","v":106.49161750417301},2.6592139194867064E-2,{"$f":"'CPI Sub-Categories'!AO90","v":106.49161750417301},0,{"$f":"'CPI Sub-Categories'!AU90","v":0},-1]
[2,"063000","Hospital services",100,100,0,100,0,100,0,null,100,0,100,0,100,0,100,0,null,100,0,107.799974524672,7.7999745246719959E-2,107.799974524672,0,107.799974524672,0,null,{"$f":"'CPI Sub-Categories'!Y91","v":107.799974524672},0,{"$f":"'CPI Sub-Categories'!Z91","v":107.799974524671},-9.2278299178676647E-15,{"$f":"'CPI Sub-Categories'!AA91","v":107.799974524671},0,{"$f":"'CPI Sub-Categories'!AB91","v":107.799974524671},0,null,{"$f":"'CPI Sub-Categories'!AD91","v":107.799974524671},0,{"$f":"'CPI Sub-Categories'!AE91","v":107.799974524671},0,{"$f":"'CPI Sub-Categories'!AF91","v":107.799974524671},0,{"$f":"'CPI Sub-Categories'!AG91","v":107.799974524671},0,null,{"$f":"'CPI Sub-Categories'!AI91","v":107.799974524671},0,{"$f":"'CPI Sub-Categories'!AJ91","v":107.799974524671},0,{"$f":"'CPI Sub-Categories'!AK91","v":107.799974524671},0,{"$f":"'CPI Sub-Categories'!AL91","v":107.799974524671},0,null,{"$f":"'CPI Sub-Categories'!AM91","v":107.799974524671},0,{"$f":"'CPI Sub-Categories'!AN91","v":117.655521264689},9.1424388395958928E-2,{"$f":"'CPI Sub-Categories'!AO91","v":117.655521264689},0,{"$f":"'CPI Sub-Categories'!AU91","v":0},-1]
[3,"063100","Hospital services",100,100,0,100,0,100,0,null,100,0,100,0,100,0,100,0,null,100,0,107.799974524672,7.7999745246719959E-2,107.799974524672,0,107.799974524672,0,null,{"$f":"'CPI Sub-Categories'!Y92","v":107.799974524672},0,{"$f":"'CPI Sub-Categories'!Z92","v":107.799974524671},-9.2278299178676647E-15,{"$f":"'CPI Sub-Categories'!AA92","v":107.799974524671},0,{"$f":"'CPI Sub-Categories'!AB92","v":107.799974524671},0,null,{"$f":"'CPI Sub-Categories'!AD92","v":107.799974524671},0,{"$f":"'CPI Sub-Categories'!AE92","v":107.799974524671},0,{"$f":"'CPI Sub-Categories'!AF92","v":107.799974524671},0,{"$f":"'CPI Sub-Categories'!AG92","v":107.799974524671},0,null,{"$f":"'CPI Sub-Categories'!AI92","v":107.799974524671},0,{"$f":"'CPI Sub-Categories'!AJ92","v":107.799974524671},0,{"$f":"'CPI Sub-Categories'!AK92","v":107.799974524671},0,{"$f":"'CPI Sub-Categories'!AL92","v":107.799974524671},0,null,{"$f":"'CPI Sub-Categories'!AM92","v":107.799974524671},0,{"$f":"'CPI Sub-Categories'!AN92","v":117.655521264689},9.1424388395958928E-2,{"$f":"'CPI Sub-Categories'!AO92","v":117.655521264689},0,{"$f":"'CPI Sub-Categories'!AU92","v":0},-1]
[1,"070000","Transport",99.882840288826799,100.535530213733,6.5345551149611257E-3,99.922859919036796,-6.0940673749240492E-3,101.366959451151,1.4452143716505914E-2,null,100.87684306804999,-4.8350703794878963E-3,97.312316909863696,-3.5335425354079741E-2,97.596793928346401,2.9233403079509781E-3,96.208145392289595,-1.4228423702896672E-2,null,97.689407888792999,1.5396435410573017E-2,99.631945540411493,1.9884833920068661E-2,101.382233895018,1.7567541666609131E-2,104.828662352886,3.399440242593979E-2,null,{"$f":"'CPI Sub-Categories'!Y93","v":108.04876312727799},3.0717751253489529E-2,{"$f":"'CPI Sub-Categories'!Z93","v":118.759027942928},9.9124362978904784E-2,{"$f":"'CPI Sub-Categories'!AA93","v":110.769516890879},-6.727497850427433E-2,{"$f":"'CPI Sub-Categories'!AB93","v":109.72346277197001},-9.4435197360252486E-3,null,{"$f":"'CPI Sub-Categories'!AD93","v":111.530202730591},1.6466304589528E-2,{"$f":"'CPI Sub-Categories'!AE93","v":105.596982105351},-5.3198330855473347E-2,{"$f":"'CPI Sub-Categories'!AF93","v":109.251490671612},3.4608077744257927E-2,{"$f":"'CPI Sub-Categories'!AG93","v":116.828318064139},6.9352164862458598E-2,null,{"$f":"'CPI Sub-Categories'!AI93","v":114.721567247941},-1.8032878082190576E-2,{"$f":"'CPI Sub-Categories'!AJ93","v":116.333073044633},1.4047104091675696E-2,{"$f":"'CPI Sub-Categories'!AK93","v":114.721567247941},-1.3852516352539928E-2,{"$f":"'CPI Sub-Categories'!AL93","v":123.238339744851},7.4238634471434709E-2,null,{"$f":"'CPI Sub-Categories'!AM93","v":122.126602514326},-9.0210338181017074E-3,{"$f":"'CPI Sub-Categories'!AN93","v":116.333073044633},-4.743871810413617E-2,{"$f":"'CPI Sub-Categories'!AO93","v":120.947050521732},3.9661786251694517E-2,{"$f":"'CPI Sub-Categories'!AU93","v":0},-1]
[2,"071000","Purchase of vehicles",99.303001930917603,98.513139382495496,-7.9540651648335164E-3,98.609358166663398,9.7671016040119579E-4,102.003234154533,3.4417382396237567E-2,null,101.525052639051,-4.68790543207258E-3,101.22624162961399,-2.9432243733904457E-3,101.12921389146,-9.5852356653742957E-4,99.120408567248404,-1.9863749028718888E-2,null,102.00607836557801,2.9112771426600952E-2,102.190036592517,1.803404560654835E-3,102.190036592517,0,106.842245735718,4.5525075617221723E-2,null,{"$f":"'CPI Sub-Categories'!Y94","v":107.70319147329501},8.0581022202268517E-3,{"$f":"'CPI Sub-Categories'!Z94","v":107.71370920786499},9.7654808795476038E-5,{"$f":"'CPI Sub-Categories'!AA94","v":107.70319147329501},-9.7645273264985568E-5,{"$f":"'CPI Sub-Categories'!AB94","v":107.068141836111},-5.8962935870054637E-3,null,{"$f":"'CPI Sub-Categories'!AD94","v":110.773881620579},3.4611040417049335E-2,{"$f":"'CPI Sub-Categories'!AE94","v":110.790264662407},1.4789625124907898E-4,{"$f":"'CPI Sub-Categories'!AF94","v":110.87623547493},7.7597804089525537E-4,{"$f":"'CPI Sub-Categories'!AG94","v":116.057547304368},4.6730589357081284E-2,null,{"$f":"'CPI Sub-Categories'!AI94","v":116.62555930862899},4.8942271955079901E-3,{"$f":"'CPI Sub-Categories'!AJ94","v":116.666353133052},3.4978459837480057E-4,{"$f":"'CPI Sub-Categories'!AK94","v":116.62743917395299},-3.3354911723885078E-4,{"$f":"'CPI Sub-Categories'!AL94","v":117.185031980521},4.7809744474998327E-3,null,{"$f":"'CPI Sub-Categories'!AM94","v":117.13227104838001},-4.5023610310375179E-4,{"$f":"'CPI Sub-Categories'!AN94","v":115.330757801093},-1.5380161514523292E-2,{"$f":"'CPI Sub-Categories'!AO94","v":115.365418867356},3.0053618760380669E-4,{"$f":"'CPI Sub-Categories'!AU94","v":0},-1]
[3,"071100","Motor cars",99.242887909999993,98.463731823689002,-7.8510017465189142E-3,98.463731823689002,0,101.81901280591801,3.4076313380413344E-2,null,101.323226994797,-4.8692851900464856E-3,101.04417244492601,-2.7541024713447133E-3,101.04417244492601,0,98.749626014939807,-2.2708349966811175E-2,null,101.670492541228,2.9578507222359468E-2,101.873497896408,1.9966988464984246E-3,101.873497896408,0,106.575517517226,4.6155474366840185E-2,null,{"$f":"'CPI Sub-Categories'!Y95","v":107.375973376592},7.5106917424690644E-3,{"$f":"'CPI Sub-Categories'!Z95","v":107.375973376592},0,{"$f":"'CPI Sub-Categories'!AA95","v":107.375973376592},0,{"$f":"'CPI Sub-Categories'!AB95","v":106.702482131951},-6.2722713793607445E-3,null,{"$f":"'CPI Sub-Categories'!AD95","v":110.441007990751},3.5036915581559261E-2,{"$f":"'CPI Sub-Categories'!AE95","v":110.441007990751},0,{"$f":"'CPI Sub-Categories'!AF95","v":110.441007990751},0,{"$f":"'CPI Sub-Categories'!AG95","v":115.62624364066799},4.6950274578725623E-2,null,{"$f":"'CPI Sub-Categories'!AI95","v":115.87894992071099},2.1855443200968824E-3,{"$f":"'CPI Sub-Categories'!AJ95","v":115.87894992071099},0,{"$f":"'CPI Sub-Categories'!AK95","v":115.87894992071099},0,{"$f":"'CPI Sub-Categories'!AL95","v":116.418738292128},4.6582090343962237E-3,null,{"$f":"'CPI Sub-Categories'!AM95","v":116.418738292128},0,{"$f":"'CPI Sub-Categories'!AN95","v":114.591836207718},-1.5692508879676853E-2,{"$f":"'CPI Sub-Categories'!AO95","v":114.591836207718},0,{"$f":"'CPI Sub-Categories'!AU95","v":0},-1]
[3,"071200","Motor cycles",102.144367966019,103.552354124093,1.378427598222938E-2,103.552354124093,0,105.39246889237801,1.7769897979140921E-2,null,102.782163371579,-2.4767476729903041E-2,100.033984427767,-2.6737897448964622E-2,100.033984427767,0,116.28106011497501,0.16241556087311282,null,114.786986075428,-1.2848816807051026E-2,114.786986075428,0,114.786986075428,0,115.785514367237,8.698967765848031E-3,null,{"$f":"'CPI Sub-Categories'!Y96","v":122.953205700117},6.1904905566565305E-2,{"$f":"'CPI Sub-Categories'!Z96","v":122.953205700117},0,{"$f":"'CPI Sub-Categories'!AA96","v":122.953205700117},0,{"$f":"'CPI Sub-Categories'!AB96","v":119.57073987491},-2.7510188172375351E-2,null,{"$f":"'CPI Sub-Categories'!AD96","v":119.57073987491},0,{"$f":"'CPI Sub-Categories'!AE96","v":119.57073987491},0,{"$f":"'CPI Sub-Categories'!AF96","v":127.857270219729},6.930232558139246E-2,{"$f":"'CPI Sub-Categories'!AG96","v":135.798829194451},6.21126898851668E-2,null,{"$f":"'CPI Sub-Categories'!AI96","v":169.075936801615},0.24504708769995615,{"$f":"'CPI Sub-Categories'!AJ96","v":169.075936801615},0,{"$f":"'CPI Sub-Categories'!AK96","v":169.075936801615},0,{"$f":"'CPI Sub-Categories'!AL96","v":169.100447665513},1.4496955842250442E-4,null,{"$f":"'CPI Sub-Categories'!AM96","v":169.10044766551201},-5.8826563962255876E-15,{"$f":"'CPI Sub-Categories'!AN96","v":169.10044766551201},0,{"$f":"'CPI Sub-Categories'!AO96","v":169.10044766551201},0,{"$f":"'CPI Sub-Categories'!AU96","v":0},-1]
[3,"071300","Bicycles",106.729441281357,98.615485744241596,-7.6023592363100939E-2,120.906319968239,0.22603786875631776,136.565811044615,0.12951755607556004,null,144.84164477013201,6.0599601483078018E-2,145.465969920861,4.3103981021467633E-3,122.98772676869601,-0.15452578472060516,145.73641764483,0.18496716277159619,null,150.30246369574701,3.1330851441983346E-2,146.54343356406599,-2.500977056031705E-2,146.54343356406599,0,147.92600043741399,9.4345194439815379E-3,null,{"$f":"'CPI Sub-Categories'!Y97","v":148.60769670448201},4.6083600249601734E-3,{"$f":"'CPI Sub-Categories'!Z97","v":151.04432152508201},1.6396356814852065E-2,{"$f":"'CPI Sub-Categories'!AA97","v":148.60769670448201},-1.6131853193801681E-2,{"$f":"'CPI Sub-Categories'!AB97","v":162.852584998727},9.5855656269083142E-2,null,{"$f":"'CPI Sub-Categories'!AD97","v":167.29343185873699},2.7269121089141517E-2,{"$f":"'CPI Sub-Categories'!AE97","v":171.088861957228},2.2687263070171704E-2,{"$f":"'CPI Sub-Categories'!AF97","v":172.61327083800199},8.9100416200973403E-3,{"$f":"'CPI Sub-Categories'!AG97","v":170.77170864058601},-1.0668717349920869E-2,null,{"$f":"'CPI Sub-Categories'!AI97","v":170.77170864058601},0,{"$f":"'CPI Sub-Categories'!AJ97","v":180.222341232351},5.5340739206722007E-2,{"$f":"'CPI Sub-Categories'!AK97","v":171.20721368965101},-5.0022252962951277E-2,{"$f":"'CPI Sub-Categories'!AL97","v":177.01540350624899},3.3924912925261057E-2,null,{"$f":"'CPI Sub-Categories'!AM97","v":164.792372400392},-6.9050663748736946E-2,{"$f":"'CPI Sub-Categories'!AN97","v":164.792372400392},0,{"$f":"'CPI Sub-Categories'!AO97","v":172.82223984022301},4.8727179073076485E-2,{"$f":"'CPI Sub-Categories'!AU97","v":0},-1]
[3,"071400","Animal drawn vehicles","Not relevant","Not relevant","Not relevent","Not relevant","Not relevant","Not relevant","Not relevant",null,"Not relevant","Not relevant","Not relevant","Not relevant","Not relevant","Not relevant","Not relevant","Not relevant",null,"Not relevant","Not relevant","Not relevant","Not relevant","Not relevant","Not relevant","Not relevant",{"$f":"IFERROR((AA97-Y97)/Y97,\"Not relevant\")","v":"Not relevant"},null,{"$f":"'CPI Sub-Categories'!Y98","v":"Not relevant"},"Not relevant",{"$f":"'CPI Sub-Categories'!Z98","v":"Not relevant"},"Not relevant",{"$f":"'CPI Sub-Categories'!AA98","v":"Not relevant"},"Not relevant",{"$f":"'CPI Sub-Categories'!AB98","v":"Not relevant"},{"$f":"IFERROR((AJ97-AH97)/AH97,\"Not relevant\")","v":"Not relevant"},null,{"$f":"'CPI Sub-Categories'!AD98","v":"Not relevant"},"Not relevant",{"$f":"'CPI Sub-Categories'!AE98","v":"Not relevant"},"Not relevant",{"$f":"'CPI Sub-Categories'!AF98","v":"Not relevant"},"Not relevant",{"$f":"'CPI Sub-Categories'!AG98","v":"Not relevant"},"Not relevant",null,{"$f":"'CPI Sub-Categories'!AI98","v":"Not relevant"},"Not relevant",{"$f":"'CPI Sub-Categories'!AJ98","v":"Not relevant"},"Not relevant",{"$f":"'CPI Sub-Categories'!AK98","v":"Not relevant"},"Not relevant",{"$f":"'CPI Sub-Categories'!AL98","v":"Not relevant"},"Not relevant",null,{"$f":"'CPI Sub-Categories'!AM98","v":"Not relevant"},"Not relevant",{"$f":"'CPI Sub-Categories'!AN98","v":"Not relevant"},"Not relevant",{"$f":"'CPI Sub-Categories'!AO98","v":"Not relevant"},"Not relevant",{"$f":"'CPI Sub-Categories'!AU98","v":0},"Not relevant"]
[2,"072000","Operation of personal transport equipment (incl. fuel)",95.604852988810507,98.240297046897595,2.7566007118859731E-2,95.744686123664493,-2.5403128840721604E-2,97.251432389172905,1.5737126795342851E-2,null,94.608336690211701,-2.7177961640547133E-2,84.904460289437296,-0.10256893568004542,87.804445170765106,3.4155860262721542E-2,89.799753060335604,2.2724451884980928E-2,null,97.499431139077501,8.5742753363347857E-2,102.757031311418,5.3924418952156029E-2,105.965748506835,3.1226254344508812E-2,108.488507642087,2.3807307274286645E-2,null,{"$f":"'CPI Sub-Categories'!Y99","v":110.903004068401},{"$f":"(AD98-AA98)/AA98","v":2.2255780624060528E-2},{"$f":"'CPI Sub-Categories'!Z99","v":141.33097398875501},{"$f":"(AF98-AD98)/AD98","v":0.27436560601719245},{"$f":"'CPI Sub-Categories'!AA99","v":115.81080039483901},-0.18057028034029193,{"$f":"'CPI Sub-Categories'!AB99","v":113.631014281901},{"$f":"IFERROR((AJ98-AH98)/AH98,\"Not available\")","v":-1.8821958794053406E-2},null,{"$f":"'CPI Sub-Categories'!AD99","v":115.466723099913},{"$f":"(AM98-AJ98)/AJ98","v":1.6154998084043186E-2},{"$f":"'CPI Sub-Categories'!AE99","v":102.621337689203},-0.11124750980934067,{"$f":"'CPI Sub-Categories'!AF99","v":111.798289790214},8.9425379825043172E-2,{"$f":"'CPI Sub-Categories'!AG99","v":120.511619887506},7.7937955165882172E-2,null,{"$f":"'CPI Sub-Categories'!AI99","v":116.92025384832399},{"$f":"(AV98-AS98)/AS98","v":-2.9800993817313541E-2},{"$f":"'CPI Sub-Categories'!AJ99","v":118.452283704759},1.3103203303188548E-2,{"$f":"'CPI Sub-Categories'!AK99","v":119.05312173318001},5.0724056103349704E-3,{"$f":"'CPI Sub-Categories'!AL99","v":115.68503426132899},{"$f":"(BB98-AZ98)/AZ98","v":-2.8290627098376448E-2},null,{"$f":"'CPI Sub-Categories'!AM99","v":117.380793539084},{"$f":"(BE98-BB98)/BB98","v":1.4658415313465119E-2},{"$f":"'CPI Sub-Categories'!AN99","v":115.12755796183301},{"$f":"(BG98-BE98)/BE98","v":-1.9195947729734302E-2},{"$f":"'CPI Sub-Categories'!AO99","v":118.205092256076},{"$f":"(BI98-BG98)/BG98","v":2.6731517186035128E-2},{"$f":"'CPI Sub-Categories'!AU99","v":0},{"$f":"(BK98-BI98)/BI98","v":-1}]
[3,"072100","Spare parts and accessories for personal transport equipment",100.036472000863,100.218108487872,1.8157026470049275E-3,99.973864116218806,-2.4371281332131005E-3,108.047675999742,8.0759225972674722E-2,null,108.37316701307699,3.0124758383120974E-3,103.725655602396,-4.2884336951417072E-2,104.455266030234,7.0340401668296951E-3,107.55955541415599,2.9718840436665728E-2,null,106.74229386647301,-7.5982235565788562E-3,108.17083624784399,1.3383096143296237E-2,107.56552316276699,-5.595899098811535E-3,109.763956686193,2.0438087026261736E-2,null,{"$f":"'CPI Sub-Categories'!Y100","v":110.443875452247},6.1943718738004189E-3,{"$f":"'CPI Sub-Categories'!Z100","v":118.009916478573},6.8505754577557906E-2,{"$f":"'CPI Sub-Categories'!AA100","v":119.10347404430701},9.2666582467462299E-3,{"$f":"'CPI Sub-Categories'!AB100","v":119.19246444308899},7.4716879164148445E-4,null,{"$f":"'CPI Sub-Categories'!AD100","v":125.98024956705299},5.6948106205195324E-2,{"$f":"'CPI Sub-Categories'!AE100","v":128.07552834200399},1.6631803652966935E-2,{"$f":"'CPI Sub-Categories'!AF100","v":127.551525395502},-4.0913588511829781E-3,{"$f":"'CPI Sub-Categories'!AG100","v":126.28791011861701},-9.906704549137061E-3,null,{"$f":"'CPI Sub-Categories'!AI100","v":122.925387637565},-2.6625846273754413E-2,{"$f":"'CPI Sub-Categories'!AJ100","v":123.60397097209},5.5202863099829804E-3,{"$f":"'CPI Sub-Categories'!AK100","v":123.50936832019801},-7.6536903424689168E-4,{"$f":"'CPI Sub-Categories'!AL100","v":125.94614511101599},1.9729489543664769E-2,null,{"$f":"'CPI Sub-Categories'!AM100","v":126.952847304152},7.9931163613514624E-3,{"$f":"'CPI Sub-Categories'!AN100","v":132.53477252838999},4.3968491788647222E-2,{"$f":"'CPI Sub-Categories'!AO100","v":133.914594062448},1.0411015220646653E-2,{"$f":"'CPI Sub-Categories'!AU100","v":0},-1]
[3,"072200","Fuels and lubricants for personal transport equipment",93.372760592683306,97.294049453676706,4.1996068618974432E-2,93.602205789224797,-3.794521540815974E-2,94.127246459713703,5.6092766838337369E-3,null,90.053223156270505,-4.3282083102121477E-2,76.712895031996396,-0.14813826375902689,80.880207002328802,5.4323487186792398E-2,82.745717001266001,2.3065099213748119E-2,null,94.568601227148093,0.14288212918260412,102.09471099685599,7.9583600392170731E-2,107.09459496589901,4.8972996938078245E-2,108.85768592742301,1.6462931318666479E-2,null,{"$f":"'CPI Sub-Categories'!Y101","v":112.307397422107},3.1690104977832874E-2,{"$f":"'CPI Sub-Categories'!Z101","v":156.06127324827},0.38959032824627027,{"$f":"'CPI Sub-Categories'!AA101","v":117.321079503254},-0.24823707341786314,{"$f":"'CPI Sub-Categories'!AB101","v":111.37118601130901},-5.0714615967882952E-2,null,{"$f":"'CPI Sub-Categories'!AD101","v":112.266024640783},8.0347409551976019E-3,{"$f":"'CPI Sub-Categories'!AE101","v":92.340395656090493},-0.17748583374576982,{"$f":"'CPI Sub-Categories'!AF101","v":106.307727974993},0.15125917773757411,{"$f":"'CPI Sub-Categories'!AG101","v":116.921518594451},9.9840254529329292E-2,null,{"$f":"'CPI Sub-Categories'!AI101","v":112.43769292185399},-3.8349020150425975E-2,{"$f":"'CPI Sub-Categories'!AJ101","v":114.55853005137099},1.8862332322942765E-2,{"$f":"'CPI Sub-Categories'!AK101","v":115.489606803684},8.1275200711416699E-3,{"$f":"'CPI Sub-Categories'!AL101","v":107.940588313258},-6.5365349310247955E-2,null,{"$f":"'CPI Sub-Categories'!AM101","v":110.319710958703},2.2041038339910307E-2,{"$f":"'CPI Sub-Categories'!AN101","v":105.314014466028},-4.5374452572204696E-2,{"$f":"'CPI Sub-Categories'!AO101","v":109.56974782611201},4.0409943364724879E-2,{"$f":"'CPI Sub-Categories'!AU101","v":0},-1]
[3,"072300","Maintenance and repair of personal transport equipment",100,100,0,100,0,97.683087553425906,-2.3169124465740935E-2,null,97.683087553425906,0,97.683087553425906,0,97.683087553425906,0,99.064930470533099,1.4146183865773284E-2,null,99.064930470533099,0,99.064930470533099,0,99.064930470533099,0,105.99885993115799,6.9993785163836517E-2,null,{"$f":"'CPI Sub-Categories'!Y102","v":105.99885993115799},0,{"$f":"'CPI Sub-Categories'!Z102","v":105.99885993115799},0,{"$f":"'CPI Sub-Categories'!AA102","v":105.99885993115799},0,{"$f":"'CPI Sub-Categories'!AB102","v":118.79533692910999},0.12072277953048549,null,{"$f":"'CPI Sub-Categories'!AD102","v":118.79533692910999},0,{"$f":"'CPI Sub-Categories'!AE102","v":118.79533692910999},0,{"$f":"'CPI Sub-Categories'!AF102","v":118.79533692910999},0,{"$f":"'CPI Sub-Categories'!AG102","v":132.64189791586099},0.11655811873334562,null,{"$f":"'CPI Sub-Categories'!AI102","v":132.64189791586099},0,{"$f":"'CPI Sub-Categories'!AJ102","v":132.64189791586099},0,{"$f":"'CPI Sub-Categories'!AK102","v":132.64189791586099},0,{"$f":"'CPI Sub-Categories'!AL102","v":141.383503914904},6.5903806688502625E-2,null,{"$f":"'CPI Sub-Categories'!AM102","v":141.383503914904},0,{"$f":"'CPI Sub-Categories'!AN102","v":141.383503914904},0,{"$f":"'CPI Sub-Categories'!AO102","v":141.383503914904},0,{"$f":"'CPI Sub-Categories'!AU102","v":0},-1]
[3,"072400","Other services in respect of personal transport equipment",99.872384520676604,99.807878694400401,-6.4588250882153348E-4,99.807878694400401,0,99.807878694400401,0,null,99.937108508752004,1.2947857027128041E-3,100.065095681789,1.280677167338602E-3,100.065095681789,0,100.065095681789,0,null,100.065095681789,0,100.065095681789,0,100.065095681789,0,100.065095681789,0,null,{"$f":"'CPI Sub-Categories'!Y103","v":100.065095681789},0,{"$f":"'CPI Sub-Categories'!Z103","v":99.904842078310296},-1.6014935316538419E-3,{"$f":"'CPI Sub-Categories'!AA103","v":99.8467455181746},-5.8151896271610307E-4,{"$f":"'CPI Sub-Categories'!AB103","v":99.8467455181746},0,null,{"$f":"'CPI Sub-Categories'!AD103","v":99.904842078310196},5.8185732378248202E-4,{"$f":"'CPI Sub-Categories'!AE103","v":99.904842078310196},0,{"$f":"'CPI Sub-Categories'!AF103","v":99.904842078310196},0,{"$f":"'CPI Sub-Categories'!AG103","v":99.904842078310196},0,null,{"$f":"'CPI Sub-Categories'!AI103","v":99.904842078310196},0,{"$f":"'CPI Sub-Categories'!AJ103","v":99.904842078310196},0,{"$f":"'CPI Sub-Categories'!AK103","v":99.904842078310196},0,{"$f":"'CPI Sub-Categories'!AL103","v":99.904842078310196},0,null,{"$f":"'CPI Sub-Categories'!AM103","v":98.796778118719004},-1.1091193745370603E-2,{"$f":"'CPI Sub-Categories'!AN103","v":98.796778118719004},0,{"$f":"'CPI Sub-Categories'!AO103","v":98.796778118719004},0,{"$f":"'CPI Sub-Categories'!AU103","v":0},-1]
[2,"073000","Transport services",105.186789697295,104.87894768685599,-2.9266223574738485E-3,105.75700422489901,8.3720952336848696E-3,105.424410880164,-3.1448824328242273E-3,null,107.33776583431801,1.8149069443972647E-2,107.798499688379,4.2923741749214279E-3,105.48436843411,-2.1467193522717188E-2,100.844397761815,-4.398728210799608E-2,null,94.124439329607895,-6.6636903797859137E-2,93.8892513862708,-2.4986915726903499E-3,95.536212323031293,1.7541528049730772E-2,98.962952382471897,3.5868494009935817E-2,null,{"$f":"'CPI Sub-Categories'!Y104","v":105.151038909194},6.2529324133402911E-2,{"$f":"'CPI Sub-Categories'!Z104","v":103.118314554112},-1.933147191096618E-2,{"$f":"'CPI Sub-Categories'!AA104","v":107.800900635419},4.5409839188651366E-2,{"$f":"'CPI Sub-Categories'!AB104","v":107.6662718792},-1.248864855724293E-3,null,{"$f":"'CPI Sub-Categories'!AD104","v":107.778518480439},1.0425419147506736E-3,{"$f":"'CPI Sub-Categories'!AE104","v":104.38808446150701},-3.1457419036125797E-2,{"$f":"'CPI Sub-Categories'!AF104","v":104.974039538018},5.6132371767686658E-3,{"$f":"'CPI Sub-Categories'!AG104","v":113.373188422966},8.0011676428876549E-2,null,{"$f":"'CPI Sub-Categories'!AI104","v":110.590020780022},-2.4548728686721911E-2,{"$f":"'CPI Sub-Categories'!AJ104","v":113.66532932481999},2.7808192123547765E-2,{"$f":"'CPI Sub-Categories'!AK104","v":116.731708923501},2.6977264016173792E-2,{"$f":"'CPI Sub-Categories'!AL104","v":137.00497639400001},0.17367403987707314,null,{"$f":"'CPI Sub-Categories'!AM104","v":133.86463752517599},-2.2921348928180575E-2,{"$f":"'CPI Sub-Categories'!AN104","v":128.90639962406701},-3.7039191176807158E-2,{"$f":"'CPI Sub-Categories'!AO104","v":128.906399624068},7.7169157851369951E-15,{"$f":"'CPI Sub-Categories'!AU104","v":0},-1]
[3,"073100","Passenger transport by railway","Not relevant","Not relevant","Not relevent","Not relevant","Not relevant","Not relevant","Not relevant",null,"Not relevant","Not relevant","Not relevant","Not relevant","Not relevant","Not relevant","Not relevant","Not relevant",null,"Not relevant","Not relevant","Not relevant","Not relevant","Not relevant","Not relevant","Not relevant",{"$f":"IFERROR((AA104-Y104)/Y104,\"Not relevant\")","v":"Not relevant"},null,{"$f":"'CPI Sub-Categories'!Y105","v":"Not relevant"},"Not relevant",{"$f":"'CPI Sub-Categories'!Z105","v":"Not relevant"},"Not relevant",{"$f":"'CPI Sub-Categories'!AA105","v":"Not relevant"},"Not relevant",{"$f":"'CPI Sub-Categories'!AB105","v":"Not relevant"},{"$f":"IFERROR((AJ104-AH104)/AH104,\"Not relevant\")","v":"Not relevant"},null,{"$f":"'CPI Sub-Categories'!AD105","v":"Not relevant"},"Not relevant",{"$f":"'CPI Sub-Categories'!AE105","v":"Not relevant"},"Not relevant",{"$f":"'CPI Sub-Categories'!AF105","v":"Not relevant"},"Not relevant",{"$f":"'CPI Sub-Categories'!AG105","v":"Not relevant"},"Not relevant",null,{"$f":"'CPI Sub-Categories'!AI105","v":"Not relevant"},"Not relevant",{"$f":"'CPI Sub-Categories'!AJ105","v":"Not relevant"},"Not relevant",{"$f":"'CPI Sub-Categories'!AK105","v":"Not relevant"},"Not relevant",{"$f":"'CPI Sub-Categories'!AL105","v":"Not relevant"},"Not relevant",null,{"$f":"'CPI Sub-Categories'!AM105","v":"Not relevant"},"Not relevant",{"$f":"'CPI Sub-Categories'!AN105","v":"Not relevant"},"Not relevant",{"$f":"'CPI Sub-Categories'!AO105","v":"Not relevant"},"Not relevant",{"$f":"'CPI Sub-Categories'!AU105","v":0},"Not relevant"]
[3,"073200","Passenger transport by road",109.21659664123401,108.40856871359399,-7.3983987094407072E-3,113.231964540796,4.449275444217881E-2,114.671218165884,1.2710665499135234E-2,null,117.27866579374,2.2738466282655658E-2,117.27866579374,0,117.27866579374,0,113.807530179975,-2.9597332049033927E-2,null,106.36793712601001,-6.53699543624226E-2,106.36793712601001,0,106.36793712601001,0,112.70941002796999,5.9618274766835892E-2,null,{"$f":"'CPI Sub-Categories'!Y106","v":124.179500935947},{"$f":"(AD105-AA105)/AA105","v":0.10176693237175662},{"$f":"'CPI Sub-Categories'!Z106","v":119.543608276542},{"$f":"(AF105-AD105)/AD105","v":-3.733218948750841E-2},{"$f":"'CPI Sub-Categories'!AA106","v":119.524582179992},-1.5915611737261567E-4,{"$f":"'CPI Sub-Categories'!AB106","v":119.524582179992},{"$f":"IFERROR((AJ105-AH105)/AH105,\"Not available\")","v":0},null,{"$f":"'CPI Sub-Categories'!AD106","v":119.724037278105},{"$f":"(AM105-AJ105)/AJ105","v":1.6687370453439176E-3},{"$f":"'CPI Sub-Categories'!AE106","v":113.232922006216},-5.421731023663106E-2,{"$f":"'CPI Sub-Categories'!AF106","v":113.232922006216},0,{"$f":"'CPI Sub-Categories'!AG106","v":124.669549829602},0.10100090698673468,null,{"$f":"'CPI Sub-Categories'!AI106","v":119.72403727810401},{"$f":"(AV105-AS105)/AS105","v":-3.966896935344285E-2},{"$f":"'CPI Sub-Categories'!AJ106","v":124.669549829602},4.1307599241831361E-2,{"$f":"'CPI Sub-Categories'!AK106","v":124.669549829602},0,{"$f":"'CPI Sub-Categories'!AL106","v":156.849188945088},{"$f":"(BB105-AZ105)/AZ105","v":0.2581194779276017},null,{"$f":"'CPI Sub-Categories'!AM106","v":153.114595547053},{"$f":"(BE105-BB105)/BB105","v":-2.3810090591813403E-2},{"$f":"'CPI Sub-Categories'!AN106","v":142.86276186146199},{"$f":"(BG105-BE105)/BE105","v":-6.6955300041533675E-2},{"$f":"'CPI Sub-Categories'!AO106","v":142.86276186146199},{"$f":"(BI105-BG105)/BG105","v":0},{"$f":"'CPI Sub-Categories'!AU106","v":0},{"$f":"(BK105-BI105)/BI105","v":-1}]
[3,"073300","Passenger transport by air",100,100,0,94.836838783765202,-5.1631612162347976E-2,92.0480329280891,-2.940635613165871E-2,null,93.136580713166495,1.182586689199327E-2,94.261161426990896,1.2074532962378993E-2,88.612721758688807,-5.9923298024256104E-2,82.055307400142297,-7.4000823227208121E-2,null,75.8721388521937,-7.5353669907010479E-2,75.8721388521937,0,79.892118043167201,5.2983601777785799E-2,79.545451954506603,-4.3391775953829101E-3,null,{"$f":"'CPI Sub-Categories'!Y107","v":78.894005271858802},{"$f":"(AD106-AA106)/AA106","v":-8.1896157057524139E-3},{"$f":"'CPI Sub-Categories'!Z107","v":78.894005271858802},0,{"$f":"'CPI Sub-Categories'!AA107","v":90.349614867204394},0.14520253542548645,{"$f":"'CPI Sub-Categories'!AB107","v":90.0210067099448},{"$f":"IFERROR((AJ106-AH106)/AH106,\"Not available\")","v":-3.6370731379716673E-3},null,{"$f":"'CPI Sub-Categories'!AD107","v":90.021006709944899},{"$f":"(AM106-AJ106)/AJ106","v":1.105030777171088E-15},{"$f":"'CPI Sub-Categories'!AE107","v":90.021006709944899},0,{"$f":"'CPI Sub-Categories'!AF107","v":91.4512332331404},1.5887697499360434E-2,{"$f":"'CPI Sub-Categories'!AG107","v":96.242616612160106},5.2392769453472925E-2,null,{"$f":"'CPI Sub-Categories'!AI107","v":96.242616612160006},{"$f":"(AV106-AS106)/AS106","v":-1.0335959942494476E-15},{"$f":"'CPI Sub-Categories'!AJ107","v":96.242616612160006},0,{"$f":"'CPI Sub-Categories'!AK107","v":103.727179180212},7.7767654616181153E-2,{"$f":"'CPI Sub-Categories'!AL107","v":109.35162237926301},{"$f":"(BB106-AZ106)/AZ106","v":5.4223427683107901E-2},null,{"$f":"'CPI Sub-Categories'!AM107","v":101.686536569693},{"$f":"(BE106-BB106)/BB106","v":-7.00957666909163E-2},{"$f":"'CPI Sub-Categories'!AN107","v":109.568154260599},{"$f":"(BG106-BE106)/BE106","v":7.7508959954636331E-2},{"$f":"'CPI Sub-Categories'!AO107","v":109.568154260599},{"$f":"(BI106-BG106)/BG106","v":0},{"$f":"'CPI Sub-Categories'!AU107","v":0},{"$f":"(BK106-BI106)/BI106","v":-1}]
[3,"073400","Passenger transport by sea and inland waterway",100,105.33368652948199,5.3336865294819943E-2,115.461840718631,9.6153040141761459E-2,115.461840718631,0,null,115.461840718631,0,115.461840718631,0,115.461840718631,0,115.461840718631,0,null,115.461840718631,0,106.921922564704,-7.3963121502089335E-2,106.921922564704,0,106.921922564704,0,null,{"$f":"'CPI Sub-Categories'!Y108","v":106.921922564704},{"$f":"(AD107-AA107)/AA107","v":0},{"$f":"'CPI Sub-Categories'!Z108","v":127.844329717479},0.19567930178316575,{"$f":"'CPI Sub-Categories'!AA108","v":127.844329717479},0,{"$f":"'CPI Sub-Categories'!AB108","v":127.844329717479},{"$f":"IFERROR((AJ107-AH107)/AH107,\"Not available\")","v":0},null,{"$f":"'CPI Sub-Categories'!AD108","v":127.844329717479},{"$f":"(AM107-AJ107)/AJ107","v":0},{"$f":"'CPI Sub-Categories'!AE108","v":137.377672668538},7.4569931823543281E-2,{"$f":"'CPI Sub-Categories'!AF108","v":137.377672668538},0,{"$f":"'CPI Sub-Categories'!AG108","v":137.377672668538},0,null,{"$f":"'CPI Sub-Categories'!AI108","v":137.377672668538},{"$f":"(AV107-AS107)/AS107","v":0},{"$f":"'CPI Sub-Categories'!AJ108","v":147.98561181647099},7.7217345015937286E-2,{"$f":"'CPI Sub-Categories'!AK108","v":147.98561181647099},0,{"$f":"'CPI Sub-Categories'!AL108","v":142.87853728317299},{"$f":"(BB107-AZ107)/AZ107","v":-3.4510615394364848E-2},null,{"$f":"'CPI Sub-Categories'!AM108","v":142.87853728317299},{"$f":"(BE107-BB107)/BB107","v":0},{"$f":"'CPI Sub-Categories'!AN108","v":131.39701693217199},{"$f":"(BG107-BE107)/BE107","v":-8.0358607872962812E-2},{"$f":"'CPI Sub-Categories'!AO108","v":131.39701693217199},{"$f":"(BI107-BG107)/BG107","v":0},{"$f":"'CPI Sub-Categories'!AU108","v":0},{"$f":"(BK107-BI107)/BI107","v":-1}]
[3,"073500","Combined passenger transport","Not relevant","Not relevant","Not relevent","Not relevant","Not relevant","Not relevant","Not relevant",null,"Not relevant","Not relevant","Not relevant","Not relevant","Not relevant","Not relevant","Not relevant","Not relevant",null,"Not relevant","Not relevant","Not relevant","Not relevant","Not relevant","Not relevant","Not relevant",{"$f":"IFERROR((AA108-Y108)/Y108,\"Not relevant\")","v":"Not relevant"},null,{"$f":"'CPI Sub-Categories'!Y109","v":"Not relevant"},"Not relevant",{"$f":"'CPI Sub-Categories'!Z109","v":"Not relevant"},"Not relevant",{"$f":"'CPI Sub-Categories'!AA109","v":"Not relevant"},"Not relevant",{"$f":"'CPI Sub-Categories'!AB109","v":"Not relevant"},{"$f":"IFERROR((AJ108-AH108)/AH108,\"Not relevant\")","v":"Not relevant"},null,{"$f":"'CPI Sub-Categories'!AD109","v":"Not relevant"},"Not relevant",{"$f":"'CPI Sub-Categories'!AE109","v":"Not relevant"},"Not relevant",{"$f":"'CPI Sub-Categories'!AF109","v":"Not relevant"},"Not relevant",{"$f":"'CPI Sub-Categories'!AG109","v":"Not relevant"},"Not relevant",null,{"$f":"'CPI Sub-Categories'!AI109","v":"Not relevant"},"Not relevant",{"$f":"'CPI Sub-Categories'!AJ109","v":"Not relevant"},"Not relevant",{"$f":"'CPI Sub-Categories'!AK109","v":"Not relevant"},"Not relevant",{"$f":"'CPI Sub-Categories'!AL109","v":"Not relevant"},"Not relevant",null,{"$f":"'CPI Sub-Categories'!AM109","v":"Not relevant"},"Not relevant",{"$f":"'CPI Sub-Categories'!AN109","v":"Not relevant"},"Not relevant",{"$f":"'CPI Sub-Categories'!AO109","v":"Not relevant"},"Not relevant",{"$f":"'CPI Sub-Categories'!AU109","v":0},"Not relevant"]
[3,"073600","Other purchased transport services","Not relevant","Not relevant","Not relevent","Not relevant","Not relevant","Not relevant","Not relevant",null,"Not relevant","Not relevant","Not relevant","Not relevant","Not relevant","Not relevant","Not relevant","Not relevant",null,"Not relevant","Not relevant","Not relevant","Not relevant","Not relevant","Not relevant","Not relevant",{"$f":"IFERROR((AA109-Y109)/Y109,\"Not relevant\")","v":"Not relevant"},null,{"$f":"'CPI Sub-Categories'!Y110","v":"Not relevant"},"Not relevant",{"$f":"'CPI Sub-Categories'!Z110","v":"Not relevant"},"Not relevant",{"$f":"'CPI Sub-Categories'!AA110","v":"Not relevant"},"Not relevant",{"$f":"'CPI Sub-Categories'!AB110","v":"Not relevant"},{"$f":"IFERROR((AJ109-AH109)/AH109,\"Not relevant\")","v":"Not relevant"},null,{"$f":"'CPI Sub-Categories'!AD110","v":"Not relevant"},"Not relevant",{"$f":"'CPI Sub-Categories'!AE110","v":"Not relevant"},"Not relevant",{"$f":"'CPI Sub-Categories'!AF110","v":"Not relevant"},"Not relevant",{"$f":"'CPI Sub-Categories'!AG110","v":"Not relevant"},"Not relevant",null,{"$f":"'CPI Sub-Categories'!AI110","v":"Not relevant"},"Not relevant",{"$f":"'CPI Sub-Categories'!AJ110","v":"Not relevant"},"Not relevant",{"$f":"'CPI Sub-Categories'!AK110","v":"Not relevant"},"Not relevant",{"$f":"'CPI Sub-Categories'!AL110","v":"Not relevant"},"Not relevant",null,{"$f":"'CPI Sub-Categories'!AM110","v":"Not relevant"},"Not relevant",{"$f":"'CPI Sub-Categories'!AN110","v":"Not relevant"},"Not relevant",{"$f":"'CPI Sub-Categories'!AO110","v":"Not relevant"},"Not relevant",{"$f":"'CPI Sub-Categories'!AU110","v":0},"Not relevant"]
[1,"080000","Communication",99.534490122680197,99.537914249293905,3.4401408089681783E-5,99.170909166433503,-3.6870883384318588E-3,96.815893676595493,-2.3747039425500344E-2,null,97.093812276372304,2.8705885906003437E-3,97.287581662315304,1.9956924277671345E-3,97.527231143901801,2.4633100904729961E-3,99.577496739051696,2.102249362667459E-2,null,103.19015270435,3.627984317345781E-2,103.824436639566,6.1467486828252925E-3,104.08259440627801,2.4864836744379957E-3,104.65281584419699,5.4785475051974102E-3,null,{"$f":"'CPI Sub-Categories'!Y111","v":104.64106987013299},{"$f":"(AD110-AA110)/AA110","v":-1.1223753483600128E-4},{"$f":"'CPI Sub-Categories'!Z111","v":105.24878512469699},{"$f":"(AF110-AD110)/AD110","v":5.8076169836395672E-3},{"$f":"'CPI Sub-Categories'!AA111","v":105.95336092156499},6.6943841302607885E-3,{"$f":"'CPI Sub-Categories'!AB111","v":105.14195932403599},{"$f":"IFERROR((AJ110-AH110)/AH110,\"Not available\")","v":-7.6581015502628748E-3},null,{"$f":"'CPI Sub-Categories'!AD111","v":105.398238402949},{"$f":"(AM110-AJ110)/AJ110","v":2.4374577053789389E-3},{"$f":"'CPI Sub-Categories'!AE111","v":105.939622706954},5.1365593221323223E-3,{"$f":"'CPI Sub-Categories'!AF111","v":106.003534640715},6.0328640151755236E-4,{"$f":"'CPI Sub-Categories'!AG111","v":115.195268108216},8.6711575219214757E-2,null,{"$f":"'CPI Sub-Categories'!AI111","v":115.806062888144},{"$f":"(AV110-AS110)/AS110","v":5.3022558127492781E-3},{"$f":"'CPI Sub-Categories'!AJ111","v":115.79526090461},-9.3276494033201575E-5,{"$f":"'CPI Sub-Categories'!AK111","v":115.806062888144},9.3285195349168955E-5,{"$f":"'CPI Sub-Categories'!AL111","v":116.678886102699},{"$f":"(BB110-AZ110)/AZ110","v":7.5369388509308874E-3},null,{"$f":"'CPI Sub-Categories'!AM111","v":117.697275610809},{"$f":"(BE110-BB110)/BB110","v":8.7281387586579592E-3},{"$f":"'CPI Sub-Categories'!AN111","v":115.79526090461},{"$f":"(BG110-BE110)/BE110","v":-1.6160227127842892E-2},{"$f":"'CPI Sub-Categories'!AO111","v":117.354063067507},{"$f":"(BI110-BG110)/BG110","v":1.3461709492421351E-2},{"$f":"'CPI Sub-Categories'!AU111","v":0},{"$f":"(BK110-BI110)/BI110","v":-1}]
[2,"081000","Postal services",100,102.10960370769401,2.1096037076940063E-2,102.10960370769401,0,102.10960370769401,0,null,102.10960370769401,0,94.627838630178502,-7.3271903972258287E-2,94.627838630178502,0,94.627838630178502,0,null,94.627838630178502,0,99.971043942308498,5.6465469247502738E-2,99.971043942308498,0,103.384741856221,3.4146866725553893E-2,null,{"$f":"'CPI Sub-Categories'!Y112","v":103.384741856221},0,{"$f":"'CPI Sub-Categories'!Z112","v":103.38474185622201},9.7593771253260537E-15,{"$f":"'CPI Sub-Categories'!AA112","v":103.38474185622201},0,{"$f":"'CPI Sub-Categories'!AB112","v":125.88364430992701},0.21762304620341757,null,{"$f":"'CPI Sub-Categories'!AD112","v":125.883644309926},-8.0151054595722112E-15,{"$f":"'CPI Sub-Categories'!AE112","v":125.883644309926},0,{"$f":"'CPI Sub-Categories'!AF112","v":125.883644309926},0,{"$f":"'CPI Sub-Categories'!AG112","v":135.12102188282901},7.3380284019745695E-2,null,{"$f":"'CPI Sub-Categories'!AI112","v":135.12102188282901},0,{"$f":"'CPI Sub-Categories'!AJ112","v":140.67871646889299},4.1131235603615854E-2,{"$f":"'CPI Sub-Categories'!AK112","v":140.67871646889299},0,{"$f":"'CPI Sub-Categories'!AL112","v":136.43016223822801},-3.0200405130966796E-2,null,{"$f":"'CPI Sub-Categories'!AM112","v":136.43016223822801},0,{"$f":"'CPI Sub-Categories'!AN112","v":161.63565795432601},0.18475017036251365,{"$f":"'CPI Sub-Categories'!AO112","v":161.63565795432601},0,{"$f":"'CPI Sub-Categories'!AU112","v":0},-1]
[3,"081100","Postal services",100,102.10960370769401,2.1096037076940063E-2,102.10960370769401,0,102.10960370769401,0,null,102.10960370769401,0,94.627838630178502,-7.3271903972258287E-2,94.627838630178502,0,94.627838630178502,0,null,94.627838630178502,0,99.971043942308498,5.6465469247502738E-2,99.971043942308498,0,103.384741856221,3.4146866725553893E-2,null,{"$f":"'CPI Sub-Categories'!Y113","v":103.384741856221},0,{"$f":"'CPI Sub-Categories'!Z113","v":103.38474185622201},9.7593771253260537E-15,{"$f":"'CPI Sub-Categories'!AA113","v":103.38474185622201},0,{"$f":"'CPI Sub-Categories'!AB113","v":125.88364430992701},0.21762304620341757,null,{"$f":"'CPI Sub-Categories'!AD113","v":125.883644309926},-8.0151054595722112E-15,{"$f":"'CPI Sub-Categories'!AE113","v":125.883644309926},0,{"$f":"'CPI Sub-Categories'!AF113","v":125.883644309926},0,{"$f":"'CPI Sub-Categories'!AG113","v":135.12102188282901},7.3380284019745695E-2,null,{"$f":"'CPI Sub-Categories'!AI113","v":135.12102188282901},0,{"$f":"'CPI Sub-Categories'!AJ113","v":140.67871646889299},4.1131235603615854E-2,{"$f":"'CPI Sub-Categories'!AK113","v":140.67871646889299},0,{"$f":"'CPI Sub-Categories'!AL113","v":136.43016223822801},-3.0200405130966796E-2,null,{"$f":"'CPI Sub-Categories'!AM113","v":136.43016223822801},0,{"$f":"'CPI Sub-Categories'!AN113","v":161.63565795432601},0.18475017036251365,{"$f":"'CPI Sub-Categories'!AO113","v":161.63565795432601},0,{"$f":"'CPI Sub-Categories'!AU113","v":0},-1]
[2,"082000","Telephone and telefax equipment",96.254965581475204,96.021562025707098,-2.4248469090204115E-3,93.069000256236194,-3.0748945415826894E-2,93.146823936233901,8.3619335958744114E-4,null,94.632203584660601,1.5946648373578003E-2,97.116549956808498,2.6252652670455165E-2,99.044533874336494,1.9852269447230626E-2,97.503348009352393,-1.556053428389589E-2,null,98.226850012513594,7.4202785640940612E-3,102.66873834475599,4.522071441440427E-2,104.74562171254099,2.0228975258378464E-2,107.065071631376,2.2143645537761908E-2,null,{"$f":"'CPI Sub-Categories'!Y114","v":102.118580437885},-4.6200792827391181E-2,{"$f":"'CPI Sub-Categories'!Z114","v":107.007659393868},4.7876487657961944E-2,{"$f":"'CPI Sub-Categories'!AA114","v":112.675982963972},5.2971194793078775E-2,{"$f":"'CPI Sub-Categories'!AB114","v":112.352339538447},-2.8723372719853756E-3,null,{"$f":"'CPI Sub-Categories'!AD114","v":114.41410883280101},1.8350924447358481E-2,{"$f":"'CPI Sub-Categories'!AE114","v":118.769554229196},3.8067380332960733E-2,{"$f":"'CPI Sub-Categories'!AF114","v":119.283726759899},4.3291610719592881E-3,{"$f":"'CPI Sub-Categories'!AG114","v":114.609549140992},-3.9185375456246799E-2,null,{"$f":"'CPI Sub-Categories'!AI114","v":119.52340292785},4.2874732722427908E-2,{"$f":"'CPI Sub-Categories'!AJ114","v":118.749033128127},-6.4788131926803551E-3,{"$f":"'CPI Sub-Categories'!AK114","v":116.395013970002},-1.9823480630659751E-2,{"$f":"'CPI Sub-Categories'!AL114","v":112.54533127121501},-3.307429216666579E-2,null,{"$f":"'CPI Sub-Categories'!AM114","v":120.73829117423},7.2796977097800364E-2,{"$f":"'CPI Sub-Categories'!AN114","v":118.26426956631001},-2.0490778723627003E-2,{"$f":"'CPI Sub-Categories'!AO114","v":114.85930780141},-2.8791128355051213E-2,{"$f":"'CPI Sub-Categories'!AU114","v":0},-1]
[3,"082100","Telephone and telefax equipment",96.254965581475204,96.021562025707098,-2.4248469090204115E-3,93.069000256236194,-3.0748945415826894E-2,93.146823936233901,8.3619335958744114E-4,null,94.632203584660601,1.5946648373578003E-2,97.116549956808498,2.6252652670455165E-2,99.044533874336494,1.9852269447230626E-2,97.503348009352393,-1.556053428389589E-2,null,98.226850012513594,7.4202785640940612E-3,102.66873834475599,4.522071441440427E-2,104.74562171254099,2.0228975258378464E-2,107.065071631376,2.2143645537761908E-2,null,{"$f":"'CPI Sub-Categories'!Y115","v":102.118580437885},-4.6200792827391181E-2,{"$f":"'CPI Sub-Categories'!Z115","v":107.007659393868},4.7876487657961944E-2,{"$f":"'CPI Sub-Categories'!AA115","v":112.675982963972},5.2971194793078775E-2,{"$f":"'CPI Sub-Categories'!AB115","v":112.352339538447},-2.8723372719853756E-3,null,{"$f":"'CPI Sub-Categories'!AD115","v":114.41410883280101},1.8350924447358481E-2,{"$f":"'CPI Sub-Categories'!AE115","v":118.769554229196},3.8067380332960733E-2,{"$f":"'CPI Sub-Categories'!AF115","v":119.283726759899},4.3291610719592881E-3,{"$f":"'CPI Sub-Categories'!AG115","v":114.609549140992},-3.9185375456246799E-2,null,{"$f":"'CPI Sub-Categories'!AI115","v":119.52340292785},4.2874732722427908E-2,{"$f":"'CPI Sub-Categories'!AJ115","v":118.749033128127},-6.4788131926803551E-3,{"$f":"'CPI Sub-Categories'!AK115","v":116.395013970002},-1.9823480630659751E-2,{"$f":"'CPI Sub-Categories'!AL115","v":112.54533127121501},-3.307429216666579E-2,null,{"$f":"'CPI Sub-Categories'!AM115","v":120.73829117423},7.2796977097800364E-2,{"$f":"'CPI Sub-Categories'!AN115","v":118.26426956631001},-2.0490778723627003E-2,{"$f":"'CPI Sub-Categories'!AO115","v":114.85930780141},-2.8791128355051213E-2,{"$f":"'CPI Sub-Categories'!AU115","v":0},-1]
[2,"083000","Telephone and telefax services",100,100,0,100,0,97.251396772166103,-2.7486032278338967E-2,null,97.3598269554589,1.1149473106984683E-3,97.3598269554589,0,97.3598269554589,0,99.965631457694798,2.676467885905371E-2,null,104.060280354368,4.0960566516363692E-2,104.060280354368,0,104.060280354368,0,104.32695320817901,2.5626766803132908E-3,null,{"$f":"'CPI Sub-Categories'!Y116","v":105.027974837209},6.7194680518575375E-3,{"$f":"'CPI Sub-Categories'!Z116","v":105.027974837209},0,{"$f":"'CPI Sub-Categories'!AA116","v":105.027974837209},0,{"$f":"'CPI Sub-Categories'!AB116","v":103.72950390593699},-1.2363095958811049E-2,null,{"$f":"'CPI Sub-Categories'!AD116","v":103.72950390593699},0,{"$f":"'CPI Sub-Categories'!AE116","v":103.72950390593699},0,{"$f":"'CPI Sub-Categories'!AF116","v":103.72950390593699},0,{"$f":"'CPI Sub-Categories'!AG116","v":114.923784018585},0.10791799527740047,null,{"$f":"'CPI Sub-Categories'!AI116","v":114.923784018585},0,{"$f":"'CPI Sub-Categories'!AJ116","v":114.923784018585},0,{"$f":"'CPI Sub-Categories'!AK116","v":114.923784018585},0,{"$f":"'CPI Sub-Categories'!AL116","v":116.92311555104099},1.7397021421890126E-2,null,{"$f":"'CPI Sub-Categories'!AM116","v":116.92311555104099},0,{"$f":"'CPI Sub-Categories'!AN116","v":116.92311555104099},0,{"$f":"'CPI Sub-Categories'!AO116","v":116.92311555104099},0,{"$f":"'CPI Sub-Categories'!AU116","v":0},-1]
[3,"083100","Telephone and telefax services",100,100,0,100,0,97.251396772166103,-2.7486032278338967E-2,null,97.3598269554589,1.1149473106984683E-3,97.3598269554589,0,97.3598269554589,0,99.965631457694798,2.676467885905371E-2,null,104.060280354368,4.0960566516363692E-2,104.060280354368,0,104.060280354368,0,104.32695320817901,2.5626766803132908E-3,null,{"$f":"'CPI Sub-Categories'!Y117","v":105.027974837209},6.7194680518575375E-3,{"$f":"'CPI Sub-Categories'!Z117","v":105.027974837209},0,{"$f":"'CPI Sub-Categories'!AA117","v":105.027974837209},0,{"$f":"'CPI Sub-Categories'!AB117","v":103.72950390593699},-1.2363095958811049E-2,null,{"$f":"'CPI Sub-Categories'!AD117","v":103.72950390593699},0,{"$f":"'CPI Sub-Categories'!AE117","v":103.72950390593699},0,{"$f":"'CPI Sub-Categories'!AF117","v":103.72950390593699},0,{"$f":"'CPI Sub-Categories'!AG117","v":114.923784018585},0.10791799527740047,null,{"$f":"'CPI Sub-Categories'!AI117","v":114.923784018585},0,{"$f":"'CPI Sub-Categories'!AJ117","v":114.923784018585},0,{"$f":"'CPI Sub-Categories'!AK117","v":114.923784018585},0,{"$f":"'CPI Sub-Categories'!AL117","v":116.92311555104099},1.7397021421890126E-2,null,{"$f":"'CPI Sub-Categories'!AM117","v":116.92311555104099},0,{"$f":"'CPI Sub-Categories'!AN117","v":116.92311555104099},0,{"$f":"'CPI Sub-Categories'!AO117","v":116.92311555104099},0,{"$f":"'CPI Sub-Categories'!AU117","v":0},-1]
[1,"090000","Recreation and culture",100.506850226471,100.191052515666,-3.142051612337039E-3,100.855481212564,6.6316170976855326E-3,104.16316781730001,3.2796299863610712E-2,null,104.970870411766,7.7542053625201468E-3,105.90716531654,8.9195688394430421E-3,105.07587095886799,-7.8492739862066757E-3,102.202643294818,-2.7344314520835314E-2,null,99.442965333857202,-2.7002021395866629E-2,100.63831281777,1.2020432816938731E-2,101.39210324473299,7.4900940393139662E-3,105.781055124948,4.3286920181754847E-2,null,{"$f":"'CPI Sub-Categories'!Y118","v":106.48324208311701},6.6381164126183938E-3,{"$f":"'CPI Sub-Categories'!Z118","v":107.094230112773},5.7378796672915341E-3,{"$f":"'CPI Sub-Categories'!AA118","v":108.840595059921},1.6306807054955508E-2,{"$f":"'CPI Sub-Categories'!AB118","v":108.44324083643799},-3.6507906196603141E-3,null,{"$f":"'CPI Sub-Categories'!AD118","v":109.923513505488},1.3650206851367202E-2,{"$f":"'CPI Sub-Categories'!AE118","v":110.38174428947499},4.1686329828250421E-3,{"$f":"'CPI Sub-Categories'!AF118","v":114.908747249093},4.101224336286971E-2,{"$f":"'CPI Sub-Categories'!AG118","v":109.612081209726},-4.6094541679104456E-2,null,{"$f":"'CPI Sub-Categories'!AI118","v":108.474413840675},-1.0379032643986102E-2,{"$f":"'CPI Sub-Categories'!AJ118","v":107.378989820003},-1.0098455312060365E-2,{"$f":"'CPI Sub-Categories'!AK118","v":108.474413840675},1.0201474445869099E-2,{"$f":"'CPI Sub-Categories'!AL118","v":111.561546219584},{"$f":"(BB117-AZ117)/AZ117","v":2.8459544233567568E-2},null,{"$f":"'CPI Sub-Categories'!AM118","v":112.16495540473301},5.4087560238841471E-3,{"$f":"'CPI Sub-Categories'!AN118","v":107.378989820003},-4.26689919989756E-2,{"$f":"'CPI Sub-Categories'!AO118","v":110.731792347652},3.1224008842597906E-2,{"$f":"'CPI Sub-Categories'!AU118","v":0},-1]
[2,"091000","Audio-visual, photographic and information processing equipment",102.98812358641599,99.517969399730603,-3.3694702513670231E-2,103.81027620879701,4.3130972576677418E-2,107.40233128323899,3.4602114603925808E-2,null,105.872731602683,-1.4241773547002103E-2,102.231960469931,-3.4388185490623009E-2,102.243156893227,1.0951979444131149E-4,101.21826862571299,-1.0024028000077272E-2,null,100.159763634407,-1.0457647672478537E-2,101.876836727534,1.7143342104864429E-2,102.913537846729,1.0176023839134522E-2,104.497871606384,1.5394804151175648E-2,null,{"$f":"'CPI Sub-Categories'!Y119","v":108.32860482435601},3.6658480781325151E-2,{"$f":"'CPI Sub-Categories'!Z119","v":107.12221264050601},-1.1136413930614575E-2,{"$f":"'CPI Sub-Categories'!AA119","v":105.488921555831},-1.5246987944099033E-2,{"$f":"'CPI Sub-Categories'!AB119","v":106.229014265575},7.0158335001301881E-3,null,{"$f":"'CPI Sub-Categories'!AD119","v":110.06042343583501},3.6067445384378609E-2,{"$f":"'CPI Sub-Categories'!AE119","v":113.743475652068},3.3463911015935766E-2,{"$f":"'CPI Sub-Categories'!AF119","v":117.52391404148},3.3236529548086348E-2,{"$f":"'CPI Sub-Categories'!AG119","v":103.756409150411},-0.11714641231409093,null,{"$f":"'CPI Sub-Categories'!AI119","v":101.729433491582},-1.9535907954279591E-2,{"$f":"'CPI Sub-Categories'!AJ119","v":100.340511783292},-1.3653095870281542E-2,{"$f":"'CPI Sub-Categories'!AK119","v":98.279759927675101},-2.0537585657003213E-2,{"$f":"'CPI Sub-Categories'!AL119","v":88.410783024584404},-0.10041718569879861,null,{"$f":"'CPI Sub-Categories'!AM119","v":89.132527300849304},8.1635322250703784E-3,{"$f":"'CPI Sub-Categories'!AN119","v":89.568916902783698},4.8959635180257687E-3,{"$f":"'CPI Sub-Categories'!AO119","v":87.365790704665599},-2.4596994965444628E-2,{"$f":"'CPI Sub-Categories'!AU119","v":0},-1]
[3,"091100","Equipment for the reception, recording and reproduction of sounds",97.883907008046904,101.99891107649999,4.2039638529291649E-2,104.478201242404,2.4307025827408263E-2,102.19650385360301,-2.183898039656269E-2,null,102.29598199702301,9.7340065138141758E-4,85.732207253344995,-0.16192009129117158,86.002400207475901,3.1515921820660176E-3,84.895191208632099,-1.2874163932317278E-2,null,82.174900023904101,-3.2042936072112879E-2,82.812822643876103,7.7629862620634165E-3,85.265073825114001,2.9611974365170834E-2,91.270428535250801,7.0431589872944914E-2,null,{"$f":"'CPI Sub-Categories'!Y120","v":93.226281987463594},2.1429212983889914E-2,{"$f":"'CPI Sub-Categories'!Z120","v":91.788678723693593},-1.5420579187780108E-2,{"$f":"'CPI Sub-Categories'!AA120","v":91.418349024060504},-4.0345901562421687E-3,{"$f":"'CPI Sub-Categories'!AB120","v":89.609495956937394},-1.9786542706508904E-2,null,{"$f":"'CPI Sub-Categories'!AD120","v":89.358216761057406},-2.8041581218216246E-3,{"$f":"'CPI Sub-Categories'!AE120","v":83.364600577409306},-6.7074035280660804E-2,{"$f":"'CPI Sub-Categories'!AF120","v":83.216974761447204},-1.7708453580968244E-3,{"$f":"'CPI Sub-Categories'!AG120","v":80.213404486764404},-3.6093240391073388E-2,null,{"$f":"'CPI Sub-Categories'!AI120","v":82.417116347245596},2.747311218843498E-2,{"$f":"'CPI Sub-Categories'!AJ120","v":79.532724653267607},-3.4997483797240207E-2,{"$f":"'CPI Sub-Categories'!AK120","v":79.532724653267607},0,{"$f":"'CPI Sub-Categories'!AL120","v":83.439101749992801},4.9116600918119056E-2,null,{"$f":"'CPI Sub-Categories'!AM120","v":86.850740842966005},4.0887773494918976E-2,{"$f":"'CPI Sub-Categories'!AN120","v":85.802141337335101},-1.2073581588979953E-2,{"$f":"'CPI Sub-Categories'!AO120","v":84.704335856294193},-1.2794616357240253E-2,{"$f":"'CPI Sub-Categories'!AU120","v":0},-1]
[3,"091200","Photographic and cinematographic equipment and optical instruments",54.619479849999998,53.387966085557501,-2.2547152917321248E-2,53.387966085557501,0,51.8362915543347,-2.9064125213838398E-2,null,55.793372229799701,7.6338035704525589E-2,54.748965163827599,-1.8719195922957236E-2,53.743969983571098,-1.8356423308627145E-2,53.743969983571098,0,null,53.743969983571098,0,53.743969983571098,0,51.168628743039903,-4.7918701229522985E-2,49.754618592721997,-2.7634317843826219E-2,null,{"$f":"'CPI Sub-Categories'!Y121","v":80.994458616587593},0.62787819317009685,{"$f":"'CPI Sub-Categories'!Z121","v":85.591372090746205},5.675590099218427E-2,{"$f":"'CPI Sub-Categories'!AA121","v":90.242277224714201},5.4338480858058737E-2,{"$f":"'CPI Sub-Categories'!AB121","v":86.564820022288899},-4.0750935321235165E-2,null,{"$f":"'CPI Sub-Categories'!AD121","v":78.053317136014002},-9.8325195894629444E-2,{"$f":"'CPI Sub-Categories'!AE121","v":76.445179388460602},-2.0603067320650755E-2,{"$f":"'CPI Sub-Categories'!AF121","v":71.234744105262095},-6.8159108591025447E-2,{"$f":"'CPI Sub-Categories'!AG121","v":65.435753342658202},-8.1406774677744972E-2,null,{"$f":"'CPI Sub-Categories'!AI121","v":65.034948305587406},-6.1251688350244388E-3,{"$f":"'CPI Sub-Categories'!AJ121","v":72.440360139899099},0.11386818975414585,{"$f":"'CPI Sub-Categories'!AK121","v":71.512441491971899},-1.2809415167665846E-2,{"$f":"'CPI Sub-Categories'!AL121","v":74.090610560202805},3.6052035344372006E-2,null,{"$f":"'CPI Sub-Categories'!AM121","v":61.797454996897599},-0.16592055957369015,{"$f":"'CPI Sub-Categories'!AN121","v":65.558554548446295},6.0861722408107478E-2,{"$f":"'CPI Sub-Categories'!AO121","v":66.206382088795607},9.881662962391605E-3,{"$f":"'CPI Sub-Categories'!AU121","v":0},-1]
[3,"091300","Information processing equipment",113.443665832769,106.887644658824,-5.7790984854186947E-2,113.585644244127,6.266392721705509E-2,120.40339187999901,6.0022969286671321E-2,null,117.20252088952,-2.6584558296075058E-2,116.920329612358,-2.4077236139656458E-3,117.351652598965,3.6890332762234295E-3,116.296652637851,-8.9900733202227714E-3,null,115.427092545977,-7.4770861598382546E-3,117.983968428266,2.2151436252026667E-2,119.22994333774101,1.0560544166070831E-2,120.560898972473,1.1162931034545685E-2,null,{"$f":"'CPI Sub-Categories'!Y122","v":121.97965235562999},1.1767939649163802E-2,{"$f":"'CPI Sub-Categories'!Z122","v":119.96412962938101},-1.6523433927920699E-2,{"$f":"'CPI Sub-Categories'!AA122","v":117.39338696774701},-2.1429261143110789E-2,{"$f":"'CPI Sub-Categories'!AB122","v":119.66075360263601},1.9314262016411059E-2,null,{"$f":"'CPI Sub-Categories'!AD122","v":127.105222539072},6.2213120946549023E-2,{"$f":"'CPI Sub-Categories'!AE122","v":135.24995839116201},6.4078687636822521E-2,{"$f":"'CPI Sub-Categories'!AF122","v":142.13289227364899},5.0890469500778419E-2,{"$f":"'CPI Sub-Categories'!AG122","v":121.85225747323101},-0.14268783584148562,null,{"$f":"'CPI Sub-Categories'!AI122","v":118.298005294075},-2.916853780847533E-2,{"$f":"'CPI Sub-Categories'!AJ122","v":116.014403931321},-1.9303802773996338E-2,{"$f":"'CPI Sub-Categories'!AK122","v":112.800115573711},-2.7705942095886803E-2,{"$f":"'CPI Sub-Categories'!AL122","v":95.082721954749104},-0.15706893143548409,null,{"$f":"'CPI Sub-Categories'!AM122","v":96.999586886768199},2.0159971155762159E-2,{"$f":"'CPI Sub-Categories'!AN122","v":97.048728359261801},5.0661527611418683E-4,{"$f":"'CPI Sub-Categories'!AO122","v":94.366057598891402},-2.7642513258282996E-2,{"$f":"'CPI Sub-Categories'!AU122","v":0},-1]
[3,"091400","Recording media",88.091548872934496,86.076414076435199,-2.2875461066145839E-2,81.607972868962804,-5.1912492584838085E-2,81.424061344339606,-2.2535975120776923E-3,null,82.440728943127695,1.2486083130742353E-2,81.966144803642507,-5.7566708296888439E-3,79.023349492963305,-3.5902570722692165E-2,77.007385836420198,-2.5510987188952554E-2,null,77.352176678283499,4.4773736716074023E-3,77.5200651282275,2.1704424769101046E-3,77.5200651282275,0,75.793802814085296,-2.2268586994693036E-2,null,{"$f":"'CPI Sub-Categories'!Y123","v":73.4610482208072},-3.0777642850301531E-2,{"$f":"'CPI Sub-Categories'!Z123","v":72.434441079355906},-1.3974850159577714E-2,{"$f":"'CPI Sub-Categories'!AA123","v":67.352450886837005},-7.0159859271245045E-2,{"$f":"'CPI Sub-Categories'!AB123","v":67.746639219719498},5.8526204717448656E-3,null,{"$f":"'CPI Sub-Categories'!AD123","v":68.275297820878095},7.8034660796091025E-3,{"$f":"'CPI Sub-Categories'!AE123","v":68.444470488990703},2.4778019798088182E-3,{"$f":"'CPI Sub-Categories'!AF123","v":68.773106901118098},4.8015041942687832E-3,{"$f":"'CPI Sub-Categories'!AG123","v":66.715628602007499},-2.9916901995846127E-2,null,{"$f":"'CPI Sub-Categories'!AI123","v":63.445463085645599},-4.9016483616906206E-2,{"$f":"'CPI Sub-Categories'!AJ123","v":62.795906908049901},-1.0238024060425833E-2,{"$f":"'CPI Sub-Categories'!AK123","v":62.816732699866698},3.3164250414110424E-4,{"$f":"'CPI Sub-Categories'!AL123","v":63.309087228489901},7.8379518873678625E-3,null,{"$f":"'CPI Sub-Categories'!AM123","v":62.371813835709197},-1.4804721309564518E-2,{"$f":"'CPI Sub-Categories'!AN123","v":67.6525026387759},8.4664666270189426E-2,{"$f":"'CPI Sub-Categories'!AO123","v":62.524891060757},-7.5793376120870129E-2,{"$f":"'CPI Sub-Categories'!AU123","v":0},-1]
[3,"091500","Repair of audio-visual, photographic and information processing eq",100,100,0,100,0,100,0,null,100,0,100,0,100,0,100,0,null,100,0,100,0,100,0,90,-0.1,null,{"$f":"'CPI Sub-Categories'!Y124","v":90},0,{"$f":"'CPI Sub-Categories'!Z124","v":90},0,{"$f":"'CPI Sub-Categories'!AA124","v":90},0,{"$f":"'CPI Sub-Categories'!AB124","v":90},0,null,{"$f":"'CPI Sub-Categories'!AD124","v":90},0,{"$f":"'CPI Sub-Categories'!AE124","v":90},0,{"$f":"'CPI Sub-Categories'!AF124","v":90},0,{"$f":"'CPI Sub-Categories'!AG124","v":90},0,null,{"$f":"'CPI Sub-Categories'!AI124","v":90},0,{"$f":"'CPI Sub-Categories'!AJ124","v":90},0,{"$f":"'CPI Sub-Categories'!AK124","v":90},0,{"$f":"'CPI Sub-Categories'!AL124","v":90},0,null,{"$f":"'CPI Sub-Categories'!AM124","v":90},0,{"$f":"'CPI Sub-Categories'!AN124","v":84.375},-6.25E-2,{"$f":"'CPI Sub-Categories'!AO124","v":84.375},0,{"$f":"'CPI Sub-Categories'!AU124","v":0},-1]
[2,"092000","Other major durables for recreation and culture","Not relevant","Not relevant","Not relevent","Not relevant","Not relevant","Not relevant","Not relevant",null,"Not relevant","Not relevant","Not relevant","Not relevant","Not relevant","Not relevant","Not relevant","Not relevant",null,"Not relevant","Not relevant","Not relevant","Not relevant","Not relevant","Not relevant","Not relevant",{"$f":"IFERROR((AA124-Y124)/Y124,\"Not relevant\")","v":"Not relevant"},null,{"$f":"'CPI Sub-Categories'!Y125","v":"Not relevant"},"Not relevant",{"$f":"'CPI Sub-Categories'!Z125","v":"Not available"},"Not relevant",{"$f":"'CPI Sub-Categories'!AA125","v":"Not available"},"Not relevant",{"$f":"'CPI Sub-Categories'!AB125","v":"Not available"},{"$f":"IFERROR((AJ124-AH124)/AH124,\"Not relevant\")","v":"Not relevant"},null,{"$f":"'CPI Sub-Categories'!AD125","v":"Not available"},"Not relevant",{"$f":"'CPI Sub-Categories'!AE125","v":"Not available"},"Not available",{"$f":"'CPI Sub-Categories'!AF125","v":"Not available"},"Not available",{"$f":"'CPI Sub-Categories'!AG125","v":"Not available"},"Not available",null,{"$f":"'CPI Sub-Categories'!AI125","v":"Not available"},"Not relevant",{"$f":"'CPI Sub-Categories'!AJ125","v":"Not available"},"Not available",{"$f":"'CPI Sub-Categories'!AK125","v":"Not available"},"Not available",{"$f":"'CPI Sub-Categories'!AL125","v":"Not available"},"Not available",null,{"$f":"'CPI Sub-Categories'!AM125","v":"Not available"},"Not relevant",{"$f":"'CPI Sub-Categories'!AN125","v":"Not available"},"Not available",{"$f":"'CPI Sub-Categories'!AO125","v":"Not available"},"Not available",{"$f":"'CPI Sub-Categories'!AU125","v":0},"Not available"]
[3,"092100","Major durables for outdoor recreation","Not relevant","Not relevant","Not relevent","Not relevant","Not relevant","Not relevant","Not relevant",null,"Not relevant","Not relevant","Not relevant","Not relevant","Not relevant","Not relevant","Not relevant","Not relevant",null,"Not relevant","Not relevant","Not relevant","Not relevant","Not relevant","Not relevant","Not relevant",{"$f":"IFERROR((AA125-Y125)/Y125,\"Not relevant\")","v":"Not relevant"},null,{"$f":"'CPI Sub-Categories'!Y126","v":"Not relevant"},"Not relevant",{"$f":"'CPI Sub-Categories'!Z126","v":"Not relevant"},"Not relevant",{"$f":"'CPI Sub-Categories'!AA126","v":"Not relevant"},"Not relevant",{"$f":"'CPI Sub-Categories'!AB126","v":"Not relevant"},{"$f":"IFERROR((AJ125-AH125)/AH125,\"Not relevant\")","v":"Not relevant"},null,{"$f":"'CPI Sub-Categories'!AD126","v":"Not relevant"},"Not relevant",{"$f":"'CPI Sub-Categories'!AE126","v":"Not relevant"},"Not relevant",{"$f":"'CPI Sub-Categories'!AF126","v":"Not relevant"},"Not relevant",{"$f":"'CPI Sub-Categories'!AG126","v":"Not relevant"},"Not relevant",null,{"$f":"'CPI Sub-Categories'!AI126","v":"Not relevant"},"Not relevant",{"$f":"'CPI Sub-Categories'!AJ126","v":"Not relevant"},"Not relevant",{"$f":"'CPI Sub-Categories'!AK126","v":"Not relevant"},"Not relevant",{"$f":"'CPI Sub-Categories'!AL126","v":"Not relevant"},"Not relevant",null,{"$f":"'CPI Sub-Categories'!AM126","v":"Not relevant"},"Not relevant",{"$f":"'CPI Sub-Categories'!AN126","v":"Not relevant"},"Not relevant",{"$f":"'CPI Sub-Categories'!AO126","v":"Not relevant"},"Not relevant",{"$f":"'CPI Sub-Categories'!AU126","v":0},"Not relevant"]
[3,"092200","Musical instruments and major durables for indoor recreation","Not relevant","Not relevant","Not relevent","Not relevant","Not relevant","Not relevant","Not relevant",null,"Not relevant","Not relevant","Not relevant","Not relevant","Not relevant","Not relevant","Not relevant","Not relevant",null,"Not relevant","Not relevant","Not relevant","Not relevant","Not relevant","Not relevant","Not relevant",{"$f":"IFERROR((AA126-Y126)/Y126,\"Not relevant\")","v":"Not relevant"},null,{"$f":"'CPI Sub-Categories'!Y127","v":"Not relevant"},"Not relevant",{"$f":"'CPI Sub-Categories'!Z127","v":"Not relevant"},"Not relevant",{"$f":"'CPI Sub-Categories'!AA127","v":"Not relevant"},"Not relevant",{"$f":"'CPI Sub-Categories'!AB127","v":"Not relevant"},{"$f":"IFERROR((AJ126-AH126)/AH126,\"Not relevant\")","v":"Not relevant"},null,{"$f":"'CPI Sub-Categories'!AD127","v":"Not relevant"},"Not relevant",{"$f":"'CPI Sub-Categories'!AE127","v":"Not relevant"},"Not relevant",{"$f":"'CPI Sub-Categories'!AF127","v":"Not relevant"},"Not relevant",{"$f":"'CPI Sub-Categories'!AG127","v":"Not relevant"},"Not relevant",null,{"$f":"'CPI Sub-Categories'!AI127","v":"Not relevant"},"Not relevant",{"$f":"'CPI Sub-Categories'!AJ127","v":"Not relevant"},"Not relevant",{"$f":"'CPI Sub-Categories'!AK127","v":"Not relevant"},"Not relevant",{"$f":"'CPI Sub-Categories'!AL127","v":"Not relevant"},"Not relevant",null,{"$f":"'CPI Sub-Categories'!AM127","v":"Not relevant"},"Not relevant",{"$f":"'CPI Sub-Categories'!AN127","v":"Not relevant"},"Not relevant",{"$f":"'CPI Sub-Categories'!AO127","v":"Not relevant"},"Not relevant",{"$f":"'CPI Sub-Categories'!AU127","v":0},"Not relevant"]
[3,"092300","Maintenance and repair of other major durables for recreation and","Not relevant","Not relevant","Not relevent","Not relevant","Not relevant","Not relevant","Not relevant",null,"Not relevant","Not relevant","Not relevant","Not relevant","Not relevant","Not relevant","Not relevant","Not relevant",null,"Not relevant","Not relevant","Not relevant","Not relevant","Not relevant","Not relevant","Not relevant",{"$f":"IFERROR((AA127-Y127)/Y127,\"Not relevant\")","v":"Not relevant"},null,{"$f":"'CPI Sub-Categories'!Y128","v":"Not relevant"},"Not relevant",{"$f":"'CPI Sub-Categories'!Z128","v":"Not relevant"},"Not relevant",{"$f":"'CPI Sub-Categories'!AA128","v":"Not relevant"},"Not relevant",{"$f":"'CPI Sub-Categories'!AB128","v":"Not relevant"},{"$f":"IFERROR((AJ127-AH127)/AH127,\"Not relevant\")","v":"Not relevant"},null,{"$f":"'CPI Sub-Categories'!AD128","v":"Not relevant"},"Not relevant",{"$f":"'CPI Sub-Categories'!AE128","v":"Not relevant"},"Not relevant",{"$f":"'CPI Sub-Categories'!AF128","v":"Not relevant"},"Not relevant",{"$f":"'CPI Sub-Categories'!AG128","v":"Not relevant"},"Not relevant",null,{"$f":"'CPI Sub-Categories'!AI128","v":"Not relevant"},"Not relevant",{"$f":"'CPI Sub-Categories'!AJ128","v":"Not relevant"},"Not relevant",{"$f":"'CPI Sub-Categories'!AK128","v":"Not relevant"},"Not relevant",{"$f":"'CPI Sub-Categories'!AL128","v":"Not relevant"},"Not relevant",null,{"$f":"'CPI Sub-Categories'!AM128","v":"Not relevant"},"Not relevant",{"$f":"'CPI Sub-Categories'!AN128","v":"Not relevant"},"Not relevant",{"$f":"'CPI Sub-Categories'!AO128","v":"Not relevant"},"Not relevant",{"$f":"'CPI Sub-Categories'!AU128","v":0},"Not relevant"]
[2,"093000","Other recreational items and equipment, gardens and pets",101.694221986722,102.95655444379599,1.241302044907542E-2,102.41380883874599,-5.2715983744996654E-3,106.616545381804,4.1036815159129172E-2,null,105.820122974529,-7.4699701103889482E-3,107.35892725546699,1.4541698097519571E-2,104.697797128015,-2.4787227252370723E-2,100.651169453615,-3.8650552212212731E-2,null,99.401362968128296,-1.2417207790741798E-2,99.984835010879905,5.8698595806849383E-3,101.235367432506,1.2507220934954915E-2,103.747509203037,2.4814862969760609E-2,null,{"$f":"'CPI Sub-Categories'!Y129","v":103.631373714291},{"$f":"(AD128-AA128)/AA128","v":-1.1194050791013767E-3},{"$f":"'CPI Sub-Categories'!Z129","v":106.61899569003501},{"$f":"(AF128-AD128)/AD128","v":2.8829319429662308E-2},{"$f":"'CPI Sub-Categories'!AA129","v":110.91336976145899},4.02777576700186E-2,{"$f":"'CPI Sub-Categories'!AB129","v":106.10993274397499},{"$f":"IFERROR((AJ128-AH128)/AH128,\"Not available\")","v":-4.3308007211526764E-2},null,{"$f":"'CPI Sub-Categories'!AD129","v":108.54450366038},{"$f":"(AM128-AJ128)/AJ128","v":2.2943855051526688E-2},{"$f":"'CPI Sub-Categories'!AE129","v":107.611698756525},-8.5937553021902587E-3,{"$f":"'CPI Sub-Categories'!AF129","v":111.307939461101},3.4347944947313441E-2,{"$f":"'CPI Sub-Categories'!AG129","v":111.607007873927},2.6868560704110317E-3,null,{"$f":"'CPI Sub-Categories'!AI129","v":108.745605283725},{"$f":"(AV128-AS128)/AS128","v":-2.5638198216318898E-2},{"$f":"'CPI Sub-Categories'!AJ129","v":106.007212264872},-2.5181643080732702E-2,{"$f":"'CPI Sub-Categories'!AK129","v":108.78749883758999},2.6227334096581196E-2,{"$f":"'CPI Sub-Categories'!AL129","v":112.55102901039},{"$f":"(BB128-AZ128)/AZ128","v":3.4595244977721352E-2},null,{"$f":"'CPI Sub-Categories'!AM129","v":113.813929678346},{"$f":"(BE128-BB128)/BB128","v":1.1220694107020741E-2},{"$f":"'CPI Sub-Categories'!AN129","v":112.301875707544},{"$f":"(BG128-BE128)/BE128","v":-1.3285315559134769E-2},{"$f":"'CPI Sub-Categories'!AO129","v":112.30044910972001},{"$f":"(BI128-BG128)/BG128","v":-1.2703241286089348E-5},{"$f":"'CPI Sub-Categories'!AU129","v":0},{"$f":"(BK128-BI128)/BI128","v":-1}]
[3,"093100","Games, toys and hobbies",104.96769824955,104.59876577658,-3.5147238543128054E-3,102.641118632744,-1.8715776704454408E-2,115.88597629102,0.12904046482255216,null,111.70314920033999,-3.6094333624767799E-2,114.838467341398,2.8068305714772673E-2,107.347277069082,-6.5232412498555811E-2,99.147191938941006,-7.6388385006393111E-2,null,95.640079300171806,-3.5372788378404373E-2,94.831961571124396,-8.4495719259191221E-3,98.594691663195604,3.9677868407785116E-2,106.06438160174601,7.5761583230740628E-2,null,{"$f":"'CPI Sub-Categories'!Y130","v":103.868070164204},-2.0707342129130488E-2,{"$f":"'CPI Sub-Categories'!Z130","v":112.02835270134401},7.8563917903158267E-2,{"$f":"'CPI Sub-Categories'!AA130","v":120.80298314228899},7.8325086724583423E-2,{"$f":"'CPI Sub-Categories'!AB130","v":104.63010121499001},-0.13387816680197043,null,{"$f":"'CPI Sub-Categories'!AD130","v":111.495480175765},6.5615715564188049E-2,{"$f":"'CPI Sub-Categories'!AE130","v":109.066202955138},-2.178812286199773E-2,{"$f":"'CPI Sub-Categories'!AF130","v":109.994417470508},8.5105604689639947E-3,{"$f":"'CPI Sub-Categories'!AG130","v":99.009137428913704},-9.9871250689060623E-2,null,{"$f":"'CPI Sub-Categories'!AI130","v":102.688833811477},3.716522008087618E-2,{"$f":"'CPI Sub-Categories'!AJ130","v":97.676192573908295},-4.8813888049125592E-2,{"$f":"'CPI Sub-Categories'!AK130","v":104.040134342388},6.515345859395906E-2,{"$f":"'CPI Sub-Categories'!AL130","v":109.494067557194},5.2421435720733781E-2,null,{"$f":"'CPI Sub-Categories'!AM130","v":112.236450133275},2.5045946664174486E-2,{"$f":"'CPI Sub-Categories'!AN130","v":109.356203457296},-2.5662310885268116E-2,{"$f":"'CPI Sub-Categories'!AO130","v":109.356203457296},0,{"$f":"'CPI Sub-Categories'!AU130","v":0},-1]
[3,"093200","Equipment for sport, camping and open-air recreation",96.016054199999999,113.85583769097001,0.18580000646360664,113.85583769097001,0,122.71391533532,7.7800820967939971E-2,null,117.446484971983,-4.2924474774874259E-2,123.704124794042,5.3280775695856479E-2,118.003102168759,-4.6085954165027018E-2,114.471282943811,-2.9929884554196359E-2,null,113.989273617088,-4.2107445144962657E-3,118.25390158987599,3.7412537491147639E-2,112.168115697964,-5.146372178922691E-2,122.54852024148001,9.2543272916052258E-2,null,{"$f":"'CPI Sub-Categories'!Y131","v":132.64477562855399},8.2385779666530962E-2,{"$f":"'CPI Sub-Categories'!Z131","v":121.654333570681},-8.2856199995766044E-2,{"$f":"'CPI Sub-Categories'!AA131","v":137.26465685122901},0.12831703419326551,{"$f":"'CPI Sub-Categories'!AB131","v":129.566715093417},-5.6081018482093556E-2,null,{"$f":"'CPI Sub-Categories'!AD131","v":126.582113164983},-2.3035251964843895E-2,{"$f":"'CPI Sub-Categories'!AE131","v":112.56187677455399},-0.1107600121365922,{"$f":"'CPI Sub-Categories'!AF131","v":118.300030918681},5.0977776033529938E-2,{"$f":"'CPI Sub-Categories'!AG131","v":115.27336061387101},-2.5584695805282744E-2,null,{"$f":"'CPI Sub-Categories'!AI131","v":119.722000009971},3.8592085564344007E-2,{"$f":"'CPI Sub-Categories'!AJ131","v":131.01894779651201},9.4359831823726217E-2,{"$f":"'CPI Sub-Categories'!AK131","v":136.98478993032401},4.5534193596773999E-2,{"$f":"'CPI Sub-Categories'!AL131","v":132.11470935264299},-3.5551980480155072E-2,null,{"$f":"'CPI Sub-Categories'!AM131","v":125.094475278819},-5.3137414510638997E-2,{"$f":"'CPI Sub-Categories'!AN131","v":125.522388289156},3.4207186958755157E-3,{"$f":"'CPI Sub-Categories'!AO131","v":125.468788700285},-4.2701218166373375E-4,{"$f":"'CPI Sub-Categories'!AU131","v":0},-1]
[3,"093300","Gardens, plants and flowers",100,100,0,100,0,97.4368256455883,-2.5631743544117E-2,null,107.131286389774,9.9494833498043514E-2,110.237184242059,2.8991510855053675E-2,106.73669467557301,-3.1754163448148444E-2,106.73669467557301,0,null,106.73669467557301,0,106.73669467557301,0,106.73669467557301,0,106.73669467557301,0,null,{"$f":"'CPI Sub-Categories'!Y132","v":106.73669467557301},0,{"$f":"'CPI Sub-Categories'!Z132","v":106.73669467557301},0,{"$f":"'CPI Sub-Categories'!AA132","v":106.73669467557301},0,{"$f":"'CPI Sub-Categories'!AB132","v":103.117443679115},-3.390821692070143E-2,null,{"$f":"'CPI Sub-Categories'!AD132","v":108.65430646889},5.3694725084582506E-2,{"$f":"'CPI Sub-Categories'!AE132","v":108.65430646889},0,{"$f":"'CPI Sub-Categories'!AF132","v":108.65430646889},0,{"$f":"'CPI Sub-Categories'!AG132","v":180.339831477373},0.65975778906663085,null,{"$f":"'CPI Sub-Categories'!AI132","v":103.59781637851199},-0.42554112682804479,{"$f":"'CPI Sub-Categories'!AJ132","v":103.59781637851199},0,{"$f":"'CPI Sub-Categories'!AK132","v":103.597816378511},-9.6021312498481469E-15,{"$f":"'CPI Sub-Categories'!AL132","v":141.714892534803},0.36793320060941476,null,{"$f":"'CPI Sub-Categories'!AM132","v":141.714892534803},0,{"$f":"'CPI Sub-Categories'!AN132","v":150.19739690690199},5.985612535405066E-2,{"$f":"'CPI Sub-Categories'!AO132","v":150.19739690690301},6.8122454887067772E-15,{"$f":"'CPI Sub-Categories'!AU132","v":0},-1]
[3,"093400","Pets and related products",100.351286336793,104.060968808536,3.6966964820887231E-2,104.655666849445,5.7149000986449795E-3,102.441355672206,-2.1158062854106596E-2,null,103.98911629995401,1.5108748001154552E-2,105.044638134679,1.0150310650591287E-2,106.11755598446599,1.0213923041092194E-2,101.22324506536199,-4.6121594807747496E-2,null,101.124668888618,-9.7384920509451097E-4,105.05863229076201,3.8902114047730502E-2,105.539886404982,4.5808145768361655E-3,103.99612609341,-1.4627269027448261E-2,null,{"$f":"'CPI Sub-Categories'!Y133","v":105.648762433126},1.5891325973350086E-2,{"$f":"'CPI Sub-Categories'!Z133","v":107.64602809041401},1.89047709721375E-2,{"$f":"'CPI Sub-Categories'!AA133","v":111.34094050272699},3.4324651618446694E-2,{"$f":"'CPI Sub-Categories'!AB133","v":116.47260466413},4.6089642661832221E-2,null,{"$f":"'CPI Sub-Categories'!AD133","v":115.96628792908},-4.3470886266351065E-3,{"$f":"'CPI Sub-Categories'!AE133","v":117.205018920813},1.0681819810344897E-2,{"$f":"'CPI Sub-Categories'!AF133","v":131.37605995305901},0.12090814167113749,{"$f":"'CPI Sub-Categories'!AG133","v":135.45399420657},3.1040162530129499E-2,null,{"$f":"'CPI Sub-Categories'!AI133","v":132.07788541999801},-2.4924394487942213E-2,{"$f":"'CPI Sub-Categories'!AJ133","v":126.346594493669},-4.3393266844816022E-2,{"$f":"'CPI Sub-Categories'!AK133","v":128.183143299802},1.4535799825020386E-2,{"$f":"'CPI Sub-Categories'!AL133","v":129.382309381054},9.3550996674135606E-3,null,{"$f":"'CPI Sub-Categories'!AM133","v":129.90132732562299},4.0115062642790359E-3,{"$f":"'CPI Sub-Categories'!AN133","v":129.837870009884},-4.88503982564539E-4,{"$f":"'CPI Sub-Categories'!AO133","v":129.837870009884},0,{"$f":"'CPI Sub-Categories'!AU133","v":0},-1]
[3,"093500","Veterinary and other services for pets",100,100.202699962579,2.0269996257900403E-3,100.202699962579,0,100.202699962579,0,null,100.202699962579,0,99.935519200686002,-2.6664028214088164E-3,99.935519200686002,0,99.935519200686002,0,null,99.935519200686002,0,99.527257070275198,-4.0852555095145992E-3,99.527257070275198,0,99.527257070275198,0,null,{"$f":"'CPI Sub-Categories'!Y134","v":99.527257070275198},0,{"$f":"'CPI Sub-Categories'!Z134","v":99.527257070275098},-9.9948482390281315E-16,{"$f":"'CPI Sub-Categories'!AA134","v":99.527257070275098},0,{"$f":"'CPI Sub-Categories'!AB134","v":99.527257070275098},0,null,{"$f":"'CPI Sub-Categories'!AD134","v":99.527257070275098},0,{"$f":"'CPI Sub-Categories'!AE134","v":99.527257070275098},0,{"$f":"'CPI Sub-Categories'!AF134","v":99.527257070275098},0,{"$f":"'CPI Sub-Categories'!AG134","v":99.527257070275098},0,null,{"$f":"'CPI Sub-Categories'!AI134","v":99.527257070275098},0,{"$f":"'CPI Sub-Categories'!AJ134","v":99.527257070275098},0,{"$f":"'CPI Sub-Categories'!AK134","v":99.527257070275098},0,{"$f":"'CPI Sub-Categories'!AL134","v":99.527257070275098},0,null,{"$f":"'CPI Sub-Categories'!AM134","v":99.527257070275098},0,{"$f":"'CPI Sub-Categories'!AN134","v":98.073830299667407},-1.4603303792261081E-2,{"$f":"'CPI Sub-Categories'!AO134","v":98.073830299667407},0,{"$f":"'CPI Sub-Categories'!AU134","v":0},-1]
[2,"094000","Recreational and cultural services",100,100.20744324450401,2.0744324450400597E-3,99.788954122611401,-4.1762279162387266E-3,100.685068626779,8.980097166531446E-3,null,102.746286866151,2.0471935585727737E-2,102.663472429648,-8.0600904450088225E-4,102.217445602439,-4.3445523188848324E-3,101.848481607919,-3.6095990498044455E-3,null,96.251447240285302,-5.4954519490828739E-2,96.349084765188806,1.0144005903595283E-3,96.8461408747267,5.15890847068515E-3,96.353339421088805,-5.0884986142643342E-3,null,{"$f":"'CPI Sub-Categories'!Y135","v":95.590949957727204},-7.912434254403607E-3,{"$f":"'CPI Sub-Categories'!Z135","v":95.590949957727105},-1.040642268440735E-15,{"$f":"'CPI Sub-Categories'!AA135","v":95.881737696196794},3.0420007186693202E-3,{"$f":"'CPI Sub-Categories'!AB135","v":95.263284051006494},-6.4501714304540745E-3,null,{"$f":"'CPI Sub-Categories'!AD135","v":95.263284051006494},0,{"$f":"'CPI Sub-Categories'!AE135","v":95.263284051006494},0,{"$f":"'CPI Sub-Categories'!AF135","v":101.03813617829501},6.061991442785556E-2,{"$f":"'CPI Sub-Categories'!AG135","v":101.03813617829501},0,null,{"$f":"'CPI Sub-Categories'!AI135","v":101.44678255668001},4.0444766089498202E-3,{"$f":"'CPI Sub-Categories'!AJ135","v":101.44678255668001},0,{"$f":"'CPI Sub-Categories'!AK135","v":103.884482980212},2.4029351765493492E-2,{"$f":"'CPI Sub-Categories'!AL135","v":111.071281981786},{"$f":"(BB134-AZ134)/AZ134","v":6.9180678340026489E-2},null,{"$f":"'CPI Sub-Categories'!AM135","v":111.071281981786},0,{"$f":"'CPI Sub-Categories'!AN135","v":109.006837138292},-1.8586666208035119E-2,{"$f":"'CPI Sub-Categories'!AO135","v":109.006837138292},0,{"$f":"'CPI Sub-Categories'!AU135","v":0},-1]
[3,"094100","Sporting and recreational services",100,100,0,100,0,100,0,null,98.065811372174096,-1.934188627825904E-2,97.069427970244007,-1.0160354439414857E-2,97.069427970244007,0,97.069427970244007,0,null,89.269063871530605,-8.0358607872960286E-2,90.443791531665298,1.3159403820177539E-2,100,0.10565908733480038,100,0,null,{"$f":"'CPI Sub-Categories'!Y136","v":98.661012947057799},-1.3389870529422011E-2,{"$f":"'CPI Sub-Categories'!Z136","v":98.6610129470575},-3.024780915024465E-15,{"$f":"'CPI Sub-Categories'!AA136","v":96.760287570976502},-1.9265212461389864E-2,{"$f":"'CPI Sub-Categories'!AB136","v":96.760287570976402},-1.0280662191443518E-15,null,{"$f":"'CPI Sub-Categories'!AD136","v":96.760287570976601},2.0561324382887056E-15,{"$f":"'CPI Sub-Categories'!AE136","v":96.760287570976402},-2.0561324382887013E-15,{"$f":"'CPI Sub-Categories'!AF136","v":100.634754445119},4.0041911525950845E-2,{"$f":"'CPI Sub-Categories'!AG136","v":100.634754445119},0,null,{"$f":"'CPI Sub-Categories'!AI136","v":105.55139079346201},4.8856246288396167E-2,{"$f":"'CPI Sub-Categories'!AJ136","v":105.55139079346201},0,{"$f":"'CPI Sub-Categories'!AK136","v":105.551390793461},-9.5590468035958777E-15,{"$f":"'CPI Sub-Categories'!AL136","v":105.55139079346201},9.5590468035959692E-15,null,{"$f":"'CPI Sub-Categories'!AM136","v":105.551390793461},-9.5590468035958777E-15,{"$f":"'CPI Sub-Categories'!AN136","v":105.55139079346201},9.5590468035959692E-15,{"$f":"'CPI Sub-Categories'!AO136","v":105.551390793461},-9.5590468035958777E-15,{"$f":"'CPI Sub-Categories'!AU136","v":0},-1]
[3,"094200","Cultural services",100,100.265923233569,2.6592323356899785E-3,99.729458521144807,-5.3504191167172439E-3,100.878195213759,1.1518529325722109E-2,null,103.72656792702401,2.8235762022004448E-2,103.72656792702401,0,103.15480239938,-5.5122379836790242E-3,102.681824362771,-4.5851286184214494E-3,null,96.338035554013601,-6.1781029389826866E-2,96.338035554013601,0,95.957041556980499,-3.9547619467441876E-3,95.325315243730998,-6.5834284071208515E-3,null,{"$f":"'CPI Sub-Categories'!Y137","v":94.490665320225006},-8.7558055420213516E-3,{"$f":"'CPI Sub-Categories'!Z137","v":94.490665320225006},0,{"$f":"'CPI Sub-Categories'!AA137","v":95.065942966894298},6.0881955346562509E-3,{"$f":"'CPI Sub-Categories'!AB137","v":94.273142056288705},-8.3394840030322631E-3,null,{"$f":"'CPI Sub-Categories'!AD137","v":94.273142056288705},0,{"$f":"'CPI Sub-Categories'!AE137","v":94.273142056288705},0,{"$f":"'CPI Sub-Categories'!AF137","v":99.661204818483199},{"$f":"(AQ136-AO136)/AO136","v":5.7153741189376966E-2},{"$f":"'CPI Sub-Categories'!AG137","v":99.6612048184831},-9.9814148532112852E-16,null,{"$f":"'CPI Sub-Categories'!AI137","v":99.6612048184831},0,{"$f":"'CPI Sub-Categories'!AJ137","v":99.6612048184831},{"$f":"(AX136-AV136)/AV136","v":0},{"$f":"'CPI Sub-Categories'!AK137","v":104.053246725051},4.4069725171066283E-2,{"$f":"'CPI Sub-Categories'!AL137","v":113.266064592806},8.8539456073858436E-2,null,{"$f":"'CPI Sub-Categories'!AM137","v":113.266144031262},7.013438339514875E-7,{"$f":"'CPI Sub-Categories'!AN137","v":110.619635447234},-2.3365398430951697E-2,{"$f":"'CPI Sub-Categories'!AO137","v":110.619635447234},0,{"$f":"'CPI Sub-Categories'!AU137","v":0},-1]
[3,"094300","Games of chance",100,100,0,100,0,100,0,null,100,0,100,0,100,0,100,0,null,100,0,100,{"$f":"(W137-U137)/U137","v":0},100,0,100,{"$f":"IFERROR((AA137-Y137)/Y137,\"Not available\")","v":0},null,{"$f":"'CPI Sub-Categories'!Y138","v":100},0,{"$f":"'CPI Sub-Categories'!Z138","v":100},0,{"$f":"'CPI Sub-Categories'!AA138","v":100},0,{"$f":"'CPI Sub-Categories'!AB138","v":100},0,null,{"$f":"'CPI Sub-Categories'!AD138","v":100},0,{"$f":"'CPI Sub-Categories'!AE138","v":100},0,{"$f":"'CPI Sub-Categories'!AF138","v":109.13513408486099},9.1351340848609935E-2,{"$f":"'CPI Sub-Categories'!AG138","v":109.13513408486099},0,null,{"$f":"'CPI Sub-Categories'!AI138","v":109.13513408486099},0,{"$f":"'CPI Sub-Categories'!AJ138","v":109.13513408486099},0,{"$f":"'CPI Sub-Categories'!AK138","v":101.90934115540701},-6.620959409675875E-2,{"$f":"'CPI Sub-Categories'!AL138","v":101.90934115540701},0,null,{"$f":"'CPI Sub-Categories'!AM138","v":101.90934115540701},0,{"$f":"'CPI Sub-Categories'!AN138","v":101.90934115540701},0,{"$f":"'CPI Sub-Categories'!AO138","v":101.90934115540701},0,{"$f":"'CPI Sub-Categories'!AU138","v":0},-1]
[2,"095000","Newspapers, books and stationery",90.683791306740304,90.201625181918203,-5.3170044819934904E-3,91.389538410196295,1.3169532432285049E-2,101.53542869231001,0.11101807119951203,null,110.145032758694,8.4794087908707086E-2,129.585992313757,0.17650327997681298,131.29773249733799,1.3209299500801564E-2,126.377826208006,-3.7471372854300737E-2,null,126.059360849866,{"$f":"(U138-R138)/R138","v":-2.5199464787108998E-3},135.51190314714901,7.4984850260670394E-2,135.20622012213099,-2.2557651240872421E-3,137.620035829508,1.7852845122041175E-2,null,{"$f":"'CPI Sub-Categories'!Y139","v":140.966410795759},2.4316044870070348E-2,{"$f":"'CPI Sub-Categories'!Z139","v":140.884652080585},-5.799872090980695E-4,{"$f":"'CPI Sub-Categories'!AA139","v":151.87072948039599},7.7979235051998691E-2,{"$f":"'CPI Sub-Categories'!AB139","v":151.35359121971501},-3.4051213321375008E-3,null,{"$f":"'CPI Sub-Categories'!AD139","v":150.79624416451699},-3.6824171181306154E-3,{"$f":"'CPI Sub-Categories'!AE139","v":150.09706973618199},-4.6365506794201544E-3,{"$f":"'CPI Sub-Categories'!AF139","v":156.641855001887},4.3603684450392262E-2,{"$f":"'CPI Sub-Categories'!AG139","v":156.83009249569099},1.2017062349122991E-3,null,{"$f":"'CPI Sub-Categories'!AI139","v":156.323619450591},-3.22943790340435E-3,{"$f":"'CPI Sub-Categories'!AJ139","v":156.254529174986},-4.419695235295491E-4,{"$f":"'CPI Sub-Categories'!AK139","v":156.772111723938},3.3124322967455428E-3,{"$f":"'CPI Sub-Categories'!AL139","v":158.380833263326},{"$f":"(BB138-AZ138)/AZ138","v":1.026152879933657E-2},null,{"$f":"'CPI Sub-Categories'!AM139","v":163.169318132309},3.0233992146143144E-2,{"$f":"'CPI Sub-Categories'!AN139","v":162.68047179453501},-2.9959452142687875E-3,{"$f":"'CPI Sub-Categories'!AO139","v":162.263008719666},-2.5661535786314885E-3,{"$f":"'CPI Sub-Categories'!AU139","v":0},-1]
[3,"095100","Books",98.575753985437004,98.575753985437004,0,98.575753985437004,0,131.200718532558,0.33096337819481264,null,158.109781423154,0.20509844146866016,222.64438608566601,0.40816326530612351,222.64438608566601,0,206.43902980374699,-7.2785829307565608E-2,null,210.81304189753899,2.118791246960517E-2,237.48734515804401,0.12653061224489834,237.48734515804401,0,237.48734515804401,0,null,{"$f":"'CPI Sub-Categories'!Y140","v":237.48734515804401},0,{"$f":"'CPI Sub-Categories'!Z140","v":237.48734515804401},0,{"$f":"'CPI Sub-Categories'!AA140","v":271.90580097805002},0.14492753623188254,{"$f":"'CPI Sub-Categories'!AB140","v":271.90580097805002},0,null,{"$f":"'CPI Sub-Categories'!AD140","v":271.90580097805002},0,{"$f":"'CPI Sub-Categories'!AE140","v":271.90580097805002},{"$f":"(AO139-AM139)/AM139","v":0},{"$f":"'CPI Sub-Categories'!AF140","v":289.11502888805302},6.3291139240505695E-2,{"$f":"'CPI Sub-Categories'!AG140","v":289.11502888805302},0,null,{"$f":"'CPI Sub-Categories'!AI140","v":289.11502888805302},0,{"$f":"'CPI Sub-Categories'!AJ140","v":289.11502888805302},0,{"$f":"'CPI Sub-Categories'!AK140","v":289.11502888805302},0,{"$f":"'CPI Sub-Categories'!AL140","v":289.11502888805302},0,null,{"$f":"'CPI Sub-Categories'!AM140","v":300.55259304545899},3.9560600503527138E-2,{"$f":"'CPI Sub-Categories'!AN140","v":300.55259304545899},0,{"$f":"'CPI Sub-Categories'!AO140","v":300.55259304545899},0,{"$f":"'CPI Sub-Categories'!AU140","v":0},-1]
[3,"095200","Newspapers and periodicals",100,100,0,100,0,100,0,null,100,0,100,0,100,0,100,0,null,100,0,100,0,100,0,111.111111111111,0.11111111111111001,null,{"$f":"'CPI Sub-Categories'!Y141","v":133.333333333333},0.19999999999999821,{"$f":"'CPI Sub-Categories'!Z141","v":133.333333333333},0,{"$f":"'CPI Sub-Categories'!AA141","v":133.333333333333},0,{"$f":"'CPI Sub-Categories'!AB141","v":133.333333333333},0,null,{"$f":"'CPI Sub-Categories'!AD141","v":133.333333333333},0,{"$f":"'CPI Sub-Categories'!AE141","v":133.333333333333},0,{"$f":"'CPI Sub-Categories'!AF141","v":133.333333333333},0,{"$f":"'CPI Sub-Categories'!AG141","v":133.333333333333},0,null,{"$f":"'CPI Sub-Categories'!AI141","v":133.333333333333},0,{"$f":"'CPI Sub-Categories'!AJ141","v":133.333333333333},0,{"$f":"'CPI Sub-Categories'!AK141","v":133.333333333333},0,{"$f":"'CPI Sub-Categories'!AL141","v":133.333333333333},0,null,{"$f":"'CPI Sub-Categories'!AM141","v":133.333333333333},0,{"$f":"'CPI Sub-Categories'!AN141","v":133.333333333333},0,{"$f":"'CPI Sub-Categories'!AO141","v":133.333333333333},0,{"$f":"'CPI Sub-Categories'!AU141","v":0},-1]
[3,"095300","Miscellaneous printed matter","Not relevant","Not relevant","Not relevent","Not relevant","Not relevant","Not relevant","Not relevant",null,"Not relevant","Not relevant","Not relevant","Not relevant","Not relevant","Not relevant","Not relevant","Not relevant",null,"Not relevant","Not relevant","Not relevant","Not relevant","Not relevant","Not relevant","Not relevant",{"$f":"IFERROR((AA141-Y141)/Y141,\"Not relevant\")","v":"Not relevant"},null,{"$f":"'CPI Sub-Categories'!Y142","v":"Not relevant"},"Not relevant",{"$f":"'CPI Sub-Categories'!Z142","v":"Not relevant"},"Not relevant",{"$f":"'CPI Sub-Categories'!AA142","v":"Not relevant"},"Not relevant",{"$f":"'CPI Sub-Categories'!AB142","v":"Not relevant"},{"$f":"IFERROR((AJ141-AH141)/AH141,\"Not relevant\")","v":"Not relevant"},null,{"$f":"'CPI Sub-Categories'!AD142","v":"Not relevant"},"Not relevant",{"$f":"'CPI Sub-Categories'!AE142","v":"Not relevant"},"Not relevant",{"$f":"'CPI Sub-Categories'!AF142","v":"Not relevant"},"Not relevant",{"$f":"'CPI Sub-Categories'!AG142","v":"Not relevant"},"Not relevant",null,{"$f":"'CPI Sub-Categories'!AI142","v":"Not relevant"},"Not relevant",{"$f":"'CPI Sub-Categories'!AJ142","v":"Not relevant"},"Not relevant",{"$f":"'CPI Sub-Categories'!AK142","v":"Not relevant"},"Not relevant",{"$f":"'CPI Sub-Categories'!AL142","v":"Not relevant"},"Not relevant",null,{"$f":"'CPI Sub-Categories'!AM142","v":"Not relevant"},"Not relevant",{"$f":"'CPI Sub-Categories'!AN142","v":"Not relevant"},"Not relevant",{"$f":"'CPI Sub-Categories'!AO142","v":"Not relevant"},"Not relevant",{"$f":"'CPI Sub-Categories'!AU142","v":0},"Not relevant"]
[3,"095400","Stationery and drawing materials",82.893262654420298,81.962261884091106,-1.1231320140100021E-2,84.255969537276101,2.7984923798573261E-2,83.650263527495895,-7.1888794717652983E-3,null,83.616550682102201,-4.0302138895967365E-4,81.205126223285603,-2.8839080769840382E-2,84.510276352000005,4.0701249815515331E-2,85.042312562502104,6.2955208936493791E-3,null,81.719714220106894,-3.9069943446719615E-2,83.458931971832897,2.1282719455449014E-2,82.868697367787604,-7.0721562102483504E-3,84.064657326699603,1.4431986949234799E-2,null,{"$f":"'CPI Sub-Categories'!Y143","v":83.5964615631882},{"$f":"(AD142-AA142)/AA142","v":-5.5694720992183295E-3},{"$f":"'CPI Sub-Categories'!Z143","v":83.438596000076799},{"$f":"(AF142-AD142)/AD142","v":-1.8884239854108443E-3},{"$f":"'CPI Sub-Categories'!AA143","v":83.344942768710496},-1.122420988078676E-3,{"$f":"'CPI Sub-Categories'!AB143","v":82.3464153021892},{"$f":"IFERROR((AJ142-AH142)/AH142,\"Not available\")","v":-1.1980660533804631E-2},null,{"$f":"'CPI Sub-Categories'!AD143","v":81.270249825151893},{"$f":"(AM142-AJ142)/AJ142","v":-1.3068759254280459E-2},{"$f":"'CPI Sub-Categories'!AE143","v":79.920233932571804},-1.6611440170106132E-2,{"$f":"'CPI Sub-Categories'!AF143","v":81.904194658721494},2.4824260747579201E-2,{"$f":"'CPI Sub-Categories'!AG143","v":82.267657047957996},4.4376529279236349E-3,null,{"$f":"'CPI Sub-Categories'!AI143","v":81.289722740952897},{"$f":"(AV142-AS142)/AS142","v":-1.1887226913913597E-2},{"$f":"'CPI Sub-Categories'!AJ143","v":81.156318305222101},-1.6410984221943746E-3,{"$f":"'CPI Sub-Categories'!AK143","v":82.155703635249594},1.2314325623654946E-2,{"$f":"'CPI Sub-Categories'!AL143","v":85.261938012390203},3.7809114153918015E-2,null,{"$f":"'CPI Sub-Categories'!AM143","v":83.854708569632393},{"$f":"(BE142-BB142)/BB142","v":-1.6504778985358185E-2},{"$f":"'CPI Sub-Categories'!AN143","v":86.483692310214295},{"$f":"(BG142-BE142)/BE142","v":3.135165317996199E-2},{"$f":"'CPI Sub-Categories'!AO143","v":85.677624807171696},{"$f":"(BI142-BG142)/BG142","v":-9.3204566261030977E-3},{"$f":"'CPI Sub-Categories'!AU143","v":0},{"$f":"(BK142-BI142)/BI142","v":-1}]
[2,"096000","Package holidays",100,100,0,100,0,106.55622963047701,6.5562296304770062E-2,null,106.55622963047701,0,106.55622963047701,0,106.55622963047701,0,85.155435873569701,-0.20084038099998888,null,85.155435873569701,0,85.155435873569701,0,85.155435873569701,0,156.16870145085301,0.8339252197912147,null,{"$f":"'CPI Sub-Categories'!Y144","v":156.16870145085301},0,{"$f":"'CPI Sub-Categories'!Z144","v":156.16870145085301},0,{"$f":"'CPI Sub-Categories'!AA144","v":156.16870145085301},0,{"$f":"'CPI Sub-Categories'!AB144","v":179.86089850829299},0.15170899698423904,null,{"$f":"'CPI Sub-Categories'!AD144","v":179.86089850829299},0,{"$f":"'CPI Sub-Categories'!AE144","v":179.86089850829299},0,{"$f":"'CPI Sub-Categories'!AF144","v":179.86089850829299},0,{"$f":"'CPI Sub-Categories'!AG144","v":127.02861192202},-0.293739701204912,null,{"$f":"'CPI Sub-Categories'!AI144","v":127.02861192202},0,{"$f":"'CPI Sub-Categories'!AJ144","v":127.02861192202},0,{"$f":"'CPI Sub-Categories'!AK144","v":127.02861192202},0,{"$f":"'CPI Sub-Categories'!AL144","v":147.15693057085301},{"$f":"(BB143-AZ143)/AZ143","v":0.15845499958064033},null,{"$f":"'CPI Sub-Categories'!AM144","v":147.15693057085301},0,{"$f":"'CPI Sub-Categories'!AN144","v":147.15693057085301},0,{"$f":"'CPI Sub-Categories'!AO144","v":147.15693057085301},0,{"$f":"'CPI Sub-Categories'!AU144","v":0},-1]
[3,"096100","Package holidays",100,100,0,100,0,106.55622963047701,6.5562296304770062E-2,null,106.55622963047701,0,106.55622963047701,0,106.55622963047701,0,85.155435873569701,-0.20084038099998888,null,85.155435873569701,0,85.155435873569701,0,85.155435873569701,0,156.16870145085301,0.8339252197912147,null,{"$f":"'CPI Sub-Categories'!Y145","v":156.16870145085301},0,{"$f":"'CPI Sub-Categories'!Z145","v":156.16870145085301},0,{"$f":"'CPI Sub-Categories'!AA145","v":156.16870145085301},0,{"$f":"'CPI Sub-Categories'!AB145","v":179.86089850829299},0.15170899698423904,null,{"$f":"'CPI Sub-Categories'!AD145","v":179.86089850829299},0,{"$f":"'CPI Sub-Categories'!AE145","v":179.86089850829299},0,{"$f":"'CPI Sub-Categories'!AF145","v":179.86089850829299},0,{"$f":"'CPI Sub-Categories'!AG145","v":127.02861192202},-0.293739701204912,null,{"$f":"'CPI Sub-Categories'!AI145","v":127.02861192202},0,{"$f":"'CPI Sub-Categories'!AJ145","v":127.02861192202},0,{"$f":"'CPI Sub-Categories'!AK145","v":127.02861192202},0,{"$f":"'CPI Sub-Categories'!AL145","v":147.15693057085301},0.15845499958064033,null,{"$f":"'CPI Sub-Categories'!AM145","v":147.15693057085301},0,{"$f":"'CPI Sub-Categories'!AN145","v":147.15693057085301},0,{"$f":"'CPI Sub-Categories'!AO145","v":147.15693057085301},0,{"$f":"'CPI Sub-Categories'!AU145","v":0},-1]
[1,"100000","Education",100,100,0,100.505939280972,5.0593928097200092E-3,100.821099680107,3.1357390557182987E-3,null,100.821099680107,0,100.821099680107,0,101.496140083421,6.6954278961033021E-3,101.83229910090201,3.3120374548698647E-3,null,101.83229910090201,0,101.83229910090201,0,101.138150109153,-6.8165896074014352E-3,100.752874441392,-3.809399987494333E-3,null,{"$f":"'CPI Sub-Categories'!Y146","v":100.752874441392},0,{"$f":"'CPI Sub-Categories'!Z146","v":100.752874441392},0,{"$f":"'CPI Sub-Categories'!AA146","v":103.729636253324},2.9545180010358829E-2,{"$f":"'CPI Sub-Categories'!AB146","v":103.729636253324},0,null,{"$f":"'CPI Sub-Categories'!AD146","v":103.729636253324},0,{"$f":"'CPI Sub-Categories'!AE146","v":103.729636253324},0,{"$f":"'CPI Sub-Categories'!AF146","v":107.563991500295},3.6964896296434561E-2,{"$f":"'CPI Sub-Categories'!AG146","v":107.563991500295},0,null,{"$f":"'CPI Sub-Categories'!AI146","v":107.563991500295},0,{"$f":"'CPI Sub-Categories'!AJ146","v":107.563991500295},0,{"$f":"'CPI Sub-Categories'!AK146","v":107.563991500295},0,{"$f":"'CPI Sub-Categories'!AL146","v":108.960389978907},{"$f":"(BB145-AZ145)/AZ145","v":1.2982025482088676E-2},null,{"$f":"'CPI Sub-Categories'!AM146","v":108.960389978907},0,{"$f":"'CPI Sub-Categories'!AN146","v":107.563991500295},-1.2815652356625375E-2,{"$f":"'CPI Sub-Categories'!AO146","v":111.831814556395},3.9677061036622968E-2,{"$f":"'CPI Sub-Categories'!AU146","v":0},-1]
[2,"101000","Pre-primary and primary education",100,100,0,100.271745877708,2.7174587770799974E-3,100.620843810381,3.4815184438771614E-3,null,100.620843810381,0,100.620843810381,0,101.41294831023799,7.8721711114816614E-3,101.806774725007,3.8833938006045624E-3,null,101.806774725007,0,101.806774725007,0,100.147186793812,-1.6301350628951394E-2,99.226060557228493,-9.1977245299956802E-3,null,{"$f":"'CPI Sub-Categories'!Y147","v":99.226060557228493},0,{"$f":"'CPI Sub-Categories'!Z147","v":99.226060557228394},-1.002518717842692E-15,{"$f":"'CPI Sub-Categories'!AA147","v":100.202295374643},9.838492145433567E-3,{"$f":"'CPI Sub-Categories'!AB147","v":100.202295374643},0,null,{"$f":"'CPI Sub-Categories'!AD147","v":100.202295374643},0,{"$f":"'CPI Sub-Categories'!AE147","v":100.202295374643},0,{"$f":"'CPI Sub-Categories'!AF147","v":103.327172153338},3.1185680597550187E-2,{"$f":"'CPI Sub-Categories'!AG147","v":103.327172153338},0,null,{"$f":"'CPI Sub-Categories'!AI147","v":103.327172153338},0,{"$f":"'CPI Sub-Categories'!AJ147","v":103.327172153338},0,{"$f":"'CPI Sub-Categories'!AK147","v":105.307710912369},1.916764697762054E-2,{"$f":"'CPI Sub-Categories'!AL147","v":105.307710912369},0,null,{"$f":"'CPI Sub-Categories'!AM147","v":105.307710912369},0,{"$f":"'CPI Sub-Categories'!AN147","v":105.307710912369},0,{"$f":"'CPI Sub-Categories'!AO147","v":109.229424415753},3.7240516097130069E-2,{"$f":"'CPI Sub-Categories'!AU147","v":0},-1]
[3,"101100","Pre-primary and primary education",100,100,0,100.271745877708,2.7174587770799974E-3,100.620843810381,3.4815184438771614E-3,null,100.620843810381,0,100.620843810381,0,101.41294831023799,7.8721711114816614E-3,101.806774725007,3.8833938006045624E-3,null,101.806774725007,0,101.806774725007,0,100.147186793812,-1.6301350628951394E-2,99.226060557228493,-9.1977245299956802E-3,null,{"$f":"'CPI Sub-Categories'!Y148","v":99.226060557228493},0,{"$f":"'CPI Sub-Categories'!Z148","v":99.226060557228394},-1.002518717842692E-15,{"$f":"'CPI Sub-Categories'!AA148","v":100.202295374643},9.838492145433567E-3,{"$f":"'CPI Sub-Categories'!AB148","v":100.202295374643},0,null,{"$f":"'CPI Sub-Categories'!AD148","v":100.202295374643},0,{"$f":"'CPI Sub-Categories'!AE148","v":100.202295374643},0,{"$f":"'CPI Sub-Categories'!AF148","v":103.327172153338},3.1185680597550187E-2,{"$f":"'CPI Sub-Categories'!AG148","v":103.327172153338},0,null,{"$f":"'CPI Sub-Categories'!AI148","v":103.327172153338},0,{"$f":"'CPI Sub-Categories'!AJ148","v":103.327172153338},0,{"$f":"'CPI Sub-Categories'!AK148","v":105.307710912369},1.916764697762054E-2,{"$f":"'CPI Sub-Categories'!AL148","v":105.307710912369},0,null,{"$f":"'CPI Sub-Categories'!AM148","v":105.307710912369},0,{"$f":"'CPI Sub-Categories'!AN148","v":105.307710912369},0,{"$f":"'CPI Sub-Categories'!AO148","v":109.229424415753},3.7240516097130069E-2,{"$f":"'CPI Sub-Categories'!AU148","v":0},-1]
[2,"102000","Secondary education",100,100,0,100.58041899633901,5.8041899633900582E-3,100.93519019047299,3.5272391751211695E-3,null,100.93519019047299,0,100.93519019047299,0,101.59822807504,6.5689467005094733E-3,101.928480389713,3.2505715988381313E-3,null,101.928480389713,0,101.928480389713,0,101.928480389713,0,101.928480389713,0,null,{"$f":"'CPI Sub-Categories'!Y149","v":101.928480389713},0,{"$f":"'CPI Sub-Categories'!Z149","v":101.928480389713},0,{"$f":"'CPI Sub-Categories'!AA149","v":103.95781577393601},1.990940487353534E-2,{"$f":"'CPI Sub-Categories'!AB149","v":103.95781577393601},0,null,{"$f":"'CPI Sub-Categories'!AD149","v":103.95781577393601},0,{"$f":"'CPI Sub-Categories'!AE149","v":103.95781577393601},0,{"$f":"'CPI Sub-Categories'!AF149","v":106.116766467714},2.0767564975324171E-2,{"$f":"'CPI Sub-Categories'!AG149","v":106.116766467714},0,null,{"$f":"'CPI Sub-Categories'!AI149","v":106.116766467714},0,{"$f":"'CPI Sub-Categories'!AJ149","v":106.116766467714},0,{"$f":"'CPI Sub-Categories'!AK149","v":107.965344727615},1.7420227937904924E-2,{"$f":"'CPI Sub-Categories'!AL149","v":107.965344727615},0,null,{"$f":"'CPI Sub-Categories'!AM149","v":107.965344727615},0,{"$f":"'CPI Sub-Categories'!AN149","v":107.965344727615},0,{"$f":"'CPI Sub-Categories'!AO149","v":110.73531746129601},2.565612827587728E-2,{"$f":"'CPI Sub-Categories'!AU149","v":0},-1]
[3,"102100","Secondary education",100,100,0,100.58041899633901,5.8041899633900582E-3,100.93519019047299,3.5272391751211695E-3,null,100.93519019047299,0,100.93519019047299,0,101.59822807504,6.5689467005094733E-3,101.928480389713,3.2505715988381313E-3,null,101.928480389713,0,101.928480389713,0,101.928480389713,0,101.928480389713,0,null,{"$f":"'CPI Sub-Categories'!Y150","v":101.928480389713},0,{"$f":"'CPI Sub-Categories'!Z150","v":101.928480389713},0,{"$f":"'CPI Sub-Categories'!AA150","v":103.95781577393601},1.990940487353534E-2,{"$f":"'CPI Sub-Categories'!AB150","v":103.95781577393601},0,null,{"$f":"'CPI Sub-Categories'!AD150","v":103.95781577393601},0,{"$f":"'CPI Sub-Categories'!AE150","v":103.95781577393601},0,{"$f":"'CPI Sub-Categories'!AF150","v":106.116766467714},2.0767564975324171E-2,{"$f":"'CPI Sub-Categories'!AG150","v":106.116766467714},0,null,{"$f":"'CPI Sub-Categories'!AI150","v":106.116766467714},0,{"$f":"'CPI Sub-Categories'!AJ150","v":106.116766467714},0,{"$f":"'CPI Sub-Categories'!AK150","v":107.965344727615},1.7420227937904924E-2,{"$f":"'CPI Sub-Categories'!AL150","v":107.965344727615},0,null,{"$f":"'CPI Sub-Categories'!AM150","v":107.965344727615},0,{"$f":"'CPI Sub-Categories'!AN150","v":107.965344727615},0,{"$f":"'CPI Sub-Categories'!AO150","v":110.73531746129601},2.565612827587728E-2,{"$f":"'CPI Sub-Categories'!AU150","v":0},-1]
[2,"103000","Post-secondary non-tertiary education",100,100,0,100.033361135207,3.3361135207002237E-4,100.050037531277,1.6670834490362248E-4,null,100.050037531277,0,100.050037531277,0,100.050037531277,0,100.050037531277,0,null,100.050037531277,0,100.050037531277,0,100.050037531277,0,100.050037531277,0,null,{"$f":"'CPI Sub-Categories'!Y151","v":100.050037531277},0,{"$f":"'CPI Sub-Categories'!Z151","v":100.050037531277},0,{"$f":"'CPI Sub-Categories'!AA151","v":108.06639168436401},8.0123449734648897E-2,{"$f":"'CPI Sub-Categories'!AB151","v":108.06639168436401},0,null,{"$f":"'CPI Sub-Categories'!AD151","v":108.06639168436401},0,{"$f":"'CPI Sub-Categories'!AE151","v":108.06639168436401},0,{"$f":"'CPI Sub-Categories'!AF151","v":108.06639168436401},0,{"$f":"'CPI Sub-Categories'!AG151","v":108.06639168436401},0,null,{"$f":"'CPI Sub-Categories'!AI151","v":108.06639168436401},0,{"$f":"'CPI Sub-Categories'!AJ151","v":108.06639168436401},0,{"$f":"'CPI Sub-Categories'!AK151","v":108.06639168436401},0,{"$f":"'CPI Sub-Categories'!AL151","v":108.06639168436401},0,null,{"$f":"'CPI Sub-Categories'!AM151","v":108.06639168436401},0,{"$f":"'CPI Sub-Categories'!AN151","v":108.06639168436401},0,{"$f":"'CPI Sub-Categories'!AO151","v":108.06639168436401},0,{"$f":"'CPI Sub-Categories'!AU151","v":0},-1]
[3,"103100","Post-secondary non-tertiary education",100,100,0,100.033361135207,3.3361135207002237E-4,100.050037531277,1.6670834490362248E-4,null,100.050037531277,0,100.050037531277,0,100.050037531277,0,100.050037531277,0,null,100.050037531277,0,100.050037531277,0,100.050037531277,0,100.050037531277,0,null,{"$f":"'CPI Sub-Categories'!Y152","v":100.050037531277},0,{"$f":"'CPI Sub-Categories'!Z152","v":100.050037531277},0,{"$f":"'CPI Sub-Categories'!AA152","v":108.06639168436401},8.0123449734648897E-2,{"$f":"'CPI Sub-Categories'!AB152","v":108.06639168436401},0,null,{"$f":"'CPI Sub-Categories'!AD152","v":108.06639168436401},0,{"$f":"'CPI Sub-Categories'!AE152","v":108.06639168436401},0,{"$f":"'CPI Sub-Categories'!AF152","v":108.06639168436401},0,{"$f":"'CPI Sub-Categories'!AG152","v":108.06639168436401},0,null,{"$f":"'CPI Sub-Categories'!AI152","v":108.06639168436401},0,{"$f":"'CPI Sub-Categories'!AJ152","v":108.06639168436401},0,{"$f":"'CPI Sub-Categories'!AK152","v":108.06639168436401},0,{"$f":"'CPI Sub-Categories'!AL152","v":108.06639168436401},0,null,{"$f":"'CPI Sub-Categories'!AM152","v":108.06639168436401},0,{"$f":"'CPI Sub-Categories'!AN152","v":108.06639168436401},0,{"$f":"'CPI Sub-Categories'!AO152","v":108.06639168436401},0,{"$f":"'CPI Sub-Categories'!AU152","v":0},-1]
[2,"104000","Tertiary education",100,100,0,104.772255750517,4.7722557505170043E-2,107.008771254957,2.1346447954366549E-2,null,107.008771254957,0,107.008771254957,0,110.84301252514,3.583109333203735E-2,112.759010261146,1.7285688040745404E-2,null,112.759010261146,0,112.759010261146,0,112.759010261146,0,112.759010261146,0,null,{"$f":"'CPI Sub-Categories'!Y153","v":112.759010261146},0,{"$f":"'CPI Sub-Categories'!Z153","v":112.759010261146},0,{"$f":"'CPI Sub-Categories'!AA153","v":128.180313678196},0.13676338042817854,{"$f":"'CPI Sub-Categories'!AB153","v":128.180313678196},0,null,{"$f":"'CPI Sub-Categories'!AD153","v":128.180313678196},0,{"$f":"'CPI Sub-Categories'!AE153","v":128.180313678196},0,{"$f":"'CPI Sub-Categories'!AF153","v":129.25868109970801},8.4128942313194521E-3,{"$f":"'CPI Sub-Categories'!AG153","v":129.25868109970801},0,null,{"$f":"'CPI Sub-Categories'!AI153","v":129.25868109970801},0,{"$f":"'CPI Sub-Categories'!AJ153","v":129.25868109970801},0,{"$f":"'CPI Sub-Categories'!AK153","v":129.25868109970801},0,{"$f":"'CPI Sub-Categories'!AL153","v":129.25868109970801},0,null,{"$f":"'CPI Sub-Categories'!AM153","v":129.25868109970801},0,{"$f":"'CPI Sub-Categories'!AN153","v":129.25868109970801},0,{"$f":"'CPI Sub-Categories'!AO153","v":139.665452697105},8.0511200554254231E-2,{"$f":"'CPI Sub-Categories'!AU153","v":0},-1]
[3,"104100","Tertiary education",100,100,0,104.772255750517,4.7722557505170043E-2,107.008771254957,2.1346447954366549E-2,null,107.008771254957,0,107.008771254957,0,110.84301252514,3.583109333203735E-2,112.759010261146,1.7285688040745404E-2,null,112.759010261146,0,112.759010261146,0,112.759010261146,0,112.759010261146,0,null,{"$f":"'CPI Sub-Categories'!Y154","v":112.759010261146},0,{"$f":"'CPI Sub-Categories'!Z154","v":112.759010261146},0,{"$f":"'CPI Sub-Categories'!AA154","v":128.180313678196},0.13676338042817854,{"$f":"'CPI Sub-Categories'!AB154","v":128.180313678196},0,null,{"$f":"'CPI Sub-Categories'!AD154","v":128.180313678196},0,{"$f":"'CPI Sub-Categories'!AE154","v":128.180313678196},0,{"$f":"'CPI Sub-Categories'!AF154","v":129.25868109970801},8.4128942313194521E-3,{"$f":"'CPI Sub-Categories'!AG154","v":129.25868109970801},0,null,{"$f":"'CPI Sub-Categories'!AI154","v":129.25868109970801},0,{"$f":"'CPI Sub-Categories'!AJ154","v":129.25868109970801},0,{"$f":"'CPI Sub-Categories'!AK154","v":129.25868109970801},0,{"$f":"'CPI Sub-Categories'!AL154","v":129.25868109970801},0,null,{"$f":"'CPI Sub-Categories'!AM154","v":129.25868109970801},0,{"$f":"'CPI Sub-Categories'!AN154","v":129.25868109970801},0,{"$f":"'CPI Sub-Categories'!AO154","v":139.665452697105},8.0511200554254231E-2,{"$f":"'CPI Sub-Categories'!AU154","v":0},-1]
[2,"105000","Education not definable by level",100,100,0,100.51741879618299,5.1741879618299432E-3,100.145330595388,-3.7017285685525441E-3,null,100.145330595388,0,100.145330595388,0,100.145330595388,0,100.145330595388,0,null,100.145330595388,0,100.145330595388,0,100.145330595388,0,100.145330595388,0,null,{"$f":"'CPI Sub-Categories'!Y155","v":100.145330595388},0,{"$f":"'CPI Sub-Categories'!Z155","v":100.145330595388},0,{"$f":"'CPI Sub-Categories'!AA155","v":100.145330595388},0,{"$f":"'CPI Sub-Categories'!AB155","v":100.145330595388},0,null,{"$f":"'CPI Sub-Categories'!AD155","v":100.145330595388},0,{"$f":"'CPI Sub-Categories'!AE155","v":100.145330595388},0,{"$f":"'CPI Sub-Categories'!AF155","v":127.967233714575},0.27781528059050897,{"$f":"'CPI Sub-Categories'!AG155","v":127.967233714575},0,null,{"$f":"'CPI Sub-Categories'!AI155","v":127.967233714575},0,{"$f":"'CPI Sub-Categories'!AJ155","v":127.967233714575},0,{"$f":"'CPI Sub-Categories'!AK155","v":127.967233714575},0,{"$f":"'CPI Sub-Categories'!AL155","v":127.967233714575},0,null,{"$f":"'CPI Sub-Categories'!AM155","v":127.967233714575},0,{"$f":"'CPI Sub-Categories'!AN155","v":127.967233714575},0,{"$f":"'CPI Sub-Categories'!AO155","v":127.967233714575},0,{"$f":"'CPI Sub-Categories'!AU155","v":0},-1]
[3,"105100","Education not definable by level",100,100,0,100.51741879618299,5.1741879618299432E-3,100.145330595388,-3.7017285685525441E-3,null,100.145330595388,0,100.145330595388,0,100.145330595388,0,100.145330595388,0,null,100.145330595388,0,100.145330595388,0,100.145330595388,0,100.145330595388,0,null,{"$f":"'CPI Sub-Categories'!Y156","v":100.145330595388},0,{"$f":"'CPI Sub-Categories'!Z156","v":100.145330595388},0,{"$f":"'CPI Sub-Categories'!AA156","v":100.145330595388},0,{"$f":"'CPI Sub-Categories'!AB156","v":100.145330595388},0,null,{"$f":"'CPI Sub-Categories'!AD156","v":100.145330595388},0,{"$f":"'CPI Sub-Categories'!AE156","v":100.145330595388},0,{"$f":"'CPI Sub-Categories'!AF156","v":127.967233714575},0.27781528059050897,{"$f":"'CPI Sub-Categories'!AG156","v":127.967233714575},0,null,{"$f":"'CPI Sub-Categories'!AI156","v":127.967233714575},0,{"$f":"'CPI Sub-Categories'!AJ156","v":127.967233714575},0,{"$f":"'CPI Sub-Categories'!AK156","v":127.967233714575},0,{"$f":"'CPI Sub-Categories'!AL156","v":127.967233714575},0,null,{"$f":"'CPI Sub-Categories'!AM156","v":127.967233714575},0,{"$f":"'CPI Sub-Categories'!AN156","v":127.967233714575},0,{"$f":"'CPI Sub-Categories'!AO156","v":127.967233714575},0,{"$f":"'CPI Sub-Categories'!AU156","v":0},-1]
[1,"110000","Restaurants and hotels",99.999638594200306,100.036678701383,3.7040241048269832E-4,100.00311111865101,-3.3555275092840797E-4,100.356212896955,3.5309079323047107E-3,null,100.638216915394,2.8100304933642351E-3,101.14873558840399,5.0728111909930556E-3,102.176923681106,1.0165110683003777E-2,102.20404135406,2.653991916866269E-4,null,102.25102040380099,4.596594138410869E-4,103.05806603270599,7.8927880202846468E-3,104.52063546661699,1.4191702699397115E-2,105.035791784065,4.9287522521094867E-3,null,{"$f":"'CPI Sub-Categories'!Y157","v":105.982650805487},9.0146321110100708E-3,{"$f":"'CPI Sub-Categories'!Z157","v":113.065582626572},6.6831049867628861E-2,{"$f":"'CPI Sub-Categories'!AA157","v":113.84388260867701},6.8836153675123747E-3,{"$f":"'CPI Sub-Categories'!AB157","v":114.565831214076},6.341566967463623E-3,null,{"$f":"'CPI Sub-Categories'!AD157","v":114.565831214076},0,{"$f":"'CPI Sub-Categories'!AE157","v":119.055694319434},3.9190245972800623E-2,{"$f":"'CPI Sub-Categories'!AF157","v":124.133749493568},4.2652770227934352E-2,{"$f":"'CPI Sub-Categories'!AG157","v":121.974855454692},-1.7391676701007591E-2,null,{"$f":"'CPI Sub-Categories'!AI157","v":121.974855454692},0,{"$f":"'CPI Sub-Categories'!AJ157","v":127.97536447739699},4.9194639340514733E-2,{"$f":"'CPI Sub-Categories'!AK157","v":121.974855454692},-4.6888001039956398E-2,{"$f":"'CPI Sub-Categories'!AL157","v":126.351299199498},3.587988465730662E-2,null,{"$f":"'CPI Sub-Categories'!AM157","v":126.351299347394},1.1705143036669459E-9,{"$f":"'CPI Sub-Categories'!AN157","v":127.97536447739699},1.2853568886044747E-2,{"$f":"'CPI Sub-Categories'!AO157","v":130.84380446891399},2.2414001344951178E-2,{"$f":"'CPI Sub-Categories'!AU157","v":0},-1]
[2,"111000","Catering services",99.999638594200306,100.036678701383,3.7040241048269832E-4,100.00311111865101,-3.3555275092840797E-4,100.356212896955,3.5309079323047107E-3,null,100.638216915394,2.8100304933642351E-3,101.14873558840399,5.0728111909930556E-3,102.176923681106,1.0165110683003777E-2,102.20404135406,2.653991916866269E-4,null,102.25102040380099,4.596594138410869E-4,103.05806603270599,7.8927880202846468E-3,104.52063546661699,1.4191702699397115E-2,105.035791784065,4.9287522521094867E-3,null,{"$f":"'CPI Sub-Categories'!Y158","v":105.982650805487},9.0146321110100708E-3,{"$f":"'CPI Sub-Categories'!Z158","v":113.065582626572},6.6831049867628861E-2,{"$f":"'CPI Sub-Categories'!AA158","v":113.84388260867701},6.8836153675123747E-3,{"$f":"'CPI Sub-Categories'!AB158","v":114.565831214076},6.341566967463623E-3,null,{"$f":"'CPI Sub-Categories'!AD158","v":114.565831214076},0,{"$f":"'CPI Sub-Categories'!AE158","v":119.055694319434},3.9190245972800623E-2,{"$f":"'CPI Sub-Categories'!AF158","v":124.133749493568},4.2652770227934352E-2,{"$f":"'CPI Sub-Categories'!AG158","v":121.974855454692},-1.7391676701007591E-2,null,{"$f":"'CPI Sub-Categories'!AI158","v":121.974855454692},0,{"$f":"'CPI Sub-Categories'!AJ158","v":127.97536447739699},4.9194639340514733E-2,{"$f":"'CPI Sub-Categories'!AK158","v":127.654170684307},-2.5098095590633659E-3,{"$f":"'CPI Sub-Categories'!AL158","v":126.351299199498},-1.0206258658254478E-2,null,{"$f":"'CPI Sub-Categories'!AM158","v":126.351299199498},0,{"$f":"'CPI Sub-Categories'!AN158","v":127.631131212634},1.0129155942553904E-2,{"$f":"'CPI Sub-Categories'!AO158","v":130.558504694128},2.2936202583811505E-2,{"$f":"'CPI Sub-Categories'!AU158","v":0},-1]
[3,"111100","Restaurants, cafés and the like",99.999638594200306,100.036678701383,3.7040241048269832E-4,100.00311111865101,-3.3555275092840797E-4,100.356212896955,3.5309079323047107E-3,null,100.638216915394,2.8100304933642351E-3,101.14873558840399,5.0728111909930556E-3,102.176923681106,1.0165110683003777E-2,102.20404135406,2.653991916866269E-4,null,102.25102040380099,4.596594138410869E-4,103.05806603270599,7.8927880202846468E-3,104.52063546661699,1.4191702699397115E-2,105.035791784065,4.9287522521094867E-3,null,{"$f":"'CPI Sub-Categories'!Y159","v":105.982650805487},9.0146321110100708E-3,{"$f":"'CPI Sub-Categories'!Z159","v":113.065582626572},6.6831049867628861E-2,{"$f":"'CPI Sub-Categories'!AA159","v":113.84388260867701},6.8836153675123747E-3,{"$f":"'CPI Sub-Categories'!AB159","v":114.565831214076},6.341566967463623E-3,null,{"$f":"'CPI Sub-Categories'!AD159","v":114.565831214076},0,{"$f":"'CPI Sub-Categories'!AE159","v":119.055694319434},3.9190245972800623E-2,{"$f":"'CPI Sub-Categories'!AF159","v":124.133749493568},4.2652770227934352E-2,{"$f":"'CPI Sub-Categories'!AG159","v":121.974855454692},-1.7391676701007591E-2,null,{"$f":"'CPI Sub-Categories'!AI159","v":121.974855454692},0,{"$f":"'CPI Sub-Categories'!AJ159","v":127.97536447739699},4.9194639340514733E-2,{"$f":"'CPI Sub-Categories'!AK159","v":127.654170684307},-2.5098095590633659E-3,{"$f":"'CPI Sub-Categories'!AL159","v":126.351299199498},-1.0206258658254478E-2,null,{"$f":"'CPI Sub-Categories'!AM159","v":126.351299199498},0,{"$f":"'CPI Sub-Categories'!AN159","v":127.631131212634},1.0129155942553904E-2,{"$f":"'CPI Sub-Categories'!AO159","v":130.558504694128},2.2936202583811505E-2,{"$f":"'CPI Sub-Categories'!AU159","v":0},-1]
[3,"111200","Canteens","Not relevant","Not relevant","Not relevent","Not relevant","Not relevant","Not relevant","Not relevant",null,"Not relevant","Not relevant","Not relevant","Not relevant","Not relevant","Not relevant","Not relevant","Not relevant",null,"Not relevant","Not relevant","Not relevant","Not relevant","Not relevant","Not relevant","Not relevant",{"$f":"IFERROR((AA159-Y159)/Y159,\"Not relevant\")","v":"Not relevant"},null,{"$f":"'CPI Sub-Categories'!Y160","v":"Not relevant"},"Not relevant",{"$f":"'CPI Sub-Categories'!Z160","v":"Not relevant"},"Not relevant",{"$f":"'CPI Sub-Categories'!AA160","v":"Not relevant"},"Not relevant",{"$f":"'CPI Sub-Categories'!AB160","v":"Not relevant"},{"$f":"IFERROR((AJ159-AH159)/AH159,\"Not relevant\")","v":"Not relevant"},null,{"$f":"'CPI Sub-Categories'!AD160","v":"Not relevant"},"Not relevant","Not relevant","Not relevant","Not relevant","Not relevant","Not relevant","Not relevant",null,{"$f":"'CPI Sub-Categories'!AI160","v":"Not relevant"},"Not relevant",{"$f":"'CPI Sub-Categories'!AJ160","v":"Not relevant"},"Not relevant",{"$f":"'CPI Sub-Categories'!AK160","v":"Not relevant"},"Not relevant",{"$f":"'CPI Sub-Categories'!AL160","v":"Not relevant"},"Not available",null,{"$f":"'CPI Sub-Categories'!AM160","v":"Not relevant"},"Not relevant",{"$f":"'CPI Sub-Categories'!AN160","v":"Not relevant"},"Not relevant",{"$f":"'CPI Sub-Categories'!AO160","v":"Not relevant"},"Not relevant",{"$f":"'CPI Sub-Categories'!AU160","v":0},"Not available"]
[2,"112000","Accommodation services","Not yet available","Not yet available","Not yet available","Not yet available","Not yet available","Not yet available","Not yet available",null,"Not yet available","Not yet available","Not yet available","Not yet available","Not yet available","Not yet available","Not yet available","Not yet available",null,"Not yet available","Not yet available","Not yet available","Not yet available","Not yet available","Not yet available","Not yet available",{"$f":"IFERROR((AA160-Y160)/Y160,\"Not available\")","v":"Not available"},null,{"$f":"'CPI Sub-Categories'!Y161","v":"Not yet available"},"Not yet available",{"$f":"'CPI Sub-Categories'!Z161","v":"Not yet available"},"Not yet available",{"$f":"'CPI Sub-Categories'!AA161","v":"Not yet available"},"Not yet available",{"$f":"'CPI Sub-Categories'!AB161","v":"Not available"},{"$f":"IFERROR((AJ160-AH160)/AH160,\"Not available\")","v":"Not available"},null,{"$f":"'CPI Sub-Categories'!AD161","v":"Not available"},"Not yet available","Not yet available","Not yet available","Not yet available","Not yet available","Not yet available","Not yet available",null,{"$f":"'CPI Sub-Categories'!AI161","v":"Not available"},"Not yet available",{"$f":"'CPI Sub-Categories'!AJ161","v":"Not available"},"Not available",{"$f":"'CPI Sub-Categories'!AK161","v":"Not available"},"Not available",{"$f":"'CPI Sub-Categories'!AL161","v":"Not available"},"Not available",null,{"$f":"'CPI Sub-Categories'!AM161","v":"Not available"},"Not yet available",{"$f":"'CPI Sub-Categories'!AN161","v":"Not available"},"Not available",{"$f":"'CPI Sub-Categories'!AO161","v":"Not available"},"Not available",{"$f":"'CPI Sub-Categories'!AU161","v":0},"Not available"]
[3,"112100","Accommodation services","Not yet available","Not yet available","Not yet available","Not yet available","Not yet available","Not yet available","Not yet available",null,"Not yet available","Not yet available","Not yet available","Not yet available","Not yet available","Not yet available","Not yet available","Not yet available",null,"Not yet available","Not yet available","Not yet available","Not yet available","Not yet available","Not yet available","Not available","Not available",null,{"$f":"'CPI Sub-Categories'!Y162","v":"Not yet available"},"Not yet available",{"$f":"'CPI Sub-Categories'!Z162","v":"Not yet available"},"Not yet available",{"$f":"'CPI Sub-Categories'!AA162","v":"Not yet available"},"Not yet available",{"$f":"'CPI Sub-Categories'!AB162","v":"Not available"},{"$f":"IFERROR((AJ161-AH161)/AH161,\"Not available\")","v":"Not available"},null,{"$f":"'CPI Sub-Categories'!AD162","v":"Not available"},"Not yet available","Not yet available","Not yet available","Not yet available","Not yet available","Not yet available","Not yet available",null,{"$f":"'CPI Sub-Categories'!AI162","v":"Not available"},"Not yet available",{"$f":"'CPI Sub-Categories'!AJ162","v":"Not available"},"Not available",{"$f":"'CPI Sub-Categories'!AK162","v":"Not available"},"Not available",{"$f":"'CPI Sub-Categories'!AL162","v":"Not relevant"},"Not available",null,{"$f":"'CPI Sub-Categories'!AR162","v":0},"Not yet available",{"$f":"'CPI Sub-Categories'!AN162","v":"Not available"},"Not available",{"$f":"'CPI Sub-Categories'!AO162","v":"Not available"},"Not available",{"$f":"'CPI Sub-Categories'!AU162","v":0},"Not available"]
[1,"120000","Miscellaneous goods and services",100.558212195159,99.120138366519399,-1.4300908869070299E-2,100.21475455441001,1.1043327884017013E-2,99.369343096880002,-8.4359978856307291E-3,null,99.236182124067,-1.3400609147951876E-3,100.329118463177,1.101348636874791E-2,101.02571586305299,6.9431228993770576E-3,102.744482595544,1.7013160637445089E-2,null,103.14485762934601,3.8968032510134131E-3,103.470484950928,3.1569903635151773E-3,103.85420243197299,3.7084728193453311E-3,103.648900241411,-1.9768308431858802E-3,null,{"$f":"'CPI Sub-Categories'!Y163","v":103.824850759469},{"$f":"(AD162-AA162)/AA162","v":1.6975628072096449E-3},{"$f":"'CPI Sub-Categories'!Z163","v":102.977127905592},{"$f":"(AF162-AD162)/AD162","v":-8.164932072389117E-3},{"$f":"'CPI Sub-Categories'!AA163","v":103.479514205237},4.8786202321119028E-3,{"$f":"'CPI Sub-Categories'!AB163","v":104.207505055675},7.0351204876565E-3,null,{"$f":"'CPI Sub-Categories'!AD163","v":104.604448442924},{"$f":"(AM162-AJ162)/AJ162","v":3.8091631407634282E-3},{"$f":"'CPI Sub-Categories'!AE163","v":103.017723172738},-1.5168812548653408E-2,{"$f":"'CPI Sub-Categories'!AF163","v":102.632389583229},-3.7404591913071422E-3,{"$f":"'CPI Sub-Categories'!AG163","v":102.643897584059},1.1212835321030055E-4,null,{"$f":"'CPI Sub-Categories'!AI163","v":103.607462867772},{"$f":"(AV162-AS162)/AS162","v":9.387458060269924E-3},{"$f":"'CPI Sub-Categories'!AJ163","v":105.16177025722},1.5001886412677322E-2,{"$f":"'CPI Sub-Categories'!AK163","v":103.607462867772},{"$f":"(AZ162-AX162)/AX162","v":-1.4780156188377649E-2},{"$f":"'CPI Sub-Categories'!AL163","v":108.220556005551},{"$f":"(BB162-AZ162)/AZ162","v":4.4524718684274878E-2},null,{"$f":"'CPI Sub-Categories'!AM163","v":108.33959510048},{"$f":"(BE162-BB162)/BB162","v":1.0999675045366385E-3},{"$f":"'CPI Sub-Categories'!AN163","v":105.16177025722},{"$f":"(BG162-BE162)/BE162","v":-2.9332072362950143E-2},{"$f":"'CPI Sub-Categories'!AO163","v":107.542959349421},{"$f":"(BI162-BG162)/BG162","v":2.2643105820458691E-2},{"$f":"'CPI Sub-Categories'!AU163","v":0},{"$f":"(BK162-BI162)/BI162","v":-1}]
[2,"121000","Personal care",100.42078918477399,97.654504447545307,-2.7546932858083108E-2,97.433904105393694,-2.2589878818145811E-3,95.494410423660995,-1.9905737120363771E-2,null,94.466155124219895,-1.0767701427541613E-2,97.082491563048805,2.769601912334119E-2,96.393065526174297,-7.1014456445709405E-3,99.904778321381002,3.6431176620823874E-2,null,99.520832981511504,-3.8431128752860555E-3,100.082957739129,5.6483124264235752E-3,100.327442745158,2.4428235491027049E-3,100.612738979743,2.8436510168976027E-3,null,{"$f":"'CPI Sub-Categories'!Y164","v":101.196848549877},{"$f":"(AD163-AA163)/AA163","v":5.8055229989475415E-3},{"$f":"'CPI Sub-Categories'!Z164","v":102.37303151563999},1.162272326280283E-2,{"$f":"'CPI Sub-Categories'!AA164","v":102.63881559862},2.5962314395212576E-3,{"$f":"'CPI Sub-Categories'!AB164","v":103.89400050362001},1.2229144477938455E-2,null,{"$f":"'CPI Sub-Categories'!AD164","v":104.321142421812},{"$f":"(AM163-AJ163)/AJ163","v":4.1113241969839192E-3},{"$f":"'CPI Sub-Categories'!AE164","v":104.11248504695401},-2.0001446496272757E-3,{"$f":"'CPI Sub-Categories'!AF164","v":103.164957527041},-9.1009980165748725E-3,{"$f":"'CPI Sub-Categories'!AG164","v":103.218200655999},5.1609703754345053E-4,null,{"$f":"'CPI Sub-Categories'!AI164","v":104.934829214796},{"$f":"(AV163-AS163)/AS163","v":1.6631064559225372E-2},{"$f":"'CPI Sub-Categories'!AJ164","v":105.398129960535},4.4151284107076891E-3,{"$f":"'CPI Sub-Categories'!AK164","v":107.16331278674799},1.6747762288324686E-2,{"$f":"'CPI Sub-Categories'!AL164","v":111.579501433947},{"$f":"(BB163-AZ163)/AZ163","v":4.120989294150601E-2},null,{"$f":"'CPI Sub-Categories'!AM164","v":111.89946163458499},{"$f":"(BE163-BB163)/BB163","v":2.8675535965484115E-3},{"$f":"'CPI Sub-Categories'!AN164","v":110.24353330194501},{"$f":"(BG163-BE163)/BE163","v":-1.4798358351781263E-2},{"$f":"'CPI Sub-Categories'!AO164","v":109.77757492393},{"$f":"(BI163-BG163)/BG163","v":-4.2266277581905305E-3},{"$f":"'CPI Sub-Categories'!AU164","v":0},{"$f":"(BK163-BI163)/BI163","v":-1}]
[3,"121100","Hairdressing salons and personal grooming establishments",101.28522069468799,101.140527701571,-1.4285696582836101E-3,101.140527701571,0,101.140527701571,0,null,98.236044876393294,-2.871729949588343E-2,96.550489238495899,-1.7158219674033755E-2,96.550489238495899,0,96.550489238495899,0,null,96.461316964725299,-9.2358179097705006E-4,96.4088767812421,-5.4363951409014909E-4,96.4088767812421,0,96.4088767812421,0,null,{"$f":"'CPI Sub-Categories'!Y165","v":96.811316355966596},{"$f":"(AD164-AA164)/AA164","v":4.1743000039058415E-3},{"$f":"'CPI Sub-Categories'!Z165","v":96.811316355966596},0,{"$f":"'CPI Sub-Categories'!AA165","v":96.811316355966596},0,{"$f":"'CPI Sub-Categories'!AB165","v":96.811316355966596},0,null,{"$f":"'CPI Sub-Categories'!AD165","v":94.094848454188494},{"$f":"(AM164-AJ164)/AJ164","v":-2.8059404664945282E-2},{"$f":"'CPI Sub-Categories'!AE165","v":94.094848454188494},0,{"$f":"'CPI Sub-Categories'!AF165","v":94.094848454188494},0,{"$f":"'CPI Sub-Categories'!AG165","v":94.094848454188494},0,null,{"$f":"'CPI Sub-Categories'!AI165","v":99.613114950742599},{"$f":"(AV164-AS164)/AS164","v":5.864578759846515E-2},{"$f":"'CPI Sub-Categories'!AJ165","v":99.613114950742499},-9.9862335452117546E-16,{"$f":"'CPI Sub-Categories'!AK165","v":99.613114950742499},0,{"$f":"'CPI Sub-Categories'!AL165","v":99.613114950742499},{"$f":"(BB164-AZ164)/AZ164","v":0},null,{"$f":"'CPI Sub-Categories'!AM165","v":104.138223271934},{"$f":"(BE164-BB164)/BB164","v":4.5426832836510618E-2},{"$f":"'CPI Sub-Categories'!AN165","v":104.138223271934},{"$f":"(BG164-BE164)/BE164","v":0},{"$f":"'CPI Sub-Categories'!AO165","v":104.138223271934},{"$f":"(BI164-BG164)/BG164","v":0},{"$f":"'CPI Sub-Categories'!AU165","v":0},{"$f":"(BK164-BI164)/BI164","v":-1}]
[3,"121200","Electric appliances for personal care",81.579683934465805,87.301241926762202,7.013459376592597E-2,92.517673245496098,5.9752086036874569E-2,86.9336385884544,-6.0356410414953203E-2,null,86.1352033658533,-9.1844219978057997E-3,86.1352033658533,0,77.884678664042596,-9.5785745890297286E-2,82.113183143540198,5.4291865255519073E-2,null,80.082624024851995,-2.4728783381087884E-2,75.483118013682798,-5.7434506763187919E-2,75.483118013682798,0,75.483118013682798,0,null,{"$f":"'CPI Sub-Categories'!Y166","v":115.823656061829},{"$f":"(AD165-AA165)/AA165","v":0.53443126237622673},{"$f":"'CPI Sub-Categories'!Z166","v":96.378236476344497},-0.16788815209825655,{"$f":"'CPI Sub-Categories'!AA166","v":97.623047997367806},1.2915898511266498E-2,{"$f":"'CPI Sub-Categories'!AB166","v":101.261691660747},3.727238329495005E-2,null,{"$f":"'CPI Sub-Categories'!AD166","v":103.41282133406},{"$f":"(AM165-AJ165)/AJ165","v":2.1243272140068898E-2},{"$f":"'CPI Sub-Categories'!AE166","v":101.259786831189},-2.0819802371660777E-2,{"$f":"'CPI Sub-Categories'!AF166","v":108.21691625438901},6.8705748263111474E-2,{"$f":"'CPI Sub-Categories'!AG166","v":121.845298079771},0.12593578062551067,null,{"$f":"'CPI Sub-Categories'!AI166","v":122.618957883349},{"$f":"(AV165-AS165)/AS165","v":6.3495253060277396E-3},{"$f":"'CPI Sub-Categories'!AJ166","v":127.83302798668799},4.2522544583189943E-2,{"$f":"'CPI Sub-Categories'!AK166","v":126.632584930557},-9.3907112663872937E-3,{"$f":"'CPI Sub-Categories'!AL166","v":126.632584930557},{"$f":"(BB165-AZ165)/AZ165","v":0},null,{"$f":"'CPI Sub-Categories'!AM166","v":131.244903785893},{"$f":"(BE165-BB165)/BB165","v":3.6422843755936206E-2},{"$f":"'CPI Sub-Categories'!AN166","v":135.21700436444999},{"$f":"(BG165-BE165)/BE165","v":3.0264798586289453E-2},{"$f":"'CPI Sub-Categories'!AO166","v":135.21700436444999},{"$f":"(BI165-BG165)/BG165","v":0},{"$f":"'CPI Sub-Categories'!AU166","v":0},{"$f":"(BK165-BI165)/BI165","v":-1}]
[3,"121300","Other appliances, articles and products for personal care",100.340633168178,96.571035460408197,-3.7568007981887974E-2,96.2113008561399,-3.7250776338188869E-3,93.644498293231393,-2.6678805296963214E-2,null,93.261267421860893,-4.0924013514438383E-3,97.392953659304098,4.4302274155827284E-2,96.553119309002298,-8.6231531003738999E-3,101.268796288251,4.8840234401510668E-2,null,100.80216731441701,-4.6078258154247324E-3,101.636235427572,8.2743073425536138E-3,101.967950402065,3.2637471576697961E-3,102.355037670587,3.7961660207515161E-3,null,{"$f":"'CPI Sub-Categories'!Y167","v":102.54133028833201},{"$f":"(AD166-AA166)/AA166","v":1.8200630079836717E-3},{"$f":"'CPI Sub-Categories'!Z167","v":104.362416291717},1.7759531676294328E-2,{"$f":"'CPI Sub-Categories'!AA167","v":104.70861000216399},3.3172259013178229E-3,{"$f":"'CPI Sub-Categories'!AB167","v":106.369483831487},1.5861864934399224E-2,null,{"$f":"'CPI Sub-Categories'!AD167","v":107.861851098264},{"$f":"(AM166-AJ166)/AJ166","v":1.4030032045104569E-2},{"$f":"'CPI Sub-Categories'!AE167","v":107.60368704941099},-2.3934694817893702E-3,{"$f":"'CPI Sub-Categories'!AF167","v":106.23750052855},-1.269646569112123E-2,{"$f":"'CPI Sub-Categories'!AG167","v":106.151871802919},-8.0601223866317553E-4,null,{"$f":"'CPI Sub-Categories'!AI167","v":106.567072019544},{"$f":"(AV166-AS166)/AS166","v":3.9113791360726475E-3},{"$f":"'CPI Sub-Categories'!AJ167","v":107.13527538058899},5.331884889741431E-3,{"$f":"'CPI Sub-Categories'!AK167","v":109.544164662673},2.2484557710115826E-2,{"$f":"'CPI Sub-Categories'!AL167","v":115.536008204556},{"$f":"(BB166-AZ166)/AZ166","v":5.4697970999496894E-2},null,{"$f":"'CPI Sub-Categories'!AM167","v":114.354600571106},{"$f":"(BE166-BB166)/BB166","v":-1.0225449639547144E-2},{"$f":"'CPI Sub-Categories'!AN167","v":112.06184042832901},{"$f":"(BG166-BE166)/BE166","v":-2.0049566273036421E-2},{"$f":"'CPI Sub-Categories'!AO167","v":111.42963244965399},{"$f":"(BI166-BG166)/BG166","v":-5.6415991050883319E-3},{"$f":"'CPI Sub-Categories'!AU167","v":0},{"$f":"(BK166-BI166)/BI166","v":-1}]
[2,"122000","Prostitution","Not available","Not available","Not available","Not available","Not available","Not available","Not available",null,"Not available","Not available","Not available","Not available","Not available","Not available","Not available","Not available",null,"Not available","Not available","Not available","Not available","Not available","Not available","Not yet available","Not available",null,{"$f":"'CPI Sub-Categories'!Y168","v":"Not yet available"},"Not available",{"$f":"'CPI Sub-Categories'!Z168","v":"Not available"},"Not available",{"$f":"'CPI Sub-Categories'!AA168","v":"Not available"},"Not available",{"$f":"'CPI Sub-Categories'!AB168","v":"Not available"},"Not available",null,{"$f":"'CPI Sub-Categories'!AD168","v":"Not available"},"Not available",{"$f":"'CPI Sub-Categories'!AE168","v":"Not available"},"Not available",{"$f":"'CPI Sub-Categories'!AF168","v":"Not available"},"Not available",{"$f":"'CPI Sub-Categories'!AG168","v":"Not available"},"Not available",null,{"$f":"'CPI Sub-Categories'!AI168","v":"Not available"},"Not available",{"$f":"'CPI Sub-Categories'!AJ168","v":"Not available"},"Not available",{"$f":"'CPI Sub-Categories'!AK168","v":"Not available"},"Not available",{"$f":"'CPI Sub-Categories'!AL168","v":"Not available"},"Not available",null,{"$f":"'CPI Sub-Categories'!AM168","v":"Not available"},"Not available",{"$f":"'CPI Sub-Categories'!AN168","v":"Not available"},"Not available",{"$f":"'CPI Sub-Categories'!AO168","v":"Not available"},"Not available",{"$f":"'CPI Sub-Categories'!AU168","v":0},"Not available"]
[3,"122000","Prostitution","Not available","Not available","Not available","Not available","Not available","Not available","Not available",null,"Not available","Not available","Not available","Not available","Not available","Not available","Not available","Not available",null,"Not available","Not available","Not available","Not available","Not available","Not available","Not available","Not available",null,{"$f":"'CPI Sub-Categories'!Y169","v":"Not available"},"Not available",{"$f":"'CPI Sub-Categories'!Z169","v":"Not available"},"Not available",{"$f":"'CPI Sub-Categories'!AA169","v":"Not available"},"Not available",{"$f":"'CPI Sub-Categories'!AB169","v":"Not available"},"Not available",null,{"$f":"'CPI Sub-Categories'!AD169","v":"Not available"},"Not available",{"$f":"'CPI Sub-Categories'!AE169","v":"Not available"},"Not available",{"$f":"'CPI Sub-Categories'!AF169","v":"Not available"},"Not available",{"$f":"'CPI Sub-Categories'!AG169","v":"Not available"},"Not available",null,{"$f":"'CPI Sub-Categories'!AI169","v":"Not available"},"Not available",{"$f":"'CPI Sub-Categories'!AJ169","v":"Not available"},"Not available",{"$f":"'CPI Sub-Categories'!AK169","v":"Not available"},"Not available",{"$f":"'CPI Sub-Categories'!AL169","v":"Not available"},"Not available",null,{"$f":"'CPI Sub-Categories'!AM169","v":"Not available"},"Not available",{"$f":"'CPI Sub-Categories'!AN169","v":"Not available"},"Not available",{"$f":"'CPI Sub-Categories'!AO169","v":"Not available"},"Not available",{"$f":"'CPI Sub-Categories'!AU169","v":0},"Not available"]
[2,"123000","Personal effects n.e.c.",104.531004434466,100.02813608222,-4.307686869180518E-2,99.201586989991,-8.2631659911127781E-3,98.670481612981902,-5.353799199428977E-3,null,102.32247937739299,3.7012059784358092E-2,97.517225721395107,-4.6961857113282136E-2,96.851207831520099,-6.8297460776602509E-3,99.498762328009505,2.7336308506291672E-2,null,106.246464257111,6.7816943359123333E-2,106.459270148275,2.0029456288447964E-3,108.601465998951,2.0122210566467184E-2,104.861601781056,-3.4436590551467583E-2,null,{"$f":"'CPI Sub-Categories'!Y170","v":103.986928993429},{"$f":"(AD169-AA169)/AA169","v":-8.341211394550789E-3},{"$f":"'CPI Sub-Categories'!Z170","v":102.56452271945901},{"$f":"(AF169-AD169)/AD169","v":-1.3678702580589529E-2},{"$f":"'CPI Sub-Categories'!AA170","v":108.365193199793},5.6556305499518129E-2,{"$f":"'CPI Sub-Categories'!AB170","v":110.67105020362099},2.127857604218621E-2,null,{"$f":"'CPI Sub-Categories'!AD170","v":113.24055058238299},{"$f":"(AM169-AJ169)/AJ169","v":2.3217457266687534E-2},{"$f":"'CPI Sub-Categories'!AE170","v":108.251224574902},-4.4059535050134192E-2,{"$f":"'CPI Sub-Categories'!AF170","v":109.766438835166},1.399720202902263E-2,{"$f":"'CPI Sub-Categories'!AG170","v":109.632517935252},-1.220053245191902E-3,null,{"$f":"'CPI Sub-Categories'!AI170","v":112.40261248151801},{"$f":"(AV169-AS169)/AS169","v":2.5267088619655733E-2},{"$f":"'CPI Sub-Categories'!AJ170","v":113.487020449434},9.6475334867710382E-3,{"$f":"'CPI Sub-Categories'!AK170","v":116.43200145395301},2.5949936766832223E-2,{"$f":"'CPI Sub-Categories'!AL170","v":115.73800267118},{"$f":"(BB169-AZ169)/AZ169","v":-5.9605501417707169E-3},null,{"$f":"'CPI Sub-Categories'!AM170","v":115.529913929901},{"$f":"(BE169-BB169)/BB169","v":-1.797929258120984E-3},{"$f":"'CPI Sub-Categories'!AN170","v":116.94664458728499},{"$f":"(BG169-BE169)/BE169","v":1.2262890269645749E-2},{"$f":"'CPI Sub-Categories'!AO170","v":116.020605063985},{"$f":"(BI169-BG169)/BG169","v":-7.9184787778056077E-3},{"$f":"'CPI Sub-Categories'!AU170","v":0},{"$f":"(BK169-BI169)/BI169","v":-1}]
[3,"123100","Jewelry, clocks and watches",106.108105241597,102.529895998578,-3.37222989221398E-2,101.025355002363,-1.4674168754017516E-2,103.221832753494,2.174184640162485E-2,null,106.50954020073701,3.1850892001641207E-2,98.780275393955407,-7.2568755739761584E-2,98.619364138351699,-1.6289816460013037E-3,103.914158986489,5.3689200842030459E-2,null,115.417968735752,0.110704930506715,115.43654762928099,1.6097054672251665E-4,116.462146072691,8.8845211024819026E-3,110.967180906537,-4.7182413783825226E-2,null,{"$f":"'CPI Sub-Categories'!Y171","v":110.48973345848199},-4.302600500026549E-3,{"$f":"'CPI Sub-Categories'!Z171","v":114.522160291703},3.6495941360345924E-2,{"$f":"'CPI Sub-Categories'!AA171","v":119.664802889245},4.4905218207925923E-2,{"$f":"'CPI Sub-Categories'!AB171","v":122.75331277692401},2.5809676806450434E-2,null,{"$f":"'CPI Sub-Categories'!AD171","v":123.93649693229},9.6387146595070597E-3,{"$f":"'CPI Sub-Categories'!AE171","v":116.48199361872101},-6.0147765170751898E-2,{"$f":"'CPI Sub-Categories'!AF171","v":118.069511014733},1.3628865257993348E-2,{"$f":"'CPI Sub-Categories'!AG171","v":117.97937497687801},-7.6341501781727709E-4,null,{"$f":"'CPI Sub-Categories'!AI171","v":121.515256194144},2.9970333526169037E-2,{"$f":"'CPI Sub-Categories'!AJ171","v":122.100001328818},4.8121129230041006E-3,{"$f":"'CPI Sub-Categories'!AK171","v":123.988212935562},1.5464468355401672E-2,{"$f":"'CPI Sub-Categories'!AL171","v":124.00781613553499},1.5810535137867569E-4,null,{"$f":"'CPI Sub-Categories'!AM171","v":123.522897548104},-3.910387284790197E-3,{"$f":"'CPI Sub-Categories'!AN171","v":124.46173920353399},7.6005475427289087E-3,{"$f":"'CPI Sub-Categories'!AO171","v":123.829886118883},-5.0766853226895748E-3,{"$f":"'CPI Sub-Categories'!AU171","v":0},-1]
[3,"123200","Other personal effects ",102.092780424528,96.160373750489399,-5.8107994016522349E-2,96.382011388852504,2.3048749679176221E-3,91.634017248575006,-4.9262243772043225E-2,null,95.849213886444105,4.6000347517609778E-2,95.564529975215606,-2.9701225465007274E-3,94.117608849675193,-1.5140775828810838E-2,92.672485848137299,-1.5354438124815165E-2,null,92.067166189439902,-6.5318163547413207E-3,92.580250240927597,5.5729319444019747E-3,96.448724206178696,4.1785088668305791E-2,95.422275169204497,-1.0642432498951011E-2,null,{"$f":"'CPI Sub-Categories'!Y172","v":93.933485417132601},-1.56021196249193E-2,{"$f":"'CPI Sub-Categories'!Z172","v":84.077816670641795},-0.10492178271384811,{"$f":"'CPI Sub-Categories'!AA172","v":90.895809173625693},8.109145518956605E-2,{"$f":"'CPI Sub-Categories'!AB172","v":91.9916718357956},1.2056250691125175E-2,null,{"$f":"'CPI Sub-Categories'!AD172","v":96.704440093166397},5.1230379482428048E-2,{"$f":"'CPI Sub-Categories'!AE172","v":95.526319095078506},-1.2182698094863826E-2,{"$f":"'CPI Sub-Categories'!AF172","v":96.929751508058303},1.4691578470462608E-2,{"$f":"'CPI Sub-Categories'!AG172","v":96.728138485065301},-2.0799911261119878E-3,null,{"$f":"'CPI Sub-Categories'!AI172","v":98.314314134531699},1.6398285693374544E-2,{"$f":"'CPI Sub-Categories'!AJ172","v":100.17120913141601},1.8887331038523671E-2,{"$f":"'CPI Sub-Categories'!AK172","v":104.74997315536601},4.5709381604279689E-2,{"$f":"'CPI Sub-Categories'!AL172","v":102.952733869512},-1.7157420013734274E-2,null,{"$f":"'CPI Sub-Categories'!AM172","v":103.172628662641},2.1358810481682555E-3,{"$f":"'CPI Sub-Categories'!AN172","v":105.32818364462101},2.089270196873964E-2,{"$f":"'CPI Sub-Categories'!AO172","v":103.94732700698999},-1.3110039401135457E-2,{"$f":"'CPI Sub-Categories'!AU172","v":0},-1]
[2,"124000","Social protection",100,100,0,100.542683157868,5.4268315786799807E-3,100.90302791996599,3.583997868171037E-3,null,100.90302791996599,0,100.90302791996599,0,100.90302791996599,0,100.90302791996599,0,null,100.90302791996599,0,100.90302791996599,0,99.875333196844295,-1.0184974071708158E-2,99.246640739882594,-6.2947720607110409E-3,null,{"$f":"'CPI Sub-Categories'!Y173","v":99.246640739882594},0,{"$f":"'CPI Sub-Categories'!Z173","v":99.246640739882594},0,{"$f":"'CPI Sub-Categories'!AA173","v":100.43533625618601},1.1977186405924673E-2,{"$f":"'CPI Sub-Categories'!AB173","v":100.43533625618601},0,null,{"$f":"'CPI Sub-Categories'!AD173","v":100.43533625618601},0,{"$f":"'CPI Sub-Categories'!AE173","v":100.43533625618601},0,{"$f":"'CPI Sub-Categories'!AF173","v":95.692351262245694},-4.7224265589574127E-2,{"$f":"'CPI Sub-Categories'!AG173","v":95.692351262245595},-1.0395395420246208E-15,null,{"$f":"'CPI Sub-Categories'!AI173","v":95.692351262245595},0,{"$f":"'CPI Sub-Categories'!AJ173","v":95.692351262245595},0,{"$f":"'CPI Sub-Categories'!AK173","v":106.007142307818},0.10779117567405826,{"$f":"'CPI Sub-Categories'!AL173","v":106.007142307818},0,null,{"$f":"'CPI Sub-Categories'!AM173","v":106.007142307818},0,{"$f":"'CPI Sub-Categories'!AN173","v":106.007142307818},0,{"$f":"'CPI Sub-Categories'!AO173","v":108.88222017819599},2.7121548678573866E-2,{"$f":"'CPI Sub-Categories'!AU173","v":0},-1]
[3,"124100","Social protection",100,100,0,100.542683157868,5.4268315786799807E-3,100.90302791996599,3.583997868171037E-3,null,100.90302791996599,0,100.90302791996599,0,100.90302791996599,0,100.90302791996599,0,null,100.90302791996599,0,100.90302791996599,0,99.875333196844295,-1.0184974071708158E-2,99.246640739882594,-6.2947720607110409E-3,null,{"$f":"'CPI Sub-Categories'!Y174","v":99.246640739882594},0,{"$f":"'CPI Sub-Categories'!Z174","v":99.246640739882594},0,{"$f":"'CPI Sub-Categories'!AA174","v":100.43533625618601},1.1977186405924673E-2,{"$f":"'CPI Sub-Categories'!AB174","v":100.43533625618601},0,null,{"$f":"'CPI Sub-Categories'!AD174","v":100.43533625618601},0,{"$f":"'CPI Sub-Categories'!AE174","v":100.43533625618601},0,{"$f":"'CPI Sub-Categories'!AF174","v":95.692351262245694},-4.7224265589574127E-2,{"$f":"'CPI Sub-Categories'!AG174","v":95.692351262245595},-1.0395395420246208E-15,null,{"$f":"'CPI Sub-Categories'!AI174","v":95.692351262245595},0,{"$f":"'CPI Sub-Categories'!AJ174","v":95.692351262245595},0,{"$f":"'CPI Sub-Categories'!AK174","v":106.007142307818},0.10779117567405826,{"$f":"'CPI Sub-Categories'!AL174","v":106.007142307818},0,null,{"$f":"'CPI Sub-Categories'!AM174","v":106.007142307818},0,{"$f":"'CPI Sub-Categories'!AN174","v":106.007142307818},0,{"$f":"'CPI Sub-Categories'!AO174","v":108.88222017819599},2.7121548678573866E-2,{"$f":"'CPI Sub-Categories'!AU174","v":0},-1]
[2,"125000","Insurance",100,99.703741391744103,-2.9625860825589711E-3,98.971822991185604,-7.3409321490026319E-3,98.971822991185604,0,null,98.971822991185604,0,99.999388235734202,1.0382401914938073E-2,101.981145125669,1.9817690136894568E-2,101.981145125669,0,null,101.981145125669,0,102.350481750502,3.6216167643329717E-3,103.021378818694,6.5548989776857058E-3,103.021378818694,0,null,{"$f":"'CPI Sub-Categories'!Y175","v":103.021378818694},0,{"$f":"'CPI Sub-Categories'!Z175","v":102.206107921203},-7.9136088726378707E-3,{"$f":"'CPI Sub-Categories'!AA175","v":102.206107921203},0,{"$f":"'CPI Sub-Categories'!AB175","v":102.206107921203},0,null,{"$f":"'CPI Sub-Categories'!AD175","v":102.206107921203},0,{"$f":"'CPI Sub-Categories'!AE175","v":106.80490747462601},4.4995349563340239E-2,{"$f":"'CPI Sub-Categories'!AF175","v":106.80490747462601},0,{"$f":"'CPI Sub-Categories'!AG175","v":106.80490747462601},0,null,{"$f":"'CPI Sub-Categories'!AI175","v":106.80490747462601},0,{"$f":"'CPI Sub-Categories'!AJ175","v":105.47345940248999},-1.2466169426272189E-2,{"$f":"'CPI Sub-Categories'!AK175","v":105.47345940248999},0,{"$f":"'CPI Sub-Categories'!AL175","v":105.47345940248999},0,null,{"$f":"'CPI Sub-Categories'!AM175","v":105.47345940248999},0,{"$f":"'CPI Sub-Categories'!AN175","v":110.30687922119},4.5825934278456992E-2,{"$f":"'CPI Sub-Categories'!AO175","v":110.30687922119},0,{"$f":"'CPI Sub-Categories'!AU175","v":0},-1]
[3,"125100","Life insurance",100,100.276552871428,2.7655287142799522E-3,100.824982953008,5.469175653486924E-3,100.824982953008,0,null,100.824982953008,0,101.43848160498101,6.0847880555451204E-3,102.63277106789999,1.177353450113496E-2,102.63277106789999,0,null,102.63277106789999,0,103.373484852522,7.2171274039941839E-3,104.682490007941,1.2662871502169984E-2,104.682490007941,0,null,{"$f":"'CPI Sub-Categories'!Y176","v":104.682490007941},0,{"$f":"'CPI Sub-Categories'!Z176","v":99.351456628588096},-5.0925741057062185E-2,{"$f":"'CPI Sub-Categories'!AA176","v":99.351456628588195},1.0012533925727074E-15,{"$f":"'CPI Sub-Categories'!AB176","v":99.351456628588195},0,null,{"$f":"'CPI Sub-Categories'!AD176","v":99.351456628588195},0,{"$f":"'CPI Sub-Categories'!AE176","v":103.044308591461},3.7169580479106908E-2,{"$f":"'CPI Sub-Categories'!AF176","v":103.044308591461},0,{"$f":"'CPI Sub-Categories'!AG176","v":103.044308591461},0,null,{"$f":"'CPI Sub-Categories'!AI176","v":103.044308591461},0,{"$f":"'CPI Sub-Categories'!AJ176","v":99.1786100188761},-3.7514915917493417E-2,{"$f":"'CPI Sub-Categories'!AK176","v":99.178610018876199},1.0029983580883149E-15,{"$f":"'CPI Sub-Categories'!AL176","v":99.178610018876199},0,null,{"$f":"'CPI Sub-Categories'!AM176","v":99.178610018876199},0,{"$f":"'CPI Sub-Categories'!AN176","v":116.135226363553},0.17097049798791825,{"$f":"'CPI Sub-Categories'!AO176","v":116.135226363553},0,{"$f":"'CPI Sub-Categories'!AU176","v":0},-1]
[3,"125200","Insurance connected with the dwelling",100,98.597597635765695,-1.4024023642343054E-2,95.596417790177597,-3.0438671099015071E-2,95.596417790177597,0,null,95.596417790177597,0,95.358075085269306,-2.4932179512356218E-3,94.8497318922701,-5.3308877359850735E-3,94.8497318922701,0,null,94.8497318922701,0,94.952943578215198,1.0881600178092794E-3,95.155733855749105,2.1356923744745588E-3,95.155733855749105,0,null,{"$f":"'CPI Sub-Categories'!Y177","v":95.155733855749105},0,{"$f":"'CPI Sub-Categories'!Z177","v":95.153897890853401},-1.9294317024423361E-5,{"$f":"'CPI Sub-Categories'!AA177","v":95.153897890853301},-1.0454220500826807E-15,{"$f":"'CPI Sub-Categories'!AB177","v":95.153897890853301},0,null,{"$f":"'CPI Sub-Categories'!AD177","v":95.153897890853301},0,{"$f":"'CPI Sub-Categories'!AE177","v":108.996523978719},0.14547618536598408,{"$f":"'CPI Sub-Categories'!AF177","v":108.996523978719},0,{"$f":"'CPI Sub-Categories'!AG177","v":108.996523978719},0,null,{"$f":"'CPI Sub-Categories'!AI177","v":108.996523978719},0,{"$f":"'CPI Sub-Categories'!AJ177","v":100.094151523202},-8.1675746441740998E-2,{"$f":"'CPI Sub-Categories'!AK177","v":100.094151523202},0,{"$f":"'CPI Sub-Categories'!AL177","v":100.094151523202},0,null,{"$f":"'CPI Sub-Categories'!AM177","v":100.094151523202},0,{"$f":"'CPI Sub-Categories'!AN177","v":97.839346079782302},-2.2526845066437578E-2,{"$f":"'CPI Sub-Categories'!AO177","v":97.839346079782302},0,{"$f":"'CPI Sub-Categories'!AU177","v":0},-1]
[3,"125300","Insurance connected with health",100,100,0,100,0,100,0,null,100,0,101.91002226942599,1.9100222694259941E-2,105.730064989418,3.7484465560145924E-2,105.730064989418,0,null,105.730064989418,0,105.730064989418,0,105.730064989418,0,105.730064989418,0,null,{"$f":"'CPI Sub-Categories'!Y178","v":105.730064989418},0,{"$f":"'CPI Sub-Categories'!Z178","v":105.730064989418},0,{"$f":"'CPI Sub-Categories'!AA178","v":105.730064989418},0,{"$f":"'CPI Sub-Categories'!AB178","v":105.730064989418},0,null,{"$f":"'CPI Sub-Categories'!AD178","v":105.730064989418},0,{"$f":"'CPI Sub-Categories'!AE178","v":114.63684938424301},8.4240791828856312E-2,{"$f":"'CPI Sub-Categories'!AF178","v":114.636849384242},-8.8014516292003632E-15,{"$f":"'CPI Sub-Categories'!AG178","v":114.636849384242},0,null,{"$f":"'CPI Sub-Categories'!AI178","v":114.636849384242},0,{"$f":"'CPI Sub-Categories'!AJ178","v":108.33818209009},-5.4944525499300866E-2,{"$f":"'CPI Sub-Categories'!AK178","v":108.33818209009},0,{"$f":"'CPI Sub-Categories'!AL178","v":108.33818209009},0,null,{"$f":"'CPI Sub-Categories'!AM178","v":108.33818209009},0,{"$f":"'CPI Sub-Categories'!AN178","v":108.33818209009},0,{"$f":"'CPI Sub-Categories'!AO178","v":108.33818209009},0,{"$f":"'CPI Sub-Categories'!AU178","v":0},-1]
[3,"125400","Insurance connected with transport",100,99.513861665063303,-4.8613833493669741E-3,98.253559081122802,-1.2664593282314153E-2,98.253559081122802,0,null,98.253559081122802,0,99.603621304510796,1.3740593582704911E-2,102.15001843603299,2.5565306744594018E-2,102.15001843603299,0,null,102.15001843603299,0,102.511231961315,3.5361082730318376E-3,103.189446966256,6.6160067727693986E-3,103.189446966256,0,null,{"$f":"'CPI Sub-Categories'!Y179","v":103.189446966256},0,{"$f":"'CPI Sub-Categories'!Z179","v":105.085706714878},1.8376489111741213E-2,{"$f":"'CPI Sub-Categories'!AA179","v":105.08570671487701},-9.466176335123819E-15,{"$f":"'CPI Sub-Categories'!AB179","v":105.08570671487701},0,null,{"$f":"'CPI Sub-Categories'!AD179","v":105.08570671487701},0,{"$f":"'CPI Sub-Categories'!AE179","v":105.085706714878},9.4661763351239074E-15,{"$f":"'CPI Sub-Categories'!AF179","v":105.08570671487701},-9.466176335123819E-15,{"$f":"'CPI Sub-Categories'!AG179","v":105.08570671487701},0,null,{"$f":"'CPI Sub-Categories'!AI179","v":105.08570671487701},0,{"$f":"'CPI Sub-Categories'!AJ179","v":110.67246514815101},5.3163827964084871E-2,{"$f":"'CPI Sub-Categories'!AK179","v":110.67246514815101},0,{"$f":"'CPI Sub-Categories'!AL179","v":110.67246514815101},0,null,{"$f":"'CPI Sub-Categories'!AM179","v":110.67246514815101},0,{"$f":"'CPI Sub-Categories'!AN179","v":111.20017566111601},4.768218655458561E-3,{"$f":"'CPI Sub-Categories'!AO179","v":111.200175661115},-9.0734630478839682E-15,{"$f":"'CPI Sub-Categories'!AU179","v":0},-1]
[3,"125500","Other insurance","Not relevant","Not relevant","Not relevent","Not relevant","Not available","Not available","Not available",null,"Not available","Not available","Not available","Not available","Not available","Not available","Not available","Not available",null,"Not available","Not available","Not available","Not available","Not available","Not available","Not available",{"$f":"IFERROR((AA179-Y179)/Y179,\"Not available\")","v":"Not available"},null,{"$f":"'CPI Sub-Categories'!Y180","v":"Not available"},"Not available",{"$f":"'CPI Sub-Categories'!Z180","v":"Not available"},"Not available",{"$f":"'CPI Sub-Categories'!AA180","v":"Not available"},"Not available",{"$f":"'CPI Sub-Categories'!AB180","v":"Not available"},{"$f":"IFERROR((AJ179-AH179)/AH179,\"Not available\")","v":"Not available"},null,{"$f":"'CPI Sub-Categories'!AD180","v":"Not available"},"Not available",{"$f":"'CPI Sub-Categories'!AE180","v":"Not available"},"Not available",{"$f":"'CPI Sub-Categories'!AF180","v":"Not available"},"Not available",{"$f":"'CPI Sub-Categories'!AG180","v":"Not available"},"Not available",null,{"$f":"'CPI Sub-Categories'!AI180","v":"Not available"},"Not available",{"$f":"'CPI Sub-Categories'!AJ180","v":"Not available"},"Not available",{"$f":"'CPI Sub-Categories'!AK180","v":"Not available"},"Not available",{"$f":"'CPI Sub-Categories'!AL180","v":"Not available"},"Not available",null,{"$f":"'CPI Sub-Categories'!AM180","v":"Not available"},"Not available",{"$f":"'CPI Sub-Categories'!AN180","v":"Not available"},"Not available",{"$f":"'CPI Sub-Categories'!AO180","v":"Not available"},"Not available",{"$f":"'CPI Sub-Categories'!AU180","v":0},"Not available"]
[2,"126000","Financial services n.e.c.",100,101.073027213364,1.0730272133639999E-2,108.736841859922,7.5824528638879785E-2,108.736841859922,0,null,108.736841859922,0,110.910522673374,1.9990288261748566E-2,114.558568171961,3.2891788900231846E-2,114.558568171961,0,null,114.558568171961,0,114.558568171961,0,114.558568171961,0,114.558568171961,0,null,{"$f":"'CPI Sub-Categories'!Y181","v":114.558568171961},{"$f":"(AD180-AA180)/AA180","v":0},{"$f":"'CPI Sub-Categories'!Z181","v":108.770325211588},{"$f":"(AF180-AD180)/AD180","v":-5.0526495335420141E-2},{"$f":"'CPI Sub-Categories'!AA181","v":108.111447652107},{"$f":"(AH180-AF180)/AF180","v":-6.0575120852061617E-3},{"$f":"'CPI Sub-Categories'!AB181","v":108.111447652107},0,null,{"$f":"'CPI Sub-Categories'!AD181","v":108.111447652107},{"$f":"(AM180-AJ180)/AJ180","v":0},{"$f":"'CPI Sub-Categories'!AE181","v":97.771850687199702},-9.5638317582974211E-2,{"$f":"'CPI Sub-Categories'!AF181","v":97.771850687199802},1.01742968254397E-15,{"$f":"'CPI Sub-Categories'!AG181","v":97.771850687199802},0,null,{"$f":"'CPI Sub-Categories'!AI181","v":97.771850687199802},{"$f":"(AV180-AS180)/AS180","v":0},{"$f":"'CPI Sub-Categories'!AJ181","v":101.727572972731},4.0458703172006893E-2,{"$f":"'CPI Sub-Categories'!AK181","v":101.727572972731},0,{"$f":"'CPI Sub-Categories'!AL181","v":101.727572972731},{"$f":"(BB180-AZ180)/AZ180","v":0},null,{"$f":"'CPI Sub-Categories'!AM181","v":101.727572972731},{"$f":"(BE180-BB180)/BB180","v":0},{"$f":"'CPI Sub-Categories'!AN181","v":96.957137753043199},{"$f":"(BG180-BE180)/BE180","v":-4.689422032084218E-2},{"$f":"'CPI Sub-Categories'!AO181","v":96.957137753043},{"$f":"(BI180-BG180)/BG180","v":-2.0519579127796968E-15},{"$f":"'CPI Sub-Categories'!AU181","v":0},{"$f":"(BK180-BI180)/BI180","v":-1}]
[3,"126100","FISIM","Not available","Not available","Not available","Not available","Not available","Not available","Not available",null,"Not available","Not available","Not available","Not available","Not available","Not available","Not available","Not available",null,"Not available","Not available","Not available","Not available","Not available","Not available","Not available","Not available",null,{"$f":"'CPI Sub-Categories'!Y182","v":"Not available"},"Not available",{"$f":"'CPI Sub-Categories'!Z182","v":"Not available"},"Not available",{"$f":"'CPI Sub-Categories'!AA182","v":"Not available"},"Not available",{"$f":"'CPI Sub-Categories'!AB182","v":"Not available"},"Not available",null,{"$f":"'CPI Sub-Categories'!AD182","v":"Not available"},"Not available",{"$f":"'CPI Sub-Categories'!AE182","v":"Not available"},"Not available",{"$f":"'CPI Sub-Categories'!AF182","v":"Not available"},"Not available",{"$f":"'CPI Sub-Categories'!AG182","v":"Not available"},"Not available",null,{"$f":"'CPI Sub-Categories'!AI182","v":"Not available"},"Not available",{"$f":"'CPI Sub-Categories'!AJ182","v":"Not available"},"Not available",{"$f":"'CPI Sub-Categories'!AK182","v":"Not available"},"Not available",{"$f":"'CPI Sub-Categories'!AL182","v":"Not available"},"Not available",null,{"$f":"'CPI Sub-Categories'!AM182","v":"Not available"},"Not available",{"$f":"'CPI Sub-Categories'!AN182","v":"Not available"},"Not available",{"$f":"'CPI Sub-Categories'!AO182","v":"Not available"},"Not available",{"$f":"'CPI Sub-Categories'!AU182","v":0},"Not available"]
[3,"126200","Other financial services n.e.c.",100,101.073027213364,1.0730272133639999E-2,108.736841859922,7.5824528638879785E-2,108.736841859922,0,null,108.736841859922,0,110.910522673374,1.9990288261748566E-2,114.558568171961,3.2891788900231846E-2,114.558568171961,0,null,114.558568171961,0,114.558568171961,0,114.558568171961,0,114.558568171961,0,null,{"$f":"'CPI Sub-Categories'!Y183","v":114.558568171961},{"$f":"(AD182-AA182)/AA182","v":0},{"$f":"'CPI Sub-Categories'!Z183","v":108.770325211588},{"$f":"(AF182-AD182)/AD182","v":-5.0526495335420141E-2},{"$f":"'CPI Sub-Categories'!AA183","v":108.111447652107},-6.0575120852061617E-3,{"$f":"'CPI Sub-Categories'!AB183","v":108.111447652107},0,null,{"$f":"'CPI Sub-Categories'!AD183","v":108.111447652107},{"$f":"(AM182-AJ182)/AJ182","v":0},{"$f":"'CPI Sub-Categories'!AE183","v":97.771850687199702},-9.5638317582974211E-2,{"$f":"'CPI Sub-Categories'!AF183","v":97.771850687199802},1.01742968254397E-15,{"$f":"'CPI Sub-Categories'!AG183","v":97.771850687199802},0,null,{"$f":"'CPI Sub-Categories'!AI183","v":97.771850687199802},{"$f":"(AV182-AS182)/AS182","v":0},{"$f":"'CPI Sub-Categories'!AJ183","v":101.727572972731},4.0458703172006893E-2,{"$f":"'CPI Sub-Categories'!AK183","v":101.727572972731},0,{"$f":"'CPI Sub-Categories'!AL183","v":101.727572972731},{"$f":"(BB182-AZ182)/AZ182","v":0},null,{"$f":"'CPI Sub-Categories'!AM183","v":101.727572972731},{"$f":"(BE182-BB182)/BB182","v":0},{"$f":"'CPI Sub-Categories'!AN183","v":96.957137753043199},{"$f":"(BG182-BE182)/BE182","v":-4.689422032084218E-2},{"$f":"'CPI Sub-Categories'!AO183","v":96.957137753043},{"$f":"(BI182-BG182)/BG182","v":-2.0519579127796968E-15},{"$f":"'CPI Sub-Categories'!AU183","v":0},{"$f":"(BK182-BI182)/BI182","v":-1}]
[2,"127000","Other services n.e.c.",100,99.712892653970897,-2.8710734602910293E-3,99.199048800996593,-5.1532338426633854E-3,99.384251217936395,1.8669777500723525E-3,null,99.384251217936395,0,97.136656589718399,-2.2615199095169729E-2,97.136656589718399,0,97.136656589718399,0,null,97.136656589718399,0,97.136656589718399,0,97.136656589718399,0,97.136656589718399,0,null,{"$f":"'CPI Sub-Categories'!Y184","v":97.136656589718399},{"$f":"(AD183-AA183)/AA183","v":0},{"$f":"'CPI Sub-Categories'!Z184","v":97.136656589718399},0,{"$f":"'CPI Sub-Categories'!AA184","v":97.136656589718399},0,{"$f":"'CPI Sub-Categories'!AB184","v":97.136656589718399},0,null,{"$f":"'CPI Sub-Categories'!AD184","v":97.136656589718399},{"$f":"(AM183-AJ183)/AJ183","v":0},{"$f":"'CPI Sub-Categories'!AE184","v":97.136656589718399},0,{"$f":"'CPI Sub-Categories'!AF184","v":97.136656589718399},0,{"$f":"'CPI Sub-Categories'!AG184","v":97.136656589718399},0,null,{"$f":"'CPI Sub-Categories'!AI184","v":97.136656589718399},{"$f":"(AV183-AS183)/AS183","v":0},{"$f":"'CPI Sub-Categories'!AJ184","v":105.182800111563},8.2833235200070257E-2,{"$f":"'CPI Sub-Categories'!AK184","v":105.182800111563},0,{"$f":"'CPI Sub-Categories'!AL184","v":105.182800111563},{"$f":"(BB183-AZ183)/AZ183","v":0},null,{"$f":"'CPI Sub-Categories'!AM184","v":105.182800111563},{"$f":"(BE183-BB183)/BB183","v":0},{"$f":"'CPI Sub-Categories'!AN184","v":105.182800111563},{"$f":"(BG183-BE183)/BE183","v":0},{"$f":"'CPI Sub-Categories'!AO184","v":105.182800111563},{"$f":"(BI183-BG183)/BG183","v":0},{"$f":"'CPI Sub-Categories'!AU184","v":0},{"$f":"(BK183-BI183)/BI183","v":-1}]
[3,"127100","Other services n.e.c.",100,99.712892653970897,-2.8710734602910293E-3,99.199048800996593,-5.1532338426633854E-3,99.384251217936395,1.8669777500723525E-3,null,99.384251217936395,0,97.136656589718399,-2.2615199095169729E-2,97.136656589718399,0,97.136656589718399,0,null,97.136656589718399,0,97.136656589718399,0,97.136656589718399,0,97.136656589718399,0,null,{"$f":"'CPI Sub-Categories'!Y185","v":97.136656589718399},{"$f":"(AD184-AA184)/AA184","v":0},{"$f":"'CPI Sub-Categories'!Z185","v":97.136656589718399},0,{"$f":"'CPI Sub-Categories'!AA185","v":97.136656589718399},0,{"$f":"'CPI Sub-Categories'!AB185","v":97.136656589718399},0,null,{"$f":"'CPI Sub-Categories'!AD185","v":97.136656589718399},{"$f":"(AM184-AJ184)/AJ184","v":0},{"$f":"'CPI Sub-Categories'!AE185","v":97.136656589718399},0,{"$f":"'CPI Sub-Categories'!AF185","v":97.136656589718399},0,{"$f":"'CPI Sub-Categories'!AG185","v":97.136656589718399},0,null,{"$f":"'CPI Sub-Categories'!AI185","v":97.136656589718399},{"$f":"(AV184-AS184)/AS184","v":0},{"$f":"'CPI Sub-Categories'!AJ185","v":105.182800111563},8.2833235200070257E-2,{"$f":"'CPI Sub-Categories'!AK185","v":105.182800111563},0,{"$f":"'CPI Sub-Categories'!AL185","v":105.182800111563},{"$f":"(BB184-AZ184)/AZ184","v":0},null,{"$f":"'CPI Sub-Categories'!AM185","v":{"$error":"#N/A"}},{"$f":"(BE184-BB184)/BB184","v":{"$error":"#N/A"}},{"$f":"'CPI Sub-Categories'!AN185","v":105.182800111563},{"$f":"(BG184-BE184)/BE184","v":{"$error":"#N/A"}},{"$f":"'CPI Sub-Categories'!AO185","v":105.182800111563},{"$f":"(BI184-BG184)/BG184","v":0},{"$f":"'CPI Sub-Categories'!AU185","v":0},{"$f":"(BK184-BI184)/BI184","v":-1}]

{"sheet":"CPI Sub-Categories","index":4,"n_rows":185,"n_cols":42,"rows_kept":185,"cut":false,"hidden":false,"merged":[[3,38,3,41],[3,29,3,32],[3,24,3,27],[3,19,3,22],[3,14,3,17],[3,34,3,37],[1,1,1,2],[3,9,3,12],[3,4,3,7],[4,0,5,0],[4,1,5,1],[4,2,5,2],[4,3,5,3]]}
[]
["Table 4. ","CPI for the 12 major expenditure categories and sub categories"]
[]
[null,null,null,null,"Base Year 2018 = 100",null,null,null,null,2019,null,null,null,null,2020,null,null,null,null,2021,null,null,null,null,2022,null,null,null,null,2023,null,null,null,null,2024,null,null,null,2025]
["Level","Code","Expenditure category",null,"2018Q1","2018Q2","2018Q3","2018Q4","blank","2019Q1","2019Q2","2019Q3","2019Q4","blank","2020Q1","2020Q2","2020Q3","2020Q4","blank","2021Q1","2021Q2","2021Q3","2021Q4","blank","2022Q1","2022Q2","2022Q3","2022Q4","blank","2023Q1","2023Q2","2023Q3","2023Q4","blank","2024Q1","2024Q2","2024Q3","2024Q4","2025Q1","2025Q2","2025Q3","2025Q4"]
[null,null,null,null,"Index","Index","Index","Index",null,"Index","Index","Index","Index",null,"Index","Index","Index","Index",null,"Index","Index","Index","Index",null,"Index","Index","Index","Index",null,"Index","Index","Index","Index",null,"Index","Index","Index","Index","Index","Index","Index","Index"]
[]
[null,null,"TOTAL CPI",null,99.628071550000001,99.637934970000003,100.4999535,100.23403999999999,null,100.295144989363,100.241957731474,100.591352449789,100.43615723636999,null,100.455870031472,100.69715724595299,101.19254326005,102.090730976849,null,102.783563714295,103.55538950205199,104.044818827643,105.250117333357,null,105.99716825485,108.63739956853099,{"$f":"[1]Total!$D$20","v":107.29051975442999},{"$f":"[2]Total!$D$21","v":108.85886874257601},null,{"$f":"[3]Total!$D$22","v":109.351037943989},{"$f":"[4]Total!$D$23","v":108.691413717518},{"$f":"[5]Total!$D$24","v":109.437713633071},{"$f":"[6]Total!$D$25","v":112.29646654464},null,{"$f":"[7]Total!$D$26","v":113.31000289621799},{"$f":"[8]Total!$D$27","v":113.485723011283},{"$f":"[9]Total!$D$28","v":113.822041355032},{"$f":"[10]Total!$D$26","v":114.794258697682},{"$f":"[11]Total!$D$30","v":115.01942829105499},{"$f":"[12]Total!$D$31","v":114.22829585201499},{"$f":"[13]Total!$D$32","v":115.09192592725},{"$f":"[14]Total!$D$26","v":113.31000289621799}]
[]
[1,"010000","Food and non-alcoholic beverages",null,100.5578323,99.70158232,100.09254730000001,99.648038009999993,null,100.032018361144,98.982214564386297,99.253662901090706,99.281474347583995,null,99.608257046872296,102.304817177768,101.548769338867,101.78639609348301,null,101.457336939331,101.37549645486,102.319885429973,103.74626576500999,null,105.60469908767701,110.54930138685,{"$f":"VLOOKUP(B10,'[1]Level 1 - vlookup table'!$B$2:$D$13,3,FALSE)","v":111.427210849772},{"$f":"VLOOKUP(B10,'[2]Level 1 - vlookup table'!$B$2:$D$13,3,FALSE)","v":115.39155263970299},null,{"$f":"VLOOKUP(B10,'[3]Level 1 - vlookup table'!$B$2:$D$13,3,FALSE)","v":116.697600243916},{"$f":"VLOOKUP(B10,'[4]Level 1 - vlookup table'!$B$2:$D$13,3,FALSE)","v":115.941257845823},{"$f":"VLOOKUP(B10,'[5]Level 1 - vlookup table'!$B$2:$D$13,3,FALSE)","v":116.141545624499},{"$f":"VLOOKUP(B10,'[6]Level 1 - vlookup table'!$B$2:$D$13,3,FALSE)","v":116.72025367076699},null,{"$f":"VLOOKUP(B10,'[7]Level 1 - vlookup table'!$B$2:$D$13,3,FALSE)","v":119.163742370023},{"$f":"VLOOKUP($B10,'[15]Level 1 - vlookup table'!$B$2:$D$13,3,FALSE)","v":119.751994483167},{"$f":"VLOOKUP($B10,'[16]Level 1 - vlookup table'!$B$2:$D$13,3,FALSE)","v":120.721958285993},{"$f":"VLOOKUP($B10,'[10]Level 1 - vlookup table'!$B$2:$D$13,3,FALSE)","v":121.762387419002},{"$f":"VLOOKUP($B10,'[17]Level 1 - vlookup table'!$B$2:$D$13,3,FALSE)","v":123.94516709055701},{"$f":"VLOOKUP($B10,'[12]Level 1 - vlookup table'!$B$2:$D$13,3,FALSE)","v":123.380029759834},{"$f":"VLOOKUP($B10,'[13]Level 1 - vlookup table'!$B$2:$D$13,3,FALSE)","v":123.504784075562},{"$f":"VLOOKUP($B10,'[18]Level 1 - vlookup table'!$B$2:$D$13,3,FALSE)","v":123.94516709055701}]
[2,"011000","Food",null,100.4906119,99.972286420000003,100.1594348,99.377666919999996,null,99.808219236700694,98.859496641723794,99.329891830257907,99.513210140907802,null,99.685295363691694,102.103709758083,101.12830456176199,101.486613348212,null,101.20218870212901,101.31216536411701,102.369956378502,104.111426044634,null,105.913778926386,111.13508492635999,{"$f":"VLOOKUP(B11,'[1]Level 2 -vlookup table'!$B$2:$D$44,3,FALSE)","v":111.626298829983},{"$f":"VLOOKUP(B11,'[2]Level 2 - vlookup table'!$B$2:$D$44,3,FALSE)","v":115.849072155973},null,{"$f":"VLOOKUP(B11,'[3]Level 2 - vlookup table'!$B$2:$D$44,3,FALSE)","v":117.111083304399},{"$f":"VLOOKUP(B11,'[4]Level 2 - vlookup table'!$B$2:$D$44,3,FALSE)","v":115.84898924654},{"$f":"VLOOKUP(B11,'[5]Level 2 - vlookup table'!$B$2:$D$44,3,FALSE)","v":115.944721377634},{"$f":"VLOOKUP(B11,'[6]Level 2 - vlookup table'!$B$2:$D$44,3,FALSE)","v":116.468170002783},null,{"$f":"VLOOKUP(B11,'[7]Level 2 - vlookup table'!$B$2:$D$44,3,FALSE)","v":118.93972162940101},{"$f":"VLOOKUP(B11,'[15]Level 2 - vlookup table'!$B$2:$D$44,3,FALSE)","v":119.484602623866},{"$f":"VLOOKUP($B11,'[19]Level 2 - vlookup table'!$B$2:$D$44,3,FALSE)","v":120.34637683085001},{"$f":"VLOOKUP($B11,'[10]Level 2 - vlookup table'!$B$2:$D$44,3,FALSE)","v":121.122308336609},{"$f":"VLOOKUP($B11,'[20]Level 2 - vlookup table'!$B$2:$D$44,3,FALSE)","v":123.81519601909901},{"$f":"VLOOKUP($B11,'[8]Level 2 - vlookup table'!$B$2:$D$44,3,FALSE)","v":123.05825110532901},{"$f":"VLOOKUP($B11,'[13]Level 2 - vlookup table'!$B$2:$D$2,3,FALSE)","v":123.109853348418},{"$f":"VLOOKUP($B11,'[10]Level 2 - vlookup table'!$B$2:$D$44,3,FALSE)","v":121.122308336609}]
[3,"011100","Bread and cereals",null,100.1684092,99.830926809999994,100.14879980000001,99.851864169999999,null,100.475597994872,101.530149461199,101.793841820203,101.11477775013,null,101.595756666477,102.542861872505,103.58097732875299,102.84719295655201,null,102.81944969115,103.791981996831,103.613138174295,104.671040135845,null,106.20149266631699,109.58107850119001,{"$f":"VLOOKUP(B12,'[1]Level 3 - vlookup table'!$B$2:$D$97, 3, FALSE)","v":110.326083559439},{"$f":"VLOOKUP(B12,'[2]Level 3 - vlookup table'!$B$2:$D$97, 3, FALSE)","v":113.02882128230399},null,{"$f":"VLOOKUP(B12,'[3]Level 3 - vlookup table'!$B$2:$D$97,3, FALSE)","v":114.52696324267301},{"$f":"VLOOKUP(B12,'[4]Level 3 - vlookup table'!$B$2:$D$97,3, FALSE)","v":115.78805558742501},{"$f":"VLOOKUP(B12,'[5]Level 3 - vlookup table'!$B$2:$D$97,3, FALSE)","v":117.330331591898},{"$f":"VLOOKUP(B12,'[6]Level 3 - vlookup table'!$B$2:$D$97,3, FALSE)","v":116.385418625287},null,{"$f":"VLOOKUP(B12,'[21]Level 3 - vlookup table'!$B$2:$D$97,3, FALSE)","v":116.85554260538601},{"$f":"VLOOKUP(B12,'[22]Level 3 - vlookup table'!$B$2:$D$97,3, FALSE)","v":117.383076734208},{"$f":"VLOOKUP($B12,'[19]Level 3 - vlookup table'!$B$2:$D$97,3, FALSE)","v":119.461783074981},{"$f":"VLOOKUP($B12,'[10]Level 3 - vlookup table'!$B$2:$D$97,3, FALSE)","v":119.84320051229599},{"$f":"VLOOKUP($B12,'[20]Level 3 - vlookup table'!$B$2:$D$97,3, FALSE)","v":118.964632771521},{"$f":"VLOOKUP($B12,'[23]Level 3 - vlookup table'!$B$2:$D$97,3, FALSE)","v":118.05376167397399},{"$f":"VLOOKUP($B12,'[24]Level 3 - vlookup table'!$B$2:$D$97, 3, FALSE)","v":118.109641222569},{"$f":"VLOOKUP($B12,'[10]Level 3 - vlookup table'!$B$2:$D$97,3, FALSE)","v":119.84320051229599}]
[3,"011200","Meat",null,100.62216650000001,98.59822964,102.50007119999999,98.279532590000002,null,96.734789603286799,95.748949959060695,96.700299086784597,95.838715529400204,null,95.8374363131352,102.32828832406599,100.631855456715,99.788888525451199,null,99.605722006368694,99.088649075199896,99.097812590040803,102.4473767328,null,104.16056604955899,106.68342818505199,{"$f":"VLOOKUP(B13,'[1]Level 3 - vlookup table'!$B$2:$D$97, 3, FALSE)","v":108.11404597056401},{"$f":"VLOOKUP(B13,'[2]Level 3 - vlookup table'!$B$2:$D$97, 3, FALSE)","v":111.63216133402901},null,{"$f":"VLOOKUP(B13,'[3]Level 3 - vlookup table'!$B$2:$D$97,3, FALSE)","v":113.26155233116199},{"$f":"VLOOKUP(B13,'[4]Level 3 - vlookup table'!$B$2:$D$97,3, FALSE)","v":111.847354143671},{"$f":"VLOOKUP(B13,'[5]Level 3 - vlookup table'!$B$2:$D$97,3, FALSE)","v":112.844814141379},{"$f":"VLOOKUP(B13,'[6]Level 3 - vlookup table'!$B$2:$D$97,3, FALSE)","v":111.28870204396},null,{"$f":"VLOOKUP(B13,'[21]Level 3 - vlookup table'!$B$2:$D$97,3, FALSE)","v":112.528578355093},{"$f":"VLOOKUP(B13,'[22]Level 3 - vlookup table'!$B$2:$D$97,3, FALSE)","v":113.92866455846099},{"$f":"VLOOKUP($B13,'[19]Level 3 - vlookup table'!$B$2:$D$97,3, FALSE)","v":114.339895084983},{"$f":"VLOOKUP($B13,'[10]Level 3 - vlookup table'!$B$2:$D$97,3, FALSE)","v":113.508370928009},{"$f":"VLOOKUP($B13,'[20]Level 3 - vlookup table'!$B$2:$D$97,3, FALSE)","v":116.054487821489},{"$f":"VLOOKUP($B13,'[23]Level 3 - vlookup table'!$B$2:$D$97,3, FALSE)","v":117.7292594083},{"$f":"VLOOKUP($B13,'[24]Level 3 - vlookup table'!$B$2:$D$97, 3, FALSE)","v":120.978881509159},{"$f":"VLOOKUP($B13,'[10]Level 3 - vlookup table'!$B$2:$D$97,3, FALSE)","v":113.508370928009}]
[3,"011300","Fish and seafood",null,99.941127870000003,100.9767939,99.603872460000005,99.478205779999996,null,99.257481386187706,99.565311140048294,98.4563577192759,100.270335973206,null,100.216136435218,102.757510112281,102.943423458054,102.648930276046,null,105.034202037169,104.10566380901101,105.552868673642,108.09994501073599,null,110.416062479961,119.913911954187,{"$f":"VLOOKUP(B14,'[1]Level 3 - vlookup table'!$B$2:$D$97, 3, FALSE)","v":116.833855729682},{"$f":"VLOOKUP(B14,'[2]Level 3 - vlookup table'!$B$2:$D$97, 3, FALSE)","v":115.210435194845},null,{"$f":"VLOOKUP(B14,'[3]Level 3 - vlookup table'!$B$2:$D$97, 3, FALSE)","v":120.424245133727},{"$f":"VLOOKUP(B14,'[4]Level 3 - vlookup table'!$B$2:$D$97,3, FALSE)","v":120.082380431451},{"$f":"VLOOKUP(B14,'[5]Level 3 - vlookup table'!$B$2:$D$97,3, FALSE)","v":118.557368207273},{"$f":"VLOOKUP(B14,'[6]Level 3 - vlookup table'!$B$2:$D$97,3, FALSE)","v":116.537237821026},null,{"$f":"VLOOKUP(B14,'[21]Level 3 - vlookup table'!$B$2:$D$97, 3, FALSE)","v":115.82741258470701},{"$f":"VLOOKUP(B14,'[22]Level 3 - vlookup table'!$B$2:$D$97,3, FALSE)","v":118.53368069354499},{"$f":"VLOOKUP($B14,'[19]Level 3 - vlookup table'!$B$2:$D$97, 3, FALSE)","v":117.195463766391},{"$f":"VLOOKUP($B14,'[10]Level 3 - vlookup table'!$B$2:$D$97,3, FALSE)","v":112.46388006796499},{"$f":"VLOOKUP($B14,'[20]Level 3 - vlookup table'!$B$2:$D$97,3, FALSE)","v":117.74868677785},{"$f":"VLOOKUP($B14,'[23]Level 3 - vlookup table'!$B$2:$D$97,3, FALSE)","v":121.253922918119},{"$f":"VLOOKUP($B14,'[24]Level 3 - vlookup table'!$B$2:$D$97, 3, FALSE)","v":120.226416953362},{"$f":"VLOOKUP($B14,'[10]Level 3 - vlookup table'!$B$2:$D$97,3, FALSE)","v":112.46388006796499}]
[3,"011400","Milk, cheese and eggs",null,102.5443667,101.3039248,98.591475399999993,97.560233060000002,null,99.143894188486797,96.230590073082098,94.965902324082805,97.902285040765705,null,97.502557415555103,102.016863652609,98.410973303192506,100.22837256734699,null,100.434704960239,100.555457169346,100.972070973122,101.522253436165,null,104.202097277242,118.83861043240201,{"$f":"VLOOKUP(B15,'[1]Level 3 - vlookup table'!$B$2:$D$97, 3, FALSE)","v":120.47925065019901},{"$f":"VLOOKUP(B15,'[2]Level 3 - vlookup table'!$B$2:$D$97, 3, FALSE)","v":130.62586960009301},null,{"$f":"VLOOKUP(B15,'[3]Level 3 - vlookup table'!$B$2:$D$97, 3, FALSE)","v":131.12290017563399},{"$f":"VLOOKUP(B15,'[4]Level 3 - vlookup table'!$B$2:$D$97,3, FALSE)","v":119.21347020027},{"$f":"VLOOKUP(B15,'[5]Level 3 - vlookup table'!$B$2:$D$97,3, FALSE)","v":115.33286531572401},{"$f":"VLOOKUP(B15,'[6]Level 3 - vlookup table'!$B$2:$D$97,3, FALSE)","v":119.420126406639},null,{"$f":"VLOOKUP(B15,'[21]Level 3 - vlookup table'!$B$2:$D$97, 3, FALSE)","v":127.35709417545399},{"$f":"VLOOKUP(B15,'[22]Level 3 - vlookup table'!$B$2:$D$97,3, FALSE)","v":127.776882962119},{"$f":"VLOOKUP($B15,'[19]Level 3 - vlookup table'!$B$2:$D$97, 3, FALSE)","v":127.967122701447},{"$f":"VLOOKUP($B15,'[10]Level 3 - vlookup table'!$B$2:$D$97,3, FALSE)","v":134.187775618107},{"$f":"VLOOKUP($B15,'[20]Level 3 - vlookup table'!$B$2:$D$97,3, FALSE)","v":146.24462832396301},{"$f":"VLOOKUP($B15,'[23]Level 3 - vlookup table'!$B$2:$D$97,3, FALSE)","v":140.04215237199099},{"$f":"VLOOKUP($B15,'[24]Level 3 - vlookup table'!$B$2:$D$97, 3, FALSE)","v":129.84418433189401},{"$f":"VLOOKUP($B15,'[10]Level 3 - vlookup table'!$B$2:$D$97,3, FALSE)","v":134.187775618107}]
[3,"011500","Oils and fats",null,101.87187040000001,100.2187517,98.510372649999994,99.399005149999994,null,98.424965843144506,100.45264586624999,102.832446729461,104.89361932951699,null,105.70260523786099,104.359250174552,102.22493458666401,101.676824818914,null,102.661876173582,101.899306855555,101.940648697268,101.798735034045,null,105.72113864287699,109.662422549113,{"$f":"VLOOKUP(B16,'[1]Level 3 - vlookup table'!$B$2:$D$97, 3, FALSE)","v":104.480626765393},{"$f":"VLOOKUP(B16,'[2]Level 3 - vlookup table'!$B$2:$D$97, 3, FALSE)","v":108.997096987118},null,{"$f":"VLOOKUP(B16,'[3]Level 3 - vlookup table'!$B$2:$D$97, 3, FALSE)","v":111.437456256419},{"$f":"VLOOKUP(B16,'[4]Level 3 - vlookup table'!$B$2:$D$97,3, FALSE)","v":118.073939973652},{"$f":"VLOOKUP(B16,'[5]Level 3 - vlookup table'!$B$2:$D$97,3, FALSE)","v":121.410928643483},{"$f":"VLOOKUP(B16,'[6]Level 3 - vlookup table'!$B$2:$D$97,3, FALSE)","v":132.96058044009001},null,{"$f":"VLOOKUP(B16,'[21]Level 3 - vlookup table'!$B$2:$D$97, 3, FALSE)","v":123.574223476106},{"$f":"VLOOKUP(B16,'[22]Level 3 - vlookup table'!$B$2:$D$97,3, FALSE)","v":122.785835558247},{"$f":"VLOOKUP($B16,'[19]Level 3 - vlookup table'!$B$2:$D$97, 3, FALSE)","v":130.29174846095},{"$f":"VLOOKUP($B16,'[10]Level 3 - vlookup table'!$B$2:$D$97,3, FALSE)","v":134.27470327244799},{"$f":"VLOOKUP($B16,'[20]Level 3 - vlookup table'!$B$2:$D$97,3, FALSE)","v":134.471655878826},{"$f":"VLOOKUP($B16,'[23]Level 3 - vlookup table'!$B$2:$D$97,3, FALSE)","v":134.06243106852401},{"$f":"VLOOKUP($B16,'[24]Level 3 - vlookup table'!$B$2:$D$97, 3, FALSE)","v":135.138357908882},{"$f":"VLOOKUP($B16,'[10]Level 3 - vlookup table'!$B$2:$D$97,3, FALSE)","v":134.27470327244799}]
[3,"011600","Fruit",null,101.7062574,101.22076939999999,97.936549909999997,99.136423359999995,null,100.969303403928,98.860541604912498,99.579897376861993,99.324549604033194,null,98.293680477720798,97.688847636766297,96.718393845717202,100.416210036393,null,98.464214865969296,100.826687986392,105.47545475022601,105.565714248147,null,108.187286112601,110.21816079148,{"$f":"VLOOKUP(B17,'[1]Level 3 - vlookup table'!$B$2:$D$97, 3, FALSE)","v":110.984259698439},{"$f":"VLOOKUP(B17,'[2]Level 3 - vlookup table'!$B$2:$D$97, 3, FALSE)","v":113.098653243825},null,{"$f":"VLOOKUP(B17,'[3]Level 3 - vlookup table'!$B$2:$D$97, 3, FALSE)","v":113.334143089425},{"$f":"VLOOKUP(B17,'[4]Level 3 - vlookup table'!$B$2:$D$97,3, FALSE)","v":112.607715135159},{"$f":"VLOOKUP(B17,'[5]Level 3 - vlookup table'!$B$2:$D$97,3, FALSE)","v":110.80775099421599},{"$f":"VLOOKUP(B17,'[6]Level 3 - vlookup table'!$B$2:$D$97,3, FALSE)","v":111.32952523041899},null,{"$f":"VLOOKUP(B17,'[21]Level 3 - vlookup table'!$B$2:$D$97, 3, FALSE)","v":118.610193196629},{"$f":"VLOOKUP(B17,'[22]Level 3 - vlookup table'!$B$2:$D$97,3, FALSE)","v":116.85254699620501},{"$f":"VLOOKUP($B17,'[19]Level 3 - vlookup table'!$B$2:$D$97, 3, FALSE)","v":115.15568053957},{"$f":"VLOOKUP($B17,'[10]Level 3 - vlookup table'!$B$2:$D$97,3, FALSE)","v":118.210928877444},{"$f":"VLOOKUP($B17,'[20]Level 3 - vlookup table'!$B$2:$D$97,3, FALSE)","v":120.08934642003},{"$f":"VLOOKUP($B17,'[23]Level 3 - vlookup table'!$B$2:$D$97,3, FALSE)","v":117.704973315624},{"$f":"VLOOKUP($B17,'[24]Level 3 - vlookup table'!$B$2:$D$97, 3, FALSE)","v":118.746757212745},{"$f":"VLOOKUP($B17,'[10]Level 3 - vlookup table'!$B$2:$D$97,3, FALSE)","v":118.210928877444}]
[3,"011700","Vegetables",null,98.518063350000006,99.880186550000005,100.2197759,101.3819742,null,102.669323361689,99.991972315395799,101.146829040054,99.821175230374905,null,100.032434672108,101.31957592216401,101.302579306526,102.349875595151,null,100.585616629469,98.784936792102897,102.174578017561,107.110282165548,null,107.28562076838401,112.527228441914,{"$f":"VLOOKUP(B18,'[1]Level 3 - vlookup table'!$B$2:$D$97, 3, FALSE)","v":112.524262366786},{"$f":"VLOOKUP(B18,'[2]Level 3 - vlookup table'!$B$2:$D$97, 3, FALSE)","v":120.708575561682},null,{"$f":"VLOOKUP(B18,'[3]Level 3 - vlookup table'!$B$2:$D$97, 3, FALSE)","v":120.161540640674},{"$f":"VLOOKUP(B18,'[4]Level 3 - vlookup table'!$B$2:$D$97,3, FALSE)","v":119.449239831234},{"$f":"VLOOKUP(B18,'[5]Level 3 - vlookup table'!$B$2:$D$97,3, FALSE)","v":119.51562140520601},{"$f":"VLOOKUP(B18,'[6]Level 3 - vlookup table'!$B$2:$D$97,3, FALSE)","v":119.459428047336},null,{"$f":"VLOOKUP(B18,'[21]Level 3 - vlookup table'!$B$2:$D$97, 3, FALSE)","v":122.696007668886},{"$f":"VLOOKUP(B18,'[22]Level 3 - vlookup table'!$B$2:$D$97,3, FALSE)","v":121.135018661947},{"$f":"VLOOKUP($B18,'[19]Level 3 - vlookup table'!$B$2:$D$97, 3, FALSE)","v":121.553000263097},{"$f":"VLOOKUP($B18,'[10]Level 3 - vlookup table'!$B$2:$D$97,3, FALSE)","v":120.04477109535},{"$f":"VLOOKUP($B18,'[20]Level 3 - vlookup table'!$B$2:$D$97,3, FALSE)","v":120.836647593075},{"$f":"VLOOKUP($B18,'[23]Level 3 - vlookup table'!$B$2:$D$97,3, FALSE)","v":119.496297019927},{"$f":"VLOOKUP($B18,'[24]Level 3 - vlookup table'!$B$2:$D$97, 3, FALSE)","v":123.166576529726},{"$f":"VLOOKUP($B18,'[10]Level 3 - vlookup table'!$B$2:$D$97,3, FALSE)","v":120.04477109535}]
[3,"011800","Sugar, jam, honey, chocolate and confectionery",null,99.673928689999997,98.917350400000004,100.60908689999999,100.799634,null,100.863630061726,99.087550952194206,98.050433894168904,98.246334158855802,null,99.809358330218302,100.06427462771001,101.109648998547,102.275125371371,null,101.60440408439101,102.46836426436001,103.568634980949,103.706322209107,null,104.29564698391199,106.40874180473099,{"$f":"VLOOKUP(B19,'[1]Level 3 - vlookup table'!$B$2:$D$97, 3, FALSE)","v":106.707455771122},{"$f":"VLOOKUP(B19,'[2]Level 3 - vlookup table'!$B$2:$D$97, 3, FALSE)","v":108.216043996298},null,{"$f":"VLOOKUP(B19,'[3]Level 3 - vlookup table'!$B$2:$D$97, 3, FALSE)","v":109.371717921712},{"$f":"VLOOKUP(B19,'[4]Level 3 - vlookup table'!$B$2:$D$97,3, FALSE)","v":111.150030103131},{"$f":"VLOOKUP(B19,'[5]Level 3 - vlookup table'!$B$2:$D$97,3, FALSE)","v":112.894810771867},{"$f":"VLOOKUP(B19,'[6]Level 3 - vlookup table'!$B$2:$D$97,3, FALSE)","v":113.143668024319},null,{"$f":"VLOOKUP(B19,'[21]Level 3 - vlookup table'!$B$2:$D$97, 3, FALSE)","v":113.905477661226},{"$f":"VLOOKUP(B19,'[22]Level 3 - vlookup table'!$B$2:$D$97,3, FALSE)","v":118.440639352723},{"$f":"VLOOKUP($B19,'[19]Level 3 - vlookup table'!$B$2:$D$97, 3, FALSE)","v":121.225751157057},{"$f":"VLOOKUP($B19,'[10]Level 3 - vlookup table'!$B$2:$D$97,3, FALSE)","v":121.24915061178901},{"$f":"VLOOKUP($B19,'[20]Level 3 - vlookup table'!$B$2:$D$97,3, FALSE)","v":122.13545215938601},{"$f":"VLOOKUP($B19,'[23]Level 3 - vlookup table'!$B$2:$D$97,3, FALSE)","v":124.27135944075},{"$f":"VLOOKUP($B19,'[24]Level 3 - vlookup table'!$B$2:$D$97, 3, FALSE)","v":123.907462874988},{"$f":"VLOOKUP($B19,'[10]Level 3 - vlookup table'!$B$2:$D$97,3, FALSE)","v":121.24915061178901}]
[3,"011900","Food products n.e.c.",null,99.517133540000003,99.467967700000003,101.24050269999999,99.774396050000007,null,100.40735446600399,100.014667302798,102.608911822812,103.79980309462501,null,105.158937065834,107.384848256721,103.94840068972501,102.421106749826,null,102.585320240078,103.000251469807,102.302127936114,101.972154100637,null,104.16353694469301,107.57355534201599,{"$f":"VLOOKUP(B20,'[1]Level 3 - vlookup table'!$B$2:$D$97, 3, FALSE)","v":109.562043587277},{"$f":"VLOOKUP(B20,'[2]Level 3 - vlookup table'!$B$2:$D$97, 3, FALSE)","v":111.24141058874299},null,{"$f":"VLOOKUP(B20,'[3]Level 3 - vlookup table'!$B$2:$D$97, 3, FALSE)","v":113.14058318106601},{"$f":"VLOOKUP(B20,'[4]Level 3 - vlookup table'!$B$2:$D$97,3, FALSE)","v":115.77060883047101},{"$f":"VLOOKUP(B20,'[5]Level 3 - vlookup table'!$B$2:$D$97,3, FALSE)","v":118.041896567458},{"$f":"VLOOKUP(B20,'[6]Level 3 - vlookup table'!$B$2:$D$97,3, FALSE)","v":118.917439858874},null,{"$f":"VLOOKUP(B20,'[21]Level 3 - vlookup table'!$B$2:$D$97, 3, FALSE)","v":122.10578427615501},{"$f":"VLOOKUP(B20,'[22]Level 3 - vlookup table'!$B$2:$D$97,3, FALSE)","v":124.347506241001},{"$f":"VLOOKUP($B20,'[19]Level 3 - vlookup table'!$B$2:$D$97, 3, FALSE)","v":125.611216867482},{"$f":"VLOOKUP($B20,'[10]Level 3 - vlookup table'!$B$2:$D$97,3, FALSE)","v":125.98651785828601},{"$f":"VLOOKUP($B20,'[20]Level 3 - vlookup table'!$B$2:$D$97,3, FALSE)","v":127.089810650749},{"$f":"VLOOKUP($B20,'[23]Level 3 - vlookup table'!$B$2:$D$97,3, FALSE)","v":128.448435520629},{"$f":"VLOOKUP($B20,'[24]Level 3 - vlookup table'!$B$2:$D$97, 3, FALSE)","v":131.75830392503201},{"$f":"VLOOKUP($B20,'[10]Level 3 - vlookup table'!$B$2:$D$97,3, FALSE)","v":125.98651785828601}]
[2,"012000","Non-alcoholic beverages",null,100.95808839999999,98.089707300000001,99.694274129999997,101.2579302,null,101.342236606643,99.700659114703996,98.807385311408297,97.924791360984599,null,99.1572409468301,103.482188229741,104.010354583772,103.54145578603899,null,102.951086642421,101.74626444068301,102.026748133322,101.608457308048,null,103.795210131904,107.119867588627,{"$f":"VLOOKUP(B21,'[1]Level 2 -vlookup table'!$B$2:$D$44,3,FALSE)","v":110.261662482324},{"$f":"VLOOKUP(B21,'[2]Level 2 - vlookup table'!$B$2:$D$44,3,FALSE)","v":112.713032697407},null,{"$f":"VLOOKUP(B21,'[3]Level 2 - vlookup table'!$B$2:$D$44,3,FALSE)","v":114.27688903068901},{"$f":"VLOOKUP(B21,'[4]Level 2 - vlookup table'!$B$2:$D$44,3,FALSE)","v":116.481438700274},{"$f":"VLOOKUP(B21,'[5]Level 2 - vlookup table'!$B$2:$D$44,3,FALSE)","v":117.29384110393799},{"$f":"VLOOKUP(B21,'[6]Level 2 - vlookup table'!$B$2:$D$44,3,FALSE)","v":118.196062041362},null,{"$f":"VLOOKUP(B21,'[21]Level 2 - vlookup table'!$B$2:$D$44,3,FALSE)","v":120.475258053845},{"$f":"VLOOKUP(B21,'[22]Level 2 - vlookup table'!$B$2:$D$44,3,FALSE)","v":121.317423720771},{"$f":"VLOOKUP($B21,'[19]Level 2 - vlookup table'!$B$2:$D$44,3,FALSE)","v":122.920776875762},{"$f":"VLOOKUP($B21,'[10]Level 2 - vlookup table'!$B$2:$D$44,3,FALSE)","v":125.509691142371},{"$f":"VLOOKUP($B21,'[20]Level 2 - vlookup table'!$B$2:$D$44,3,FALSE)","v":161.31891878317899},{"$f":"VLOOKUP($B21,'[8]Level 2 - vlookup table'!$B$2:$D$44,3,FALSE)","v":125.263863153698},{"$f":"VLOOKUP($B21,'[13]Level 2 - vlookup table'!$B$2:$D$44,3,FALSE)","v":125.816881791309},{"$f":"VLOOKUP($B21,'[10]Level 2 - vlookup table'!$B$2:$D$44,3,FALSE)","v":125.509691142371}]
[3,"012100","Coffee, tea and cocoa",null,98.23641216,97.754260909999999,101.3665931,102.6427338,null,102.872627852508,103.485180921859,102.32989772950501,101.831770595351,null,100.81263176047599,99.982794947226793,99.793661718482994,100.412633786306,null,99.767781095441094,99.478271739015895,101.67616439018801,102.541651704537,null,103.186492490719,105.309157409576,{"$f":"VLOOKUP(B22,'[1]Level 3 - vlookup table'!$B$2:$D$97, 3, FALSE)","v":107.720391331214},{"$f":"VLOOKUP(B22,'[2]Level 3 - vlookup table'!$B$2:$D$97, 3, FALSE)","v":108.78126490917801},null,{"$f":"VLOOKUP(B22,'[3]Level 3 - vlookup table'!$B$2:$D$97, 3, FALSE)","v":110.111928865553},{"$f":"VLOOKUP(B22,'[4]Level 3 - vlookup table'!$B$2:$D$97,3, FALSE)","v":112.18311254838299},{"$f":"VLOOKUP(B22,'[5]Level 3 - vlookup table'!$B$2:$D$97,3, FALSE)","v":116.05013629263399},{"$f":"VLOOKUP(B22,'[6]Level 3 - vlookup table'!$B$2:$D$97,3, FALSE)","v":115.10137442051},null,{"$f":"VLOOKUP(B22,'[21]Level 3 - vlookup table'!$B$2:$D$97,3, FALSE)","v":114.305901013416},{"$f":"VLOOKUP(B22,'[22]Level 3 - vlookup table'!$B$2:$D$97,3, FALSE)","v":114.703787381349},{"$f":"VLOOKUP($B22,'[19]Level 3 - vlookup table'!$B$2:$D$97, 3, FALSE)","v":115.516473847974},{"$f":"VLOOKUP($B22,'[10]Level 3 - vlookup table'!$B$2:$D$97,3, FALSE)","v":116.54827303082},{"$f":"VLOOKUP($B22,'[20]Level 3 - vlookup table'!$B$2:$D$97,3, FALSE)","v":116.034935796979},{"$f":"VLOOKUP($B22,'[23]Level 3 - vlookup table'!$B$2:$D$97,3, FALSE)","v":117.790306664037},{"$f":"VLOOKUP($B22,'[24]Level 3 - vlookup table'!$B$2:$D$97, 3, FALSE)","v":118.778336725736},{"$f":"VLOOKUP($B22,'[10]Level 3 - vlookup table'!$B$2:$D$97,3, FALSE)","v":116.54827303082}]
[3,"012200","Mineral waters, soft drinks, fruit and vegetable juices",null,101.3964282,98.143732659999998,99.424938589999996,101.03490050000001,null,101.097540048951,99.095546231822098,98.244165503750693,97.300098575915399,null,98.892558020271906,104.041711484044,104.68456794703501,104.04172784067499,null,103.460070153359,102.10889720434299,102.08280349521699,101.45924745266301,null,103.892538910938,107.409384762088,{"$f":"VLOOKUP(B23,'[1]Level 3 - vlookup table'!$B$2:$D$97, 3, FALSE)","v":110.66799014822},{"$f":"VLOOKUP(B23,'[2]Level 3 - vlookup table'!$B$2:$D$97, 3, FALSE)","v":113.34168896163},null,{"$f":"VLOOKUP(B23,'[3]Level 3 - vlookup table'!$B$2:$D$97,3, FALSE)","v":114.942830774729},{"$f":"VLOOKUP(B23,'[4]Level 3 - vlookup table'!$B$2:$D$97,3, FALSE)","v":117.16870453249101},{"$f":"VLOOKUP(B23,'[5]Level 3 - vlookup table'!$B$2:$D$97,3, FALSE)","v":117.492698936492},{"$f":"VLOOKUP(B23,'[6]Level 3 - vlookup table'!$B$2:$D$97,3, FALSE)","v":118.690876298828},null,{"$f":"VLOOKUP(B23,'[21]Level 3 - vlookup table'!$B$2:$D$97,3, FALSE)","v":121.46168582847299},{"$f":"VLOOKUP(B23,'[22]Level 3 - vlookup table'!$B$2:$D$97,3, FALSE)","v":122.37488798061899},{"$f":"VLOOKUP($B23,'[19]Level 3 - vlookup table'!$B$2:$D$97, 3, FALSE)","v":124.104662021411},{"$f":"VLOOKUP($B23,'[10]Level 3 - vlookup table'!$B$2:$D$97,3, FALSE)","v":126.94254576034101},{"$f":"VLOOKUP($B23,'[20]Level 3 - vlookup table'!$B$2:$D$97,3, FALSE)","v":126.09251620325099},{"$f":"VLOOKUP($B23,'[23]Level 3 - vlookup table'!$B$2:$D$97,3, FALSE)","v":126.458821339509},{"$f":"VLOOKUP($B23,'[24]Level 3 - vlookup table'!$B$2:$D$97, 3, FALSE)","v":126.94228534635501},{"$f":"VLOOKUP($B23,'[10]Level 3 - vlookup table'!$B$2:$D$97,3, FALSE)","v":126.94254576034101}]
[1,"020000","Alcoholic beverages, tobacco and narcotics",null,99.767557299999993,99.367232299999998,100.3628358,100.5023746,null,100.91714010522399,101.66869477722,102.44743303745901,102.80335478828199,null,103.393848053231,103.936654044367,103.301175948962,102.847407770942,null,102.825141072725,103.12112857301,104.149309533435,104.759020708949,null,105.88326633957,109.597320863711,{"$f":"VLOOKUP(B24,'[1]Level 1 - vlookup table'!$B$2:$D$13,3,FALSE)","v":109.712140692834},{"$f":"VLOOKUP(B24,'[2]Level 1 - vlookup table'!$B$2:$D$13,3,FALSE)","v":110.657529268217},null,{"$f":"VLOOKUP(B24,'[3]Level 1 - vlookup table'!$B$2:$D$13,3,FALSE)","v":110.45800047771},{"$f":"VLOOKUP(B24,'[4]Level 1 - vlookup table'!$B$2:$D$13,3,FALSE)","v":113.63967145795399},{"$f":"VLOOKUP(B24,'[5]Level 1 - vlookup table'!$B$2:$D$13,3,FALSE)","v":113.806865886794},{"$f":"VLOOKUP(B24,'[6]Level 1 - vlookup table'!$B$2:$D$13,3,FALSE)","v":112.82762416944399},null,{"$f":"VLOOKUP(B24,'[21]Level 1 - vlookup table'!$B$2:$D$13,3,FALSE)","v":112.442304543959},{"$f":"VLOOKUP($B24,'[22]Level 1 - vlookup table'!$B$2:$D$13,3,FALSE)","v":112.327025140774},{"$f":"VLOOKUP($B24,'[25]Level 1 - vlookup table'!$B$2:$D$13,3,FALSE)","v":112.442304543959},{"$f":"VLOOKUP($B24,'[10]Level 1 - vlookup table'!$B$2:$D$13,3,FALSE)","v":110.88519047477401},{"$f":"VLOOKUP($B24,'[17]Level 1 - vlookup table'!$B$2:$D$13,3,FALSE)","v":109.806669733353},{"$f":"VLOOKUP($B24,'[22]Level 1 - vlookup table'!$B$2:$D$13,3,FALSE)","v":112.327025140774},{"$f":"VLOOKUP($B24,'[26]Level 1 - vlookup table'!$B$2:$D$13,3,FALSE)","v":109.797856857298},{"$f":"VLOOKUP($B24,'[14]Level 1 - vlookup table'!$B$2:$D$13,3,FALSE)","v":112.442304543959}]
[2,"021000","Alcoholic beverages",null,99.694940689999996,99.324585409999997,100.4302679,100.550206,null,100.83289415552299,101.620089467745,102.05858566115801,102.459209558677,null,103.123866081397,102.89126757426401,102.19425240916,101.61962783282399,null,101.553910099592,101.744941203416,102.90225699759699,103.588545112696,null,104.895341032464,109.179679158852,{"$f":"VLOOKUP(B25,'[1]Level 2 -vlookup table'!$B$2:$D$44,3,FALSE)","v":109.180903184172},{"$f":"VLOOKUP(B25,'[2]Level 2 - vlookup table'!$B$2:$D$44,3,FALSE)","v":110.24502824779501},null,{"$f":"VLOOKUP(B25,'[3]Level 2 - vlookup table'!$B$2:$D$44,3,FALSE)","v":109.97738974223699},{"$f":"VLOOKUP(B25,'[4]Level 2 - vlookup table'!$B$2:$D$44,3,FALSE)","v":113.597517833628},{"$f":"VLOOKUP(B25,'[5]Level 2 - vlookup table'!$B$2:$D$44,3,FALSE)","v":113.91193865463499},{"$f":"VLOOKUP(B25,'[6]Level 2 - vlookup table'!$B$2:$D$44,3,FALSE)","v":112.62630991555601},null,{"$f":"VLOOKUP($B25,'[21]Level 2 - vlookup table'!$B$2:$D$44,3,FALSE)","v":112.045668935645},{"$f":"VLOOKUP(B25,'[22]Level 2 - vlookup table'!$B$2:$D$44,3,FALSE)","v":111.89635653837099},{"$f":"VLOOKUP($B25,'[19]Level 2 - vlookup table'!$B$2:$D$44,3,FALSE)","v":111.34674445159099},{"$f":"VLOOKUP($B25,'[10]Level 2 - vlookup table'!$B$2:$D$44,3,FALSE)","v":110.128854669826},{"$f":"VLOOKUP($B25,'[20]Level 2 - vlookup table'!$B$2:$D$44,3,FALSE)","v":108.91487664801799},{"$f":"VLOOKUP($B25,'[8]Level 2 - vlookup table'!$B$2:$D$44,3,FALSE)","v":108.21693052496801},{"$f":"VLOOKUP($B25,'[13]Level 2 - vlookup table'!$B$2:$D$44,3,FALSE)","v":108.904956914971},{"$f":"VLOOKUP($B25,'[10]Level 2 - vlookup table'!$B$2:$D$44,3,FALSE)","v":110.128854669826}]
[3,"021100","Spirits",null,99.871562580000003,99.544143210000001,100.0955254,100.4887688,null,99.544442357167497,100.169171726866,100.087252248189,99.335300765467096,null,99.104977605010404,99.168170107584203,98.036478813170106,96.512188527938903,null,96.606691040640698,97.036946844259006,97.612583887658204,98.485233277629703,null,99.550880618615906,103.952649554712,{"$f":"VLOOKUP(B26,'[1]Level 3 - vlookup table'!$B$2:$D$97, 3, FALSE)","v":105.19587975909801},{"$f":"VLOOKUP(B26,'[2]Level 3 - vlookup table'!$B$2:$D$97, 3, FALSE)","v":106.92825480648899},null,{"$f":"VLOOKUP(B26,'[3]Level 3 - vlookup table'!$B$2:$D$97,3, FALSE)","v":105.86000179263399},{"$f":"VLOOKUP(B26,'[4]Level 3 - vlookup table'!$B$2:$D$97,3, FALSE)","v":111.724747534664},{"$f":"VLOOKUP(B26,'[5]Level 3 - vlookup table'!$B$2:$D$97,3, FALSE)","v":111.022266764232},{"$f":"VLOOKUP(B26,'[6]Level 3 - vlookup table'!$B$2:$D$97,3, FALSE)","v":110.626879761769},null,{"$f":"VLOOKUP(B26,'[21]Level 3 - vlookup table'!$B$2:$D$97,3, FALSE)","v":109.228572658923},{"$f":"VLOOKUP(B26,'[22]Level 3 - vlookup table'!$B$2:$D$97,3, FALSE)","v":108.034902215407},{"$f":"VLOOKUP($B26,'[19]Level 3 - vlookup table'!$B$2:$D$97, 3, FALSE)","v":108.189362962429},{"$f":"VLOOKUP($B26,'[10]Level 3 - vlookup table'!$B$2:$D$97,3, FALSE)","v":107.694105229417},{"$f":"VLOOKUP($B26,'[20]Level 3 - vlookup table'!$B$2:$D$97,3, FALSE)","v":105.848381161086},{"$f":"VLOOKUP($B26,'[23]Level 3 - vlookup table'!$B$2:$D$97,3, FALSE)","v":104.749680973482},{"$f":"VLOOKUP($B26,'[24]Level 3 - vlookup table'!$B$2:$D$97, 3, FALSE)","v":105.883599084311},{"$f":"VLOOKUP($B26,'[10]Level 3 - vlookup table'!$B$2:$D$97,3, FALSE)","v":107.694105229417}]
[3,"021200","Wine",null,95.737494100000006,100.65361590000001,101.6325511,101.9763389,null,103.97536964317899,105.38581580643999,107.329482069775,108.725348426666,null,111.679634295874,109.899711112159,109.14272264339399,109.326963354451,null,109.326963354451,109.139332035113,112.547181078162,114.27023224436,null,116.17248182446301,122.813011962823,{"$f":"VLOOKUP(B27,'[1]Level 3 - vlookup table'!$B$2:$D$97, 3, FALSE)","v":121.168790272769},{"$f":"VLOOKUP(B27,'[2]Level 3 - vlookup table'!$B$2:$D$97, 3, FALSE)","v":122.068400042766},null,{"$f":"VLOOKUP(B27,'[3]Level 3 - vlookup table'!$B$2:$D$97,3, FALSE)","v":121.94717441794501},{"$f":"VLOOKUP(B27,'[4]Level 3 - vlookup table'!$B$2:$D$97,3, FALSE)","v":125.556681409083},{"$f":"VLOOKUP(B27,'[5]Level 3 - vlookup table'!$B$2:$D$97,3, FALSE)","v":127.749558164625},{"$f":"VLOOKUP(B27,'[6]Level 3 - vlookup table'!$B$2:$D$97,3, FALSE)","v":123.260893195286},null,{"$f":"VLOOKUP(B27,'[21]Level 3 - vlookup table'!$B$2:$D$97,3, FALSE)","v":123.573010170885},{"$f":"VLOOKUP(B27,'[22]Level 3 - vlookup table'!$B$2:$D$97,3, FALSE)","v":124.69825441802899},{"$f":"VLOOKUP($B27,'[19]Level 3 - vlookup table'!$B$2:$D$97, 3, FALSE)","v":121.859794553559},{"$f":"VLOOKUP($B27,'[10]Level 3 - vlookup table'!$B$2:$D$97,3, FALSE)","v":117.34615095066},{"$f":"VLOOKUP($B27,'[20]Level 3 - vlookup table'!$B$2:$D$97,3, FALSE)","v":115.635363173683},{"$f":"VLOOKUP($B27,'[23]Level 3 - vlookup table'!$B$2:$D$97,3, FALSE)","v":112.900103669552},{"$f":"VLOOKUP($B27,'[24]Level 3 - vlookup table'!$B$2:$D$97, 3, FALSE)","v":114.9211303065},{"$f":"VLOOKUP($B27,'[10]Level 3 - vlookup table'!$B$2:$D$97,3, FALSE)","v":117.34615095066}]
[3,"021300","Beer",null,101.3439463,98.54253027,100.1593749,99.954148590000003,null,100.379986242169,100.97585052628099,101.091931570928,102.161072134481,null,102.447974472274,102.807688271781,102.620184864481,102.632551225577,null,102.35324244297701,102.50727320122699,102.96827037478,102.838301795443,null,104.056012565329,106.819120628511,{"$f":"VLOOKUP(B28,'[1]Level 3 - vlookup table'!$B$2:$D$97, 3, FALSE)","v":106.438746325561},{"$f":"VLOOKUP(B28,'[2]Level 3 - vlookup table'!$B$2:$D$97, 3, FALSE)","v":106.871362588989},null,{"$f":"VLOOKUP(B28,'[3]Level 3 - vlookup table'!$B$2:$D$97,3, FALSE)","v":107.390291084335},{"$f":"VLOOKUP(B28,'[4]Level 3 - vlookup table'!$B$2:$D$97,3, FALSE)","v":108.568754585921},{"$f":"VLOOKUP(B28,'[5]Level 3 - vlookup table'!$B$2:$D$97,3, FALSE)","v":108.881504666276},{"$f":"VLOOKUP(B28,'[6]Level 3 - vlookup table'!$B$2:$D$97,3, FALSE)","v":108.518873619383},null,{"$f":"VLOOKUP(B28,'[21]Level 3 - vlookup table'!$B$2:$D$97,3, FALSE)","v":108.302099270951},{"$f":"VLOOKUP(B28,'[22]Level 3 - vlookup table'!$B$2:$D$97,3, FALSE)","v":108.538131400956},{"$f":"VLOOKUP($B28,'[19]Level 3 - vlookup table'!$B$2:$D$97, 3, FALSE)","v":108.57401137390301},{"$f":"VLOOKUP($B28,'[10]Level 3 - vlookup table'!$B$2:$D$97,3, FALSE)","v":108.51673353423},{"$f":"VLOOKUP($B28,'[20]Level 3 - vlookup table'!$B$2:$D$97,3, FALSE)","v":108.28547990969901},{"$f":"VLOOKUP($B28,'[23]Level 3 - vlookup table'!$B$2:$D$97,3, FALSE)","v":109.229206158414},{"$f":"VLOOKUP($B28,'[24]Level 3 - vlookup table'!$B$2:$D$97, 3, FALSE)","v":108.64277783718001},{"$f":"VLOOKUP($B28,'[10]Level 3 - vlookup table'!$B$2:$D$97,3, FALSE)","v":108.51673353423}]
[2,"022000","Tobacco",null,100.4243343,99.752949729999997,99.752949729999997,100.0697662,null,101.587912498365,102.05569379464001,105.54346419494399,105.54346419494399,null,105.54346419494399,112.26009732909201,112.11458186874501,112.623081144683,null,112.94677475487801,114.078432735213,114.078432735213,114.078432735213,null,113.749199655537,112.92261456431901,{"$f":"VLOOKUP(B29,'[1]Level 2 -vlookup table'!$B$2:$D$44,3,FALSE)","v":113.94189246457},{"$f":"VLOOKUP(B29,'[2]Level 2 - vlookup table'!$B$2:$D$44,3,FALSE)","v":113.94189246457},null,{"$f":"VLOOKUP(B29,'[3]Level 2 - vlookup table'!$B$2:$D$44,3,FALSE)","v":114.284658190578},{"$f":"VLOOKUP(B29,'[4]Level 2 - vlookup table'!$B$2:$D$44,3,FALSE)","v":113.975301687881},{"$f":"VLOOKUP(B29,'[5]Level 2 - vlookup table'!$B$2:$D$44,3,FALSE)","v":112.970268849326},{"$f":"VLOOKUP(B29,'[6]Level 2 - vlookup table'!$B$2:$D$44,3,FALSE)","v":114.430502934922},null,{"$f":"VLOOKUP($B29,'[21]Level 2 - vlookup table'!$B$2:$D$44,3,FALSE)","v":115.6003461725},{"$f":"VLOOKUP(B29,'[22]Level 2 - vlookup table'!$B$2:$D$44,3,FALSE)","v":115.756039949296},{"$f":"VLOOKUP($B29,'[19]Level 2 - vlookup table'!$B$2:$D$44,3,FALSE)","v":115.858982148477},{"$f":"VLOOKUP($B29,'[10]Level 2 - vlookup table'!$B$2:$D$44,3,FALSE)","v":116.907191291442},{"$f":"VLOOKUP($B29,'[20]Level 2 - vlookup table'!$B$2:$D$44,3,FALSE)","v":116.907191291442},{"$f":"VLOOKUP($B29,'[8]Level 2 - vlookup table'!$B$2:$D$44,3,FALSE)","v":116.907191291442},{"$f":"VLOOKUP($B29,'[13]Level 2 - vlookup table'!$B$2:$D$44,3,FALSE)","v":116.907191291442},{"$f":"VLOOKUP($B29,'[10]Level 2 - vlookup table'!$B$2:$D$44,3,FALSE)","v":116.907191291442}]
[3,"022100","Tobacco",null,100.4243343,99.752949729999997,99.752949729999997,100.0697662,null,101.587912498365,102.05569379464001,105.54346419494399,105.54346419494399,null,105.54346419494399,112.26009732909201,112.11458186874501,112.623081144683,null,112.94677475487801,114.078432735213,114.078432735213,114.078432735213,null,113.749199655537,112.92261456431901,{"$f":"VLOOKUP(B30,'[1]Level 3 - vlookup table'!$B$2:$D$97, 3, FALSE)","v":113.94189246457},{"$f":"VLOOKUP(B30,'[2]Level 3 - vlookup table'!$B$2:$D$97, 3, FALSE)","v":113.94189246457},null,{"$f":"VLOOKUP(B30,'[3]Level 3 - vlookup table'!$B$2:$D$97,3, FALSE)","v":114.284658190578},{"$f":"VLOOKUP(B30,'[4]Level 3 - vlookup table'!$B$2:$D$97,3, FALSE)","v":113.975301687881},{"$f":"VLOOKUP(B30,'[5]Level 3 - vlookup table'!$B$2:$D$97,3, FALSE)","v":112.970268849326},{"$f":"VLOOKUP(B30,'[6]Level 3 - vlookup table'!$B$2:$D$97,3, FALSE)","v":114.430502934922},null,{"$f":"VLOOKUP(B30,'[21]Level 3 - vlookup table'!$B$2:$D$97,3, FALSE)","v":115.6003461725},{"$f":"VLOOKUP(B30,'[22]Level 3 - vlookup table'!$B$2:$D$97,3, FALSE)","v":115.756039949296},{"$f":"VLOOKUP($B30,'[19]Level 3 - vlookup table'!$B$2:$D$97, 3, FALSE)","v":115.858982148477},{"$f":"VLOOKUP($B30,'[10]Level 3 - vlookup table'!$B$2:$D$97,3, FALSE)","v":116.907191291442},{"$f":"VLOOKUP($B30,'[20]Level 3 - vlookup table'!$B$2:$D$97,3, FALSE)","v":116.907191291442},{"$f":"VLOOKUP($B30,'[23]Level 3 - vlookup table'!$B$2:$D$97,3, FALSE)","v":116.907191291442},{"$f":"VLOOKUP($B30,'[24]Level 3 - vlookup table'!$B$2:$D$97, 3, FALSE)","v":116.907191291442},{"$f":"VLOOKUP($B30,'[10]Level 3 - vlookup table'!$B$2:$D$97,3, FALSE)","v":116.907191291442}]
[2,"023000","Narcotics",null,"Not available","Not available","Not available","Not available",null,"Not available","Not available","Not available","Not available",null,"Not available","Not available","Not available","Not available",null,"Not available","Not available","Not available","Not available",null,"Not available","Not available","Not available","Not available",null,"Not available","Not available","Not available","Not available",null,"Not available","Not available","Not available","Not available","Not available",{"$f":"VLOOKUP($B31,'[8]Level 2 - vlookup table'!$B$2:$D$44,3,FALSE)","v":{"$error":"#N/A"}},"Not available","Not available"]
[3,"023000","Narcotics",null,"Not available","Not available","Not available","Not available",null,"Not available","Not available","Not available","Not available",null,"Not available","Not available","Not available","Not available",null,"Not available","Not available","Not available","Not available",null,"Not available","Not available","Not available","Not available",null,"Not available","Not available","Not available","Not available",null,"Not available","Not available","Not available","Not available","Not available","Not available","Not available","Not available"]
[1,"030000","Clothing and footwear",null,103.59967760000001,97.209444259999998,99.379011169999998,99.811866960000003,null,102.89907241188,103.25555648112901,102.891675970135,103.366937931755,null,106.062184031454,103.337811173049,95.984565644042405,97.3753150270758,null,99.242588197971003,101.801813307003,100.885919005159,101.766171477716,null,101.98370592875401,102.896915182035,{"$f":"VLOOKUP(B33,'[1]Level 1 - vlookup table'!$B$2:$D$13,3,FALSE)","v":104.5512895411},{"$f":"VLOOKUP(B33,'[2]Level 1 - vlookup table'!$B$2:$D$13,3,FALSE)","v":108.326341813084},null,{"$f":"VLOOKUP(B33,'[3]Level 1 - vlookup table'!$B$2:$D$13,3,FALSE)","v":109.117856115267},{"$f":"VLOOKUP(B33,'[4]Level 1 - vlookup table'!$B$2:$D$13,3,FALSE)","v":109.760025543062},{"$f":"VLOOKUP(B33,'[5]Level 1 - vlookup table'!$B$2:$D$13,3,FALSE)","v":111.819934051814},{"$f":"VLOOKUP(B33,'[6]Level 1 - vlookup table'!$B$2:$D$13,3,FALSE)","v":114.919124377511},null,{"$f":"VLOOKUP(B33,'[21]Level 1 - vlookup table'!$B$2:$D$13,3,FALSE)","v":121.121053475068},{"$f":"VLOOKUP($B33,'[22]Level 1 - vlookup table'!$B$2:$D$13,3,FALSE)","v":123.390207785325},{"$f":"VLOOKUP($B33,'[25]Level 1 - vlookup table'!$B$2:$D$13,3,FALSE)","v":121.121053475068},{"$f":"VLOOKUP($B33,'[10]Level 1 - vlookup table'!$B$2:$D$13,3,FALSE)","v":122.346358582166},{"$f":"VLOOKUP($B33,'[17]Level 1 - vlookup table'!$B$2:$D$13,3,FALSE)","v":123.73629245287501},{"$f":"VLOOKUP($B33,'[22]Level 1 - vlookup table'!$B$2:$D$13,3,FALSE)","v":123.390207785325},{"$f":"VLOOKUP($B33,'[26]Level 1 - vlookup table'!$B$2:$D$13,3,FALSE)","v":124.256832751296},{"$f":"VLOOKUP($B33,'[14]Level 1 - vlookup table'!$B$2:$D$13,3,FALSE)","v":121.121053475068}]
[2,"031000","Clothing",null,102.7007995,97.112019889999999,99.791028589999996,100.396152,null,105.291790050514,105.402289667863,104.683693972014,105.482381567495,null,108.379597364199,106.013968050784,98.062179954769206,99.981535442985802,null,102.433391081076,106.215393482388,105.064148250016,105.397022811553,null,104.508528744012,104.950293088623,{"$f":"VLOOKUP(B34,'[1]Level 2 -vlookup table'!$B$2:$D$44,3,FALSE)","v":105.514561009022},{"$f":"VLOOKUP(B34,'[2]Level 2 - vlookup table'!$B$2:$D$44,3,FALSE)","v":108.73905978805401},null,{"$f":"VLOOKUP(B34,'[3]Level 2 - vlookup table'!$B$2:$D$44,3,FALSE)","v":109.147621414619},{"$f":"VLOOKUP(B34,'[4]Level 2 - vlookup table'!$B$2:$D$44,3,FALSE)","v":110.184415610146},{"$f":"VLOOKUP(B34,'[5]Level 2 - vlookup table'!$B$2:$D$44,3,FALSE)","v":110.513198159083},{"$f":"VLOOKUP(B34,'[6]Level 2 - vlookup table'!$B$2:$D$44,3,FALSE)","v":112.202681679089},null,{"$f":"VLOOKUP(B34,'[21]Level 2 - vlookup table'!$B$2:$D$44,3,FALSE)","v":116.824592404938},{"$f":"VLOOKUP(B34,'[22]Level 2 - vlookup table'!$B$2:$D$44,3,FALSE)","v":118.25729131364901},{"$f":"VLOOKUP($B34,'[19]Level 2 - vlookup table'!$B$2:$D$44,3,FALSE)","v":118.547998656202},{"$f":"VLOOKUP($B34,'[10]Level 2 - vlookup table'!$B$2:$D$44,3,FALSE)","v":117.803160119521},{"$f":"VLOOKUP($B34,'[20]Level 2 - vlookup table'!$B$2:$D$44,3,FALSE)","v":120.29504451259901},{"$f":"VLOOKUP($B34,'[8]Level 2 - vlookup table'!$B$2:$D$44,3,FALSE)","v":120.632671927817},{"$f":"VLOOKUP($B34,'[13]Level 2 - vlookup table'!$B$2:$D$44,3,FALSE)","v":121.03988466846501},{"$f":"VLOOKUP($B34,'[10]Level 2 - vlookup table'!$B$2:$D$44,3,FALSE)","v":117.803160119521}]
[3,"031100","Clothing materials",null,112.5,112.5,112.5,62.5,null,62.5,62.5,62.5,62.5,null,62.5,62.5,62.5,62.5,null,62.5,62.5,62.5,62.5,null,62.5,62.5,{"$f":"VLOOKUP(B35,'[1]Level 3 - vlookup table'!$B$2:$D$97, 3, FALSE)","v":62.5},{"$f":"VLOOKUP(B35,'[2]Level 3 - vlookup table'!$B$2:$D$97, 3, FALSE)","v":62.5},null,{"$f":"VLOOKUP(B35,'[3]Level 3 - vlookup table'!$B$2:$D$97, 3, FALSE)","v":62.5},{"$f":"VLOOKUP(B35,'[4]Level 3 - vlookup table'!$B$2:$D$97,3, FALSE)","v":62.5},{"$f":"VLOOKUP(B35,'[5]Level 3 - vlookup table'!$B$2:$D$97,3, FALSE)","v":62.5},{"$f":"VLOOKUP(B35,'[6]Level 3 - vlookup table'!$B$2:$D$97,3, FALSE)","v":62.5},null,{"$f":"VLOOKUP(B35,'[21]Level 3 - vlookup table'!$B$2:$D$97,3, FALSE)","v":62.5},{"$f":"VLOOKUP(B35,'[22]Level 3 - vlookup table'!$B$2:$D$97,3, FALSE)","v":62.5},{"$f":"VLOOKUP($B35,'[19]Level 3 - vlookup table'!$B$2:$D$97, 3, FALSE)","v":62.5},{"$f":"VLOOKUP($B35,'[10]Level 3 - vlookup table'!$B$2:$D$97,3, FALSE)","v":62.5},{"$f":"VLOOKUP($B35,'[20]Level 3 - vlookup table'!$B$2:$D$97,3, FALSE)","v":62.5},{"$f":"VLOOKUP($B35,'[23]Level 3 - vlookup table'!$B$2:$D$97,3, FALSE)","v":62.5},{"$f":"VLOOKUP($B35,'[24]Level 3 - vlookup table'!$B$2:$D$97, 3, FALSE)","v":62.5},{"$f":"VLOOKUP($B35,'[10]Level 3 - vlookup table'!$B$2:$D$97,3, FALSE)","v":62.5}]
[3,"031200","Garments",null,103.0257477,96.600806689999999,99.526204399999997,100.8472412,null,105.86715669017801,106.08031664402,105.197905847958,105.762759889241,null,108.967628166268,106.381716644059,97.834826564590799,99.998607677537507,null,102.792492759187,107.03431950319001,105.696801639768,105.950422672926,null,105.077241546233,105.48369229926701,{"$f":"VLOOKUP(B36,'[1]Level 3 - vlookup table'!$B$2:$D$97, 3, FALSE)","v":106.065683038082},{"$f":"VLOOKUP(B36,'[2]Level 3 - vlookup table'!$B$2:$D$97, 3, FALSE)","v":109.546139552385},null,{"$f":"VLOOKUP(B36,'[3]Level 3 - vlookup table'!$B$2:$D$97, 3, FALSE)","v":109.748004862022},{"$f":"VLOOKUP(B36,'[4]Level 3 - vlookup table'!$B$2:$D$97,3, FALSE)","v":110.689625975005},{"$f":"VLOOKUP(B36,'[5]Level 3 - vlookup table'!$B$2:$D$97,3, FALSE)","v":110.11138172574},{"$f":"VLOOKUP(B36,'[6]Level 3 - vlookup table'!$B$2:$D$97,3, FALSE)","v":111.710791215425},null,{"$f":"VLOOKUP(B36,'[21]Level 3 - vlookup table'!$B$2:$D$97,3, FALSE)","v":116.690263594103},{"$f":"VLOOKUP(B36,'[22]Level 3 - vlookup table'!$B$2:$D$97,3, FALSE)","v":118.537136363044},{"$f":"VLOOKUP($B36,'[19]Level 3 - vlookup table'!$B$2:$D$97, 3, FALSE)","v":118.707860529179},{"$f":"VLOOKUP($B36,'[10]Level 3 - vlookup table'!$B$2:$D$97,3, FALSE)","v":118.02974258598699},{"$f":"VLOOKUP($B36,'[20]Level 3 - vlookup table'!$B$2:$D$97,3, FALSE)","v":120.64335982222801},{"$f":"VLOOKUP($B36,'[23]Level 3 - vlookup table'!$B$2:$D$97,3, FALSE)","v":120.686452353108},{"$f":"VLOOKUP($B36,'[24]Level 3 - vlookup table'!$B$2:$D$97, 3, FALSE)","v":120.784680558708},{"$f":"VLOOKUP($B36,'[10]Level 3 - vlookup table'!$B$2:$D$97,3, FALSE)","v":118.02974258598699}]
[3,"031300","Other articles of clothing and clothing accessories",null,98.653477510000002,95.810351539999999,102.47264560000001,103.06352529999999,null,101.97358246954001,98.874658470539998,100.768219101847,110.220607476121,null,108.443606157627,108.863748512358,105.43054699794899,102.89948991373799,null,98.673099591335799,94.412670846292997,97.253073471326999,100.86927940507201,null,97.758539399449901,100.228628593164,{"$f":"VLOOKUP(B37,'[1]Level 3 - vlookup table'!$B$2:$D$97, 3, FALSE)","v":97.641952090708003},{"$f":"VLOOKUP(B37,'[2]Level 3 - vlookup table'!$B$2:$D$97, 3, FALSE)","v":98.546085603378401},null,{"$f":"VLOOKUP(B37,'[3]Level 3 - vlookup table'!$B$2:$D$97, 3, FALSE)","v":106.632263166713},{"$f":"VLOOKUP(B37,'[4]Level 3 - vlookup table'!$B$2:$D$97,3, FALSE)","v":112.839256397993},{"$f":"VLOOKUP(B37,'[5]Level 3 - vlookup table'!$B$2:$D$97,3, FALSE)","v":119.47157433489799},{"$f":"VLOOKUP(B37,'[6]Level 3 - vlookup table'!$B$2:$D$97,3, FALSE)","v":127.418742651762},null,{"$f":"VLOOKUP(B37,'[21]Level 3 - vlookup table'!$B$2:$D$97,3, FALSE)","v":129.02544260043899},{"$f":"VLOOKUP(B37,'[22]Level 3 - vlookup table'!$B$2:$D$97,3, FALSE)","v":119.411366422603},{"$f":"VLOOKUP($B37,'[19]Level 3 - vlookup table'!$B$2:$D$97, 3, FALSE)","v":126.068117213739},{"$f":"VLOOKUP($B37,'[10]Level 3 - vlookup table'!$B$2:$D$97,3, FALSE)","v":121.664060063436},{"$f":"VLOOKUP($B37,'[20]Level 3 - vlookup table'!$B$2:$D$97,3, FALSE)","v":124.89868282344899},{"$f":"VLOOKUP($B37,'[23]Level 3 - vlookup table'!$B$2:$D$97,3, FALSE)","v":135.705474003604},{"$f":"VLOOKUP($B37,'[24]Level 3 - vlookup table'!$B$2:$D$97, 3, FALSE)","v":137.755075767823},{"$f":"VLOOKUP($B37,'[10]Level 3 - vlookup table'!$B$2:$D$97,3, FALSE)","v":121.664060063436}]
[3,"031400","Cleaning, repair and hire of clothing",null,99.693743979999994,99.693743979999994,99.693743979999994,100.91876809999999,null,100.91876809999999,100.91876809999999,101.763761230726,102.156248358441,null,102.156248358441,102.156248358441,102.156248358441,102.156248358441,null,102.156248358441,102.156248358441,102.156248358441,102.156248358441,null,102.156248358441,102.156248358441,{"$f":"VLOOKUP(B38,'[1]Level 3 - vlookup table'!$B$2:$D$97, 3, FALSE)","v":104.26082135538999},{"$f":"VLOOKUP(B38,'[2]Level 3 - vlookup table'!$B$2:$D$97, 3, FALSE)","v":104.26082135538999},null,{"$f":"VLOOKUP(B38,'[3]Level 3 - vlookup table'!$B$2:$D$97, 3, FALSE)","v":104.26082135538999},{"$f":"VLOOKUP(B38,'[4]Level 3 - vlookup table'!$B$2:$D$97,3, FALSE)","v":104.26082135538999},{"$f":"VLOOKUP(B38,'[5]Level 3 - vlookup table'!$B$2:$D$97,3, FALSE)","v":118.43659706936999},{"$f":"VLOOKUP(B38,'[6]Level 3 - vlookup table'!$B$2:$D$97,3, FALSE)","v":118.43659706936999},null,{"$f":"VLOOKUP(B38,'[21]Level 3 - vlookup table'!$B$2:$D$97,3, FALSE)","v":118.43659706936999},{"$f":"VLOOKUP(B38,'[22]Level 3 - vlookup table'!$B$2:$D$97,3, FALSE)","v":118.43659706936999},{"$f":"VLOOKUP($B38,'[19]Level 3 - vlookup table'!$B$2:$D$97, 3, FALSE)","v":117.39437813840701},{"$f":"VLOOKUP($B38,'[10]Level 3 - vlookup table'!$B$2:$D$97,3, FALSE)","v":117.39437813840701},{"$f":"VLOOKUP($B38,'[20]Level 3 - vlookup table'!$B$2:$D$97,3, FALSE)","v":117.39437813840701},{"$f":"VLOOKUP($B38,'[23]Level 3 - vlookup table'!$B$2:$D$97,3, FALSE)","v":117.39437813840701},{"$f":"VLOOKUP($B38,'[24]Level 3 - vlookup table'!$B$2:$D$97, 3, FALSE)","v":122.84300697240199},{"$f":"VLOOKUP($B38,'[10]Level 3 - vlookup table'!$B$2:$D$97,3, FALSE)","v":117.39437813840701}]
[2,"032000","Footwear",null,107.6201026,97.64519559,97.536174979999998,97.198526830000006,null,91.865998750059504,93.356743098777997,94.628491757005094,93.612403972677996,null,95.376346474939794,90.997769253398005,86.404466696730793,85.357757516996898,null,84.529459209741006,81.450329119695297,81.619662807550696,85.023932621568804,null,90.3414813494757,93.428572853158101,{"$f":"VLOOKUP(B39,'[1]Level 2 -vlookup table'!$B$2:$D$44,3,FALSE)","v":100.10954309751099},{"$f":"VLOOKUP(B39,'[2]Level 2 - vlookup table'!$B$2:$D$44,3,FALSE)","v":106.423255654532},null,{"$f":"VLOOKUP(B39,'[3]Level 2 - vlookup table'!$B$2:$D$44,3,FALSE)","v":108.98060517725},{"$f":"VLOOKUP(B39,'[4]Level 2 - vlookup table'!$B$2:$D$44,3,FALSE)","v":107.80311813540099},{"$f":"VLOOKUP(B39,'[5]Level 2 - vlookup table'!$B$2:$D$44,3,FALSE)","v":117.845431222164},{"$f":"VLOOKUP(B39,'[6]Level 2 - vlookup table'!$B$2:$D$44,3,FALSE)","v":127.444928469838},null,{"$f":"VLOOKUP(B39,'[21]Level 2 - vlookup table'!$B$2:$D$44,3,FALSE)","v":140.932489102267},{"$f":"VLOOKUP(B39,'[22]Level 2 - vlookup table'!$B$2:$D$44,3,FALSE)","v":147.05862758444599},{"$f":"VLOOKUP($B39,'[19]Level 2 - vlookup table'!$B$2:$D$44,3,FALSE)","v":139.88054984328801},{"$f":"VLOOKUP($B39,'[10]Level 2 - vlookup table'!$B$2:$D$44,3,FALSE)","v":143.29552637750299},{"$f":"VLOOKUP($B39,'[20]Level 2 - vlookup table'!$B$2:$D$44,3,FALSE)","v":139.60425004243601},{"$f":"VLOOKUP($B39,'[8]Level 2 - vlookup table'!$B$2:$D$44,3,FALSE)","v":138.86400126706599},{"$f":"VLOOKUP($B39,'[13]Level 2 - vlookup table'!$B$2:$D$44,3,FALSE)","v":139.09052001595001},{"$f":"VLOOKUP($B39,'[10]Level 2 - vlookup table'!$B$2:$D$44,3,FALSE)","v":143.29552637750299}]
[3,"032100","Shoes and other footwear",null,107.74468589999999,97.606696220000003,97.495893199999998,97.152724739999996,null,91.802597984246802,93.304961993503298,94.5866233424684,93.562615625296402,null,95.340307240947396,90.927601041491101,86.298495822548105,85.243628030399606,null,84.408873522144006,81.305743041669601,81.476396607056103,84.907201124796302,null,90.266197677855502,93.377351627492004,{"$f":"VLOOKUP(B40,'[1]Level 3 - vlookup table'!$B$2:$D$97, 3, FALSE)","v":100.110396935132},{"$f":"VLOOKUP(B40,'[2]Level 3 - vlookup table'!$B$2:$D$97, 3, FALSE)","v":106.473321952163},null,{"$f":"VLOOKUP(B40,'[3]Level 3 - vlookup table'!$B$2:$D$97, 3, FALSE)","v":109.050604827877},{"$f":"VLOOKUP(B40,'[4]Level 3 - vlookup table'!$B$2:$D$97,3, FALSE)","v":107.863939820856},{"$f":"VLOOKUP(B40,'[5]Level 3 - vlookup table'!$B$2:$D$97,3, FALSE)","v":118.251769314123},{"$f":"VLOOKUP(B40,'[6]Level 3 - vlookup table'!$B$2:$D$97,3, FALSE)","v":127.926090188966},null,{"$f":"VLOOKUP(B40,'[21]Level 3 - vlookup table'!$B$2:$D$97,3, FALSE)","v":141.51878009870401},{"$f":"VLOOKUP(B40,'[22]Level 3 - vlookup table'!$B$2:$D$97,3, FALSE)","v":147.69266898800899},{"$f":"VLOOKUP($B40,'[19]Level 3 - vlookup table'!$B$2:$D$97, 3, FALSE)","v":140.41410125538201},{"$f":"VLOOKUP($B40,'[10]Level 3 - vlookup table'!$B$2:$D$97,3, FALSE)","v":143.855695947236},{"$f":"VLOOKUP($B40,'[20]Level 3 - vlookup table'!$B$2:$D$97,3, FALSE)","v":140.13564782577799},{"$f":"VLOOKUP($B40,'[23]Level 3 - vlookup table'!$B$2:$D$97,3, FALSE)","v":139.389629154657},{"$f":"VLOOKUP($B40,'[24]Level 3 - vlookup table'!$B$2:$D$97, 3, FALSE)","v":139.61791351209101},{"$f":"VLOOKUP($B40,'[10]Level 3 - vlookup table'!$B$2:$D$97,3, FALSE)","v":143.855695947236}]
[3,"032200","Repair and hire of footwear",null,100,100,100,100,null,100,100,100,100,null,100,100,100,100,null,100,100,100,100,null,100,100,{"$f":"VLOOKUP(B41,'[1]Level 3 - vlookup table'!$B$2:$D$97, 3, FALSE)","v":100},{"$f":"VLOOKUP(B41,'[2]Level 3 - vlookup table'!$B$2:$D$97, 3, FALSE)","v":100},null,{"$f":"VLOOKUP(B41,'[3]Level 3 - vlookup table'!$B$2:$D$97, 3, FALSE)","v":100},{"$f":"VLOOKUP(B41,'[4]Level 3 - vlookup table'!$B$2:$D$97,3, FALSE)","v":100},{"$f":"VLOOKUP(B41,'[5]Level 3 - vlookup table'!$B$2:$D$97,3, FALSE)","v":65.714285714285694},{"$f":"VLOOKUP(B41,'[6]Level 3 - vlookup table'!$B$2:$D$97,3, FALSE)","v":65.714285714285793},null,{"$f":"VLOOKUP(B41,'[21]Level 3 - vlookup table'!$B$2:$D$97,3, FALSE)","v":65.714285714285793},{"$f":"VLOOKUP(B41,'[22]Level 3 - vlookup table'!$B$2:$D$97,3, FALSE)","v":65.714285714285793},{"$f":"VLOOKUP($B41,'[19]Level 3 - vlookup table'!$B$2:$D$97, 3, FALSE)","v":71.428571428571402},{"$f":"VLOOKUP($B41,'[10]Level 3 - vlookup table'!$B$2:$D$97,3, FALSE)","v":71.428571428571303},{"$f":"VLOOKUP($B41,'[20]Level 3 - vlookup table'!$B$2:$D$97,3, FALSE)","v":71.428571428571303},{"$f":"VLOOKUP($B41,'[23]Level 3 - vlookup table'!$B$2:$D$97,3, FALSE)","v":71.428571428571303},{"$f":"VLOOKUP($B41,'[24]Level 3 - vlookup table'!$B$2:$D$97, 3, FALSE)","v":71.428571428571303},{"$f":"VLOOKUP($B41,'[10]Level 3 - vlookup table'!$B$2:$D$97,3, FALSE)","v":71.428571428571303}]
[1,"040000","Housing, water, electricity, gas and other fuels",null,98.798638909999994,99.358053319999996,100.9873229,100.8559848,null,100.03407397772099,100.314025490139,100.801218291178,99.793179875320902,null,99.447961605026606,100.789888988051,102.972467039073,105.263521832211,null,105.917853074882,105.525504571784,105.74302108095,106.44020976256699,null,106.490712633581,107.587882777955,{"$f":"VLOOKUP(B42,'[1]Level 1 - vlookup table'!$B$2:$D$13,3,FALSE)","v":105.53157902999099},{"$f":"VLOOKUP(B42,'[2]Level 1 - vlookup table'!$B$2:$D$13,3,FALSE)","v":108.450586598245},null,{"$f":"VLOOKUP(B42,'[3]Level 1 - vlookup table'!$B$2:$D$13,3,FALSE)","v":107.95829533763499},{"$f":"VLOOKUP(B42,'[4]Level 1 - vlookup table'!$B$2:$D$13,3,FALSE)","v":108.80724097449701},{"$f":"VLOOKUP(B42,'[5]Level 1 - vlookup table'!$B$2:$D$13,3,FALSE)","v":108.048267223417},{"$f":"VLOOKUP(B42,'[6]Level 1 - vlookup table'!$B$2:$D$13,3,FALSE)","v":111.991732838253},null,{"$f":"VLOOKUP(B42,'[7]Level 1 - vlookup table'!$B$2:$D$13,3,FALSE)","v":113.93492200281401},{"$f":"VLOOKUP($B42,'[15]Level 1 - vlookup table'!$B$2:$D$13,3,FALSE)","v":112.458546058167},{"$f":"VLOOKUP($B42,'[19]Level 1 - vlookup table'!$B$2:$D$13,3,FALSE)","v":112.18340255661199},{"$f":"VLOOKUP($B42,'[10]Level 1 - vlookup table'!$B$2:$D$13,3,FALSE)","v":111.576563892403},{"$f":"VLOOKUP($B42,'[17]Level 1 - vlookup table'!$B$2:$D$13,3,FALSE)","v":111.636110685204},{"$f":"VLOOKUP($B42,'[22]Level 1 - vlookup table'!$B$2:$D$13,3,FALSE)","v":112.458546058167},{"$f":"VLOOKUP($B42,'[26]Level 1 - vlookup table'!$B$2:$D$13,3,FALSE)","v":111.859737468826},{"$f":"VLOOKUP($B42,'[14]Level 1 - vlookup table'!$B$2:$D$13,3,FALSE)","v":113.93492200281401}]
[2,"041000","Actual rentals for housing",null,98.798638909999994,99.358053319999996,100.9873229,100.8559848,null,100.034073979414,101.390552944939,104.251268175565,100.18137004873699,null,99.122971573164804,102.201105959355,108.15747946627999,114.28944025097999,null,114.03693530573599,109.99326511111001,109.474554178094,109.93755282423101,null,109.81266670860001,103.34415877315,{"$f":"VLOOKUP(B43,'[1]Level 2 -vlookup table'!$B$2:$D$44,3,FALSE)","v":97.1775218519021},{"$f":"VLOOKUP(B43,'[2]Level 2 - vlookup table'!$B$2:$D$44,3,FALSE)","v":108.632340239811},null,{"$f":"VLOOKUP(B43,'[3]Level 2 - vlookup table'!$B$2:$D$44,3,FALSE)","v":111.507478717496},{"$f":"VLOOKUP(B43,'[4]Level 2 - vlookup table'!$B$2:$D$44,3,FALSE)","v":111.474950712332},{"$f":"VLOOKUP(B43,'[5]Level 2 - vlookup table'!$B$2:$D$44,3,FALSE)","v":107.715388967001},{"$f":"VLOOKUP(B43,'[6]Level 2 - vlookup table'!$B$2:$D$44,3,FALSE)","v":115.19304447398299},null,{"$f":"VLOOKUP(B43,'[7]Level 2 - vlookup table'!$B$2:$D$44,3,FALSE)","v":119.888524746488},{"$f":"VLOOKUP(B43,'[22]Level 2 - vlookup table'!$B$2:$D$44,3,FALSE)","v":114.279056182823},{"$f":"VLOOKUP($B43,'[19]Level 2 - vlookup table'!$B$2:$D$44,3,FALSE)","v":113.46726543013401},{"$f":"VLOOKUP($B43,'[10]Level 2 - vlookup table'!$B$2:$D$44,3,FALSE)","v":113.46726543013401},{"$f":"VLOOKUP($B43,'[20]Level 2 - vlookup table'!$B$2:$D$44,3,FALSE)","v":108.75738676506499},{"$f":"VLOOKUP($B43,'[8]Level 2 - vlookup table'!$B$2:$D$44,3,FALSE)","v":113.46726543013401},{"$f":"VLOOKUP($B43,'[13]Level 2 - vlookup table'!$B$2:$D$44,3,FALSE)","v":118.336790227996},{"$f":"VLOOKUP($B43,'[10]Level 2 - vlookup table'!$B$2:$D$44,3,FALSE)","v":113.46726543013401}]
[3,"041100","Actual rentals paid by tenants",null,98.798638909999994,99.358053319999996,100.9873229,100.8559848,null,100.034073979414,101.390552944939,104.251268175565,100.18137004873699,null,99.122971573164804,102.201105959355,108.15747946627999,114.28944025097999,null,114.03693530573599,109.99326511111001,109.474554178094,109.93755282423101,null,109.81266670860001,103.34415877315,{"$f":"VLOOKUP(B44,'[1]Level 3 - vlookup table'!$B$2:$D$97, 3, FALSE)","v":97.1775218519021},{"$f":"VLOOKUP(B44,'[2]Level 3 - vlookup table'!$B$2:$D$97, 3, FALSE)","v":108.632340239811},null,{"$f":"VLOOKUP(B44,'[3]Level 3 - vlookup table'!$B$2:$D$97, 3, FALSE)","v":111.507478717496},{"$f":"VLOOKUP(B44,'[4]Level 3 - vlookup table'!$B$2:$D$97,3, FALSE)","v":111.474950712332},{"$f":"VLOOKUP(B44,'[5]Level 3 - vlookup table'!$B$2:$D$97,3, FALSE)","v":107.715388967001},{"$f":"VLOOKUP(B44,'[6]Level 3 - vlookup table'!$B$2:$D$97,3, FALSE)","v":115.19304447398299},null,{"$f":"VLOOKUP(B44,'[21]Level 3 - vlookup table'!$B$2:$D$97,3, FALSE)","v":119.888524746488},{"$f":"VLOOKUP(B44,'[22]Level 3 - vlookup table'!$B$2:$D$97,3, FALSE)","v":114.279056182823},{"$f":"VLOOKUP($B44,'[19]Level 3 - vlookup table'!$B$2:$D$97, 3, FALSE)","v":113.46726543013401},{"$f":"VLOOKUP($B44,'[10]Level 3 - vlookup table'!$B$2:$D$97,3, FALSE)","v":113.46726543013401},{"$f":"VLOOKUP($B44,'[20]Level 3 - vlookup table'!$B$2:$D$97,3, FALSE)","v":113.46726543013401},{"$f":"VLOOKUP($B44,'[23]Level 3 - vlookup table'!$B$2:$D$97,3, FALSE)","v":113.46726543013401},{"$f":"VLOOKUP($B44,'[24]Level 3 - vlookup table'!$B$2:$D$97, 3, FALSE)","v":118.336790227996},{"$f":"VLOOKUP($B44,'[10]Level 3 - vlookup table'!$B$2:$D$97,3, FALSE)","v":113.46726543013401}]
[3,"041200","Other actual rentals",null,"Not available","Not available","Not available","Not available",null,"Not available","Not available","Not available","Not available",null,"Not available","Not available","Not available","Not available",null,"Not available","Not available","Not available","Not available",null,"Not available","Not available","Not available","Not available",null,"Not available","Not available","Not available","Not available",null,"Not available","Not available","Not available","Not available","Not available","Not available","Not available","Not available"]
[2,"042000","Imputed rentals for housing",null,98.798638909999994,99.358053319999996,100.9873229,100.8559848,null,100.034073979414,99.999999972998793,99.999999972998793,99.999999972998793,null,99.999999972998793,99.999999972998793,99.999999972998793,99.999999972998793,null,99.999999972998793,99.999999972998793,99.999999972998793,99.999999972998793,null,99.999999972998793,99.999999972998793,{"$f":"VLOOKUP(B46,'[1]Level 2 -vlookup table'!$B$2:$D$44,3,FALSE)","v":99.999999972998793},{"$f":"VLOOKUP(B46,'[2]Level 2 - vlookup table'!$B$2:$D$44,3,FALSE)","v":99.999999972998793},null,{"$f":"VLOOKUP(B46,'[3]Level 2 - vlookup table'!$B$2:$D$44,3,FALSE)","v":99.999999972998793},{"$f":"VLOOKUP(B46,'[4]Level 2 - vlookup table'!$B$2:$D$44,3,FALSE)","v":99.999999972998793},{"$f":"VLOOKUP(B46,'[5]Level 2 - vlookup table'!$B$2:$D$44,3,FALSE)","v":99.999999972998793},{"$f":"VLOOKUP(B46,'[6]Level 2 - vlookup table'!$B$2:$D$44,3,FALSE)","v":99.999999972998793},null,{"$f":"VLOOKUP(B46,'[21]Level 2 - vlookup table'!$B$2:$D$44,3,FALSE)","v":99.999999972998793},{"$f":"VLOOKUP(B46,'[22]Level 2 - vlookup table'!$B$2:$D$44,3,FALSE)","v":99.999999972998793},{"$f":"VLOOKUP($B46,'[19]Level 2 - vlookup table'!$B$2:$D$44,3,FALSE)","v":99.999999972998793},{"$f":"VLOOKUP($B46,'[10]Level 2 - vlookup table'!$B$2:$D$44,3,FALSE)","v":99.999999972998793},{"$f":"VLOOKUP($B46,'[10]Level 2 - vlookup table'!$B$2:$D$44,3,FALSE)","v":99.999999972998793},{"$f":"VLOOKUP($B46,'[8]Level 2 - vlookup table'!$B$2:$D$44,3,FALSE)","v":99.999999972998793},{"$f":"VLOOKUP($B46,'[19]Level 2 - vlookup table'!$B$2:$D$44,3,FALSE)","v":99.999999972998793},{"$f":"VLOOKUP($B46,'[10]Level 2 - vlookup table'!$B$2:$D$44,3,FALSE)","v":99.999999972998793}]
[3,"042100","Imputed rentals of owner-occupiers",null,98.798638909999994,99.358053319999996,100.9873229,100.8559848,null,100.034073979414,99.999999972998793,99.999999972998793,99.999999972998793,null,99.999999972998793,99.999999972998793,99.999999972998793,99.999999972998793,null,99.999999972998793,99.999999972998793,99.999999972998793,99.999999972998793,null,99.999999972998793,99.999999972998793,{"$f":"VLOOKUP(B47,'[1]Level 3 - vlookup table'!$B$2:$D$97, 3, FALSE)","v":99.999999972998793},{"$f":"VLOOKUP(B47,'[2]Level 3 - vlookup table'!$B$2:$D$97, 3, FALSE)","v":99.999999972998793},null,{"$f":"VLOOKUP(B47,'[3]Level 3 - vlookup table'!$B$2:$D$97, 3, FALSE)","v":99.999999972998793},{"$f":"VLOOKUP(B47,'[4]Level 3 - vlookup table'!$B$2:$D$97,3, FALSE)","v":99.999999972998793},{"$f":"VLOOKUP(B47,'[5]Level 3 - vlookup table'!$B$2:$D$97,3, FALSE)","v":99.999999972998793},{"$f":"VLOOKUP(B47,'[6]Level 3 - vlookup table'!$B$2:$D$97,3, FALSE)","v":99.999999972998793},null,{"$f":"VLOOKUP(B47,'[21]Level 3 - vlookup table'!$B$2:$D$97,3, FALSE)","v":99.999999972998793},{"$f":"VLOOKUP(B47,'[22]Level 3 - vlookup table'!$B$2:$D$97,3, FALSE)","v":99.999999972998793},{"$f":"VLOOKUP($B47,'[19]Level 3 - vlookup table'!$B$2:$D$97, 3, FALSE)","v":99.999999972998793},{"$f":"VLOOKUP($B47,'[10]Level 3 - vlookup table'!$B$2:$D$97,3, FALSE)","v":99.999999972998793},{"$f":"VLOOKUP($B47,'[10]Level 3 - vlookup table'!$B$2:$D$97,3, FALSE)","v":99.999999972998793},{"$f":"VLOOKUP($B47,'[23]Level 3 - vlookup table'!$B$2:$D$97,3, FALSE)","v":99.999999972998793},{"$f":"VLOOKUP($B47,'[24]Level 3 - vlookup table'!$B$2:$D$97, 3, FALSE)","v":99.999999972998793},{"$f":"VLOOKUP($B47,'[10]Level 3 - vlookup table'!$B$2:$D$97,3, FALSE)","v":99.999999972998793}]
[3,"042200","Other imputed rentals",null,"Not available","Not available","Not available","Not available",null,"Not available","Not available","Not available","Not available",null,"Not available","Not available","Not available","Not available",null,"Not available","Not available","Not available","Not available",null,"Not available","Not available","Not available","Not available",null,"Not available","Not available","Not available","Not available",null,"Not available","Not available","Not available","Not available","Not available","Not available","Not available","Not available"]
[2,"043000","Maintenance and repair of the dwelling",null,99.009039569999999,101.0854882,100.52914509999999,99.376327099999997,null,97.672497813520295,98.141731943956898,98.450473063871399,100.083290228306,null,100.08779174865801,100.10705636520601,100.247909212848,101.959166945654,null,103.43814258440401,104.766293971153,106.952968265991,106.429567399565,null,107.256028826359,115.276883331359,{"$f":"VLOOKUP(B49,'[1]Level 2 -vlookup table'!$B$2:$D$44,3,FALSE)","v":123.40326694709},{"$f":"VLOOKUP(B49,'[2]Level 2 - vlookup table'!$B$2:$D$44,3,FALSE)","v":123.415774586917},null,{"$f":"VLOOKUP(B49,'[3]Level 2 - vlookup table'!$B$2:$D$44,3,FALSE)","v":123.59428557856801},{"$f":"VLOOKUP(B49,'[4]Level 2 - vlookup table'!$B$2:$D$44,3,FALSE)","v":123.832217874447},{"$f":"VLOOKUP(B49,'[5]Level 2 - vlookup table'!$B$2:$D$44,3,FALSE)","v":121.74532389372401},{"$f":"VLOOKUP(B49,'[6]Level 2 - vlookup table'!$B$2:$D$44,3,FALSE)","v":126.909969571883},null,{"$f":"VLOOKUP(B49,'[21]Level 2 - vlookup table'!$B$2:$D$44,3,FALSE)","v":129.481668299658},{"$f":"VLOOKUP(B49,'[22]Level 2 - vlookup table'!$B$2:$D$44,3,FALSE)","v":126.69328338698099},{"$f":"VLOOKUP($B49,'[19]Level 2 - vlookup table'!$B$2:$D$44,3,FALSE)","v":126.362267692654},{"$f":"VLOOKUP($B49,'[10]Level 2 - vlookup table'!$B$2:$D$44,3,FALSE)","v":123.28649913715},{"$f":"VLOOKUP($B49,'[20]Level 2 - vlookup table'!$B$2:$D$44,3,FALSE)","v":123.90307580455899},{"$f":"VLOOKUP($B49,'[8]Level 2 - vlookup table'!$B$2:$D$44,3,FALSE)","v":121.308223903997},{"$f":"VLOOKUP($B49,'[13]Level 2 - vlookup table'!$B$2:$D$44,3,FALSE)","v":121.374110129624},{"$f":"VLOOKUP($B49,'[10]Level 2 - vlookup table'!$B$2:$D$44,3,FALSE)","v":123.28649913715}]
[3,"043100","Materials for the maintenance and repair of the dwelling",null,97.850424759999996,102.35462339999999,101.147813,98.647138900000002,null,96.771444495627307,97.422334726133101,97.850599776931503,100.115534639073,null,100.121778847304,100.148501436077,100.343883094235,102.717625471254,null,104.769161648988,106.611484502748,109.644692966259,108.91866625912699,null,110.065078324442,121.191071722994,{"$f":"VLOOKUP(B50,'[1]Level 3 - vlookup table'!$B$2:$D$97, 3, FALSE)","v":132.46344805227},{"$f":"VLOOKUP(B50,'[2]Level 3 - vlookup table'!$B$2:$D$97, 3, FALSE)","v":132.48079781445099},null,{"$f":"VLOOKUP(B50,'[3]Level 3 - vlookup table'!$B$2:$D$97, 3, FALSE)","v":132.72841633357999},{"$f":"VLOOKUP(B50,'[4]Level 3 - vlookup table'!$B$2:$D$97,3, FALSE)","v":133.05846011527601},{"$f":"VLOOKUP(B50,'[5]Level 3 - vlookup table'!$B$2:$D$97,3, FALSE)","v":130.16366023597001},{"$f":"VLOOKUP(B50,'[6]Level 3 - vlookup table'!$B$2:$D$97,3, FALSE)","v":129.58504805105699},null,{"$f":"VLOOKUP(B50,'[21]Level 3 - vlookup table'!$B$2:$D$97,3, FALSE)","v":133.15233667977699},{"$f":"VLOOKUP(B50,'[22]Level 3 - vlookup table'!$B$2:$D$97,3, FALSE)","v":129.2844754548},{"$f":"VLOOKUP($B50,'[19]Level 3 - vlookup table'!$B$2:$D$97, 3, FALSE)","v":128.82531260281101},{"$f":"VLOOKUP($B50,'[10]Level 3 - vlookup table'!$B$2:$D$97,3, FALSE)","v":124.5588119921},{"$f":"VLOOKUP($B50,'[20]Level 3 - vlookup table'!$B$2:$D$97,3, FALSE)","v":125.414085944148},{"$f":"VLOOKUP($B50,'[23]Level 3 - vlookup table'!$B$2:$D$97,3, FALSE)","v":124.25973243083099},{"$f":"VLOOKUP($B50,'[24]Level 3 - vlookup table'!$B$2:$D$97, 3, FALSE)","v":124.351125400361},{"$f":"VLOOKUP($B50,'[10]Level 3 - vlookup table'!$B$2:$D$97,3, FALSE)","v":124.5588119921}]
[3,"043200","Services for the maintenance and repair of the dwelling",null,100,100,100,100,null,100,100,100,100,null,100,100,100,100,null,100,100,100,100,null,100,100,{"$f":"VLOOKUP(B51,'[1]Level 3 - vlookup table'!$B$2:$D$97, 3, FALSE)","v":100},{"$f":"VLOOKUP(B51,'[2]Level 3 - vlookup table'!$B$2:$D$97, 3, FALSE)","v":100},null,{"$f":"VLOOKUP(B51,'[3]Level 3 - vlookup table'!$B$2:$D$97, 3, FALSE)","v":100},{"$f":"VLOOKUP(B51,'[4]Level 3 - vlookup table'!$B$2:$D$97,3, FALSE)","v":100},{"$f":"VLOOKUP(B51,'[5]Level 3 - vlookup table'!$B$2:$D$97,3, FALSE)","v":100},{"$f":"VLOOKUP(B51,'[6]Level 3 - vlookup table'!$B$2:$D$97,3, FALSE)","v":120},null,{"$f":"VLOOKUP(B51,'[21]Level 3 - vlookup table'!$B$2:$D$97,3, FALSE)","v":120},{"$f":"VLOOKUP(B51,'[22]Level 3 - vlookup table'!$B$2:$D$97,3, FALSE)","v":120},{"$f":"VLOOKUP($B51,'[19]Level 3 - vlookup table'!$B$2:$D$97, 3, FALSE)","v":120},{"$f":"VLOOKUP($B51,'[10]Level 3 - vlookup table'!$B$2:$D$97,3, FALSE)","v":120},{"$f":"VLOOKUP($B51,'[20]Level 3 - vlookup table'!$B$2:$D$97,3, FALSE)","v":120},{"$f":"VLOOKUP($B51,'[23]Level 3 - vlookup table'!$B$2:$D$97,3, FALSE)","v":113.68421052631599},{"$f":"VLOOKUP($B51,'[24]Level 3 - vlookup table'!$B$2:$D$97, 3, FALSE)","v":113.68421052631599},{"$f":"VLOOKUP($B51,'[10]Level 3 - vlookup table'!$B$2:$D$97,3, FALSE)","v":120}]
[2,"044000","Water supply and miscellaneous services relating to the dwelling",null,100,100,100,100,null,100.023987595346,100.00035983719999,100.00035983719999,100.20828115975,null,100.824013736927,100.824013736927,100.824013736927,100.758016468487,null,100.622098626133,100.622098626133,100.622098626133,101.17120122595,null,102.28721752363001,102.305026619766,{"$f":"VLOOKUP(B52,'[1]Level 2 -vlookup table'!$B$2:$D$44,3,FALSE)","v":102.305026619766},{"$f":"VLOOKUP(B52,'[2]Level 2 - vlookup table'!$B$2:$D$44,3,FALSE)","v":102.56205439131099},null,{"$f":"VLOOKUP(B52,'[3]Level 2 - vlookup table'!$B$2:$D$44,3,FALSE)","v":102.56205439131099},{"$f":"VLOOKUP(B52,'[4]Level 2 - vlookup table'!$B$2:$D$44,3,FALSE)","v":102.56205439131099},{"$f":"VLOOKUP(B52,'[5]Level 2 - vlookup table'!$B$2:$D$44,3,FALSE)","v":102.56205439131099},{"$f":"VLOOKUP(B52,'[6]Level 2 - vlookup table'!$B$2:$D$44,3,FALSE)","v":102.28220994484199},null,{"$f":"VLOOKUP(B52,'[21]Level 2 - vlookup table'!$B$2:$D$44,3,FALSE)","v":102.28220994484199},{"$f":"VLOOKUP(B52,'[22]Level 2 - vlookup table'!$B$2:$D$44,3,FALSE)","v":102.28220994484199},{"$f":"VLOOKUP($B52,'[19]Level 2 - vlookup table'!$B$2:$D$44,3,FALSE)","v":102.28220994484199},{"$f":"VLOOKUP($B52,'[10]Level 2 - vlookup table'!$B$2:$D$44,3,FALSE)","v":102.28220994484199},{"$f":"VLOOKUP($B52,'[20]Level 2 - vlookup table'!$B$2:$D$44,3,FALSE)","v":102.28220994484199},{"$f":"VLOOKUP($B52,'[8]Level 2 - vlookup table'!$B$2:$D$44,3,FALSE)","v":99.811248245664203},{"$f":"VLOOKUP($B52,'[13]Level 2 - vlookup table'!$B$2:$D$44,3,FALSE)","v":99.811248245664203},{"$f":"VLOOKUP($B52,'[10]Level 2 - vlookup table'!$B$2:$D$44,3,FALSE)","v":102.28220994484199}]
[3,"044100","Water supply",null,100,100,100,100,null,100.028517738155,100.000427793737,100.000427793737,100.000427793737,null,100.000427793737,100.000427793737,100.000427793737,100.000427793737,null,100.000427793737,100.000427793737,100.000427793737,100.000427793737,null,100.02160258107899,100.042774988446,{"$f":"VLOOKUP(B53,'[1]Level 3 - vlookup table'!$B$2:$D$97, 3, FALSE)","v":100.042774988446},{"$f":"VLOOKUP(B53,'[2]Level 3 - vlookup table'!$B$2:$D$97, 3, FALSE)","v":100.042774988446},null,{"$f":"VLOOKUP(B53,'[3]Level 3 - vlookup table'!$B$2:$D$97, 3, FALSE)","v":100.042774988446},{"$f":"VLOOKUP(B53,'[4]Level 3 - vlookup table'!$B$2:$D$97,3, FALSE)","v":100.042774988446},{"$f":"VLOOKUP(B53,'[5]Level 3 - vlookup table'!$B$2:$D$97,3, FALSE)","v":100.042774988446},{"$f":"VLOOKUP(B53,'[6]Level 3 - vlookup table'!$B$2:$D$97,3, FALSE)","v":100.042774988446},null,{"$f":"VLOOKUP(B53,'[21]Level 3 - vlookup table'!$B$2:$D$97,3, FALSE)","v":100.042774988446},{"$f":"VLOOKUP(B53,'[22]Level 3 - vlookup table'!$B$2:$D$97,3, FALSE)","v":100.042774988446},{"$f":"VLOOKUP($B53,'[19]Level 3 - vlookup table'!$B$2:$D$97, 3, FALSE)","v":100.042774988446},{"$f":"VLOOKUP($B53,'[10]Level 3 - vlookup table'!$B$2:$D$97,3, FALSE)","v":100.042774988446},{"$f":"VLOOKUP($B53,'[20]Level 3 - vlookup table'!$B$2:$D$97,3, FALSE)","v":100.042774988446},{"$f":"VLOOKUP($B53,'[23]Level 3 - vlookup table'!$B$2:$D$97,3, FALSE)","v":100.042774988446},{"$f":"VLOOKUP($B53,'[24]Level 3 - vlookup table'!$B$2:$D$97, 3, FALSE)","v":100.042774988446},{"$f":"VLOOKUP($B53,'[10]Level 3 - vlookup table'!$B$2:$D$97,3, FALSE)","v":100.042774988446}]
[3,"044200","Refuse collection",null,"Not available","Not available","Not available","Not available",null,"Not available","Not available","Not available","Not available",null,"Not available","Not available","Not available","Not available",null,"Not available","Not available","Not available","Not available",null,"Not available","Not available","Not available","Not available",null,"Not available","Not available","Not available","Not available",null,"Not available","Not available","Not available","Not available","Not available","Not available","Not available","Not available"]
[3,"044300","Sewage collection",null,100,100,100,100,null,100,100,100,98.1127552813889,null,100,100,100,98.130676292531703,null,94.280904158206397,94.280904158206397,94.280904158206397,94.280904158206397,null,94.280904158206397,94.280904158206397,{"$f":"VLOOKUP(B55,'[1]Level 3 - vlookup table'!$B$2:$D$97, 3, FALSE)","v":94.280904158206397},{"$f":"VLOOKUP(B55,'[2]Level 3 - vlookup table'!$B$2:$D$97, 3, FALSE)","v":101.561025263006},null,{"$f":"VLOOKUP(B55,'[3]Level 3 - vlookup table'!$B$2:$D$97, 3, FALSE)","v":101.561025263006},{"$f":"VLOOKUP(B55,'[4]Level 3 - vlookup table'!$B$2:$D$97,3, FALSE)","v":101.561025263006},{"$f":"VLOOKUP(B55,'[5]Level 3 - vlookup table'!$B$2:$D$97,3, FALSE)","v":101.561025263006},{"$f":"VLOOKUP(B55,'[6]Level 3 - vlookup table'!$B$2:$D$97,3, FALSE)","v":93.634638754052702},null,{"$f":"VLOOKUP(B55,'[21]Level 3 - vlookup table'!$B$2:$D$97,3, FALSE)","v":93.634638754052702},{"$f":"VLOOKUP(B55,'[22]Level 3 - vlookup table'!$B$2:$D$97,3, FALSE)","v":93.634638754052702},{"$f":"VLOOKUP($B55,'[19]Level 3 - vlookup table'!$B$2:$D$97, 3, FALSE)","v":93.634638754052702},{"$f":"VLOOKUP($B55,'[10]Level 3 - vlookup table'!$B$2:$D$97,3, FALSE)","v":93.634638754052801},{"$f":"VLOOKUP($B55,'[20]Level 3 - vlookup table'!$B$2:$D$97,3, FALSE)","v":93.634638754052702},{"$f":"VLOOKUP($B55,'[23]Level 3 - vlookup table'!$B$2:$D$97,3, FALSE)","v":93.634638754052702},{"$f":"VLOOKUP($B55,'[24]Level 3 - vlookup table'!$B$2:$D$97, 3, FALSE)","v":93.634638754052702},{"$f":"VLOOKUP($B55,'[10]Level 3 - vlookup table'!$B$2:$D$97,3, FALSE)","v":93.634638754052801}]
[3,"044400","Other services relating to the dwelling n.e.c.",null,100,100,100,100,null,100,100,100,102.222222222222,null,106.666666666667,106.666666666667,106.666666666667,106.666666666667,null,106.666666666667,106.666666666667,106.666666666667,111.111111111111,null,120,120,{"$f":"VLOOKUP(B56,'[1]Level 3 - vlookup table'!$B$2:$D$97, 3, FALSE)","v":120},{"$f":"VLOOKUP(B56,'[2]Level 3 - vlookup table'!$B$2:$D$97, 3, FALSE)","v":120},null,{"$f":"VLOOKUP(B56,'[3]Level 3 - vlookup table'!$B$2:$D$97, 3, FALSE)","v":120},{"$f":"VLOOKUP(B56,'[4]Level 3 - vlookup table'!$B$2:$D$97,3, FALSE)","v":120},{"$f":"VLOOKUP(B56,'[5]Level 3 - vlookup table'!$B$2:$D$97,3, FALSE)","v":120},{"$f":"VLOOKUP(B56,'[6]Level 3 - vlookup table'!$B$2:$D$97,3, FALSE)","v":120},null,{"$f":"VLOOKUP(B56,'[21]Level 3 - vlookup table'!$B$2:$D$97,3, FALSE)","v":120},{"$f":"VLOOKUP(B56,'[22]Level 3 - vlookup table'!$B$2:$D$97,3, FALSE)","v":120},{"$f":"VLOOKUP($B56,'[19]Level 3 - vlookup table'!$B$2:$D$97, 3, FALSE)","v":120},{"$f":"VLOOKUP($B56,'[10]Level 3 - vlookup table'!$B$2:$D$97,3, FALSE)","v":120},{"$f":"VLOOKUP($B56,'[20]Level 3 - vlookup table'!$B$2:$D$97,3, FALSE)","v":120},{"$f":"VLOOKUP($B56,'[23]Level 3 - vlookup table'!$B$2:$D$97,3, FALSE)","v":99.999999999999901},{"$f":"VLOOKUP($B56,'[24]Level 3 - vlookup table'!$B$2:$D$97, 3, FALSE)","v":100},{"$f":"VLOOKUP($B56,'[10]Level 3 - vlookup table'!$B$2:$D$97,3, FALSE)","v":120}]
[2,"045000","Electricity, gas and other fuels",null,98.237357000000003,98.237095260000004,101.593627,101.93192070000001,null,100.96670505218199,99.370737586888197,95.229497052278603,97.8086533009932,null,97.802331695358703,99.758780218464807,100.318623155518,100.642219165724,null,105.82794309078599,113.26654805326,115.487708901593,119.60008871801401,null,119.598412225149,142.437918857635,{"$f":"VLOOKUP(B57,'[1]Level 2 -vlookup table'!$B$2:$D$44,3,FALSE)","v":140.168077522505},{"$f":"VLOOKUP(B57,'[2]Level 2 - vlookup table'!$B$2:$D$44,3,FALSE)","v":131.42096214399001},null,{"$f":"VLOOKUP(B57,'[3]Level 2 - vlookup table'!$B$2:$D$44,3,FALSE)","v":119.758168647315},{"$f":"VLOOKUP(B57,'[4]Level 2 - vlookup table'!$B$2:$D$44,3,FALSE)","v":126.282484241266},{"$f":"VLOOKUP(B57,'[5]Level 2 - vlookup table'!$B$2:$D$44,3,FALSE)","v":131.47323621481399},{"$f":"VLOOKUP(B57,'[6]Level 2 - vlookup table'!$B$2:$D$44,3,FALSE)","v":139.57154366052899},null,{"$f":"VLOOKUP(B57,'[21]Level 2 - vlookup table'!$B$2:$D$44,3,FALSE)","v":140.75731080721599},{"$f":"VLOOKUP(B57,'[22]Level 2 - vlookup table'!$B$2:$D$44,3,FALSE)","v":145.72876482242199},{"$f":"VLOOKUP($B57,'[19]Level 2 - vlookup table'!$B$2:$D$44,3,FALSE)","v":145.94678850973199},{"$f":"VLOOKUP($B57,'[10]Level 2 - vlookup table'!$B$2:$D$44,3,FALSE)","v":142.48926095903099},{"$f":"VLOOKUP($B57,'[20]Level 2 - vlookup table'!$B$2:$D$44,3,FALSE)","v":142.704715983119},{"$f":"VLOOKUP($B57,'[8]Level 2 - vlookup table'!$B$2:$D$44,3,FALSE)","v":134.60692691155199},{"$f":"VLOOKUP($B57,'[13]Level 2 - vlookup table'!$B$2:$D$44,3,FALSE)","v":133.09320072363701},{"$f":"VLOOKUP($B57,'[10]Level 2 - vlookup table'!$B$2:$D$44,3,FALSE)","v":142.48926095903099}]
[3,"045100","Electricity",null,97.455610019999995,97.455232080000002,102.30280759999999,102.7863503,null,101.084280101489,98.888642492889701,93.430332439390298,96.3731132137586,null,96.3731132137586,98.2627821003028,98.2627821003028,98.630585096705502,null,104.548491908504,112.930577302125,115.148222918274,119.83538652378,null,119.833483837203,142.02892874612201,{"$f":"VLOOKUP(B58,'[1]Level 3 - vlookup table'!$B$2:$D$97, 3, FALSE)","v":139.435949183639},{"$f":"VLOOKUP(B58,'[2]Level 3 - vlookup table'!$B$2:$D$97, 3, FALSE)","v":129.44923959467801},null,{"$f":"VLOOKUP(B58,'[3]Level 3 - vlookup table'!$B$2:$D$97, 3, FALSE)","v":116.133546746153},{"$f":"VLOOKUP(B58,'[4]Level 3 - vlookup table'!$B$2:$D$97,3, FALSE)","v":125.010686647165},{"$f":"VLOOKUP(B58,'[5]Level 3 - vlookup table'!$B$2:$D$97,3, FALSE)","v":130.93291868783101},{"$f":"VLOOKUP(B58,'[6]Level 3 - vlookup table'!$B$2:$D$97,3, FALSE)","v":140.178619543884},null,{"$f":"VLOOKUP(B58,'[21]Level 3 - vlookup table'!$B$2:$D$97,3, FALSE)","v":141.53277062035301},{"$f":"VLOOKUP(B58,'[22]Level 3 - vlookup table'!$B$2:$D$97,3, FALSE)","v":147.206135896723},{"$f":"VLOOKUP($B58,'[19]Level 3 - vlookup table'!$B$2:$D$97, 3, FALSE)","v":147.45323289536},{"$f":"VLOOKUP($B58,'[10]Level 3 - vlookup table'!$B$2:$D$97,3, FALSE)","v":143.50712572201201},{"$f":"VLOOKUP($B58,'[20]Level 3 - vlookup table'!$B$2:$D$97,3, FALSE)","v":143.754552290763},{"$f":"VLOOKUP($B58,'[23]Level 3 - vlookup table'!$B$2:$D$97,3, FALSE)","v":132.90508465768499},{"$f":"VLOOKUP($B58,'[24]Level 3 - vlookup table'!$B$2:$D$97, 3, FALSE)","v":131.17763804631599},{"$f":"VLOOKUP($B58,'[10]Level 3 - vlookup table'!$B$2:$D$97,3, FALSE)","v":143.50712572201201}]
[3,"045200","Cooking gas",null,100,100,100,100,null,100,102.673749093361,107.90579562053399,107.90579562053399,null,107.90579562053399,110.332251084772,114.888372941654,114.888372941654,null,114.888372941654,115.647353321848,117.873963241792,117.873963241792,null,117.873963241792,145.491828084551,{"$f":"VLOOKUP(B59,'[1]Level 3 - vlookup table'!$B$2:$D$97, 3, FALSE)","v":145.491828084551},{"$f":"VLOOKUP(B59,'[2]Level 3 - vlookup table'!$B$2:$D$97, 3, FALSE)","v":145.491828084551},null,{"$f":"VLOOKUP(B59,'[3]Level 3 - vlookup table'!$B$2:$D$97, 3, FALSE)","v":145.491828084551},{"$f":"VLOOKUP(B59,'[4]Level 3 - vlookup table'!$B$2:$D$97,3, FALSE)","v":135.28015394595801},{"$f":"VLOOKUP(B59,'[5]Level 3 - vlookup table'!$B$2:$D$97,3, FALSE)","v":135.28015394595801},{"$f":"VLOOKUP(B59,'[6]Level 3 - vlookup table'!$B$2:$D$97,3, FALSE)","v":135.28015394595801},null,{"$f":"VLOOKUP(B59,'[21]Level 3 - vlookup table'!$B$2:$D$97,3, FALSE)","v":135.28015394595801},{"$f":"VLOOKUP(B59,'[22]Level 3 - vlookup table'!$B$2:$D$97,3, FALSE)","v":135.28015394595801},{"$f":"VLOOKUP($B59,'[19]Level 3 - vlookup table'!$B$2:$D$97, 3, FALSE)","v":135.28015394595801},{"$f":"VLOOKUP($B59,'[10]Level 3 - vlookup table'!$B$2:$D$97,3, FALSE)","v":135.28015394595801},{"$f":"VLOOKUP($B59,'[20]Level 3 - vlookup table'!$B$2:$D$97,3, FALSE)","v":135.28015394595801},{"$f":"VLOOKUP($B59,'[23]Level 3 - vlookup table'!$B$2:$D$97,3, FALSE)","v":146.73297989684301},{"$f":"VLOOKUP($B59,'[24]Level 3 - vlookup table'!$B$2:$D$97, 3, FALSE)","v":146.73297989684301},{"$f":"VLOOKUP($B59,'[10]Level 3 - vlookup table'!$B$2:$D$97,3, FALSE)","v":135.28015394595801}]
[3,"045300","Liquid fuels",null,"Not available","Not available","Not available","Not available",null,"Not available","Not available","Not available","Not available",null,"Not available","Not available","Not available","Not available",null,"Not available","Not available","Not available","Not available",null,"Not available","Not available","Not available","Not available",null,"Not available","Not available","Not available","Not available",null,"Not available","Not available","Not available","Not available","Not available","Not available","Not available","Not available"]
[3,"045400","Solid fuels",null,99.306432799999996,99.306432799999996,98.454679510000005,102.9324549,null,117.002797936485,116.166728751036,114.243015389319,115.125892126526,null,108.69887084460601,111.423449874765,111.4264284417,112.79803016126,null,113.62076621189701,115.109314264506,119.780940432351,125.645577951633,null,125.635946874349,125.23486237501299,{"$f":"VLOOKUP(B61,'[1]Level 3 - vlookup table'!$B$2:$D$97, 3, FALSE)","v":127.239436517638},{"$f":"VLOOKUP(B61,'[2]Level 3 - vlookup table'!$B$2:$D$97, 3, FALSE)","v":129.92349947095801},null,{"$f":"VLOOKUP(B61,'[3]Level 3 - vlookup table'!$B$2:$D$97, 3, FALSE)","v":133.60102479262},{"$f":"VLOOKUP(B61,'[4]Level 3 - vlookup table'!$B$2:$D$97,3, FALSE)","v":135.09821347862001},{"$f":"VLOOKUP(B61,'[5]Level 3 - vlookup table'!$B$2:$D$97,3, FALSE)","v":137.180145394796},{"$f":"VLOOKUP(B61,'[6]Level 3 - vlookup table'!$B$2:$D$97,3, FALSE)","v":134.92251128669599},null,{"$f":"VLOOKUP(B61,'[21]Level 3 - vlookup table'!$B$2:$D$97,3, FALSE)","v":134.25279276456899},{"$f":"VLOOKUP(B61,'[22]Level 3 - vlookup table'!$B$2:$D$97,3, FALSE)","v":135.057943500036},{"$f":"VLOOKUP($B61,'[19]Level 3 - vlookup table'!$B$2:$D$97, 3, FALSE)","v":136.61562336136799},{"$f":"VLOOKUP($B61,'[10]Level 3 - vlookup table'!$B$2:$D$97,3, FALSE)","v":136.42719380907701},{"$f":"VLOOKUP($B61,'[20]Level 3 - vlookup table'!$B$2:$D$97,3, FALSE)","v":135.07981224191701},{"$f":"VLOOKUP($B61,'[23]Level 3 - vlookup table'!$B$2:$D$97,3, FALSE)","v":135.670233513688},{"$f":"VLOOKUP($B61,'[24]Level 3 - vlookup table'!$B$2:$D$97, 3, FALSE)","v":135.42504243408001},{"$f":"VLOOKUP($B61,'[10]Level 3 - vlookup table'!$B$2:$D$97,3, FALSE)","v":136.42719380907701}]
[3,"045500","Heat energy",null,"Not available","Not available","Not available","Not available",null,"Not available","Not available","Not available","Not available",null,"Not available","Not available","Not available","Not available",null,"Not available","Not available","Not available","Not available",null,"Not available","Not available","Not available","Not available",null,"Not available","Not available","Not available","Not available",null,"Not available","Not available","Not available","Not available","Not available","Not available","Not available","Not available"]
[1,"050000","Furnishings, household equipment and routine household maintenance",null,98.510785279999993,98.532322190000002,101.98819930000001,100.9686932,null,101.018864100965,100.699938069807,102.220311614035,102.90017842034899,null,103.015582928271,102.204809802027,101.693202156891,101.52835218913501,null,102.003493228023,107.139370631641,107.604298992721,109.024980779912,null,109.596892329933,112.066162600526,{"$f":"VLOOKUP(B63,'[1]Level 1 - vlookup table'!$B$2:$D$13,3,FALSE)","v":113.972225254115},{"$f":"VLOOKUP(B63,'[2]Level 1 - vlookup table'!$B$2:$D$13,3,FALSE)","v":115.90193976821899},null,{"$f":"VLOOKUP(B63,'[3]Level 1 - vlookup table'!$B$2:$D$13,3,FALSE)","v":118.32735505072201},{"$f":"VLOOKUP(B63,'[4]Level 1 - vlookup table'!$B$2:$D$13,3,FALSE)","v":117.99705432343301},{"$f":"VLOOKUP(B63,'[5]Level 1 - vlookup table'!$B$2:$D$13,3,FALSE)","v":118.14078771344801},{"$f":"VLOOKUP(B63,'[6]Level 1 - vlookup table'!$B$2:$D$13,3,FALSE)","v":116.186063479371},null,{"$f":"VLOOKUP(B63,'[21]Level 1 - vlookup table'!$B$2:$D$13,3,FALSE)","v":116.601492676314},{"$f":"VLOOKUP($B63,'[22]Level 1 - vlookup table'!$B$2:$D$13,3,FALSE)","v":117.34485022311701},{"$f":"VLOOKUP($B63,'[25]Level 1 - vlookup table'!$B$2:$D$13,3,FALSE)","v":116.601492676314},{"$f":"VLOOKUP($B63,'[10]Level 1 - vlookup table'!$B$2:$D$13,3,FALSE)","v":114.753511296022},{"$f":"VLOOKUP($B63,'[17]Level 1 - vlookup table'!$B$2:$D$13,3,FALSE)","v":115.477699930325},{"$f":"VLOOKUP($B63,'[22]Level 1 - vlookup table'!$B$2:$D$13,3,FALSE)","v":117.34485022311701},{"$f":"VLOOKUP($B63,'[26]Level 1 - vlookup table'!$B$2:$D$13,3,FALSE)","v":117.287774691899},{"$f":"VLOOKUP($B63,'[14]Level 1 - vlookup table'!$B$2:$D$13,3,FALSE)","v":116.601492676314}]
[2,"051000","Furniture and furnishings, carpets and other floor coverings",null,96.591593599999996,96.543529800000002,101.83721679999999,105.0276598,null,102.87618327207601,98.722866515541796,103.589326487044,104.733981708312,null,103.343502914081,104.168669448735,103.727317793,101.329105654692,null,102.60957384295899,101.231849370145,101.19842028822001,102.20019892562,null,104.85713220968999,108.430996737125,{"$f":"VLOOKUP(B64,'[1]Level 2 -vlookup table'!$B$2:$D$44,3,FALSE)","v":109.661871798281},{"$f":"VLOOKUP(B64,'[2]Level 2 - vlookup table'!$B$2:$D$44,3,FALSE)","v":110.275395190362},null,{"$f":"VLOOKUP(B64,'[3]Level 2 - vlookup table'!$B$2:$D$44,3,FALSE)","v":111.67283983857401},{"$f":"VLOOKUP(B64,'[4]Level 2 - vlookup table'!$B$2:$D$44,3,FALSE)","v":107.73499096229899},{"$f":"VLOOKUP(B64,'[5]Level 2 - vlookup table'!$B$2:$D$44,3,FALSE)","v":108.952320992016},{"$f":"VLOOKUP(B64,'[6]Level 2 - vlookup table'!$B$2:$D$44,3,FALSE)","v":105.00924754731901},null,{"$f":"VLOOKUP(B64,'[21]Level 2 - vlookup table'!$B$2:$D$44,3,FALSE)","v":103.98082765976},{"$f":"VLOOKUP(B64,'[22]Level 2 - vlookup table'!$B$2:$D$44,3,FALSE)","v":103.91360746833701},{"$f":"VLOOKUP($B64,'[19]Level 2 - vlookup table'!$B$2:$D$44,3,FALSE)","v":105.48266786249999},{"$f":"VLOOKUP($B64,'[10]Level 2 - vlookup table'!$B$2:$D$44,3,FALSE)","v":102.23866829176001},{"$f":"VLOOKUP($B64,'[20]Level 2 - vlookup table'!$B$2:$D$44,3,FALSE)","v":101.78544949755999},{"$f":"VLOOKUP($B64,'[8]Level 2 - vlookup table'!$B$2:$D$44,3,FALSE)","v":103.392824162122},{"$f":"VLOOKUP($B64,'[13]Level 2 - vlookup table'!$B$2:$D$44,3,FALSE)","v":104.72151828401999},{"$f":"VLOOKUP($B64,'[10]Level 2 - vlookup table'!$B$2:$D$44,3,FALSE)","v":102.23866829176001}]
[3,"051100","Furniture and furnishings",null,95.286070219999999,97.120416250000005,102.9516234,104.6418901,null,102.58943787118,98.4355160720215,103.414596166358,104.124171923576,null,103.25122211329101,103.464638626183,103.753287145024,101.222626143187,null,101.102665410748,99.539310458477999,99.843299014174804,101.14642314848,null,103.63357134550699,107.381624842208,{"$f":"VLOOKUP(B65,'[1]Level 3 - vlookup table'!$B$2:$D$97, 3, FALSE)","v":108.76364079387299},{"$f":"VLOOKUP(B65,'[2]Level 3 - vlookup table'!$B$2:$D$97, 3, FALSE)","v":108.959175999349},null,{"$f":"VLOOKUP(B65,'[3]Level 3 - vlookup table'!$B$2:$D$97, 3, FALSE)","v":109.46339446201399},{"$f":"VLOOKUP(B65,'[4]Level 3 - vlookup table'!$B$2:$D$97,3, FALSE)","v":104.26095907364601},{"$f":"VLOOKUP(B65,'[5]Level 3 - vlookup table'!$B$2:$D$97,3, FALSE)","v":105.00654545630999},{"$f":"VLOOKUP(B65,'[6]Level 3 - vlookup table'!$B$2:$D$97,3, FALSE)","v":102.153247785581},null,{"$f":"VLOOKUP(B65,'[21]Level 3 - vlookup table'!$B$2:$D$97,3, FALSE)","v":102.404398035109},{"$f":"VLOOKUP(B65,'[22]Level 3 - vlookup table'!$B$2:$D$97,3, FALSE)","v":102.333465395643},{"$f":"VLOOKUP($B65,'[19]Level 3 - vlookup table'!$B$2:$D$97, 3, FALSE)","v":103.98918212128601},{"$f":"VLOOKUP($B65,'[10]Level 3 - vlookup table'!$B$2:$D$97,3, FALSE)","v":100.906949731989},{"$f":"VLOOKUP($B65,'[20]Level 3 - vlookup table'!$B$2:$D$97,3, FALSE)","v":101.233705180294},{"$f":"VLOOKUP($B65,'[23]Level 3 - vlookup table'!$B$2:$D$97,3, FALSE)","v":102.929852203308},{"$f":"VLOOKUP($B65,'[24]Level 3 - vlookup table'!$B$2:$D$97, 3, FALSE)","v":103.438582300318},{"$f":"VLOOKUP($B65,'[10]Level 3 - vlookup table'!$B$2:$D$97,3, FALSE)","v":100.906949731989}]
[3,"051200","Carpets and other floor coverings",null,113.1546197,89.224637349999995,87.698867590000006,109.9218753,null,108.06819687420101,103.92583544434299,106.753116381765,115.775625923617,null,105.014403899491,116.916345943598,103.257098467679,103.257098467679,null,129.89471617748401,131.878147528954,125.735197741001,121.280603184662,null,127.011784490203,127.431661211913,{"$f":"VLOOKUP(B66,'[1]Level 3 - vlookup table'!$B$2:$D$97, 3, FALSE)","v":125.925873167367},{"$f":"VLOOKUP(B66,'[2]Level 3 - vlookup table'!$B$2:$D$97, 3, FALSE)","v":134.107784207864},null,{"$f":"VLOOKUP(B66,'[3]Level 3 - vlookup table'!$B$2:$D$97, 3, FALSE)","v":151.67860946012101},{"$f":"VLOOKUP(B66,'[4]Level 3 - vlookup table'!$B$2:$D$97,3, FALSE)","v":170.638252056613},{"$f":"VLOOKUP(B66,'[5]Level 3 - vlookup table'!$B$2:$D$97,3, FALSE)","v":180.397303852639},{"$f":"VLOOKUP(B66,'[6]Level 3 - vlookup table'!$B$2:$D$97,3, FALSE)","v":156.72198492452199},null,{"$f":"VLOOKUP(B66,'[21]Level 3 - vlookup table'!$B$2:$D$97,3, FALSE)","v":132.52476952746099},{"$f":"VLOOKUP(B66,'[22]Level 3 - vlookup table'!$B$2:$D$97,3, FALSE)","v":132.52476952746099},{"$f":"VLOOKUP($B66,'[19]Level 3 - vlookup table'!$B$2:$D$97, 3, FALSE)","v":132.52476952746099},{"$f":"VLOOKUP($B66,'[10]Level 3 - vlookup table'!$B$2:$D$97,3, FALSE)","v":126.351699764796},{"$f":"VLOOKUP($B66,'[20]Level 3 - vlookup table'!$B$2:$D$97,3, FALSE)","v":111.775719581047},{"$f":"VLOOKUP($B66,'[23]Level 3 - vlookup table'!$B$2:$D$97,3, FALSE)","v":111.775719581047},{"$f":"VLOOKUP($B66,'[24]Level 3 - vlookup table'!$B$2:$D$97, 3, FALSE)","v":127.951258176072},{"$f":"VLOOKUP($B66,'[10]Level 3 - vlookup table'!$B$2:$D$97,3, FALSE)","v":126.351699764796}]
[3,"051300","Repair of furniture, furnishings and floor coverings",null,"Not relevant","Not relevant","Not relevant","Not relevant",null,"Not relevant","Not relevant","Not relevant","Not relevant",null,"Not relevant","Not relevant","Not relevant","Not relevant",null,"Not relevant","Not relevant","Not relevant","Not relevant",null,"Not relevant","Not available","Not available","Not available",null,"Not available","Not available","Not available","Not available",null,"Not available","Not available","Not available","Not available","Not available","Not available","Not available","Not available"]
[2,"052000","Household textiles",null,98.360597429999999,93.199087329999998,111.7212722,96.719043040000003,null,97.598519122000098,94.773893558596399,91.290121272445106,92.268489113616695,null,94.977038036477694,89.553722701910502,87.437354248887701,92.735383948584897,null,88.183267344461299,88.474604643398095,95.463077128941094,102.126418166558,null,98.012212800325102,100.047478111621,{"$f":"VLOOKUP(B68,'[1]Level 2 -vlookup table'!$B$2:$D$44,3,FALSE)","v":103.88597757522901},{"$f":"VLOOKUP(B68,'[2]Level 2 - vlookup table'!$B$2:$D$44,3,FALSE)","v":102.11192002222801},null,{"$f":"VLOOKUP(B68,'[3]Level 2 - vlookup table'!$B$2:$D$44,3,FALSE)","v":106.60718420193299},{"$f":"VLOOKUP(B68,'[4]Level 2 - vlookup table'!$B$2:$D$44,3,FALSE)","v":109.545885750007},{"$f":"VLOOKUP(B68,'[5]Level 2 - vlookup table'!$B$2:$D$44,3,FALSE)","v":113.663684409388},{"$f":"VLOOKUP(B68,'[6]Level 2 - vlookup table'!$B$2:$D$44,3,FALSE)","v":101.09805507761},null,{"$f":"VLOOKUP(B68,'[21]Level 2 - vlookup table'!$B$2:$D$44,3,FALSE)","v":110.17879958895},{"$f":"VLOOKUP(B68,'[22]Level 2 - vlookup table'!$B$2:$D$44,3,FALSE)","v":117.79005776693199},{"$f":"VLOOKUP($B68,'[19]Level 2 - vlookup table'!$B$2:$D$44,3,FALSE)","v":116.407449555664},{"$f":"VLOOKUP($B68,'[10]Level 2 - vlookup table'!$B$2:$D$44,3,FALSE)","v":102.489025630893},{"$f":"VLOOKUP($B68,'[20]Level 2 - vlookup table'!$B$2:$D$44,3,FALSE)","v":101.08067384929301},{"$f":"VLOOKUP($B68,'[8]Level 2 - vlookup table'!$B$2:$D$44,3,FALSE)","v":103.57601316407801},{"$f":"VLOOKUP($B68,'[13]Level 2 - vlookup table'!$B$2:$D$44,3,FALSE)","v":108.38139572588101},{"$f":"VLOOKUP($B68,'[10]Level 2 - vlookup table'!$B$2:$D$44,3,FALSE)","v":102.489025630893}]
[3,"052100","Household textiles",null,98.360597429999999,93.199087329999998,111.7212722,96.719043040000003,null,97.598519122000098,94.773893558596399,91.290121272445106,92.268489113616695,null,94.977038036477694,89.553722701910502,87.437354248887701,92.735383948584897,null,88.183267344461299,88.474604643398095,95.463077128941094,102.126418166558,null,98.012212800325102,100.047478111621,{"$f":"VLOOKUP(B69,'[1]Level 3 - vlookup table'!$B$2:$D$97, 3, FALSE)","v":103.88597757522901},{"$f":"VLOOKUP(B69,'[2]Level 3 - vlookup table'!$B$2:$D$97, 3, FALSE)","v":102.11192002222801},null,{"$f":"VLOOKUP(B69,'[3]Level 3 - vlookup table'!$B$2:$D$97, 3, FALSE)","v":106.60718420193299},{"$f":"VLOOKUP(B69,'[4]Level 3 - vlookup table'!$B$2:$D$97,3, FALSE)","v":109.545885750007},{"$f":"VLOOKUP(B69,'[5]Level 3 - vlookup table'!$B$2:$D$97,3, FALSE)","v":113.663684409388},{"$f":"VLOOKUP(B69,'[6]Level 3 - vlookup table'!$B$2:$D$97,3, FALSE)","v":101.09805507761},null,{"$f":"VLOOKUP(B69,'[21]Level 3 - vlookup table'!$B$2:$D$97,3, FALSE)","v":110.17879958895},{"$f":"VLOOKUP(B69,'[22]Level 3 - vlookup table'!$B$2:$D$97,3, FALSE)","v":117.79005776693199},{"$f":"VLOOKUP($B69,'[19]Level 3 - vlookup table'!$B$2:$D$97, 3, FALSE)","v":116.407449555664},{"$f":"VLOOKUP($B69,'[10]Level 3 - vlookup table'!$B$2:$D$97, 3, FALSE)","v":102.489025630893},{"$f":"VLOOKUP($B69,'[20]Level 3 - vlookup table'!$B$2:$D$97,3, FALSE)","v":101.08067384929301},{"$f":"VLOOKUP($B69,'[23]Level 3 - vlookup table'!$B$2:$D$97,3, FALSE)","v":103.57601316407801},{"$f":"VLOOKUP($B69,'[24]Level 3 - vlookup table'!$B$2:$D$97, 3, FALSE)","v":108.38139572588101},{"$f":"VLOOKUP($B69,'[10]Level 3 - vlookup table'!$B$2:$D$97, 3, FALSE)","v":102.489025630893}]
[2,"053000","Household appliances",null,93.834668949999994,98.689294619999998,103.52052519999999,103.9555112,null,102.715554022288,108.86956720922301,112.997301757077,110.78433839509999,null,109.160070716939,107.068956873236,108.577216082912,111.87157832185,null,117.09682418439201,114.52434748429501,108.591396731722,111.095103663982,null,113.913170874108,117.179208827774,{"$f":"VLOOKUP(B70,'[1]Level 2 -vlookup table'!$B$2:$D$44,3,FALSE)","v":125.344647175056},{"$f":"VLOOKUP(B70,'[2]Level 2 - vlookup table'!$B$2:$D$44,3,FALSE)","v":135.96482432380699},null,{"$f":"VLOOKUP(B70,'[3]Level 2 - vlookup table'!$B$2:$D$44,3,FALSE)","v":144.91328570773501},{"$f":"VLOOKUP(B70,'[4]Level 2 - vlookup table'!$B$2:$D$44,3,FALSE)","v":145.169866270575},{"$f":"VLOOKUP(B70,'[5]Level 2 - vlookup table'!$B$2:$D$44,3,FALSE)","v":140.73018118444699},{"$f":"VLOOKUP(B70,'[6]Level 2 - vlookup table'!$B$2:$D$44,3,FALSE)","v":137.48859781180701},null,{"$f":"VLOOKUP(B70,'[21]Level 2 - vlookup table'!$B$2:$D$44,3,FALSE)","v":136.7203810501},{"$f":"VLOOKUP(B70,'[22]Level 2 - vlookup table'!$B$2:$D$44,3,FALSE)","v":137.81502006588201},{"$f":"VLOOKUP($B70,'[19]Level 2 - vlookup table'!$B$2:$D$44,3,FALSE)","v":127.400560191775},{"$f":"VLOOKUP($B70,'[10]Level 2 - vlookup table'!$B$2:$D$44,3,FALSE)","v":122.601449701867},{"$f":"VLOOKUP($B70,'[20]Level 2 - vlookup table'!$B$2:$D$44,3,FALSE)","v":122.963994752974},{"$f":"VLOOKUP($B70,'[8]Level 2 - vlookup table'!$B$2:$D$44,3,FALSE)","v":123.366937013833},{"$f":"VLOOKUP($B70,'[13]Level 2 - vlookup table'!$B$2:$D$44,3,FALSE)","v":125.06300113669},{"$f":"VLOOKUP($B70,'[10]Level 2 - vlookup table'!$B$2:$D$44,3,FALSE)","v":122.601449701867}]
[3,"053100","Major household appliances whether electric or not",null,93.32865855,98.830372479999994,103.7805378,104.0604311,null,101.98563093830499,107.918524487927,112.279161470139,110.609597927713,null,109.14929230451899,106.931133570471,108.329820714875,111.28205317870299,null,117.36863437222399,114.534409533,108.867883418217,111.456725166384,null,114.546562531917,117.790848011214,{"$f":"VLOOKUP(B71,'[1]Level 3 - vlookup table'!$B$2:$D$97, 3, FALSE)","v":126.67482861882399},{"$f":"VLOOKUP(B71,'[2]Level 3 - vlookup table'!$B$2:$D$97, 3, FALSE)","v":137.957212970673},null,{"$f":"VLOOKUP(B71,'[3]Level 3 - vlookup table'!$B$2:$D$97, 3, FALSE)","v":147.747086944583},{"$f":"VLOOKUP(B71,'[4]Level 3 - vlookup table'!$B$2:$D$97,3, FALSE)","v":147.99885686721601},{"$f":"VLOOKUP(B71,'[5]Level 3 - vlookup table'!$B$2:$D$97,3, FALSE)","v":143.84752360948599},{"$f":"VLOOKUP(B71,'[6]Level 3 - vlookup table'!$B$2:$D$97,3, FALSE)","v":140.6655797539},null,{"$f":"VLOOKUP(B71,'[21]Level 3 - vlookup table'!$B$2:$D$97,3, FALSE)","v":139.92946530076},{"$f":"VLOOKUP(B71,'[22]Level 3 - vlookup table'!$B$2:$D$97,3, FALSE)","v":141.00320361922601},{"$f":"VLOOKUP($B71,'[19]Level 3 - vlookup table'!$B$2:$D$97, 3, FALSE)","v":129.43375815788701},{"$f":"VLOOKUP($B71,'[10]Level 3 - vlookup table'!$B$2:$D$97, 3, FALSE)","v":124.532585054896},{"$f":"VLOOKUP($B71,'[20]Level 3 - vlookup table'!$B$2:$D$97,3, FALSE)","v":128.878056336105},{"$f":"VLOOKUP($B71,'[23]Level 3 - vlookup table'!$B$2:$D$97,3, FALSE)","v":123.885237322252},{"$f":"VLOOKUP($B71,'[24]Level 3 - vlookup table'!$B$2:$D$97, 3, FALSE)","v":125.58992137074},{"$f":"VLOOKUP($B71,'[10]Level 3 - vlookup table'!$B$2:$D$97, 3, FALSE)","v":124.532585054896}]
[3,"053200","Small electric household appliances",null,99.586444299999997,97.085674979999993,100.56498499999999,102.7628957,null,111.644869697998,120.50388987402,121.782475787377,112.921978413435,null,109.29192549602,108.754980791189,111.603660082822,119.083373944491,null,113.771708121769,114.401256146034,105.209071993648,106.671305292708,null,106.164746166009,109.69688710316601,{"$f":"VLOOKUP(B72,'[1]Level 3 - vlookup table'!$B$2:$D$97, 3, FALSE)","v":109.07223398794299},{"$f":"VLOOKUP(B72,'[2]Level 3 - vlookup table'!$B$2:$D$97, 3, FALSE)","v":111.591479286544},null,{"$f":"VLOOKUP(B72,'[3]Level 3 - vlookup table'!$B$2:$D$97, 3, FALSE)","v":110.246748422767},{"$f":"VLOOKUP(B72,'[4]Level 3 - vlookup table'!$B$2:$D$97,3, FALSE)","v":110.562178645185},{"$f":"VLOOKUP(B72,'[5]Level 3 - vlookup table'!$B$2:$D$97,3, FALSE)","v":102.595019832133},{"$f":"VLOOKUP(B72,'[6]Level 3 - vlookup table'!$B$2:$D$97,3, FALSE)","v":98.623852635920201},null,{"$f":"VLOOKUP(B72,'[21]Level 3 - vlookup table'!$B$2:$D$97,3, FALSE)","v":97.462921006854899},{"$f":"VLOOKUP(B72,'[22]Level 3 - vlookup table'!$B$2:$D$97,3, FALSE)","v":98.813243023043398},{"$f":"VLOOKUP($B72,'[19]Level 3 - vlookup table'!$B$2:$D$97, 3, FALSE)","v":102.527985438323},{"$f":"VLOOKUP($B72,'[10]Level 3 - vlookup table'!$B$2:$D$97, 3, FALSE)","v":98.977430187873296},{"$f":"VLOOKUP($B72,'[20]Level 3 - vlookup table'!$B$2:$D$97,3, FALSE)","v":109.213182554357},{"$f":"VLOOKUP($B72,'[23]Level 3 - vlookup table'!$B$2:$D$97,3, FALSE)","v":117.02645104997499},{"$f":"VLOOKUP($B72,'[24]Level 3 - vlookup table'!$B$2:$D$97, 3, FALSE)","v":118.617065655266},{"$f":"VLOOKUP($B72,'[10]Level 3 - vlookup table'!$B$2:$D$97, 3, FALSE)","v":98.977430187873296}]
[3,"053300","Repair of household appliances",null,"Not relevant","Not relevant","Not relevant","Not relevant",null,"Not relevant","Not relevant","Not relevant","Not relevant",null,"Not relevant","Not relevant","Not relevant","Not relevant",null,"Not relevant","Not relevant","Not relevant","Not relevant",null,"Not relevant","Not relevant","Not relevant","Not relevant",null,"Not relevant","Not relevant","Not relevant","Not relevant",null,"Not relevant","Not relevant","Not relevant","Not relevant","Not relevant","Not relevant","Not relevant","Not relevant"]
[2,"054000","Glassware, tableware and household utensils",null,99.338548889999998,99.652808590000006,102.45243170000001,98.556210809999996,null,103.189786790974,103.541569288473,103.31401469084901,108.570296812455,null,111.844108781735,112.26855316833699,109.675104661364,107.598994815518,null,107.190875215864,105.26618279454399,111.088008665529,110.387243644951,null,108.578920944694,117.51242587582399,{"$f":"VLOOKUP(B74,'[1]Level 2 -vlookup table'!$B$2:$D$44,3,FALSE)","v":117.26756723968199},{"$f":"VLOOKUP(B74,'[2]Level 2 - vlookup table'!$B$2:$D$44,3,FALSE)","v":125.630683673357},null,{"$f":"VLOOKUP(B74,'[3]Level 2 - vlookup table'!$B$2:$D$44,3,FALSE)","v":127.54391940753899},{"$f":"VLOOKUP(B74,'[4]Level 2 - vlookup table'!$B$2:$D$44,3,FALSE)","v":126.852725963678},{"$f":"VLOOKUP(B74,'[5]Level 2 - vlookup table'!$B$2:$D$44,3,FALSE)","v":126.255976834365},{"$f":"VLOOKUP(B74,'[6]Level 2 - vlookup table'!$B$2:$D$44,3,FALSE)","v":126.18480032034699},null,{"$f":"VLOOKUP(B74,'[21]Level 2 - vlookup table'!$B$2:$D$44,3,FALSE)","v":126.941405490313},{"$f":"VLOOKUP(B74,'[22]Level 2 - vlookup table'!$B$2:$D$44,3,FALSE)","v":124.557879910575},{"$f":"VLOOKUP($B74,'[19]Level 2 - vlookup table'!$B$2:$D$44,3,FALSE)","v":124.411615255819},{"$f":"VLOOKUP($B74,'[10]Level 2 - vlookup table'!$B$2:$D$44,3,FALSE)","v":123.169005881001},{"$f":"VLOOKUP($B74,'[20]Level 2 - vlookup table'!$B$2:$D$44,3,FALSE)","v":105.182800111563},{"$f":"VLOOKUP($B74,'[8]Level 2 - vlookup table'!$B$2:$D$44,3,FALSE)","v":124.27172703110701},{"$f":"VLOOKUP($B74,'[13]Level 2 - vlookup table'!$B$2:$D$44,3,FALSE)","v":125.479511763863},{"$f":"VLOOKUP($B74,'[10]Level 2 - vlookup table'!$B$2:$D$44,3,FALSE)","v":123.169005881001}]
[3,"054100","Glassware, tableware and household utensils",null,99.338548889999998,99.652808590000006,102.45243170000001,98.556210809999996,null,103.189786790974,103.541569288473,103.31401469084901,108.570296812455,null,111.844108781735,112.26855316833699,109.675104661364,107.598994815518,null,107.190875215864,105.26618279454399,111.088008665529,110.387243644951,null,108.578920944694,117.51242587582399,{"$f":"VLOOKUP(B75,'[1]Level 3 - vlookup table'!$B$2:$D$97, 3, FALSE)","v":117.26756723968199},{"$f":"VLOOKUP(B75,'[2]Level 3 - vlookup table'!$B$2:$D$97, 3, FALSE)","v":125.630683673357},null,{"$f":"VLOOKUP(B75,'[3]Level 3 - vlookup table'!$B$2:$D$97, 3, FALSE)","v":127.54391940753899},{"$f":"VLOOKUP(B75,'[4]Level 3 - vlookup table'!$B$2:$D$97,3, FALSE)","v":126.852725963678},{"$f":"VLOOKUP(B75,'[5]Level 3 - vlookup table'!$B$2:$D$97,3, FALSE)","v":126.255976834365},{"$f":"VLOOKUP(B75,'[6]Level 3 - vlookup table'!$B$2:$D$97,3, FALSE)","v":126.18480032034699},null,{"$f":"VLOOKUP(B75,'[21]Level 3 - vlookup table'!$B$2:$D$97,3, FALSE)","v":126.941405490313},{"$f":"VLOOKUP(B75,'[22]Level 3 - vlookup table'!$B$2:$D$97,3, FALSE)","v":124.557879910575},{"$f":"VLOOKUP($B75,'[19]Level 3 - vlookup table'!$B$2:$D$97, 3, FALSE)","v":124.411615255819},{"$f":"VLOOKUP($B75,'[10]Level 3 - vlookup table'!$B$2:$D$97, 3, FALSE)","v":123.169005881001},{"$f":"VLOOKUP($B75,'[20]Level 3 - vlookup table'!$B$2:$D$97,3, FALSE)","v":122.963994752974},{"$f":"VLOOKUP($B75,'[23]Level 3 - vlookup table'!$B$2:$D$97,3, FALSE)","v":124.27172703110701},{"$f":"VLOOKUP($B75,'[24]Level 3 - vlookup table'!$B$2:$D$97, 3, FALSE)","v":125.479511763863},{"$f":"VLOOKUP($B75,'[10]Level 3 - vlookup table'!$B$2:$D$97, 3, FALSE)","v":123.169005881001}]
[2,"055000","Tools and equipment for house and garden",null,96.439359789999997,99.903464020000001,102.1268836,101.5302926,null,101.10884267367,100.293853515866,101.664807893256,107.499336508699,null,107.252654822219,103.82160226908501,105.567157864192,102.527389526696,null,103.483679042739,102.103361217358,104.35940900694401,107.035977654143,null,109.361919961174,110.681862238416,{"$f":"VLOOKUP(B76,'[1]Level 2 -vlookup table'!$B$2:$D$44,3,FALSE)","v":111.27647372950599},{"$f":"VLOOKUP(B76,'[2]Level 2 - vlookup table'!$B$2:$D$44,3,FALSE)","v":113.533535685589},null,{"$f":"VLOOKUP(B76,'[3]Level 2 - vlookup table'!$B$2:$D$44,3,FALSE)","v":115.158070857241},{"$f":"VLOOKUP(B76,'[4]Level 2 - vlookup table'!$B$2:$D$44,3,FALSE)","v":116.589844935901},{"$f":"VLOOKUP(B76,'[5]Level 2 - vlookup table'!$B$2:$D$44,3,FALSE)","v":117.56480637239299},{"$f":"VLOOKUP(B76,'[6]Level 2 - vlookup table'!$B$2:$D$44,3,FALSE)","v":116.900372693732},null,{"$f":"VLOOKUP(B76,'[21]Level 2 - vlookup table'!$B$2:$D$44,3,FALSE)","v":115.691876594051},{"$f":"VLOOKUP(B76,'[22]Level 2 - vlookup table'!$B$2:$D$44,3,FALSE)","v":114.685989861444},{"$f":"VLOOKUP($B76,'[19]Level 2 - vlookup table'!$B$2:$D$44,3,FALSE)","v":115.392805043308},{"$f":"VLOOKUP($B76,'[10]Level 2 - vlookup table'!$B$2:$D$44,3,FALSE)","v":116.179927450257},{"$f":"VLOOKUP($B76,'[20]Level 2 - vlookup table'!$B$2:$D$44,3,FALSE)","v":120.158625614858},{"$f":"VLOOKUP($B76,'[8]Level 2 - vlookup table'!$B$2:$D$44,3,FALSE)","v":123.710012564197},{"$f":"VLOOKUP($B76,'[13]Level 2 - vlookup table'!$B$2:$D$44,3,FALSE)","v":124.26579433652},{"$f":"VLOOKUP($B76,'[10]Level 2 - vlookup table'!$B$2:$D$44,3,FALSE)","v":116.179927450257}]
[3,"055100","Major tools and equipment",null,97.307808109999996,105.0084732,100.00076799999999,97.682950719999994,null,97.647752466213902,97.647752466213902,96.478909386398698,96.755521222464395,null,97.282638059986596,97.282638059986596,97.282638059986596,97.282638059986596,null,97.282638059986596,97.282638059986596,97.282638059986596,99.818163331352196,null,101.01667525896001,101.03416782943199,{"$f":"VLOOKUP(B77,'[1]Level 3 - vlookup table'!$B$2:$D$97, 3, FALSE)","v":101.161147560743},{"$f":"VLOOKUP(B77,'[2]Level 3 - vlookup table'!$B$2:$D$97, 3, FALSE)","v":101.21345732969},null,{"$f":"VLOOKUP(B77,'[3]Level 3 - vlookup table'!$B$2:$D$97, 3, FALSE)","v":100.12622889188999},{"$f":"VLOOKUP(B77,'[4]Level 3 - vlookup table'!$B$2:$D$97,3, FALSE)","v":103.884832172977},{"$f":"VLOOKUP(B77,'[5]Level 3 - vlookup table'!$B$2:$D$97,3, FALSE)","v":106.45857949157499},{"$f":"VLOOKUP(B77,'[6]Level 3 - vlookup table'!$B$2:$D$97,3, FALSE)","v":101.988504004356},null,{"$f":"VLOOKUP(B77,'[21]Level 3 - vlookup table'!$B$2:$D$97,3, FALSE)","v":93.352471041398701},{"$f":"VLOOKUP(B77,'[22]Level 3 - vlookup table'!$B$2:$D$97,3, FALSE)","v":93.352471041398701},{"$f":"VLOOKUP($B77,'[19]Level 3 - vlookup table'!$B$2:$D$97, 3, FALSE)","v":93.352471041398701},{"$f":"VLOOKUP($B77,'[10]Level 3 - vlookup table'!$B$2:$D$97, 3, FALSE)","v":112.26933182407799},{"$f":"VLOOKUP($B77,'[20]Level 3 - vlookup table'!$B$2:$D$97,3, FALSE)","v":112.26933182407799},{"$f":"VLOOKUP($B77,'[23]Level 3 - vlookup table'!$B$2:$D$97,3, FALSE)","v":112.26933182407799},{"$f":"VLOOKUP($B77,'[24]Level 3 - vlookup table'!$B$2:$D$97, 3, FALSE)","v":113.809898124905},{"$f":"VLOOKUP($B77,'[10]Level 3 - vlookup table'!$B$2:$D$97, 3, FALSE)","v":112.26933182407799}]
[3,"055200","Small tools and miscellaneous accessories",null,96.226218779999996,98.650554900000003,102.64869059999999,102.4745357,null,101.997696165549,100.973407071788,102.996614844261,110.258489596559,null,109.813086270699,105.500894290427,107.69473152310501,103.874310691933,null,105.07618793456901,103.34138633516,106.176816872788,108.88960731416201,null,111.50508857266,113.159517066807,{"$f":"VLOOKUP(B78,'[1]Level 3 - vlookup table'!$B$2:$D$97, 3, FALSE)","v":113.874222544958},{"$f":"VLOOKUP(B78,'[2]Level 3 - vlookup table'!$B$2:$D$97, 3, FALSE)","v":116.697493863641},null,{"$f":"VLOOKUP(B78,'[3]Level 3 - vlookup table'!$B$2:$D$97, 3, FALSE)","v":119.018445600287},{"$f":"VLOOKUP(B78,'[4]Level 3 - vlookup table'!$B$2:$D$97,3, FALSE)","v":119.85265933303999},{"$f":"VLOOKUP(B78,'[5]Level 3 - vlookup table'!$B$2:$D$97,3, FALSE)","v":120.417031524845},{"$f":"VLOOKUP(B78,'[6]Level 3 - vlookup table'!$B$2:$D$97,3, FALSE)","v":120.729936721399},null,{"$f":"VLOOKUP(B78,'[21]Level 3 - vlookup table'!$B$2:$D$97,3, FALSE)","v":121.428929788788},{"$f":"VLOOKUP(B78,'[22]Level 3 - vlookup table'!$B$2:$D$97,3, FALSE)","v":120.164718111982},{"$f":"VLOOKUP($B78,'[19]Level 3 - vlookup table'!$B$2:$D$97, 3, FALSE)","v":121.053052729878},{"$f":"VLOOKUP($B78,'[10]Level 3 - vlookup table'!$B$2:$D$97, 3, FALSE)","v":117.184219846383},{"$f":"VLOOKUP($B78,'[20]Level 3 - vlookup table'!$B$2:$D$97,3, FALSE)","v":121.850834191164},{"$f":"VLOOKUP($B78,'[23]Level 3 - vlookup table'!$B$2:$D$97,3, FALSE)","v":126.648129867066},{"$f":"VLOOKUP($B78,'[24]Level 3 - vlookup table'!$B$2:$D$97, 3, FALSE)","v":126.951006018778},{"$f":"VLOOKUP($B78,'[10]Level 3 - vlookup table'!$B$2:$D$97, 3, FALSE)","v":117.184219846383}]
[2,"056000","Goods and services for routine household maintenance",null,100.1008185,99.908727569999996,99.943804790000002,100.0466491,null,100.102363714701,100.29630946238601,100.75219124189501,100.55731359757,null,101.045081305753,100.96295168091601,100.04207142476101,99.683858294501803,null,99.489810721689807,112.324008133672,112.602647704619,113.00570791873599,null,112.874343436727,114.188224948863,{"$f":"VLOOKUP(B79,'[1]Level 2 -vlookup table'!$B$2:$D$44,3,FALSE)","v":114.87576603582001},{"$f":"VLOOKUP(B79,'[2]Level 2 - vlookup table'!$B$2:$D$44,3,FALSE)","v":115.043078546083},null,{"$f":"VLOOKUP(B79,'[3]Level 2 - vlookup table'!$B$2:$D$44,3,FALSE)","v":116.049321274817},{"$f":"VLOOKUP(B79,'[4]Level 2 - vlookup table'!$B$2:$D$44,3,FALSE)","v":116.352223838622},{"$f":"VLOOKUP(B79,'[5]Level 2 - vlookup table'!$B$2:$D$44,3,FALSE)","v":116.425644667429},{"$f":"VLOOKUP(B79,'[6]Level 2 - vlookup table'!$B$2:$D$44,3,FALSE)","v":117.209977887292},null,{"$f":"VLOOKUP(B79,'[21]Level 2 - vlookup table'!$B$2:$D$44,3,FALSE)","v":117.24395366765501},{"$f":"VLOOKUP(B79,'[22]Level 2 - vlookup table'!$B$2:$D$44,3,FALSE)","v":117.65223915823999},{"$f":"VLOOKUP($B79,'[19]Level 2 - vlookup table'!$B$2:$D$44,3,FALSE)","v":119.31782634532399},{"$f":"VLOOKUP($B79,'[10]Level 2 - vlookup table'!$B$2:$D$44,3,FALSE)","v":119.429648434185},{"$f":"VLOOKUP($B79,'[20]Level 2 - vlookup table'!$B$2:$D$44,3,FALSE)","v":119.62283600966801},{"$f":"VLOOKUP($B79,'[8]Level 2 - vlookup table'!$B$2:$D$44,3,FALSE)","v":120.353823501318},{"$f":"VLOOKUP($B79,'[13]Level 2 - vlookup table'!$B$2:$D$44,3,FALSE)","v":120.49993429365399},{"$f":"VLOOKUP($B79,'[10]Level 2 - vlookup table'!$B$2:$D$44,3,FALSE)","v":119.429648434185}]
[3,"056100","Non-durable household goods",null,100.8729673,99.209690420000001,99.513417029999999,100.4039252,null,100.344524431642,100.99728550704,102.531641811317,101.875744261618,null,103.517418686246,103.240995908893,104.33943004484,103.133796041921,null,102.480692254807,103.698302572876,104.63611672014,105.99269206123,null,105.550560065196,109.97267665733099,{"$f":"VLOOKUP(B80,'[1]Level 3 - vlookup table'!$B$2:$D$97, 3, FALSE)","v":112.286726151387},{"$f":"VLOOKUP(B80,'[2]Level 3 - vlookup table'!$B$2:$D$97, 3, FALSE)","v":112.849848031763},null,{"$f":"VLOOKUP(B80,'[3]Level 3 - vlookup table'!$B$2:$D$97, 3, FALSE)","v":116.23654814539},{"$f":"VLOOKUP(B80,'[4]Level 3 - vlookup table'!$B$2:$D$97,3, FALSE)","v":117.256023981552},{"$f":"VLOOKUP(B80,'[5]Level 3 - vlookup table'!$B$2:$D$97,3, FALSE)","v":117.503135659645},{"$f":"VLOOKUP(B80,'[6]Level 3 - vlookup table'!$B$2:$D$97,3, FALSE)","v":120.142957373613},null,{"$f":"VLOOKUP(B80,'[21]Level 3 - vlookup table'!$B$2:$D$97,3, FALSE)","v":120.257309284865},{"$f":"VLOOKUP(B80,'[22]Level 3 - vlookup table'!$B$2:$D$97,3, FALSE)","v":121.63147128164},{"$f":"VLOOKUP($B80,'[19]Level 3 - vlookup table'!$B$2:$D$97, 3, FALSE)","v":122.741412468348},{"$f":"VLOOKUP($B80,'[10]Level 3 - vlookup table'!$B$2:$D$97, 3, FALSE)","v":123.117770846141},{"$f":"VLOOKUP($B80,'[20]Level 3 - vlookup table'!$B$2:$D$97,3, FALSE)","v":123.767980149678},{"$f":"VLOOKUP($B80,'[23]Level 3 - vlookup table'!$B$2:$D$97,3, FALSE)","v":126.228256731402},{"$f":"VLOOKUP($B80,'[24]Level 3 - vlookup table'!$B$2:$D$97, 3, FALSE)","v":126.72002022233301},{"$f":"VLOOKUP($B80,'[10]Level 3 - vlookup table'!$B$2:$D$97, 3, FALSE)","v":123.117770846141}]
[3,"056200","Domestic services and household services",null,100,100,100,100,null,100,100,100,100,null,100,100,98.2255357070228,98.2255357070228,null,98.2255357070228,115.970178636795,115.970178636795,115.970178636795,null,115.970178636795,115.970178636795,{"$f":"VLOOKUP(B81,'[1]Level 3 - vlookup table'!$B$2:$D$97, 3, FALSE)","v":115.970178636795},{"$f":"VLOOKUP(B81,'[2]Level 3 - vlookup table'!$B$2:$D$97, 3, FALSE)","v":115.970178636795},null,{"$f":"VLOOKUP(B81,'[3]Level 3 - vlookup table'!$B$2:$D$97, 3, FALSE)","v":115.970178636795},{"$f":"VLOOKUP(B81,'[4]Level 3 - vlookup table'!$B$2:$D$97,3, FALSE)","v":115.970178636795},{"$f":"VLOOKUP(B81,'[5]Level 3 - vlookup table'!$B$2:$D$97,3, FALSE)","v":115.970178636795},{"$f":"VLOOKUP(B81,'[6]Level 3 - vlookup table'!$B$2:$D$97,3, FALSE)","v":115.970178636795},null,{"$f":"VLOOKUP(B81,'[21]Level 3 - vlookup table'!$B$2:$D$97,3, FALSE)","v":115.970178636795},{"$f":"VLOOKUP(B81,'[22]Level 3 - vlookup table'!$B$2:$D$97,3, FALSE)","v":115.970178636795},{"$f":"VLOOKUP($B81,'[19]Level 3 - vlookup table'!$B$2:$D$97, 3, FALSE)","v":117.87064284842801},{"$f":"VLOOKUP($B81,'[10]Level 3 - vlookup table'!$B$2:$D$97, 3, FALSE)","v":117.87064284842801},{"$f":"VLOOKUP($B81,'[20]Level 3 - vlookup table'!$B$2:$D$97,3, FALSE)","v":117.870642848427},{"$f":"VLOOKUP($B81,'[23]Level 3 - vlookup table'!$B$2:$D$97,3, FALSE)","v":117.870642848427},{"$f":"VLOOKUP($B81,'[24]Level 3 - vlookup table'!$B$2:$D$97, 3, FALSE)","v":117.87064284842801},{"$f":"VLOOKUP($B81,'[10]Level 3 - vlookup table'!$B$2:$D$97, 3, FALSE)","v":117.87064284842801}]
[1,"060000","Health",null,98.420274019999994,99.458874899999998,100.95689950000001,101.1639516,null,101.040395794402,102.72746487278199,102.29587885123,103.137580446535,null,103.800148163741,106.471274574072,106.35408247098199,104.87233488786001,null,104.845068991518,106.328101309383,105.569574044886,105.776864670206,null,105.82521715704,106.90226316463099,{"$f":"VLOOKUP(B82,'[1]Level 1 - vlookup table'!$B$2:$D$13,3,FALSE)","v":107.544275816029},{"$f":"VLOOKUP(B82,'[2]Level 1 - vlookup table'!$B$2:$D$13,3,FALSE)","v":109.08619927909599},null,{"$f":"VLOOKUP(B82,'[3]Level 1 - vlookup table'!$B$2:$D$13,3,FALSE)","v":108.19960230283},{"$f":"VLOOKUP(B82,'[4]Level 1 - vlookup table'!$B$2:$D$13,3,FALSE)","v":108.278982313657},{"$f":"VLOOKUP(B82,'[5]Level 1 - vlookup table'!$B$2:$D$13,3,FALSE)","v":108.55327284440099},{"$f":"VLOOKUP(B82,'[6]Level 1 - vlookup table'!$B$2:$D$13,3,FALSE)","v":108.662323121448},null,{"$f":"VLOOKUP(B82,'[21]Level 1 - vlookup table'!$B$2:$D$13,3,FALSE)","v":109.160848334679},{"$f":"VLOOKUP($B82,'[22]Level 1 - vlookup table'!$B$2:$D$13,3,FALSE)","v":109.22570980818401},{"$f":"VLOOKUP($B82,'[25]Level 1 - vlookup table'!$B$2:$D$13,3,FALSE)","v":109.160848334679},{"$f":"VLOOKUP($B82,'[10]Level 1 - vlookup table'!$B$2:$D$13,3,FALSE)","v":111.275480997155},{"$f":"VLOOKUP($B82,'[17]Level 1 - vlookup table'!$B$2:$D$13,3,FALSE)","v":111.05234224603301},{"$f":"VLOOKUP($B82,'[22]Level 1 - vlookup table'!$B$2:$D$13,3,FALSE)","v":109.22570980818401},{"$f":"VLOOKUP($B82,'[26]Level 1 - vlookup table'!$B$2:$D$13,3,FALSE)","v":115.37358469953899},{"$f":"VLOOKUP($B82,'[14]Level 1 - vlookup table'!$B$2:$D$13,3,FALSE)","v":109.160848334679}]
[2,"061000","Medical products, appliances and equipment",null,97.1718951,99.031250619999994,101.7130896,102.0837647,null,101.89894258007401,100.225350114958,99.437614257411596,100.97389785990499,null,102.183224211621,108.039483674064,107.93128105927001,105.226778029123,null,105.177011996017,105.14371820427201,103.75924536379,104.13759463912299,null,104.225848163978,106.191685142098,{"$f":"VLOOKUP(B83,'[1]Level 2 -vlookup table'!$B$2:$D$44,3,FALSE)","v":107.363494147138},{"$f":"VLOOKUP(B83,'[2]Level 2 - vlookup table'!$B$2:$D$44,3,FALSE)","v":110.177830897622},null,{"$f":"VLOOKUP(B83,'[3]Level 2 - vlookup table'!$B$2:$D$44,3,FALSE)","v":108.559603720372},{"$f":"VLOOKUP(B83,'[4]Level 2 - vlookup table'!$B$2:$D$44,3,FALSE)","v":108.70448904514799},{"$f":"VLOOKUP(B83,'[5]Level 2 - vlookup table'!$B$2:$D$44,3,FALSE)","v":109.205127331984},{"$f":"VLOOKUP(B83,'[6]Level 2 - vlookup table'!$B$2:$D$44,3,FALSE)","v":109.40416717390499},null,{"$f":"VLOOKUP(B83,'[21]Level 2 - vlookup table'!$B$2:$D$44,3,FALSE)","v":110.31408122751699},{"$f":"VLOOKUP(B83,'[22]Level 2 - vlookup table'!$B$2:$D$44,3,FALSE)","v":110.43246714805601},{"$f":"VLOOKUP($B83,'[19]Level 2 - vlookup table'!$B$2:$D$44,3,FALSE)","v":111.580107976435},{"$f":"VLOOKUP($B83,'[10]Level 2 - vlookup table'!$B$2:$D$44,3,FALSE)","v":114.173733511387},{"$f":"VLOOKUP($B83,'[20]Level 2 - vlookup table'!$B$2:$D$44,3,FALSE)","v":113.76645805136501},{"$f":"VLOOKUP($B83,'[8]Level 2 - vlookup table'!$B$2:$D$44,3,FALSE)","v":114.576367561854},{"$f":"VLOOKUP($B83,'[13]Level 2 - vlookup table'!$B$2:$D$44,3,FALSE)","v":114.63680053396099},{"$f":"VLOOKUP($B83,'[10]Level 2 - vlookup table'!$B$2:$D$44,3,FALSE)","v":114.173733511387}]
[3,"061100","Pharmaceutical products",null,97.719293649999997,100.53688200000001,100.593822,101.1500023,null,101.357523041158,98.5775721494186,98.894935141247998,99.817508661750693,null,96.4966273187691,103.725113237131,103.67977876646199,102.549056778241,null,102.59418014609901,101.78387047101,99.922371728558005,100.801015988312,null,101.12714056244801,103.762189864162,{"$f":"VLOOKUP(B84,'[1]Level 3 - vlookup table'!$B$2:$D$97, 3, FALSE)","v":106.090801321535},{"$f":"VLOOKUP(B84,'[2]Level 3 - vlookup table'!$B$2:$D$97, 3, FALSE)","v":109.54686523244899},null,{"$f":"VLOOKUP(B84,'[3]Level 3 - vlookup table'!$B$2:$D$97, 3, FALSE)","v":107.241026297183},{"$f":"VLOOKUP(B84,'[4]Level 3 - vlookup table'!$B$2:$D$97,3, FALSE)","v":107.535640784466},{"$f":"VLOOKUP(B84,'[5]Level 3 - vlookup table'!$B$2:$D$97,3, FALSE)","v":107.942309499346},{"$f":"VLOOKUP(B84,'[6]Level 3 - vlookup table'!$B$2:$D$97,3, FALSE)","v":106.686496171418},null,{"$f":"VLOOKUP(B84,'[21]Level 3 - vlookup table'!$B$2:$D$97,3, FALSE)","v":108.54289646029601},{"$f":"VLOOKUP(B84,'[22]Level 3 - vlookup table'!$B$2:$D$97,3, FALSE)","v":110.445022937665},{"$f":"VLOOKUP($B84,'[19]Level 3 - vlookup table'!$B$2:$D$97, 3, FALSE)","v":111.118254154433},{"$f":"VLOOKUP($B84,'[10]Level 3 - vlookup table'!$B$2:$D$97, 3, FALSE)","v":114.463503494463},{"$f":"VLOOKUP($B84,'[20]Level 3 - vlookup table'!$B$2:$D$97,3, FALSE)","v":113.886808344944},{"$f":"VLOOKUP($B84,'[23]Level 3 - vlookup table'!$B$2:$D$97,3, FALSE)","v":115.031402604644},{"$f":"VLOOKUP($B84,'[24]Level 3 - vlookup table'!$B$2:$D$97, 3, FALSE)","v":114.93710959293399},{"$f":"VLOOKUP($B84,'[10]Level 3 - vlookup table'!$B$2:$D$97, 3, FALSE)","v":114.463503494463}]
[3,"061200","Other medical products",null,97.569706740000001,99.591968519999995,101.4359944,101.4023303,null,100.65715056624801,98.766845478484498,97.859685683421006,101.145692360677,null,101.527591817282,99.952555507297106,104.75592026186401,105.422475478037,null,102.79423234146699,104.005027154011,102.266891294182,99.463020862347193,null,99.784066398611898,100.09593504920601,{"$f":"VLOOKUP(B85,'[1]Level 3 - vlookup table'!$B$2:$D$97, 3, FALSE)","v":99.1196620176583},{"$f":"VLOOKUP(B85,'[2]Level 3 - vlookup table'!$B$2:$D$97, 3, FALSE)","v":106.01412880997501},null,{"$f":"VLOOKUP(B85,'[3]Level 3 - vlookup table'!$B$2:$D$97, 3, FALSE)","v":106.127144979093},{"$f":"VLOOKUP(B85,'[4]Level 3 - vlookup table'!$B$2:$D$97,3, FALSE)","v":105.560154145097},{"$f":"VLOOKUP(B85,'[5]Level 3 - vlookup table'!$B$2:$D$97,3, FALSE)","v":106.141077624479},{"$f":"VLOOKUP(B85,'[6]Level 3 - vlookup table'!$B$2:$D$97,3, FALSE)","v":111.242189398218},null,{"$f":"VLOOKUP(B85,'[21]Level 3 - vlookup table'!$B$2:$D$97,3, FALSE)","v":108.688447888721},{"$f":"VLOOKUP(B85,'[22]Level 3 - vlookup table'!$B$2:$D$97,3, FALSE)","v":107.271934035638},{"$f":"VLOOKUP($B85,'[19]Level 3 - vlookup table'!$B$2:$D$97, 3, FALSE)","v":112.432381252631},{"$f":"VLOOKUP($B85,'[10]Level 3 - vlookup table'!$B$2:$D$97, 3, FALSE)","v":119.058786069904},{"$f":"VLOOKUP($B85,'[20]Level 3 - vlookup table'!$B$2:$D$97,3, FALSE)","v":117.504005365124},{"$f":"VLOOKUP($B85,'[23]Level 3 - vlookup table'!$B$2:$D$97,3, FALSE)","v":118.974216555783},{"$f":"VLOOKUP($B85,'[24]Level 3 - vlookup table'!$B$2:$D$97, 3, FALSE)","v":120.288824764297},{"$f":"VLOOKUP($B85,'[10]Level 3 - vlookup table'!$B$2:$D$97, 3, FALSE)","v":119.058786069904}]
[3,"061300","Therapeutic appliances and equipment",null,95.830479999999994,95.464853430000005,104.3320358,104.3726308,null,103.374370520539,104.187738404242,100.992288937008,103.48270598034399,null,114.861755083405,119.38519429930901,118.021085480864,111.08212445640901,null,111.40989382001101,112.80558034204201,112.552605401972,112.552605401972,null,112.06379320457999,112.931423402416,{"$f":"VLOOKUP(B86,'[1]Level 3 - vlookup table'!$B$2:$D$97, 3, FALSE)","v":112.043121665417},{"$f":"VLOOKUP(B86,'[2]Level 3 - vlookup table'!$B$2:$D$97, 3, FALSE)","v":112.515295538806},null,{"$f":"VLOOKUP(B86,'[3]Level 3 - vlookup table'!$B$2:$D$97, 3, FALSE)","v":112.018234757946},{"$f":"VLOOKUP(B86,'[4]Level 3 - vlookup table'!$B$2:$D$97,3, FALSE)","v":111.995172048844},{"$f":"VLOOKUP(B86,'[5]Level 3 - vlookup table'!$B$2:$D$97,3, FALSE)","v":112.68459007652299},{"$f":"VLOOKUP(B86,'[6]Level 3 - vlookup table'!$B$2:$D$97,3, FALSE)","v":114.973904595671},null,{"$f":"VLOOKUP(B86,'[21]Level 3 - vlookup table'!$B$2:$D$97,3, FALSE)","v":114.586395769622},{"$f":"VLOOKUP(B86,'[22]Level 3 - vlookup table'!$B$2:$D$97,3, FALSE)","v":111.12382803889101},{"$f":"VLOOKUP($B86,'[19]Level 3 - vlookup table'!$B$2:$D$97, 3, FALSE)","v":112.403824951305},{"$f":"VLOOKUP($B86,'[10]Level 3 - vlookup table'!$B$2:$D$97, 3, FALSE)","v":112.423922858632},{"$f":"VLOOKUP($B86,'[20]Level 3 - vlookup table'!$B$2:$D$97,3, FALSE)","v":112.65099151426099},{"$f":"VLOOKUP($B86,'[23]Level 3 - vlookup table'!$B$2:$D$97,3, FALSE)","v":112.573265075392},{"$f":"VLOOKUP($B86,'[24]Level 3 - vlookup table'!$B$2:$D$97, 3, FALSE)","v":112.68928193654},{"$f":"VLOOKUP($B86,'[10]Level 3 - vlookup table'!$B$2:$D$97, 3, FALSE)","v":112.423922858632}]
[2,"062000","Outpatient services",null,100,100,100,100,null,100,108.401866708765,108.401866708765,108.401866708765,null,108.401866708765,106.667898381992,106.481050794209,106.481050794209,null,106.481050794209,107.746546134209,107.746546134209,107.746546134209,null,107.746546134209,107.746546134209,{"$f":"VLOOKUP(B87,'[1]Level 2 -vlookup table'!$B$2:$D$44,3,FALSE)","v":107.746546134209},{"$f":"VLOOKUP(B87,'[2]Level 2 - vlookup table'!$B$2:$D$44,3,FALSE)","v":107.746546134209},null,{"$f":"VLOOKUP(B87,'[3]Level 2 - vlookup table'!$B$2:$D$44,3,FALSE)","v":107.746546134209},{"$f":"VLOOKUP(B87,'[4]Level 2 - vlookup table'!$B$2:$D$44,3,FALSE)","v":107.746546134209},{"$f":"VLOOKUP(B87,'[5]Level 2 - vlookup table'!$B$2:$D$44,3,FALSE)","v":107.746546134209},{"$f":"VLOOKUP(B87,'[6]Level 2 - vlookup table'!$B$2:$D$44,3,FALSE)","v":107.746546134209},null,{"$f":"VLOOKUP(B87,'[21]Level 2 - vlookup table'!$B$2:$D$44,3,FALSE)","v":107.746546134209},{"$f":"VLOOKUP(B87,'[22]Level 2 - vlookup table'!$B$2:$D$44,3,FALSE)","v":107.746546134209},{"$f":"VLOOKUP($B87,'[19]Level 2 - vlookup table'!$B$2:$D$44,3,FALSE)","v":107.746546134209},{"$f":"VLOOKUP($B87,'[10]Level 2 - vlookup table'!$B$2:$D$44,3,FALSE)","v":107.746546134209},{"$f":"VLOOKUP($B87,'[20]Level 2 - vlookup table'!$B$2:$D$44,3,FALSE)","v":107.746546134209},{"$f":"VLOOKUP($B87,'[8]Level 2 - vlookup table'!$B$2:$D$44,3,FALSE)","v":115.629151866697},{"$f":"VLOOKUP($B87,'[13]Level 2 - vlookup table'!$B$2:$D$44,3,FALSE)","v":115.629151866698},{"$f":"VLOOKUP($B87,'[10]Level 2 - vlookup table'!$B$2:$D$44,3,FALSE)","v":107.746546134209}]
[3,"062100","Medical services",null,100,100,100,100,null,100,100.901461955532,100.901461955532,100.901461955532,null,100.901461955532,101.47066263313501,100.901461955532,100.901461955532,null,100.901461955532,103.616793149598,103.616793149598,103.616793149598,null,103.616793149598,103.616793149598,{"$f":"VLOOKUP(B88,'[1]Level 3 - vlookup table'!$B$2:$D$97, 3, FALSE)","v":103.616793149598},{"$f":"VLOOKUP(B88,'[2]Level 3 - vlookup table'!$B$2:$D$97, 3, FALSE)","v":103.616793149598},null,{"$f":"VLOOKUP(B88,'[3]Level 3 - vlookup table'!$B$2:$D$97, 3, FALSE)","v":103.616793149598},{"$f":"VLOOKUP(B88,'[4]Level 3 - vlookup table'!$B$2:$D$97,3, FALSE)","v":103.616793149598},{"$f":"VLOOKUP(B88,'[5]Level 3 - vlookup table'!$B$2:$D$97,3, FALSE)","v":103.616793149598},{"$f":"VLOOKUP(B88,'[6]Level 3 - vlookup table'!$B$2:$D$97,3, FALSE)","v":103.616793149598},null,{"$f":"VLOOKUP(B88,'[21]Level 3 - vlookup table'!$B$2:$D$97,3, FALSE)","v":103.616793149598},{"$f":"VLOOKUP(B88,'[22]Level 3 - vlookup table'!$B$2:$D$97,3, FALSE)","v":103.616793149598},{"$f":"VLOOKUP($B88,'[19]Level 3 - vlookup table'!$B$2:$D$97, 3, FALSE)","v":103.616793149598},{"$f":"VLOOKUP($B88,'[10]Level 3 - vlookup table'!$B$2:$D$97, 3, FALSE)","v":103.616793149598},{"$f":"VLOOKUP($B88,'[20]Level 3 - vlookup table'!$B$2:$D$97,3, FALSE)","v":103.616793149598},{"$f":"VLOOKUP($B88,'[23]Level 3 - vlookup table'!$B$2:$D$97,3, FALSE)","v":106.93818533517199},{"$f":"VLOOKUP($B88,'[24]Level 3 - vlookup table'!$B$2:$D$97, 3, FALSE)","v":106.93818533517199},{"$f":"VLOOKUP($B88,'[10]Level 3 - vlookup table'!$B$2:$D$97, 3, FALSE)","v":103.616793149598}]
[3,"062200","Dental services",null,100,100,100,100,null,100,114.183338913315,114.183338913315,114.183338913315,null,114.183338913315,110.822402427089,110.822402427089,110.822402427089,null,110.822402427089,110.822402427089,110.822402427089,110.822402427089,null,110.822402427089,110.822402427089,{"$f":"VLOOKUP(B89,'[1]Level 3 - vlookup table'!$B$2:$D$97, 3, FALSE)","v":110.822402427089},{"$f":"VLOOKUP(B89,'[2]Level 3 - vlookup table'!$B$2:$D$97, 3, FALSE)","v":110.822402427089},null,{"$f":"VLOOKUP(B89,'[3]Level 3 - vlookup table'!$B$2:$D$97, 3, FALSE)","v":110.822402427089},{"$f":"VLOOKUP(B89,'[4]Level 3 - vlookup table'!$B$2:$D$97,3, FALSE)","v":110.822402427089},{"$f":"VLOOKUP(B89,'[5]Level 3 - vlookup table'!$B$2:$D$97,3, FALSE)","v":110.822402427089},{"$f":"VLOOKUP(B89,'[6]Level 3 - vlookup table'!$B$2:$D$97,3, FALSE)","v":110.822402427089},null,{"$f":"VLOOKUP(B89,'[21]Level 3 - vlookup table'!$B$2:$D$97,3, FALSE)","v":110.822402427089},{"$f":"VLOOKUP(B89,'[22]Level 3 - vlookup table'!$B$2:$D$97,3, FALSE)","v":110.822402427089},{"$f":"VLOOKUP($B89,'[19]Level 3 - vlookup table'!$B$2:$D$97, 3, FALSE)","v":110.822402427089},{"$f":"VLOOKUP($B89,'[10]Level 3 - vlookup table'!$B$2:$D$97, 3, FALSE)","v":110.822402427089},{"$f":"VLOOKUP($B89,'[20]Level 3 - vlookup table'!$B$2:$D$97,3, FALSE)","v":110.822402427089},{"$f":"VLOOKUP($B89,'[23]Level 3 - vlookup table'!$B$2:$D$97,3, FALSE)","v":122.223467105916},{"$f":"VLOOKUP($B89,'[24]Level 3 - vlookup table'!$B$2:$D$97, 3, FALSE)","v":122.223467105916},{"$f":"VLOOKUP($B89,'[10]Level 3 - vlookup table'!$B$2:$D$97, 3, FALSE)","v":110.822402427089}]
[3,"062300","Paramedical services",null,100,100,100,100,null,100,100,100,100,null,100,100,100,100,null,100,103.733131628781,103.733131628781,103.733131628781,null,103.733131628781,103.733131628781,{"$f":"VLOOKUP(B90,'[1]Level 3 - vlookup table'!$B$2:$D$97, 3, FALSE)","v":103.733131628781},{"$f":"VLOOKUP(B90,'[2]Level 3 - vlookup table'!$B$2:$D$97, 3, FALSE)","v":103.733131628781},null,{"$f":"VLOOKUP(B90,'[3]Level 3 - vlookup table'!$B$2:$D$97, 3, FALSE)","v":103.733131628781},{"$f":"VLOOKUP(B90,'[4]Level 3 - vlookup table'!$B$2:$D$97,3, FALSE)","v":103.733131628781},{"$f":"VLOOKUP(B90,'[5]Level 3 - vlookup table'!$B$2:$D$97,3, FALSE)","v":103.733131628781},{"$f":"VLOOKUP(B90,'[6]Level 3 - vlookup table'!$B$2:$D$97,3, FALSE)","v":103.733131628781},null,{"$f":"VLOOKUP(B90,'[21]Level 3 - vlookup table'!$B$2:$D$97,3, FALSE)","v":103.733131628781},{"$f":"VLOOKUP(B90,'[22]Level 3 - vlookup table'!$B$2:$D$97,3, FALSE)","v":103.733131628781},{"$f":"VLOOKUP($B90,'[19]Level 3 - vlookup table'!$B$2:$D$97, 3, FALSE)","v":103.733131628781},{"$f":"VLOOKUP($B90,'[10]Level 3 - vlookup table'!$B$2:$D$97, 3, FALSE)","v":103.733131628781},{"$f":"VLOOKUP($B90,'[20]Level 3 - vlookup table'!$B$2:$D$97,3, FALSE)","v":103.733131628781},{"$f":"VLOOKUP($B90,'[23]Level 3 - vlookup table'!$B$2:$D$97,3, FALSE)","v":106.49161750417301},{"$f":"VLOOKUP($B90,'[24]Level 3 - vlookup table'!$B$2:$D$97, 3, FALSE)","v":106.49161750417301},{"$f":"VLOOKUP($B90,'[10]Level 3 - vlookup table'!$B$2:$D$97, 3, FALSE)","v":103.733131628781}]
[2,"063000","Hospital services",null,100,100,100,100,null,100,100,100,100,null,100,100,100,100,null,100,107.799974524672,107.799974524672,107.799974524672,null,107.799974524672,107.799974524671,{"$f":"VLOOKUP(B91,'[1]Level 2 -vlookup table'!$B$2:$D$35,3,FALSE)","v":107.799974524671},{"$f":"VLOOKUP(B91,'[2]Level 2 - vlookup table'!$B$2:$D$44,3,FALSE)","v":107.799974524671},null,{"$f":"VLOOKUP(B91,'[3]Level 2 - vlookup table'!$B$2:$D$44,3,FALSE)","v":107.799974524671},{"$f":"VLOOKUP(B91,'[4]Level 2 - vlookup table'!$B$2:$D$44,3,FALSE)","v":107.799974524671},{"$f":"VLOOKUP(B91,'[5]Level 2 - vlookup table'!$B$2:$D$44,3,FALSE)","v":107.799974524671},{"$f":"VLOOKUP(B91,'[6]Level 2 - vlookup table'!$B$2:$D$44,3,FALSE)","v":107.799974524671},null,{"$f":"VLOOKUP(B91,'[21]Level 2 - vlookup table'!$B$2:$D$44,3,FALSE)","v":107.799974524671},{"$f":"VLOOKUP(B91,'[22]Level 2 - vlookup table'!$B$2:$D$44,3,FALSE)","v":107.799974524671},{"$f":"VLOOKUP($B91,'[19]Level 2 - vlookup table'!$B$2:$D$44,3,FALSE)","v":107.799974524671},{"$f":"VLOOKUP($B91,'[10]Level 2 - vlookup table'!$B$2:$D$44,3,FALSE)","v":107.799974524671},{"$f":"VLOOKUP($B91,'[20]Level 2 - vlookup table'!$B$2:$D$44,3,FALSE)","v":107.799974524671},{"$f":"VLOOKUP($B91,'[8]Level 2 - vlookup table'!$B$2:$D$44,3,FALSE)","v":117.655521264689},{"$f":"VLOOKUP($B91,'[13]Level 2 - vlookup table'!$B$2:$D$44,3,FALSE)","v":117.655521264689},{"$f":"VLOOKUP($B91,'[10]Level 2 - vlookup table'!$B$2:$D$44,3,FALSE)","v":107.799974524671}]
[3,"063100","Hospital services",null,100,100,100,100,null,100,100,100,100,null,100,100,100,100,null,100,107.799974524672,107.799974524672,107.799974524672,null,107.799974524672,107.799974524671,{"$f":"VLOOKUP(B92,'[1]Level 3 - vlookup table'!$B$2:$D$97, 3, FALSE)","v":107.799974524671},{"$f":"VLOOKUP(B92,'[2]Level 3 - vlookup table'!$B$2:$D$97, 3, FALSE)","v":107.799974524671},null,{"$f":"VLOOKUP(B92,'[3]Level 3 - vlookup table'!$B$2:$D$97, 3, FALSE)","v":107.799974524671},{"$f":"VLOOKUP(B92,'[4]Level 3 - vlookup table'!$B$2:$D$97,3, FALSE)","v":107.799974524671},{"$f":"VLOOKUP(B92,'[5]Level 3 - vlookup table'!$B$2:$D$97,3, FALSE)","v":107.799974524671},{"$f":"VLOOKUP(B92,'[6]Level 3 - vlookup table'!$B$2:$D$97,3, FALSE)","v":107.799974524671},null,{"$f":"VLOOKUP(B92,'[21]Level 3 - vlookup table'!$B$2:$D$97,3, FALSE)","v":107.799974524671},{"$f":"VLOOKUP(B92,'[22]Level 3 - vlookup table'!$B$2:$D$97,3, FALSE)","v":107.799974524671},{"$f":"VLOOKUP($B92,'[19]Level 3 - vlookup table'!$B$2:$D$97, 3, FALSE)","v":107.799974524671},{"$f":"VLOOKUP($B92,'[10]Level 3 - vlookup table'!$B$2:$D$97, 3, FALSE)","v":107.799974524671},{"$f":"VLOOKUP($B92,'[20]Level 3 - vlookup table'!$B$2:$D$97,3, FALSE)","v":107.799974524671},{"$f":"VLOOKUP($B92,'[23]Level 3 - vlookup table'!$B$2:$D$97,3, FALSE)","v":117.655521264689},{"$f":"VLOOKUP($B92,'[24]Level 3 - vlookup table'!$B$2:$D$97, 3, FALSE)","v":117.655521264689},{"$f":"VLOOKUP($B92,'[10]Level 3 - vlookup table'!$B$2:$D$97, 3, FALSE)","v":107.799974524671}]
[1,"070000","Transport",null,99.624662099999995,100.164351,100.1150813,100.09590559999999,null,99.882840288826799,100.535530213733,99.922859919036796,101.366959451151,null,100.87684306804999,97.312316909863696,97.596793928346401,96.208145392289595,null,97.689407888792999,99.631945540411493,101.382233895018,104.828662352886,null,108.04876312727799,118.759027942928,{"$f":"VLOOKUP(B93,'[1]Level 1 - vlookup table'!$B$2:$D$13,3,FALSE)","v":110.769516890879},{"$f":"VLOOKUP(B93,'[2]Level 1 - vlookup table'!$B$2:$D$13,3,FALSE)","v":109.72346277197001},null,{"$f":"VLOOKUP(B93,'[3]Level 1 - vlookup table'!$B$2:$D$13,3,FALSE)","v":111.530202730591},{"$f":"VLOOKUP(B93,'[4]Level 1 - vlookup table'!$B$2:$D$13,3,FALSE)","v":105.596982105351},{"$f":"VLOOKUP(B93,'[5]Level 1 - vlookup table'!$B$2:$D$13,3,FALSE)","v":109.251490671612},{"$f":"VLOOKUP(B93,'[6]Level 1 - vlookup table'!$B$2:$D$13,3,FALSE)","v":116.828318064139},null,{"$f":"VLOOKUP(B93,'[21]Level 1 - vlookup table'!$B$2:$D$13,3,FALSE)","v":114.721567247941},{"$f":"VLOOKUP($B93,'[22]Level 1 - vlookup table'!$B$2:$D$13,3,FALSE)","v":116.333073044633},{"$f":"VLOOKUP($B93,'[25]Level 1 - vlookup table'!$B$2:$D$13,3,FALSE)","v":114.721567247941},{"$f":"VLOOKUP($B93,'[10]Level 1 - vlookup table'!$B$2:$D$13,3,FALSE)","v":123.238339744851},{"$f":"VLOOKUP($B93,'[17]Level 1 - vlookup table'!$B$2:$D$13,3,FALSE)","v":122.126602514326},{"$f":"VLOOKUP($B93,'[22]Level 1 - vlookup table'!$B$2:$D$13,3,FALSE)","v":116.333073044633},{"$f":"VLOOKUP($B93,'[26]Level 1 - vlookup table'!$B$2:$D$13,3,FALSE)","v":120.947050521732},{"$f":"VLOOKUP($B93,'[14]Level 1 - vlookup table'!$B$2:$D$13,3,FALSE)","v":114.721567247941}]
[2,"071000","Purchase of vehicles",null,100.289998,100.24497409999999,100.2263741,99.238653769999999,null,99.303001930917603,98.513139382495496,98.609358166663398,102.003234154533,null,101.525052639051,101.22624162961399,101.12921389146,99.120408567248404,null,102.00607836557801,102.190036592517,102.190036592517,106.842245735718,null,107.70319147329501,107.71370920786499,{"$f":"VLOOKUP(B94,'[1]Level 2 -vlookup table'!$B$2:$D$44,3,FALSE)","v":107.70319147329501},{"$f":"VLOOKUP(B94,'[2]Level 2 - vlookup table'!$B$2:$D$44,3,FALSE)","v":107.068141836111},null,{"$f":"VLOOKUP(B94,'[3]Level 2 - vlookup table'!$B$2:$D$44,3,FALSE)","v":110.773881620579},{"$f":"VLOOKUP(B94,'[4]Level 2 - vlookup table'!$B$2:$D$44,3,FALSE)","v":110.790264662407},{"$f":"VLOOKUP(B94,'[5]Level 2 - vlookup table'!$B$2:$D$44,3,FALSE)","v":110.87623547493},{"$f":"VLOOKUP(B94,'[6]Level 2 - vlookup table'!$B$2:$D$44,3,FALSE)","v":116.057547304368},null,{"$f":"VLOOKUP(B94,'[21]Level 2 - vlookup table'!$B$2:$D$44,3,FALSE)","v":116.62555930862899},{"$f":"VLOOKUP(B94,'[22]Level 2 - vlookup table'!$B$2:$D$44,3,FALSE)","v":116.666353133052},{"$f":"VLOOKUP($B94,'[19]Level 2 - vlookup table'!$B$2:$D$44,3,FALSE)","v":116.62743917395299},{"$f":"VLOOKUP($B94,'[10]Level 2 - vlookup table'!$B$2:$D$44,3,FALSE)","v":117.185031980521},{"$f":"VLOOKUP($B94,'[20]Level 2 - vlookup table'!$B$2:$D$44,3,FALSE)","v":117.13227104838001},{"$f":"VLOOKUP($B94,'[8]Level 2 - vlookup table'!$B$2:$D$44,3,FALSE)","v":115.330757801093},{"$f":"VLOOKUP($B94,'[13]Level 2 - vlookup table'!$B$2:$D$44,3,FALSE)","v":115.365418867356},{"$f":"VLOOKUP($B94,'[10]Level 2 - vlookup table'!$B$2:$D$44,3,FALSE)","v":117.185031980521}]
[3,"071100","Motor cars",null,100.2523707,100.2523707,100.2523707,99.242887909999993,null,99.242887909999993,98.463731823689002,98.463731823689002,101.81901280591801,null,101.323226994797,101.04417244492601,101.04417244492601,98.749626014939807,null,101.670492541228,101.873497896408,101.873497896408,106.575517517226,null,107.375973376592,107.375973376592,{"$f":"VLOOKUP(B95,'[1]Level 3 - vlookup table'!$B$2:$D$97, 3, FALSE)","v":107.375973376592},{"$f":"VLOOKUP(B95,'[2]Level 3 - vlookup table'!$B$2:$D$97, 3, FALSE)","v":106.702482131951},null,{"$f":"VLOOKUP(B95,'[3]Level 3 - vlookup table'!$B$2:$D$97, 3, FALSE)","v":110.441007990751},{"$f":"VLOOKUP(B95,'[4]Level 3 - vlookup table'!$B$2:$D$97,3, FALSE)","v":110.441007990751},{"$f":"VLOOKUP(B95,'[5]Level 3 - vlookup table'!$B$2:$D$97,3, FALSE)","v":110.441007990751},{"$f":"VLOOKUP(B95,'[6]Level 3 - vlookup table'!$B$2:$D$97,3, FALSE)","v":115.62624364066799},null,{"$f":"VLOOKUP(B95,'[21]Level 3 - vlookup table'!$B$2:$D$97,3, FALSE)","v":115.87894992071099},{"$f":"VLOOKUP(B95,'[22]Level 3 - vlookup table'!$B$2:$D$97,3, FALSE)","v":115.87894992071099},{"$f":"VLOOKUP($B95,'[19]Level 3 - vlookup table'!$B$2:$D$97, 3, FALSE)","v":115.87894992071099},{"$f":"VLOOKUP($B95,'[10]Level 3 - vlookup table'!$B$2:$D$97, 3, FALSE)","v":116.418738292128},{"$f":"VLOOKUP($B95,'[20]Level 3 - vlookup table'!$B$2:$D$97,3, FALSE)","v":116.418738292128},{"$f":"VLOOKUP($B95,'[23]Level 3 - vlookup table'!$B$2:$D$97,3, FALSE)","v":114.591836207718},{"$f":"VLOOKUP($B95,'[24]Level 3 - vlookup table'!$B$2:$D$97, 3, FALSE)","v":114.591836207718},{"$f":"VLOOKUP($B95,'[10]Level 3 - vlookup table'!$B$2:$D$97, 3, FALSE)","v":116.418738292128}]
[3,"071200","Motor cycles",null,100,100,100,100,null,102.144367966019,103.552354124093,103.552354124093,105.39246889237801,null,102.782163371579,100.033984427767,100.033984427767,116.28106011497501,null,114.786986075428,114.786986075428,114.786986075428,115.785514367237,null,122.953205700117,122.953205700117,{"$f":"VLOOKUP(B96,'[1]Level 3 - vlookup table'!$B$2:$D$97, 3, FALSE)","v":122.953205700117},{"$f":"VLOOKUP(B96,'[2]Level 3 - vlookup table'!$B$2:$D$97, 3, FALSE)","v":119.57073987491},null,{"$f":"VLOOKUP(B96,'[3]Level 3 - vlookup table'!$B$2:$D$97, 3, FALSE)","v":119.57073987491},{"$f":"VLOOKUP(B96,'[4]Level 3 - vlookup table'!$B$2:$D$97,3, FALSE)","v":119.57073987491},{"$f":"VLOOKUP(B96,'[5]Level 3 - vlookup table'!$B$2:$D$97,3, FALSE)","v":127.857270219729},{"$f":"VLOOKUP(B96,'[6]Level 3 - vlookup table'!$B$2:$D$97,3, FALSE)","v":135.798829194451},null,{"$f":"VLOOKUP(B96,'[21]Level 3 - vlookup table'!$B$2:$D$97,3, FALSE)","v":169.075936801615},{"$f":"VLOOKUP(B96,'[22]Level 3 - vlookup table'!$B$2:$D$97,3, FALSE)","v":169.075936801615},{"$f":"VLOOKUP($B96,'[19]Level 3 - vlookup table'!$B$2:$D$97, 3, FALSE)","v":169.075936801615},{"$f":"VLOOKUP($B96,'[10]Level 3 - vlookup table'!$B$2:$D$97, 3, FALSE)","v":169.100447665513},{"$f":"VLOOKUP($B96,'[20]Level 3 - vlookup table'!$B$2:$D$97,3, FALSE)","v":169.10044766551201},{"$f":"VLOOKUP($B96,'[23]Level 3 - vlookup table'!$B$2:$D$97,3, FALSE)","v":169.10044766551201},{"$f":"VLOOKUP($B96,'[24]Level 3 - vlookup table'!$B$2:$D$97, 3, FALSE)","v":169.10044766551201},{"$f":"VLOOKUP($B96,'[10]Level 3 - vlookup table'!$B$2:$D$97, 3, FALSE)","v":169.100447665513}]
[3,"071300","Bicycles",null,110.4733454,98.983647079999997,94.237074570000004,96.305932970000001,null,106.729441281357,98.615485744241596,120.906319968239,136.565811044615,null,144.84164477013201,145.465969920861,122.98772676869601,145.73641764483,null,150.30246369574701,146.54343356406599,146.54343356406599,147.92600043741399,null,148.60769670448201,151.04432152508201,{"$f":"VLOOKUP(B97,'[1]Level 3 - vlookup table'!$B$2:$D$97, 3, FALSE)","v":148.60769670448201},{"$f":"VLOOKUP(B97,'[2]Level 3 - vlookup table'!$B$2:$D$97, 3, FALSE)","v":162.852584998727},null,{"$f":"VLOOKUP(B97,'[3]Level 3 - vlookup table'!$B$2:$D$97, 3, FALSE)","v":167.29343185873699},{"$f":"VLOOKUP(B97,'[4]Level 3 - vlookup table'!$B$2:$D$97,3, FALSE)","v":171.088861957228},{"$f":"VLOOKUP(B97,'[5]Level 3 - vlookup table'!$B$2:$D$97,3, FALSE)","v":172.61327083800199},{"$f":"VLOOKUP(B97,'[6]Level 3 - vlookup table'!$B$2:$D$97,3, FALSE)","v":170.77170864058601},null,{"$f":"VLOOKUP(B97,'[21]Level 3 - vlookup table'!$B$2:$D$97,3, FALSE)","v":170.77170864058601},{"$f":"VLOOKUP(B97,'[22]Level 3 - vlookup table'!$B$2:$D$97,3, FALSE)","v":180.222341232351},{"$f":"VLOOKUP($B97,'[19]Level 3 - vlookup table'!$B$2:$D$97, 3, FALSE)","v":171.20721368965101},{"$f":"VLOOKUP($B97,'[10]Level 3 - vlookup table'!$B$2:$D$97, 3, FALSE)","v":177.01540350624899},{"$f":"VLOOKUP($B97,'[20]Level 3 - vlookup table'!$B$2:$D$97,3, FALSE)","v":164.792372400392},{"$f":"VLOOKUP($B97,'[23]Level 3 - vlookup table'!$B$2:$D$97,3, FALSE)","v":164.792372400392},{"$f":"VLOOKUP($B97,'[24]Level 3 - vlookup table'!$B$2:$D$97, 3, FALSE)","v":172.82223984022301},{"$f":"VLOOKUP($B97,'[10]Level 3 - vlookup table'!$B$2:$D$97, 3, FALSE)","v":177.01540350624899}]
[3,"071400","Animal drawn vehicles",null,"Not relevant","Not relevant","Not relevant","Not relevant",null,"Not relevant","Not relevant","Not relevant","Not relevant",null,"Not relevant","Not relevant","Not relevant","Not relevant",null,"Not relevant","Not relevant","Not relevant","Not relevant",null,"Not relevant","Not relevant","Not relevant","Not relevant",null,"Not relevant","Not relevant","Not relevant","Not relevant",null,"Not relevant","Not relevant","Not relevant","Not relevant","Not relevant","Not relevant","Not relevant","Not relevant"]
[2,"072000","Operation of personal transport equipment (incl. fuel)",null,98.765421790000005,101.3860193,101.1872798,98.661279100000002,null,95.604852988810507,98.240297046897595,95.744686123664493,97.251432389172905,null,94.608336690211701,84.904460289437296,87.804445170765106,89.799753060335604,null,97.499431139077501,102.757031311418,105.965748506835,108.488507642087,null,110.903004068401,141.33097398875501,{"$f":"VLOOKUP(B99,'[1]Level 2 -vlookup table'!$B$2:$D$44,3,FALSE)","v":115.81080039483901},{"$f":"VLOOKUP(B99,'[2]Level 2 - vlookup table'!$B$2:$D$44,3,FALSE)","v":113.631014281901},null,{"$f":"VLOOKUP(B99,'[3]Level 2 - vlookup table'!$B$2:$D$44,3,FALSE)","v":115.466723099913},{"$f":"VLOOKUP(B99,'[4]Level 2 - vlookup table'!$B$2:$D$44,3,FALSE)","v":102.621337689203},{"$f":"VLOOKUP(B99,'[5]Level 2 - vlookup table'!$B$2:$D$44,3,FALSE)","v":111.798289790214},{"$f":"VLOOKUP(B99,'[6]Level 2 - vlookup table'!$B$2:$D$44,3,FALSE)","v":120.511619887506},null,{"$f":"VLOOKUP(B99,'[21]Level 2 - vlookup table'!$B$2:$D$44,3,FALSE)","v":116.92025384832399},{"$f":"VLOOKUP(B99,'[22]Level 2 - vlookup table'!$B$2:$D$44,3,FALSE)","v":118.452283704759},{"$f":"VLOOKUP($B99,'[19]Level 2 - vlookup table'!$B$2:$D$44,3,FALSE)","v":119.05312173318001},{"$f":"VLOOKUP($B99,'[10]Level 2 - vlookup table'!$B$2:$D$44,3,FALSE)","v":115.68503426132899},{"$f":"VLOOKUP($B99,'[20]Level 2 - vlookup table'!$B$2:$D$44,3,FALSE)","v":117.380793539084},{"$f":"VLOOKUP($B99,'[8]Level 2 - vlookup table'!$B$2:$D$44,3,FALSE)","v":115.12755796183301},{"$f":"VLOOKUP($B99,'[13]Level 2 - vlookup table'!$B$2:$D$44,3,FALSE)","v":118.205092256076},{"$f":"VLOOKUP($B99,'[10]Level 2 - vlookup table'!$B$2:$D$44,3,FALSE)","v":115.68503426132899}]
[3,"072100","Spare parts and accessories for personal transport equipment",null,99.772132450000001,100.33699129999999,99.913825419999995,99.977050800000001,null,100.036472000863,100.218108487872,99.973864116218806,108.047675999742,null,108.37316701307699,103.725655602396,104.455266030234,107.55955541415599,null,106.74229386647301,108.17083624784399,107.56552316276699,109.763956686193,null,110.443875452247,118.009916478573,{"$f":"VLOOKUP(B100,'[1]Level 3 - vlookup table'!$B$2:$D$97, 3, FALSE)","v":119.10347404430701},{"$f":"VLOOKUP(B100,'[2]Level 3 - vlookup table'!$B$2:$D$97, 3, FALSE)","v":119.19246444308899},null,{"$f":"VLOOKUP(B100,'[3]Level 3 - vlookup table'!$B$2:$D$97, 3, FALSE)","v":125.98024956705299},{"$f":"VLOOKUP(B100,'[4]Level 3 - vlookup table'!$B$2:$D$97,3, FALSE)","v":128.07552834200399},{"$f":"VLOOKUP(B100,'[5]Level 3 - vlookup table'!$B$2:$D$97,3, FALSE)","v":127.551525395502},{"$f":"VLOOKUP(B100,'[6]Level 3 - vlookup table'!$B$2:$D$97,3, FALSE)","v":126.28791011861701},null,{"$f":"VLOOKUP(B100,'[21]Level 3 - vlookup table'!$B$2:$D$97,3, FALSE)","v":122.925387637565},{"$f":"VLOOKUP(B100,'[22]Level 3 - vlookup table'!$B$2:$D$97,3, FALSE)","v":123.60397097209},{"$f":"VLOOKUP($B100,'[19]Level 3 - vlookup table'!$B$2:$D$97, 3, FALSE)","v":123.50936832019801},{"$f":"VLOOKUP($B100,'[10]Level 3 - vlookup table'!$B$2:$D$97, 3, FALSE)","v":125.94614511101599},{"$f":"VLOOKUP($B100,'[20]Level 3 - vlookup table'!$B$2:$D$97,3, FALSE)","v":126.952847304152},{"$f":"VLOOKUP($B100,'[23]Level 3 - vlookup table'!$B$2:$D$97,3, FALSE)","v":132.53477252838999},{"$f":"VLOOKUP($B100,'[24]Level 3 - vlookup table'!$B$2:$D$97, 3, FALSE)","v":133.914594062448},{"$f":"VLOOKUP($B100,'[10]Level 3 - vlookup table'!$B$2:$D$97, 3, FALSE)","v":125.94614511101599}]
[3,"072200","Fuels and lubricants for personal transport equipment",null,97.557476570000006,102.71114350000001,102.4655289,97.265851040000001,null,93.372760592683306,97.294049453676706,93.602205789224797,94.127246459713703,null,90.053223156270505,76.712895031996396,80.880207002328802,82.745717001266001,null,94.568601227148093,102.09471099685599,107.09459496589901,108.85768592742301,null,112.307397422107,156.06127324827,{"$f":"VLOOKUP(B101,'[1]Level 3 - vlookup table'!$B$2:$D$97, 3, FALSE)","v":117.321079503254},{"$f":"VLOOKUP(B101,'[2]Level 3 - vlookup table'!$B$2:$D$97, 3, FALSE)","v":111.37118601130901},null,{"$f":"VLOOKUP(B101,'[3]Level 3 - vlookup table'!$B$2:$D$97, 3, FALSE)","v":112.266024640783},{"$f":"VLOOKUP(B101,'[4]Level 3 - vlookup table'!$B$2:$D$97,3, FALSE)","v":92.340395656090493},{"$f":"VLOOKUP(B101,'[5]Level 3 - vlookup table'!$B$2:$D$97,3, FALSE)","v":106.307727974993},{"$f":"VLOOKUP(B101,'[6]Level 3 - vlookup table'!$B$2:$D$97,3, FALSE)","v":116.921518594451},null,{"$f":"VLOOKUP(B101,'[21]Level 3 - vlookup table'!$B$2:$D$97,3, FALSE)","v":112.43769292185399},{"$f":"VLOOKUP(B101,'[22]Level 3 - vlookup table'!$B$2:$D$97,3, FALSE)","v":114.55853005137099},{"$f":"VLOOKUP($B101,'[19]Level 3 - vlookup table'!$B$2:$D$97, 3, FALSE)","v":115.489606803684},{"$f":"VLOOKUP($B101,'[10]Level 3 - vlookup table'!$B$2:$D$97, 3, FALSE)","v":107.940588313258},{"$f":"VLOOKUP($B101,'[20]Level 3 - vlookup table'!$B$2:$D$97,3, FALSE)","v":110.319710958703},{"$f":"VLOOKUP($B101,'[23]Level 3 - vlookup table'!$B$2:$D$97,3, FALSE)","v":105.314014466028},{"$f":"VLOOKUP($B101,'[24]Level 3 - vlookup table'!$B$2:$D$97, 3, FALSE)","v":109.56974782611201},{"$f":"VLOOKUP($B101,'[10]Level 3 - vlookup table'!$B$2:$D$97, 3, FALSE)","v":107.940588313258}]
[3,"072300","Maintenance and repair of personal transport equipment",null,100,100,100,100,null,100,100,100,97.683087553425906,null,97.683087553425906,97.683087553425906,97.683087553425906,99.064930470533099,null,99.064930470533099,99.064930470533099,99.064930470533099,105.99885993115799,null,105.99885993115799,105.99885993115799,{"$f":"VLOOKUP(B102,'[1]Level 3 - vlookup table'!$B$2:$D$97, 3, FALSE)","v":105.99885993115799},{"$f":"VLOOKUP(B102,'[2]Level 3 - vlookup table'!$B$2:$D$97, 3, FALSE)","v":118.79533692910999},null,{"$f":"VLOOKUP(B102,'[3]Level 3 - vlookup table'!$B$2:$D$97, 3, FALSE)","v":118.79533692910999},{"$f":"VLOOKUP(B102,'[4]Level 3 - vlookup table'!$B$2:$D$97,3, FALSE)","v":118.79533692910999},{"$f":"VLOOKUP(B102,'[5]Level 3 - vlookup table'!$B$2:$D$97,3, FALSE)","v":118.79533692910999},{"$f":"VLOOKUP(B102,'[6]Level 3 - vlookup table'!$B$2:$D$97,3, FALSE)","v":132.64189791586099},null,{"$f":"VLOOKUP(B102,'[21]Level 3 - vlookup table'!$B$2:$D$97,3, FALSE)","v":132.64189791586099},{"$f":"VLOOKUP(B102,'[22]Level 3 - vlookup table'!$B$2:$D$97,3, FALSE)","v":132.64189791586099},{"$f":"VLOOKUP($B102,'[19]Level 3 - vlookup table'!$B$2:$D$97, 3, FALSE)","v":132.64189791586099},{"$f":"VLOOKUP($B102,'[10]Level 3 - vlookup table'!$B$2:$D$97, 3, FALSE)","v":141.383503914904},{"$f":"VLOOKUP($B102,'[20]Level 3 - vlookup table'!$B$2:$D$97,3, FALSE)","v":141.383503914904},{"$f":"VLOOKUP($B102,'[23]Level 3 - vlookup table'!$B$2:$D$97,3, FALSE)","v":141.383503914904},{"$f":"VLOOKUP($B102,'[24]Level 3 - vlookup table'!$B$2:$D$97, 3, FALSE)","v":141.383503914904},{"$f":"VLOOKUP($B102,'[10]Level 3 - vlookup table'!$B$2:$D$97, 3, FALSE)","v":141.383503914904}]
[3,"072400","Other services in respect of personal transport equipment",null,100,100,100,100,null,99.872384520676604,99.807878694400401,99.807878694400401,99.807878694400401,null,99.937108508752004,100.065095681789,100.065095681789,100.065095681789,null,100.065095681789,100.065095681789,100.065095681789,100.065095681789,null,100.065095681789,99.904842078310296,{"$f":"VLOOKUP(B103,'[1]Level 3 - vlookup table'!$B$2:$D$97, 3, FALSE)","v":99.8467455181746},{"$f":"VLOOKUP(B103,'[2]Level 3 - vlookup table'!$B$2:$D$97, 3, FALSE)","v":99.8467455181746},null,{"$f":"VLOOKUP(B103,'[3]Level 3 - vlookup table'!$B$2:$D$97, 3, FALSE)","v":99.904842078310196},{"$f":"VLOOKUP(B103,'[4]Level 3 - vlookup table'!$B$2:$D$97,3, FALSE)","v":99.904842078310196},{"$f":"VLOOKUP(B103,'[5]Level 3 - vlookup table'!$B$2:$D$97,3, FALSE)","v":99.904842078310196},{"$f":"VLOOKUP(B103,'[6]Level 3 - vlookup table'!$B$2:$D$97,3, FALSE)","v":99.904842078310196},null,{"$f":"VLOOKUP(B103,'[21]Level 3 - vlookup table'!$B$2:$D$97,3, FALSE)","v":99.904842078310196},{"$f":"VLOOKUP(B103,'[22]Level 3 - vlookup table'!$B$2:$D$97,3, FALSE)","v":99.904842078310196},{"$f":"VLOOKUP($B103,'[19]Level 3 - vlookup table'!$B$2:$D$97, 3, FALSE)","v":99.904842078310196},{"$f":"VLOOKUP($B103,'[10]Level 3 - vlookup table'!$B$2:$D$97, 3, FALSE)","v":99.904842078310196},{"$f":"VLOOKUP($B103,'[20]Level 3 - vlookup table'!$B$2:$D$97,3, FALSE)","v":98.796778118719004},{"$f":"VLOOKUP($B103,'[23]Level 3 - vlookup table'!$B$2:$D$97,3, FALSE)","v":98.796778118719004},{"$f":"VLOOKUP($B103,'[24]Level 3 - vlookup table'!$B$2:$D$97, 3, FALSE)","v":98.796778118719004},{"$f":"VLOOKUP($B103,'[10]Level 3 - vlookup table'!$B$2:$D$97, 3, FALSE)","v":99.904842078310196}]
[2,"073000","Transport services",null,99.454488470000001,99.454488470000001,99.454488470000001,101.6365346,null,105.186789697295,104.87894768685599,105.75700422489901,105.424410880164,null,107.33776583431801,107.798499688379,105.48436843411,100.844397761815,null,94.124439329607895,93.8892513862708,95.536212323031293,98.962952382471897,null,105.151038909194,103.118314554112,{"$f":"VLOOKUP(B104,'[1]Level 2 -vlookup table'!$B$2:$D$44,3,FALSE)","v":107.800900635419},{"$f":"VLOOKUP(B104,'[2]Level 2 - vlookup table'!$B$2:$D$44,3,FALSE)","v":107.6662718792},null,{"$f":"VLOOKUP(B104,'[3]Level 2 - vlookup table'!$B$2:$D$44,3,FALSE)","v":107.778518480439},{"$f":"VLOOKUP(B104,'[4]Level 2 - vlookup table'!$B$2:$D$44,3,FALSE)","v":104.38808446150701},{"$f":"VLOOKUP(B104,'[5]Level 2 - vlookup table'!$B$2:$D$44,3,FALSE)","v":104.974039538018},{"$f":"VLOOKUP(B104,'[6]Level 2 - vlookup table'!$B$2:$D$44,3,FALSE)","v":113.373188422966},null,{"$f":"VLOOKUP(B104,'[21]Level 2 - vlookup table'!$B$2:$D$44,3,FALSE)","v":110.590020780022},{"$f":"VLOOKUP(B104,'[22]Level 2 - vlookup table'!$B$2:$D$44,3,FALSE)","v":113.66532932481999},{"$f":"VLOOKUP($B104,'[19]Level 2 - vlookup table'!$B$2:$D$44,3,FALSE)","v":116.731708923501},{"$f":"VLOOKUP($B104,'[10]Level 2 - vlookup table'!$B$2:$D$44,3,FALSE)","v":137.00497639400001},{"$f":"VLOOKUP($B104,'[20]Level 2 - vlookup table'!$B$2:$D$44,3,FALSE)","v":133.86463752517599},{"$f":"VLOOKUP($B104,'[8]Level 2 - vlookup table'!$B$2:$D$44,3,FALSE)","v":128.90639962406701},{"$f":"VLOOKUP($B104,'[13]Level 2 - vlookup table'!$B$2:$D$44,3,FALSE)","v":128.906399624068},{"$f":"VLOOKUP($B104,'[10]Level 2 - vlookup table'!$B$2:$D$44,3,FALSE)","v":137.00497639400001}]
[3,"073100","Passenger transport by railway",null,"Not relevant","Not relevant","Not relevant","Not relevant",null,"Not relevant","Not relevant","Not relevant","Not relevant",null,"Not relevant","Not relevant","Not relevant","Not relevant",null,"Not relevant","Not relevant","Not relevant","Not relevant",null,"Not relevant","Not relevant","Not relevant","Not relevant",null,"Not relevant","Not relevant","Not relevant","Not relevant",null,"Not relevant","Not relevant","Not relevant","Not relevant","Not relevant","Not relevant","Not relevant","Not relevant"]
[3,"073200","Passenger transport by road",null,99.025717970000002,99.025717970000002,99.025717970000002,102.9228461,null,109.21659664123401,108.40856871359399,113.231964540796,114.671218165884,null,117.27866579374,117.27866579374,117.27866579374,113.807530179975,null,106.36793712601001,106.36793712601001,106.36793712601001,112.70941002796999,null,124.179500935947,119.543608276542,{"$f":"VLOOKUP(B106,'[1]Level 3 - vlookup table'!$B$2:$D$97, 3, FALSE)","v":119.524582179992},{"$f":"VLOOKUP(B106,'[2]Level 3 - vlookup table'!$B$2:$D$97, 3, FALSE)","v":119.524582179992},null,{"$f":"VLOOKUP(B106,'[3]Level 3 - vlookup table'!$B$2:$D$97, 3, FALSE)","v":119.724037278105},{"$f":"VLOOKUP(B106,'[4]Level 3 - vlookup table'!$B$2:$D$97,3, FALSE)","v":113.232922006216},{"$f":"VLOOKUP(B106,'[5]Level 3 - vlookup table'!$B$2:$D$97,3, FALSE)","v":113.232922006216},{"$f":"VLOOKUP(B106,'[6]Level 3 - vlookup table'!$B$2:$D$97,3, FALSE)","v":124.669549829602},null,{"$f":"VLOOKUP(B106,'[21]Level 3 - vlookup table'!$B$2:$D$97,3, FALSE)","v":119.72403727810401},{"$f":"VLOOKUP(B106,'[22]Level 3 - vlookup table'!$B$2:$D$97,3, FALSE)","v":124.669549829602},{"$f":"VLOOKUP($B106,'[19]Level 3 - vlookup table'!$B$2:$D$97, 3, FALSE)","v":124.669549829602},{"$f":"VLOOKUP($B106,'[10]Level 3 - vlookup table'!$B$2:$D$97, 3, FALSE)","v":156.849188945088},{"$f":"VLOOKUP($B106,'[20]Level 3 - vlookup table'!$B$2:$D$97,3, FALSE)","v":153.114595547053},{"$f":"VLOOKUP($B106,'[23]Level 3 - vlookup table'!$B$2:$D$97,3, FALSE)","v":142.86276186146199},{"$f":"VLOOKUP($B106,'[24]Level 3 - vlookup table'!$B$2:$D$97, 3, FALSE)","v":142.86276186146199},{"$f":"VLOOKUP($B106,'[10]Level 3 - vlookup table'!$B$2:$D$97, 3, FALSE)","v":156.849188945088}]
[3,"073300","Passenger transport by air",null,100,100,100,100,null,100,100,94.836838783765202,92.0480329280891,null,93.136580713166495,94.261161426990896,88.612721758688807,82.055307400142297,null,75.8721388521937,75.8721388521937,79.892118043167201,79.545451954506603,null,78.894005271858802,78.894005271858802,{"$f":"VLOOKUP(B107,'[1]Level 3 - vlookup table'!$B$2:$D$97, 3, FALSE)","v":90.349614867204394},{"$f":"VLOOKUP(B107,'[2]Level 3 - vlookup table'!$B$2:$D$97, 3, FALSE)","v":90.0210067099448},null,{"$f":"VLOOKUP(B107,'[3]Level 3 - vlookup table'!$B$2:$D$97, 3, FALSE)","v":90.021006709944899},{"$f":"VLOOKUP(B107,'[4]Level 3 - vlookup table'!$B$2:$D$97,3, FALSE)","v":90.021006709944899},{"$f":"VLOOKUP(B107,'[5]Level 3 - vlookup table'!$B$2:$D$97,3, FALSE)","v":91.4512332331404},{"$f":"VLOOKUP(B107,'[6]Level 3 - vlookup table'!$B$2:$D$97,3, FALSE)","v":96.242616612160106},null,{"$f":"VLOOKUP(B107,'[21]Level 3 - vlookup table'!$B$2:$D$97,3, FALSE)","v":96.242616612160006},{"$f":"VLOOKUP(B107,'[22]Level 3 - vlookup table'!$B$2:$D$97,3, FALSE)","v":96.242616612160006},{"$f":"VLOOKUP($B107,'[19]Level 3 - vlookup table'!$B$2:$D$97, 3, FALSE)","v":103.727179180212},{"$f":"VLOOKUP($B107,'[10]Level 3 - vlookup table'!$B$2:$D$97, 3, FALSE)","v":109.35162237926301},{"$f":"VLOOKUP($B107,'[20]Level 3 - vlookup table'!$B$2:$D$97,3, FALSE)","v":101.686536569693},{"$f":"VLOOKUP($B107,'[23]Level 3 - vlookup table'!$B$2:$D$97,3, FALSE)","v":109.568154260599},{"$f":"VLOOKUP($B107,'[24]Level 3 - vlookup table'!$B$2:$D$97, 3, FALSE)","v":109.568154260599},{"$f":"VLOOKUP($B107,'[10]Level 3 - vlookup table'!$B$2:$D$97, 3, FALSE)","v":109.35162237926301}]
[3,"073400","Passenger transport by sea and inland waterway",null,100,100,100,100,null,100,105.33368652948199,115.461840718631,115.461840718631,null,115.461840718631,115.461840718631,115.461840718631,115.461840718631,null,115.461840718631,106.921922564704,106.921922564704,106.921922564704,null,106.921922564704,127.844329717479,{"$f":"VLOOKUP(B108,'[1]Level 3 - vlookup table'!$B$2:$D$97, 3, FALSE)","v":127.844329717479},{"$f":"VLOOKUP(B108,'[2]Level 3 - vlookup table'!$B$2:$D$97, 3, FALSE)","v":127.844329717479},null,{"$f":"VLOOKUP(B108,'[3]Level 3 - vlookup table'!$B$2:$D$97, 3, FALSE)","v":127.844329717479},{"$f":"VLOOKUP(B108,'[4]Level 3 - vlookup table'!$B$2:$D$97,3, FALSE)","v":137.377672668538},{"$f":"VLOOKUP(B108,'[5]Level 3 - vlookup table'!$B$2:$D$97,3, FALSE)","v":137.377672668538},{"$f":"VLOOKUP(B108,'[6]Level 3 - vlookup table'!$B$2:$D$97,3, FALSE)","v":137.377672668538},null,{"$f":"VLOOKUP(B108,'[21]Level 3 - vlookup table'!$B$2:$D$97,3, FALSE)","v":137.377672668538},{"$f":"VLOOKUP(B108,'[22]Level 3 - vlookup table'!$B$2:$D$97,3, FALSE)","v":147.98561181647099},{"$f":"VLOOKUP($B108,'[19]Level 3 - vlookup table'!$B$2:$D$97, 3, FALSE)","v":147.98561181647099},{"$f":"VLOOKUP($B108,'[10]Level 3 - vlookup table'!$B$2:$D$97, 3, FALSE)","v":142.87853728317299},{"$f":"VLOOKUP($B108,'[20]Level 3 - vlookup table'!$B$2:$D$97,3, FALSE)","v":142.87853728317299},{"$f":"VLOOKUP($B108,'[23]Level 3 - vlookup table'!$B$2:$D$97,3, FALSE)","v":131.39701693217199},{"$f":"VLOOKUP($B108,'[24]Level 3 - vlookup table'!$B$2:$D$97, 3, FALSE)","v":131.39701693217199},{"$f":"VLOOKUP($B108,'[10]Level 3 - vlookup table'!$B$2:$D$97, 3, FALSE)","v":142.87853728317299}]
[3,"073500","Combined passenger transport",null,"Not relevant","Not relevant","Not relevant","Not relevant",null,"Not relevant","Not relevant","Not relevant","Not relevant",null,"Not relevant","Not relevant","Not relevant","Not relevant",null,"Not relevant","Not relevant","Not relevant","Not relevant",null,"Not relevant","Not relevant","Not relevant","Not relevant",null,"Not relevant","Not relevant","Not relevant","Not relevant",null,"Not relevant","Not relevant","Not relevant","Not relevant","Not relevant","Not relevant","Not relevant","Not relevant"]
[3,"073600","Other purchased transport services",null,"Not relevant","Not relevant","Not relevant","Not relevant",null,"Not relevant","Not relevant","Not relevant","Not relevant",null,"Not relevant","Not relevant","Not relevant","Not relevant",null,"Not relevant","Not relevant","Not relevant","Not relevant",null,"Not relevant","Not relevant","Not relevant","Not relevant",null,"Not relevant","Not relevant","Not relevant","Not relevant",null,"Not relevant","Not relevant","Not relevant","Not relevant","Not relevant","Not relevant","Not relevant","Not relevant"]
[1,"080000","Communication",null,99.942402740000006,99.917302550000002,100.1275114,100.0127833,null,99.534490122680197,99.537914249293905,99.170909166433503,96.815893676595493,null,97.093812276372304,97.287581662315304,97.527231143901801,99.577496739051696,null,103.19015270435,103.824436639566,104.08259440627801,104.65281584419699,null,104.64106987013299,105.24878512469699,{"$f":"VLOOKUP(B111,'[1]Level 1 - vlookup table'!$B$2:$D$13,3,FALSE)","v":105.95336092156499},{"$f":"VLOOKUP(B111,'[2]Level 1 - vlookup table'!$B$2:$D$13,3,FALSE)","v":105.14195932403599},null,{"$f":"VLOOKUP(B111,'[3]Level 1 - vlookup table'!$B$2:$D$13,3,FALSE)","v":105.398238402949},{"$f":"VLOOKUP(B111,'[4]Level 1 - vlookup table'!$B$2:$D$13,3,FALSE)","v":105.939622706954},{"$f":"VLOOKUP(B111,'[5]Level 1 - vlookup table'!$B$2:$D$13,3,FALSE)","v":106.003534640715},{"$f":"VLOOKUP(B111,'[6]Level 1 - vlookup table'!$B$2:$D$13,3,FALSE)","v":115.195268108216},null,{"$f":"VLOOKUP(B111,'[21]Level 1 - vlookup table'!$B$2:$D$13,3,FALSE)","v":115.806062888144},{"$f":"VLOOKUP($B111,'[22]Level 1 - vlookup table'!$B$2:$D$13,3,FALSE)","v":115.79526090461},{"$f":"VLOOKUP($B111,'[25]Level 1 - vlookup table'!$B$2:$D$13,3,FALSE)","v":115.806062888144},{"$f":"VLOOKUP($B111,'[10]Level 1 - vlookup table'!$B$2:$D$13,3,FALSE)","v":116.678886102699},{"$f":"VLOOKUP($B111,'[17]Level 1 - vlookup table'!$B$2:$D$13,3,FALSE)","v":117.697275610809},{"$f":"VLOOKUP($B111,'[22]Level 1 - vlookup table'!$B$2:$D$13,3,FALSE)","v":115.79526090461},{"$f":"VLOOKUP($B111,'[26]Level 1 - vlookup table'!$B$2:$D$13,3,FALSE)","v":117.354063067507},{"$f":"VLOOKUP($B111,'[14]Level 1 - vlookup table'!$B$2:$D$13,3,FALSE)","v":115.806062888144}]
[2,"081000","Postal services",null,100,100,100,100,null,100,102.10960370769401,102.10960370769401,102.10960370769401,null,102.10960370769401,94.627838630178502,94.627838630178502,94.627838630178502,null,94.627838630178502,99.971043942308498,99.971043942308498,103.384741856221,null,103.384741856221,103.38474185622201,{"$f":"VLOOKUP(B112,'[1]Level 2 -vlookup table'!$B$2:$D$44,3,FALSE)","v":103.38474185622201},{"$f":"VLOOKUP(B112,'[2]Level 2 - vlookup table'!$B$2:$D$44,3,FALSE)","v":125.88364430992701},null,{"$f":"VLOOKUP(B112,'[3]Level 2 - vlookup table'!$B$2:$D$44,3,FALSE)","v":125.883644309926},{"$f":"VLOOKUP(B112,'[4]Level 2 - vlookup table'!$B$2:$D$44,3,FALSE)","v":125.883644309926},{"$f":"VLOOKUP(B112,'[5]Level 2 - vlookup table'!$B$2:$D$44,3,FALSE)","v":125.883644309926},{"$f":"VLOOKUP(B112,'[6]Level 2 - vlookup table'!$B$2:$D$44,3,FALSE)","v":135.12102188282901},null,{"$f":"VLOOKUP(B112,'[21]Level 2 - vlookup table'!$B$2:$D$44,3,FALSE)","v":135.12102188282901},{"$f":"VLOOKUP(B112,'[22]Level 2 - vlookup table'!$B$2:$D$44,3,FALSE)","v":140.67871646889299},{"$f":"VLOOKUP($B112,'[19]Level 2 - vlookup table'!$B$2:$D$44,3,FALSE)","v":140.67871646889299},{"$f":"VLOOKUP($B112,'[10]Level 2 - vlookup table'!$B$2:$D$44,3,FALSE)","v":136.43016223822801},{"$f":"VLOOKUP($B112,'[20]Level 2 - vlookup table'!$B$2:$D$44,3,FALSE)","v":136.43016223822801},{"$f":"VLOOKUP($B112,'[8]Level 2 - vlookup table'!$B$2:$D$44,3,FALSE)","v":161.63565795432601},{"$f":"VLOOKUP($B112,'[13]Level 2 - vlookup table'!$B$2:$D$44,3,FALSE)","v":161.63565795432601},{"$f":"VLOOKUP($B112,'[10]Level 2 - vlookup table'!$B$2:$D$44,3,FALSE)","v":136.43016223822801}]
[3,"081100","Postal services",null,100,100,100,100,null,100,102.10960370769401,102.10960370769401,102.10960370769401,null,102.10960370769401,94.627838630178502,94.627838630178502,94.627838630178502,null,94.627838630178502,99.971043942308498,99.971043942308498,103.384741856221,null,103.384741856221,103.38474185622201,{"$f":"VLOOKUP(B113,'[1]Level 3 - vlookup table'!$B$2:$D$97, 3, FALSE)","v":103.38474185622201},{"$f":"VLOOKUP(B113,'[2]Level 3 - vlookup table'!$B$2:$D$97, 3, FALSE)","v":125.88364430992701},null,{"$f":"VLOOKUP(B113,'[3]Level 3 - vlookup table'!$B$2:$D$97, 3, FALSE)","v":125.883644309926},{"$f":"VLOOKUP(B113,'[4]Level 3 - vlookup table'!$B$2:$D$97,3, FALSE)","v":125.883644309926},{"$f":"VLOOKUP(B113,'[5]Level 3 - vlookup table'!$B$2:$D$97,3, FALSE)","v":125.883644309926},{"$f":"VLOOKUP(B113,'[6]Level 3 - vlookup table'!$B$2:$D$97,3, FALSE)","v":135.12102188282901},null,{"$f":"VLOOKUP(B113,'[21]Level 3 - vlookup table'!$B$2:$D$97,3, FALSE)","v":135.12102188282901},{"$f":"VLOOKUP(B113,'[22]Level 3 - vlookup table'!$B$2:$D$97,3, FALSE)","v":140.67871646889299},{"$f":"VLOOKUP($B113,'[19]Level 3 - vlookup table'!$B$2:$D$97, 3, FALSE)","v":140.67871646889299},{"$f":"VLOOKUP($B113,'[10]Level 3 - vlookup table'!$B$2:$D$97, 3, FALSE)","v":136.43016223822801},{"$f":"VLOOKUP($B113,'[20]Level 3 - vlookup table'!$B$2:$D$97,3, FALSE)","v":136.43016223822801},{"$f":"VLOOKUP($B113,'[23]Level 3 - vlookup table'!$B$2:$D$97,3, FALSE)","v":161.63565795432601},{"$f":"VLOOKUP($B113,'[24]Level 3 - vlookup table'!$B$2:$D$97, 3, FALSE)","v":161.63565795432601},{"$f":"VLOOKUP($B113,'[10]Level 3 - vlookup table'!$B$2:$D$97, 3, FALSE)","v":136.43016223822801}]
[2,"082000","Telephone and telefax equipment",null,99.145723599999997,98.773440289999996,101.8912361,100.1896,null,96.254965581475204,96.021562025707098,93.069000256236194,93.146823936233901,null,94.632203584660601,97.116549956808498,99.044533874336494,97.503348009352393,null,98.226850012513594,102.66873834475599,104.74562171254099,107.065071631376,null,102.118580437885,107.007659393868,{"$f":"VLOOKUP(B114,'[1]Level 2 -vlookup table'!$B$2:$D$44,3,FALSE)","v":112.675982963972},{"$f":"VLOOKUP(B114,'[2]Level 2 - vlookup table'!$B$2:$D$44,3,FALSE)","v":112.352339538447},null,{"$f":"VLOOKUP(B114,'[3]Level 2 - vlookup table'!$B$2:$D$44,3,FALSE)","v":114.41410883280101},{"$f":"VLOOKUP(B114,'[4]Level 2 - vlookup table'!$B$2:$D$44,3,FALSE)","v":118.769554229196},{"$f":"VLOOKUP(B114,'[5]Level 2 - vlookup table'!$B$2:$D$44,3,FALSE)","v":119.283726759899},{"$f":"VLOOKUP(B114,'[6]Level 2 - vlookup table'!$B$2:$D$44,3,FALSE)","v":114.609549140992},null,{"$f":"VLOOKUP(B114,'[21]Level 2 - vlookup table'!$B$2:$D$44,3,FALSE)","v":119.52340292785},{"$f":"VLOOKUP(B114,'[22]Level 2 - vlookup table'!$B$2:$D$44,3,FALSE)","v":118.749033128127},{"$f":"VLOOKUP($B114,'[19]Level 2 - vlookup table'!$B$2:$D$44,3,FALSE)","v":116.395013970002},{"$f":"VLOOKUP($B114,'[10]Level 2 - vlookup table'!$B$2:$D$44,3,FALSE)","v":112.54533127121501},{"$f":"VLOOKUP($B114,'[20]Level 2 - vlookup table'!$B$2:$D$44,3,FALSE)","v":120.73829117423},{"$f":"VLOOKUP($B114,'[8]Level 2 - vlookup table'!$B$2:$D$44,3,FALSE)","v":118.26426956631001},{"$f":"VLOOKUP($B114,'[13]Level 2 - vlookup table'!$B$2:$D$44,3,FALSE)","v":114.85930780141},{"$f":"VLOOKUP($B114,'[10]Level 2 - vlookup table'!$B$2:$D$44,3,FALSE)","v":112.54533127121501}]
[3,"082100","Telephone and telefax equipment",null,99.145723599999997,98.773440289999996,101.8912361,100.1896,null,96.254965581475204,96.021562025707098,93.069000256236194,93.146823936233901,null,94.632203584660601,97.116549956808498,99.044533874336494,97.503348009352393,null,98.226850012513594,102.66873834475599,104.74562171254099,107.065071631376,null,102.118580437885,107.007659393868,{"$f":"VLOOKUP(B115,'[1]Level 3 - vlookup table'!$B$2:$D$97, 3, FALSE)","v":112.675982963972},{"$f":"VLOOKUP(B115,'[2]Level 3 - vlookup table'!$B$2:$D$97, 3, FALSE)","v":112.352339538447},null,{"$f":"VLOOKUP(B115,'[3]Level 3 - vlookup table'!$B$2:$D$97, 3, FALSE)","v":114.41410883280101},{"$f":"VLOOKUP(B115,'[4]Level 3 - vlookup table'!$B$2:$D$97,3, FALSE)","v":118.769554229196},{"$f":"VLOOKUP(B115,'[5]Level 3 - vlookup table'!$B$2:$D$97,3, FALSE)","v":119.283726759899},{"$f":"VLOOKUP(B115,'[6]Level 3 - vlookup table'!$B$2:$D$97,3, FALSE)","v":114.609549140992},null,{"$f":"VLOOKUP(B115,'[21]Level 3 - vlookup table'!$B$2:$D$97,3, FALSE)","v":119.52340292785},{"$f":"VLOOKUP(B115,'[22]Level 3 - vlookup table'!$B$2:$D$97,3, FALSE)","v":118.749033128127},{"$f":"VLOOKUP($B115,'[19]Level 3 - vlookup table'!$B$2:$D$97, 3, FALSE)","v":116.395013970002},{"$f":"VLOOKUP($B115,'[10]Level 3 - vlookup table'!$B$2:$D$97, 3, FALSE)","v":112.54533127121501},{"$f":"VLOOKUP($B115,'[20]Level 3 - vlookup table'!$B$2:$D$97,3, FALSE)","v":120.73829117423},{"$f":"VLOOKUP($B115,'[23]Level 3 - vlookup table'!$B$2:$D$97,3, FALSE)","v":118.26426956631001},{"$f":"VLOOKUP($B115,'[24]Level 3 - vlookup table'!$B$2:$D$97, 3, FALSE)","v":114.85930780141},{"$f":"VLOOKUP($B115,'[10]Level 3 - vlookup table'!$B$2:$D$97, 3, FALSE)","v":112.54533127121501}]
[2,"083000","Telephone and telefax services",null,100,100,100,100,null,100,100,100,97.251396772166103,null,97.3598269554589,97.3598269554589,97.3598269554589,99.965631457694798,null,104.060280354368,104.060280354368,104.060280354368,104.32695320817901,null,105.027974837209,105.027974837209,{"$f":"VLOOKUP(B116,'[1]Level 2 -vlookup table'!$B$2:$D$44,3,FALSE)","v":105.027974837209},{"$f":"VLOOKUP(B116,'[2]Level 2 - vlookup table'!$B$2:$D$44,3,FALSE)","v":103.72950390593699},null,{"$f":"VLOOKUP(B116,'[3]Level 2 - vlookup table'!$B$2:$D$44,3,FALSE)","v":103.72950390593699},{"$f":"VLOOKUP(B116,'[4]Level 2 - vlookup table'!$B$2:$D$44,3,FALSE)","v":103.72950390593699},{"$f":"VLOOKUP(B116,'[5]Level 2 - vlookup table'!$B$2:$D$44,3,FALSE)","v":103.72950390593699},{"$f":"VLOOKUP(B116,'[6]Level 2 - vlookup table'!$B$2:$D$44,3,FALSE)","v":114.923784018585},null,{"$f":"VLOOKUP(B116,'[21]Level 2 - vlookup table'!$B$2:$D$44,3,FALSE)","v":114.923784018585},{"$f":"VLOOKUP(B116,'[22]Level 2 - vlookup table'!$B$2:$D$44,3,FALSE)","v":114.923784018585},{"$f":"VLOOKUP($B116,'[19]Level 2 - vlookup table'!$B$2:$D$44,3,FALSE)","v":114.923784018585},{"$f":"VLOOKUP($B116,'[10]Level 2 - vlookup table'!$B$2:$D$44,3,FALSE)","v":116.92311555104099},{"$f":"VLOOKUP($B116,'[20]Level 2 - vlookup table'!$B$2:$D$44,3,FALSE)","v":116.92311555104099},{"$f":"VLOOKUP($B116,'[8]Level 2 - vlookup table'!$B$2:$D$44,3,FALSE)","v":116.92311555104099},{"$f":"VLOOKUP($B116,'[13]Level 2 - vlookup table'!$B$2:$D$44,3,FALSE)","v":116.92311555104099},{"$f":"VLOOKUP($B116,'[10]Level 2 - vlookup table'!$B$2:$D$44,3,FALSE)","v":116.92311555104099}]
[3,"083100","Telephone and telefax services",null,100,100,100,100,null,100,100,100,97.251396772166103,null,97.3598269554589,97.3598269554589,97.3598269554589,99.965631457694798,null,104.060280354368,104.060280354368,104.060280354368,104.32695320817901,null,105.027974837209,105.027974837209,{"$f":"VLOOKUP(B117,'[1]Level 3 - vlookup table'!$B$2:$D$97, 3, FALSE)","v":105.027974837209},{"$f":"VLOOKUP(B117,'[2]Level 3 - vlookup table'!$B$2:$D$97, 3, FALSE)","v":103.72950390593699},null,{"$f":"VLOOKUP(B117,'[3]Level 3 - vlookup table'!$B$2:$D$97, 3, FALSE)","v":103.72950390593699},{"$f":"VLOOKUP(B117,'[4]Level 3 - vlookup table'!$B$2:$D$97,3, FALSE)","v":103.72950390593699},{"$f":"VLOOKUP(B117,'[5]Level 3 - vlookup table'!$B$2:$D$97,3, FALSE)","v":103.72950390593699},{"$f":"VLOOKUP(B117,'[6]Level 3 - vlookup table'!$B$2:$D$97,3, FALSE)","v":114.923784018585},null,{"$f":"VLOOKUP(B117,'[21]Level 3 - vlookup table'!$B$2:$D$97,3, FALSE)","v":114.923784018585},{"$f":"VLOOKUP(B117,'[22]Level 3 - vlookup table'!$B$2:$D$97,3, FALSE)","v":114.923784018585},{"$f":"VLOOKUP($B117,'[19]Level 3 - vlookup table'!$B$2:$D$97, 3, FALSE)","v":114.923784018585},{"$f":"VLOOKUP($B117,'[10]Level 3 - vlookup table'!$B$2:$D$97, 3, FALSE)","v":116.92311555104099},{"$f":"VLOOKUP($B117,'[20]Level 3 - vlookup table'!$B$2:$D$97,3, FALSE)","v":116.92311555104099},{"$f":"VLOOKUP($B117,'[23]Level 3 - vlookup table'!$B$2:$D$97,3, FALSE)","v":116.92311555104099},{"$f":"VLOOKUP($B117,'[24]Level 3 - vlookup table'!$B$2:$D$97, 3, FALSE)","v":116.92311555104099},{"$f":"VLOOKUP($B117,'[10]Level 3 - vlookup table'!$B$2:$D$97, 3, FALSE)","v":116.92311555104099}]
[1,"090000","Recreation and culture",null,100.4890869,100.6416827,99.784414240000004,99.084816140000001,null,100.506850226471,100.191052515666,100.855481212564,104.16316781730001,null,104.970870411766,105.90716531654,105.07587095886799,102.202643294818,null,99.442965333857202,100.63831281777,101.39210324473299,105.781055124948,null,106.48324208311701,107.094230112773,{"$f":"VLOOKUP(B118,'[1]Level 1 - vlookup table'!$B$2:$D$13,3,FALSE)","v":108.840595059921},{"$f":"VLOOKUP(B118,'[2]Level 1 - vlookup table'!$B$2:$D$13,3,FALSE)","v":108.44324083643799},null,{"$f":"VLOOKUP(B118,'[3]Level 1 - vlookup table'!$B$2:$D$13,3,FALSE)","v":109.923513505488},{"$f":"VLOOKUP(B118,'[4]Level 1 - vlookup table'!$B$2:$D$13,3,FALSE)","v":110.38174428947499},{"$f":"VLOOKUP(B118,'[5]Level 1 - vlookup table'!$B$2:$D$13,3,FALSE)","v":114.908747249093},{"$f":"VLOOKUP(B118,'[6]Level 1 - vlookup table'!$B$2:$D$13,3,FALSE)","v":109.612081209726},null,{"$f":"VLOOKUP(B118,'[21]Level 1 - vlookup table'!$B$2:$D$13,3,FALSE)","v":108.474413840675},{"$f":"VLOOKUP($B118,'[22]Level 1 - vlookup table'!$B$2:$D$13,3,FALSE)","v":107.378989820003},{"$f":"VLOOKUP($B118,'[25]Level 1 - vlookup table'!$B$2:$D$13,3,FALSE)","v":108.474413840675},{"$f":"VLOOKUP($B118,'[10]Level 1 - vlookup table'!$B$2:$D$13,3,FALSE)","v":111.561546219584},{"$f":"VLOOKUP($B118,'[17]Level 1 - vlookup table'!$B$2:$D$13,3,FALSE)","v":112.16495540473301},{"$f":"VLOOKUP($B118,'[22]Level 1 - vlookup table'!$B$2:$D$13,3,FALSE)","v":107.378989820003},{"$f":"VLOOKUP($B118,'[26]Level 1 - vlookup table'!$B$2:$D$13,3,FALSE)","v":110.731792347652},{"$f":"VLOOKUP($B118,'[14]Level 1 - vlookup table'!$B$2:$D$13,3,FALSE)","v":108.474413840675}]
[2,"091000","Audio-visual, photographic and information processing equipment",null,105.09633719999999,104.5675506,97.839606070000002,92.496506150000002,null,102.98812358641599,99.517969399730603,103.81027620879701,107.40233128323899,null,105.872731602683,102.231960469931,102.243156893227,101.21826862571299,null,100.159763634407,101.876836727534,102.913537846729,104.497871606384,null,108.32860482435601,107.12221264050601,{"$f":"VLOOKUP(B119,'[1]Level 2 -vlookup table'!$B$2:$D$44,3,FALSE)","v":105.488921555831},{"$f":"VLOOKUP(B119,'[2]Level 2 - vlookup table'!$B$2:$D$44,3,FALSE)","v":106.229014265575},null,{"$f":"VLOOKUP(B119,'[3]Level 2 - vlookup table'!$B$2:$D$44,3,FALSE)","v":110.06042343583501},{"$f":"VLOOKUP(B119,'[4]Level 2 - vlookup table'!$B$2:$D$44,3,FALSE)","v":113.743475652068},{"$f":"VLOOKUP(B119,'[5]Level 2 - vlookup table'!$B$2:$D$44,3,FALSE)","v":117.52391404148},{"$f":"VLOOKUP(B119,'[6]Level 2 - vlookup table'!$B$2:$D$44,3,FALSE)","v":103.756409150411},null,{"$f":"VLOOKUP(B119,'[21]Level 2 - vlookup table'!$B$2:$D$44,3,FALSE)","v":101.729433491582},{"$f":"VLOOKUP(B119,'[22]Level 2 - vlookup table'!$B$2:$D$44,3,FALSE)","v":100.340511783292},{"$f":"VLOOKUP($B119,'[19]Level 2 - vlookup table'!$B$2:$D$44,3,FALSE)","v":98.279759927675101},{"$f":"VLOOKUP($B119,'[10]Level 2 - vlookup table'!$B$2:$D$44,3,FALSE)","v":88.410783024584404},{"$f":"VLOOKUP($B119,'[20]Level 2 - vlookup table'!$B$2:$D$44,3,FALSE)","v":89.132527300849304},{"$f":"VLOOKUP($B119,'[8]Level 2 - vlookup table'!$B$2:$D$44,3,FALSE)","v":89.568916902783698},{"$f":"VLOOKUP($B119,'[13]Level 2 - vlookup table'!$B$2:$D$44,3,FALSE)","v":87.365790704665599},{"$f":"VLOOKUP($B119,'[10]Level 2 - vlookup table'!$B$2:$D$44,3,FALSE)","v":88.410783024584404}]
[3,"091100","Equipment for the reception, recording and reproduction of sounds",null,99.958248139999995,95.874869540000006,102.288918,101.8779643,null,97.883907008046904,101.99891107649999,104.478201242404,102.19650385360301,null,102.29598199702301,85.732207253344995,86.002400207475901,84.895191208632099,null,82.174900023904101,82.812822643876103,85.265073825114001,91.270428535250801,null,93.226281987463594,91.788678723693593,{"$f":"VLOOKUP(B120,'[1]Level 3 - vlookup table'!$B$2:$D$97, 3, FALSE)","v":91.418349024060504},{"$f":"VLOOKUP(B120,'[2]Level 3 - vlookup table'!$B$2:$D$97, 3, FALSE)","v":89.609495956937394},null,{"$f":"VLOOKUP(B120,'[3]Level 3 - vlookup table'!$B$2:$D$97, 3, FALSE)","v":89.358216761057406},{"$f":"VLOOKUP(B120,'[4]Level 3 - vlookup table'!$B$2:$D$97,3, FALSE)","v":83.364600577409306},{"$f":"VLOOKUP(B120,'[5]Level 3 - vlookup table'!$B$2:$D$97,3, FALSE)","v":83.216974761447204},{"$f":"VLOOKUP(B120,'[6]Level 3 - vlookup table'!$B$2:$D$97,3, FALSE)","v":80.213404486764404},null,{"$f":"VLOOKUP(B120,'[21]Level 3 - vlookup table'!$B$2:$D$97,3, FALSE)","v":82.417116347245596},{"$f":"VLOOKUP(B120,'[22]Level 3 - vlookup table'!$B$2:$D$97,3, FALSE)","v":79.532724653267607},{"$f":"VLOOKUP($B120,'[19]Level 3 - vlookup table'!$B$2:$D$97, 3, FALSE)","v":79.532724653267607},{"$f":"VLOOKUP($B120,'[10]Level 3 - vlookup table'!$B$2:$D$97, 3, FALSE)","v":83.439101749992801},{"$f":"VLOOKUP($B120,'[20]Level 3 - vlookup table'!$B$2:$D$97,3, FALSE)","v":86.850740842966005},{"$f":"VLOOKUP($B120,'[23]Level 3 - vlookup table'!$B$2:$D$97,3, FALSE)","v":85.802141337335101},{"$f":"VLOOKUP($B120,'[24]Level 3 - vlookup table'!$B$2:$D$97, 3, FALSE)","v":84.704335856294193},{"$f":"VLOOKUP($B120,'[10]Level 3 - vlookup table'!$B$2:$D$97, 3, FALSE)","v":83.439101749992801}]
[3,"091200","Photographic and cinematographic equipment and optical instruments",null,112.73745700000001,116.3215316,116.3215316,54.619479849999998,null,54.619479849999998,53.387966085557501,53.387966085557501,51.8362915543347,null,55.793372229799701,54.748965163827599,53.743969983571098,53.743969983571098,null,53.743969983571098,53.743969983571098,51.168628743039903,49.754618592721997,null,80.994458616587593,85.591372090746205,{"$f":"VLOOKUP(B121,'[1]Level 3 - vlookup table'!$B$2:$D$97, 3, FALSE)","v":90.242277224714201},{"$f":"VLOOKUP(B121,'[2]Level 3 - vlookup table'!$B$2:$D$97, 3, FALSE)","v":86.564820022288899},null,{"$f":"VLOOKUP(B121,'[3]Level 3 - vlookup table'!$B$2:$D$97, 3, FALSE)","v":78.053317136014002},{"$f":"VLOOKUP(B121,'[4]Level 3 - vlookup table'!$B$2:$D$97,3, FALSE)","v":76.445179388460602},{"$f":"VLOOKUP(B121,'[5]Level 3 - vlookup table'!$B$2:$D$97,3, FALSE)","v":71.234744105262095},{"$f":"VLOOKUP(B121,'[6]Level 3 - vlookup table'!$B$2:$D$97,3, FALSE)","v":65.435753342658202},null,{"$f":"VLOOKUP(B121,'[21]Level 3 - vlookup table'!$B$2:$D$97,3, FALSE)","v":65.034948305587406},{"$f":"VLOOKUP(B121,'[22]Level 3 - vlookup table'!$B$2:$D$97,3, FALSE)","v":72.440360139899099},{"$f":"VLOOKUP($B121,'[19]Level 3 - vlookup table'!$B$2:$D$97, 3, FALSE)","v":71.512441491971899},{"$f":"VLOOKUP($B121,'[10]Level 3 - vlookup table'!$B$2:$D$97, 3, FALSE)","v":74.090610560202805},{"$f":"VLOOKUP($B121,'[20]Level 3 - vlookup table'!$B$2:$D$97,3, FALSE)","v":61.797454996897599},{"$f":"VLOOKUP($B121,'[23]Level 3 - vlookup table'!$B$2:$D$97,3, FALSE)","v":65.558554548446295},{"$f":"VLOOKUP($B121,'[24]Level 3 - vlookup table'!$B$2:$D$97, 3, FALSE)","v":66.206382088795607},{"$f":"VLOOKUP($B121,'[10]Level 3 - vlookup table'!$B$2:$D$97, 3, FALSE)","v":74.090610560202805}]
[3,"091300","Information processing equipment",null,106.9576977,106.57519120000001,92.178134139999997,94.288976959999999,null,113.443665832769,106.887644658824,113.585644244127,120.40339187999901,null,117.20252088952,116.920329612358,117.351652598965,116.296652637851,null,115.427092545977,117.983968428266,119.22994333774101,120.560898972473,null,121.97965235562999,119.96412962938101,{"$f":"VLOOKUP(B122,'[1]Level 3 - vlookup table'!$B$2:$D$97, 3, FALSE)","v":117.39338696774701},{"$f":"VLOOKUP(B122,'[2]Level 3 - vlookup table'!$B$2:$D$97, 3, FALSE)","v":119.66075360263601},null,{"$f":"VLOOKUP(B122,'[3]Level 3 - vlookup table'!$B$2:$D$97, 3, FALSE)","v":127.105222539072},{"$f":"VLOOKUP(B122,'[4]Level 3 - vlookup table'!$B$2:$D$97,3, FALSE)","v":135.24995839116201},{"$f":"VLOOKUP(B122,'[5]Level 3 - vlookup table'!$B$2:$D$97,3, FALSE)","v":142.13289227364899},{"$f":"VLOOKUP(B122,'[6]Level 3 - vlookup table'!$B$2:$D$97,3, FALSE)","v":121.85225747323101},null,{"$f":"VLOOKUP(B122,'[21]Level 3 - vlookup table'!$B$2:$D$97,3, FALSE)","v":118.298005294075},{"$f":"VLOOKUP(B122,'[22]Level 3 - vlookup table'!$B$2:$D$97,3, FALSE)","v":116.014403931321},{"$f":"VLOOKUP($B122,'[19]Level 3 - vlookup table'!$B$2:$D$97, 3, FALSE)","v":112.800115573711},{"$f":"VLOOKUP($B122,'[10]Level 3 - vlookup table'!$B$2:$D$97, 3, FALSE)","v":95.082721954749104},{"$f":"VLOOKUP($B122,'[20]Level 3 - vlookup table'!$B$2:$D$97,3, FALSE)","v":96.999586886768199},{"$f":"VLOOKUP($B122,'[23]Level 3 - vlookup table'!$B$2:$D$97,3, FALSE)","v":97.048728359261801},{"$f":"VLOOKUP($B122,'[24]Level 3 - vlookup table'!$B$2:$D$97, 3, FALSE)","v":94.366057598891402},{"$f":"VLOOKUP($B122,'[10]Level 3 - vlookup table'!$B$2:$D$97, 3, FALSE)","v":95.082721954749104}]
[3,"091400","Recording media",null,100.6490725,104.9716014,109.1972028,85.182123349999998,null,88.091548872934496,86.076414076435199,81.607972868962804,81.424061344339606,null,82.440728943127695,81.966144803642507,79.023349492963305,77.007385836420198,null,77.352176678283499,77.5200651282275,77.5200651282275,75.793802814085296,null,73.4610482208072,72.434441079355906,{"$f":"VLOOKUP(B123,'[1]Level 3 - vlookup table'!$B$2:$D$97, 3, FALSE)","v":67.352450886837005},{"$f":"VLOOKUP(B123,'[2]Level 3 - vlookup table'!$B$2:$D$97, 3, FALSE)","v":67.746639219719498},null,{"$f":"VLOOKUP(B123,'[3]Level 3 - vlookup table'!$B$2:$D$97, 3, FALSE)","v":68.275297820878095},{"$f":"VLOOKUP(B123,'[4]Level 3 - vlookup table'!$B$2:$D$97,3, FALSE)","v":68.444470488990703},{"$f":"VLOOKUP(B123,'[5]Level 3 - vlookup table'!$B$2:$D$97,3, FALSE)","v":68.773106901118098},{"$f":"VLOOKUP(B123,'[6]Level 3 - vlookup table'!$B$2:$D$97,3, FALSE)","v":66.715628602007499},null,{"$f":"VLOOKUP(B123,'[21]Level 3 - vlookup table'!$B$2:$D$97,3, FALSE)","v":63.445463085645599},{"$f":"VLOOKUP(B123,'[22]Level 3 - vlookup table'!$B$2:$D$97,3, FALSE)","v":62.795906908049901},{"$f":"VLOOKUP($B123,'[19]Level 3 - vlookup table'!$B$2:$D$97, 3, FALSE)","v":62.816732699866698},{"$f":"VLOOKUP($B123,'[10]Level 3 - vlookup table'!$B$2:$D$97, 3, FALSE)","v":63.309087228489901},{"$f":"VLOOKUP($B123,'[20]Level 3 - vlookup table'!$B$2:$D$97,3, FALSE)","v":62.371813835709197},{"$f":"VLOOKUP($B123,'[23]Level 3 - vlookup table'!$B$2:$D$97,3, FALSE)","v":67.6525026387759},{"$f":"VLOOKUP($B123,'[24]Level 3 - vlookup table'!$B$2:$D$97, 3, FALSE)","v":62.524891060757},{"$f":"VLOOKUP($B123,'[10]Level 3 - vlookup table'!$B$2:$D$97, 3, FALSE)","v":63.309087228489901}]
[3,"091500","Repair of audio-visual, photographic and information processing eq",null,100,100,100,100,null,100,100,100,100,null,100,100,100,100,null,100,100,100,90,null,90,90,{"$f":"VLOOKUP(B124,'[1]Level 3 - vlookup table'!$B$2:$D$97, 3, FALSE)","v":90},{"$f":"VLOOKUP(B124,'[2]Level 3 - vlookup table'!$B$2:$D$97, 3, FALSE)","v":90},null,{"$f":"VLOOKUP(B124,'[3]Level 3 - vlookup table'!$B$2:$D$97, 3, FALSE)","v":90},{"$f":"VLOOKUP(B124,'[4]Level 3 - vlookup table'!$B$2:$D$97,3, FALSE)","v":90},{"$f":"VLOOKUP(B124,'[5]Level 3 - vlookup table'!$B$2:$D$97,3, FALSE)","v":90},{"$f":"VLOOKUP(B124,'[6]Level 3 - vlookup table'!$B$2:$D$97,3, FALSE)","v":90},null,{"$f":"VLOOKUP(B124,'[21]Level 3 - vlookup table'!$B$2:$D$97,3, FALSE)","v":90},{"$f":"VLOOKUP(B124,'[22]Level 3 - vlookup table'!$B$2:$D$97,3, FALSE)","v":90},{"$f":"VLOOKUP($B124,'[19]Level 3 - vlookup table'!$B$2:$D$97, 3, FALSE)","v":90},{"$f":"VLOOKUP($B124,'[10]Level 3 - vlookup table'!$B$2:$D$97, 3, FALSE)","v":90},{"$f":"VLOOKUP($B124,'[20]Level 3 - vlookup table'!$B$2:$D$97,3, FALSE)","v":90},{"$f":"VLOOKUP($B124,'[23]Level 3 - vlookup table'!$B$2:$D$97,3, FALSE)","v":84.375},{"$f":"VLOOKUP($B124,'[24]Level 3 - vlookup table'!$B$2:$D$97, 3, FALSE)","v":84.375},{"$f":"VLOOKUP($B124,'[10]Level 3 - vlookup table'!$B$2:$D$97, 3, FALSE)","v":90}]
[2,"092000","Other major durables for recreation and culture",null,"Not relevant","Not relevant","Not relevant","Not relevant",null,"Not relevant","Not relevant","Not relevant","Not relevant",null,"Not relevant","Not relevant","Not relevant","Not relevant",null,"Not relevant","Not relevant","Not relevant","Not relevant",null,"Not relevant","Not available","Not available","Not available",null,"Not available","Not available","Not available","Not available",null,"Not available","Not available","Not available","Not available","Not available","Not available","Not available","Not available"]
[3,"092100","Major durables for outdoor recreation",null,"Not relevant","Not relevant","Not relevant","Not relevant",null,"Not relevant","Not relevant","Not relevant","Not relevant",null,"Not relevant","Not relevant","Not relevant","Not relevant",null,"Not relevant","Not relevant","Not relevant","Not relevant",null,"Not relevant","Not relevant","Not relevant","Not relevant",null,"Not relevant","Not relevant","Not relevant","Not relevant",null,"Not relevant","Not relevant","Not relevant","Not relevant","Not relevant","Not relevant","Not relevant","Not relevant"]
[3,"092200","Musical instruments and major durables for indoor recreation",null,"Not relevant","Not relevant","Not relevant","Not relevant",null,"Not relevant","Not relevant","Not relevant","Not relevant",null,"Not relevant","Not relevant","Not relevant","Not relevant",null,"Not relevant","Not relevant","Not relevant","Not relevant",null,"Not relevant","Not relevant","Not relevant","Not relevant",null,"Not relevant","Not relevant","Not relevant","Not relevant",null,"Not relevant","Not relevant","Not relevant","Not relevant","Not relevant","Not relevant","Not relevant","Not relevant"]
[3,"092300","Maintenance and repair of other major durables for recreation and",null,"Not relevant","Not relevant","Not relevant","Not relevant",null,"Not relevant","Not relevant","Not relevant","Not relevant",null,"Not relevant","Not relevant","Not relevant","Not relevant",null,"Not relevant","Not relevant","Not relevant","Not relevant",null,"Not relevant","Not relevant","Not relevant","Not relevant",null,"Not relevant","Not relevant","Not relevant","Not relevant",null,"Not relevant","Not relevant","Not relevant","Not relevant","Not relevant","Not relevant","Not relevant","Not relevant"]
[2,"093000","Other recreational items and equipment, gardens and pets",null,98.081681720000006,100.0683976,100.57043090000001,101.27948979999999,null,101.694221986722,102.95655444379599,102.41380883874599,106.616545381804,null,105.820122974529,107.35892725546699,104.697797128015,100.651169453615,null,99.401362968128296,99.984835010879905,101.235367432506,103.747509203037,null,103.631373714291,106.61899569003501,{"$f":"VLOOKUP(B129,'[1]Level 2 -vlookup table'!$B$2:$D$44,3,FALSE)","v":110.91336976145899},{"$f":"VLOOKUP(B129,'[2]Level 2 - vlookup table'!$B$2:$D$44,3,FALSE)","v":106.10993274397499},null,{"$f":"VLOOKUP(B129,'[3]Level 2 - vlookup table'!$B$2:$D$44,3,FALSE)","v":108.54450366038},{"$f":"VLOOKUP(B129,'[4]Level 2 - vlookup table'!$B$2:$D$44,3,FALSE)","v":107.611698756525},{"$f":"VLOOKUP(B129,'[5]Level 2 - vlookup table'!$B$2:$D$44,3,FALSE)","v":111.307939461101},{"$f":"VLOOKUP(B129,'[6]Level 2 - vlookup table'!$B$2:$D$44,3,FALSE)","v":111.607007873927},null,{"$f":"VLOOKUP(B129,'[21]Level 2 - vlookup table'!$B$2:$D$44,3,FALSE)","v":108.745605283725},{"$f":"VLOOKUP(B129,'[22]Level 2 - vlookup table'!$B$2:$D$44,3,FALSE)","v":106.007212264872},{"$f":"VLOOKUP($B129,'[19]Level 2 - vlookup table'!$B$2:$D$44,3,FALSE)","v":108.78749883758999},{"$f":"VLOOKUP($B129,'[10]Level 2 - vlookup table'!$B$2:$D$44,3,FALSE)","v":112.55102901039},{"$f":"VLOOKUP($B129,'[20]Level 2 - vlookup table'!$B$2:$D$44,3,FALSE)","v":113.813929678346},{"$f":"VLOOKUP($B129,'[8]Level 2 - vlookup table'!$B$2:$D$44,3,FALSE)","v":112.301875707544},{"$f":"VLOOKUP($B129,'[13]Level 2 - vlookup table'!$B$2:$D$44,3,FALSE)","v":112.30044910972001},{"$f":"VLOOKUP($B129,'[10]Level 2 - vlookup table'!$B$2:$D$44,3,FALSE)","v":112.55102901039}]
[3,"093100","Games, toys and hobbies",null,96.924989229999994,100.74365349999999,100.1123807,102.2189765,null,104.96769824955,104.59876577658,102.641118632744,115.88597629102,null,111.70314920033999,114.838467341398,107.347277069082,99.147191938941006,null,95.640079300171806,94.831961571124396,98.594691663195604,106.06438160174601,null,103.868070164204,112.02835270134401,{"$f":"VLOOKUP(B130,'[1]Level 3 - vlookup table'!$B$2:$D$97, 3, FALSE)","v":120.80298314228899},{"$f":"VLOOKUP(B130,'[2]Level 3 - vlookup table'!$B$2:$D$97, 3, FALSE)","v":104.63010121499001},null,{"$f":"VLOOKUP(B130,'[3]Level 3 - vlookup table'!$B$2:$D$97, 3, FALSE)","v":111.495480175765},{"$f":"VLOOKUP(B130,'[4]Level 3 - vlookup table'!$B$2:$D$97,3, FALSE)","v":109.066202955138},{"$f":"VLOOKUP(B130,'[5]Level 3 - vlookup table'!$B$2:$D$97,3, FALSE)","v":109.994417470508},{"$f":"VLOOKUP(B130,'[6]Level 3 - vlookup table'!$B$2:$D$97,3, FALSE)","v":99.009137428913704},null,{"$f":"VLOOKUP(B130,'[21]Level 3 - vlookup table'!$B$2:$D$97,3, FALSE)","v":102.688833811477},{"$f":"VLOOKUP(B130,'[22]Level 3 - vlookup table'!$B$2:$D$97,3, FALSE)","v":97.676192573908295},{"$f":"VLOOKUP($B130,'[19]Level 3 - vlookup table'!$B$2:$D$97, 3, FALSE)","v":104.040134342388},{"$f":"VLOOKUP($B130,'[10]Level 3 - vlookup table'!$B$2:$D$97, 3, FALSE)","v":109.494067557194},{"$f":"VLOOKUP($B130,'[20]Level 3 - vlookup table'!$B$2:$D$97,3, FALSE)","v":112.236450133275},{"$f":"VLOOKUP($B130,'[23]Level 3 - vlookup table'!$B$2:$D$97,3, FALSE)","v":109.356203457296},{"$f":"VLOOKUP($B130,'[24]Level 3 - vlookup table'!$B$2:$D$97, 3, FALSE)","v":109.356203457296},{"$f":"VLOOKUP($B130,'[10]Level 3 - vlookup table'!$B$2:$D$97, 3, FALSE)","v":109.494067557194}]
[3,"093200","Equipment for sport, camping and open-air recreation",null,111.9518374,96.016054199999999,96.016054199999999,96.016054199999999,null,96.016054199999999,113.85583769097001,113.85583769097001,122.71391533532,null,117.446484971983,123.704124794042,118.003102168759,114.471282943811,null,113.989273617088,118.25390158987599,112.168115697964,122.54852024148001,null,132.64477562855399,121.654333570681,{"$f":"VLOOKUP(B131,'[1]Level 3 - vlookup table'!$B$2:$D$97, 3, FALSE)","v":137.26465685122901},{"$f":"VLOOKUP(B131,'[2]Level 3 - vlookup table'!$B$2:$D$97, 3, FALSE)","v":129.566715093417},null,{"$f":"VLOOKUP(B131,'[3]Level 3 - vlookup table'!$B$2:$D$97, 3, FALSE)","v":126.582113164983},{"$f":"VLOOKUP(B131,'[4]Level 3 - vlookup table'!$B$2:$D$97,3, FALSE)","v":112.56187677455399},{"$f":"VLOOKUP(B131,'[5]Level 3 - vlookup table'!$B$2:$D$97,3, FALSE)","v":118.300030918681},{"$f":"VLOOKUP(B131,'[6]Level 3 - vlookup table'!$B$2:$D$97,3, FALSE)","v":115.27336061387101},null,{"$f":"VLOOKUP(B131,'[21]Level 3 - vlookup table'!$B$2:$D$97,3, FALSE)","v":119.722000009971},{"$f":"VLOOKUP(B131,'[22]Level 3 - vlookup table'!$B$2:$D$97,3, FALSE)","v":131.01894779651201},{"$f":"VLOOKUP($B131,'[19]Level 3 - vlookup table'!$B$2:$D$97, 3, FALSE)","v":136.98478993032401},{"$f":"VLOOKUP($B131,'[10]Level 3 - vlookup table'!$B$2:$D$97, 3, FALSE)","v":132.11470935264299},{"$f":"VLOOKUP($B131,'[20]Level 3 - vlookup table'!$B$2:$D$97,3, FALSE)","v":125.094475278819},{"$f":"VLOOKUP($B131,'[23]Level 3 - vlookup table'!$B$2:$D$97,3, FALSE)","v":125.522388289156},{"$f":"VLOOKUP($B131,'[24]Level 3 - vlookup table'!$B$2:$D$97, 3, FALSE)","v":125.468788700285},{"$f":"VLOOKUP($B131,'[10]Level 3 - vlookup table'!$B$2:$D$97, 3, FALSE)","v":132.11470935264299}]
[3,"093300","Gardens, plants and flowers",null,100,100,100,100,null,100,100,100,97.4368256455883,null,107.131286389774,110.237184242059,106.73669467557301,106.73669467557301,null,106.73669467557301,106.73669467557301,106.73669467557301,106.73669467557301,null,106.73669467557301,106.73669467557301,{"$f":"VLOOKUP(B132,'[1]Level 3 - vlookup table'!$B$2:$D$97, 3, FALSE)","v":106.73669467557301},{"$f":"VLOOKUP(B132,'[2]Level 3 - vlookup table'!$B$2:$D$97, 3, FALSE)","v":103.117443679115},null,{"$f":"VLOOKUP(B132,'[3]Level 3 - vlookup table'!$B$2:$D$97, 3, FALSE)","v":108.65430646889},{"$f":"VLOOKUP(B132,'[4]Level 3 - vlookup table'!$B$2:$D$97,3, FALSE)","v":108.65430646889},{"$f":"VLOOKUP(B132,'[5]Level 3 - vlookup table'!$B$2:$D$97,3, FALSE)","v":108.65430646889},{"$f":"VLOOKUP(B132,'[6]Level 3 - vlookup table'!$B$2:$D$97,3, FALSE)","v":180.339831477373},null,{"$f":"VLOOKUP(B132,'[21]Level 3 - vlookup table'!$B$2:$D$97,3, FALSE)","v":103.59781637851199},{"$f":"VLOOKUP(B132,'[22]Level 3 - vlookup table'!$B$2:$D$97,3, FALSE)","v":103.59781637851199},{"$f":"VLOOKUP($B132,'[19]Level 3 - vlookup table'!$B$2:$D$97, 3, FALSE)","v":103.597816378511},{"$f":"VLOOKUP($B132,'[10]Level 3 - vlookup table'!$B$2:$D$97, 3, FALSE)","v":141.714892534803},{"$f":"VLOOKUP($B132,'[20]Level 3 - vlookup table'!$B$2:$D$97,3, FALSE)","v":141.714892534803},{"$f":"VLOOKUP($B132,'[23]Level 3 - vlookup table'!$B$2:$D$97,3, FALSE)","v":150.19739690690199},{"$f":"VLOOKUP($B132,'[24]Level 3 - vlookup table'!$B$2:$D$97, 3, FALSE)","v":150.19739690690301},{"$f":"VLOOKUP($B132,'[10]Level 3 - vlookup table'!$B$2:$D$97, 3, FALSE)","v":141.714892534803}]
[3,"093400","Pets and related products",null,94.456569849999994,99.32928604,104.0901526,102.1239916,null,100.351286336793,104.060968808536,104.655666849445,102.441355672206,null,103.98911629995401,105.044638134679,106.11755598446599,101.22324506536199,null,101.124668888618,105.05863229076201,105.539886404982,103.99612609341,null,105.648762433126,107.64602809041401,{"$f":"VLOOKUP(B133,'[1]Level 3 - vlookup table'!$B$2:$D$97, 3, FALSE)","v":111.34094050272699},{"$f":"VLOOKUP(B133,'[2]Level 3 - vlookup table'!$B$2:$D$97, 3, FALSE)","v":116.47260466413},null,{"$f":"VLOOKUP(B133,'[3]Level 3 - vlookup table'!$B$2:$D$97, 3, FALSE)","v":115.96628792908},{"$f":"VLOOKUP(B133,'[4]Level 3 - vlookup table'!$B$2:$D$97,3, FALSE)","v":117.205018920813},{"$f":"VLOOKUP(B133,'[5]Level 3 - vlookup table'!$B$2:$D$97,3, FALSE)","v":131.37605995305901},{"$f":"VLOOKUP(B133,'[6]Level 3 - vlookup table'!$B$2:$D$97,3, FALSE)","v":135.45399420657},null,{"$f":"VLOOKUP(B133,'[21]Level 3 - vlookup table'!$B$2:$D$97,3, FALSE)","v":132.07788541999801},{"$f":"VLOOKUP(B133,'[22]Level 3 - vlookup table'!$B$2:$D$97,3, FALSE)","v":126.346594493669},{"$f":"VLOOKUP($B133,'[19]Level 3 - vlookup table'!$B$2:$D$97, 3, FALSE)","v":128.183143299802},{"$f":"VLOOKUP($B133,'[10]Level 3 - vlookup table'!$B$2:$D$97, 3, FALSE)","v":129.382309381054},{"$f":"VLOOKUP($B133,'[20]Level 3 - vlookup table'!$B$2:$D$97,3, FALSE)","v":129.90132732562299},{"$f":"VLOOKUP($B133,'[23]Level 3 - vlookup table'!$B$2:$D$97,3, FALSE)","v":129.837870009884},{"$f":"VLOOKUP($B133,'[24]Level 3 - vlookup table'!$B$2:$D$97, 3, FALSE)","v":129.837870009884},{"$f":"VLOOKUP($B133,'[10]Level 3 - vlookup table'!$B$2:$D$97, 3, FALSE)","v":129.382309381054}]
[3,"093500","Veterinary and other services for pets",null,100,100,100,100,null,100,100.202699962579,100.202699962579,100.202699962579,null,100.202699962579,99.935519200686002,99.935519200686002,99.935519200686002,null,99.935519200686002,99.527257070275198,99.527257070275198,99.527257070275198,null,99.527257070275198,99.527257070275098,{"$f":"VLOOKUP(B134,'[1]Level 3 - vlookup table'!$B$2:$D$97, 3, FALSE)","v":99.527257070275098},{"$f":"VLOOKUP(B134,'[2]Level 3 - vlookup table'!$B$2:$D$97, 3, FALSE)","v":99.527257070275098},null,{"$f":"VLOOKUP(B134,'[3]Level 3 - vlookup table'!$B$2:$D$97, 3, FALSE)","v":99.527257070275098},{"$f":"VLOOKUP(B134,'[4]Level 3 - vlookup table'!$B$2:$D$97,3, FALSE)","v":99.527257070275098},{"$f":"VLOOKUP(B134,'[5]Level 3 - vlookup table'!$B$2:$D$97,3, FALSE)","v":99.527257070275098},{"$f":"VLOOKUP(B134,'[6]Level 3 - vlookup table'!$B$2:$D$97,3, FALSE)","v":99.527257070275098},null,{"$f":"VLOOKUP(B134,'[21]Level 3 - vlookup table'!$B$2:$D$97,3, FALSE)","v":99.527257070275098},{"$f":"VLOOKUP(B134,'[22]Level 3 - vlookup table'!$B$2:$D$97,3, FALSE)","v":99.527257070275098},{"$f":"VLOOKUP($B134,'[19]Level 3 - vlookup table'!$B$2:$D$97, 3, FALSE)","v":99.527257070275098},{"$f":"VLOOKUP($B134,'[10]Level 3 - vlookup table'!$B$2:$D$97, 3, FALSE)","v":99.527257070275098},{"$f":"VLOOKUP($B134,'[20]Level 3 - vlookup table'!$B$2:$D$97,3, FALSE)","v":99.527257070275098},{"$f":"VLOOKUP($B134,'[23]Level 3 - vlookup table'!$B$2:$D$97,3, FALSE)","v":98.073830299667407},{"$f":"VLOOKUP($B134,'[24]Level 3 - vlookup table'!$B$2:$D$97, 3, FALSE)","v":98.073830299667407},{"$f":"VLOOKUP($B134,'[10]Level 3 - vlookup table'!$B$2:$D$97, 3, FALSE)","v":99.527257070275098}]
[2,"094000","Recreational and cultural services",null,100,100,100,100,null,100,100.20744324450401,99.788954122611401,100.685068626779,null,102.746286866151,102.663472429648,102.217445602439,101.848481607919,null,96.251447240285302,96.349084765188806,96.8461408747267,96.353339421088805,null,95.590949957727204,95.590949957727105,{"$f":"VLOOKUP(B135,'[1]Level 2 -vlookup table'!$B$2:$D$44,3,FALSE)","v":95.881737696196794},{"$f":"VLOOKUP(B135,'[2]Level 2 - vlookup table'!$B$2:$D$44,3,FALSE)","v":95.263284051006494},null,{"$f":"VLOOKUP(B135,'[3]Level 2 - vlookup table'!$B$2:$D$44,3,FALSE)","v":95.263284051006494},{"$f":"VLOOKUP(B135,'[4]Level 2 - vlookup table'!$B$2:$D$44,3,FALSE)","v":95.263284051006494},{"$f":"VLOOKUP(B135,'[5]Level 2 - vlookup table'!$B$2:$D$44,3,FALSE)","v":101.03813617829501},{"$f":"VLOOKUP(B135,'[6]Level 2 - vlookup table'!$B$2:$D$44,3,FALSE)","v":101.03813617829501},null,{"$f":"VLOOKUP(B135,'[21]Level 2 - vlookup table'!$B$2:$D$44,3,FALSE)","v":101.44678255668001},{"$f":"VLOOKUP(B135,'[22]Level 2 - vlookup table'!$B$2:$D$44,3,FALSE)","v":101.44678255668001},{"$f":"VLOOKUP($B135,'[19]Level 2 - vlookup table'!$B$2:$D$44,3,FALSE)","v":103.884482980212},{"$f":"VLOOKUP($B135,'[10]Level 2 - vlookup table'!$B$2:$D$44,3,FALSE)","v":111.071281981786},{"$f":"VLOOKUP($B135,'[20]Level 2 - vlookup table'!$B$2:$D$44,3,FALSE)","v":111.071281981786},{"$f":"VLOOKUP($B135,'[8]Level 2 - vlookup table'!$B$2:$D$44,3,FALSE)","v":109.006837138292},{"$f":"VLOOKUP($B135,'[13]Level 2 - vlookup table'!$B$2:$D$44,3,FALSE)","v":109.006837138292},{"$f":"VLOOKUP($B135,'[10]Level 2 - vlookup table'!$B$2:$D$44,3,FALSE)","v":111.071281981786}]
[3,"094100","Sporting and recreational services",null,100,100,100,100,null,100,100,100,100,null,98.065811372174096,97.069427970244007,97.069427970244007,97.069427970244007,null,89.269063871530605,90.443791531665298,100,100,null,98.661012947057799,98.6610129470575,{"$f":"VLOOKUP(B136,'[1]Level 3 - vlookup table'!$B$2:$D$97, 3, FALSE)","v":96.760287570976502},{"$f":"VLOOKUP(B136,'[2]Level 3 - vlookup table'!$B$2:$D$97, 3, FALSE)","v":96.760287570976402},null,{"$f":"VLOOKUP(B136,'[3]Level 3 - vlookup table'!$B$2:$D$97, 3, FALSE)","v":96.760287570976601},{"$f":"VLOOKUP(B136,'[4]Level 3 - vlookup table'!$B$2:$D$97,3, FALSE)","v":96.760287570976402},{"$f":"VLOOKUP(B136,'[5]Level 3 - vlookup table'!$B$2:$D$97,3, FALSE)","v":100.634754445119},{"$f":"VLOOKUP(B136,'[6]Level 3 - vlookup table'!$B$2:$D$97,3, FALSE)","v":100.634754445119},null,{"$f":"VLOOKUP(B136,'[21]Level 3 - vlookup table'!$B$2:$D$97,3, FALSE)","v":105.55139079346201},{"$f":"VLOOKUP(B136,'[22]Level 3 - vlookup table'!$B$2:$D$97,3, FALSE)","v":105.55139079346201},{"$f":"VLOOKUP($B136,'[19]Level 3 - vlookup table'!$B$2:$D$97, 3, FALSE)","v":105.551390793461},{"$f":"VLOOKUP($B136,'[10]Level 3 - vlookup table'!$B$2:$D$97, 3, FALSE)","v":105.55139079346201},{"$f":"VLOOKUP($B136,'[20]Level 3 - vlookup table'!$B$2:$D$97,3, FALSE)","v":105.551390793461},{"$f":"VLOOKUP($B136,'[23]Level 3 - vlookup table'!$B$2:$D$97,3, FALSE)","v":105.55139079346201},{"$f":"VLOOKUP($B136,'[24]Level 3 - vlookup table'!$B$2:$D$97, 3, FALSE)","v":105.551390793461},{"$f":"VLOOKUP($B136,'[10]Level 3 - vlookup table'!$B$2:$D$97, 3, FALSE)","v":105.55139079346201}]
[3,"094200","Cultural services",null,100,100,100,100,null,100,100.265923233569,99.729458521144807,100.878195213759,null,103.72656792702401,103.72656792702401,103.15480239938,102.681824362771,null,96.338035554013601,96.338035554013601,95.957041556980499,95.325315243730998,null,94.490665320225006,94.490665320225006,{"$f":"VLOOKUP(B137,'[1]Level 3 - vlookup table'!$B$2:$D$97, 3, FALSE)","v":95.065942966894298},{"$f":"VLOOKUP(B137,'[2]Level 3 - vlookup table'!$B$2:$D$97, 3, FALSE)","v":94.273142056288705},null,{"$f":"VLOOKUP(B137,'[3]Level 3 - vlookup table'!$B$2:$D$97, 3, FALSE)","v":94.273142056288705},{"$f":"VLOOKUP(B137,'[4]Level 3 - vlookup table'!$B$2:$D$97,3, FALSE)","v":94.273142056288705},{"$f":"VLOOKUP(B137,'[5]Level 3 - vlookup table'!$B$2:$D$97,3, FALSE)","v":99.661204818483199},{"$f":"VLOOKUP(B137,'[6]Level 3 - vlookup table'!$B$2:$D$97,3, FALSE)","v":99.6612048184831},null,{"$f":"VLOOKUP(B137,'[21]Level 3 - vlookup table'!$B$2:$D$97,3, FALSE)","v":99.6612048184831},{"$f":"VLOOKUP(B137,'[22]Level 3 - vlookup table'!$B$2:$D$97,3, FALSE)","v":99.6612048184831},{"$f":"VLOOKUP($B137,'[19]Level 3 - vlookup table'!$B$2:$D$97, 3, FALSE)","v":104.053246725051},{"$f":"VLOOKUP($B137,'[10]Level 3 - vlookup table'!$B$2:$D$97, 3, FALSE)","v":113.266064592806},{"$f":"VLOOKUP($B137,'[20]Level 3 - vlookup table'!$B$2:$D$97,3, FALSE)","v":113.266144031262},{"$f":"VLOOKUP($B137,'[23]Level 3 - vlookup table'!$B$2:$D$97,3, FALSE)","v":110.619635447234},{"$f":"VLOOKUP($B137,'[24]Level 3 - vlookup table'!$B$2:$D$97, 3, FALSE)","v":110.619635447234},{"$f":"VLOOKUP($B137,'[10]Level 3 - vlookup table'!$B$2:$D$97, 3, FALSE)","v":113.266064592806}]
[3,"094300","Games of chance",null,100,100,100,100,null,100,100,100,100,null,100,100,100,100,null,100,100,100,100,null,100,100,{"$f":"VLOOKUP(B138,'[1]Level 3 - vlookup table'!$B$2:$D$97, 3, FALSE)","v":100},{"$f":"VLOOKUP(B138,'[2]Level 3 - vlookup table'!$B$2:$D$97, 3, FALSE)","v":100},null,{"$f":"VLOOKUP(B138,'[3]Level 3 - vlookup table'!$B$2:$D$97, 3, FALSE)","v":100},{"$f":"VLOOKUP(B138,'[4]Level 3 - vlookup table'!$B$2:$D$97,3, FALSE)","v":100},{"$f":"VLOOKUP(B138,'[5]Level 3 - vlookup table'!$B$2:$D$97,3, FALSE)","v":109.13513408486099},{"$f":"VLOOKUP(B138,'[6]Level 3 - vlookup table'!$B$2:$D$97,3, FALSE)","v":109.13513408486099},null,{"$f":"VLOOKUP(B138,'[21]Level 3 - vlookup table'!$B$2:$D$97,3, FALSE)","v":109.13513408486099},{"$f":"VLOOKUP(B138,'[22]Level 3 - vlookup table'!$B$2:$D$97,3, FALSE)","v":109.13513408486099},{"$f":"VLOOKUP($B138,'[19]Level 3 - vlookup table'!$B$2:$D$97, 3, FALSE)","v":101.90934115540701},{"$f":"VLOOKUP($B138,'[10]Level 3 - vlookup table'!$B$2:$D$97, 3, FALSE)","v":101.90934115540701},{"$f":"VLOOKUP($B138,'[20]Level 3 - vlookup table'!$B$2:$D$97,3, FALSE)","v":101.90934115540701},{"$f":"VLOOKUP($B138,'[23]Level 3 - vlookup table'!$B$2:$D$97,3, FALSE)","v":101.90934115540701},{"$f":"VLOOKUP($B138,'[24]Level 3 - vlookup table'!$B$2:$D$97, 3, FALSE)","v":101.90934115540701},{"$f":"VLOOKUP($B138,'[10]Level 3 - vlookup table'!$B$2:$D$97, 3, FALSE)","v":101.90934115540701}]
[2,"095000","Newspapers, books and stationery",null,102.794071,99.292533430000006,99.710015569999996,98.203380050000007,null,90.683791306740304,90.201625181918203,91.389538410196295,101.53542869231001,null,110.145032758694,129.585992313757,131.29773249733799,126.377826208006,null,126.059360849866,135.51190314714901,135.20622012213099,137.620035829508,null,140.966410795759,140.884652080585,{"$f":"VLOOKUP(B139,'[1]Level 2 -vlookup table'!$B$2:$D$44,3,FALSE)","v":151.87072948039599},{"$f":"VLOOKUP(B139,'[2]Level 2 - vlookup table'!$B$2:$D$44,3,FALSE)","v":151.35359121971501},null,{"$f":"VLOOKUP(B139,'[3]Level 2 - vlookup table'!$B$2:$D$44,3,FALSE)","v":150.79624416451699},{"$f":"VLOOKUP(B139,'[4]Level 2 - vlookup table'!$B$2:$D$44,3,FALSE)","v":150.09706973618199},{"$f":"VLOOKUP(B139,'[5]Level 2 - vlookup table'!$B$2:$D$44,3,FALSE)","v":156.641855001887},{"$f":"VLOOKUP(B139,'[6]Level 2 - vlookup table'!$B$2:$D$44,3,FALSE)","v":156.83009249569099},null,{"$f":"VLOOKUP(B139,'[21]Level 2 - vlookup table'!$B$2:$D$44,3,FALSE)","v":156.323619450591},{"$f":"VLOOKUP(B139,'[22]Level 2 - vlookup table'!$B$2:$D$44,3,FALSE)","v":156.254529174986},{"$f":"VLOOKUP($B139,'[19]Level 2 - vlookup table'!$B$2:$D$44,3,FALSE)","v":156.772111723938},{"$f":"VLOOKUP($B139,'[10]Level 2 - vlookup table'!$B$2:$D$44,3,FALSE)","v":158.380833263326},{"$f":"VLOOKUP($B139,'[20]Level 2 - vlookup table'!$B$2:$D$44,3,FALSE)","v":163.169318132309},{"$f":"VLOOKUP($B139,'[8]Level 2 - vlookup table'!$B$2:$D$44,3,FALSE)","v":162.68047179453501},{"$f":"VLOOKUP($B139,'[13]Level 2 - vlookup table'!$B$2:$D$44,3,FALSE)","v":162.263008719666},{"$f":"VLOOKUP($B139,'[10]Level 2 - vlookup table'!$B$2:$D$44,3,FALSE)","v":158.380833263326}]
[3,"095100","Books",null,104.1825571,98.605814289999998,98.605814289999998,98.605814289999998,null,98.575753985437004,98.575753985437004,98.575753985437004,131.200718532558,null,158.109781423154,222.64438608566601,222.64438608566601,206.43902980374699,null,210.81304189753899,237.48734515804401,237.48734515804401,237.48734515804401,null,237.48734515804401,237.48734515804401,{"$f":"VLOOKUP(B140,'[1]Level 3 - vlookup table'!$B$2:$D$97, 3, FALSE)","v":271.90580097805002},{"$f":"VLOOKUP(B140,'[2]Level 3 - vlookup table'!$B$2:$D$97, 3, FALSE)","v":271.90580097805002},null,{"$f":"VLOOKUP(B140,'[3]Level 3 - vlookup table'!$B$2:$D$97, 3, FALSE)","v":271.90580097805002},{"$f":"VLOOKUP(B140,'[4]Level 3 - vlookup table'!$B$2:$D$97,3, FALSE)","v":271.90580097805002},{"$f":"VLOOKUP(B140,'[5]Level 3 - vlookup table'!$B$2:$D$97,3, FALSE)","v":289.11502888805302},{"$f":"VLOOKUP(B140,'[6]Level 3 - vlookup table'!$B$2:$D$97,3, FALSE)","v":289.11502888805302},null,{"$f":"VLOOKUP(B140,'[21]Level 3 - vlookup table'!$B$2:$D$97,3, FALSE)","v":289.11502888805302},{"$f":"VLOOKUP(B140,'[22]Level 3 - vlookup table'!$B$2:$D$97,3, FALSE)","v":289.11502888805302},{"$f":"VLOOKUP($B140,'[19]Level 3 - vlookup table'!$B$2:$D$97, 3, FALSE)","v":289.11502888805302},{"$f":"VLOOKUP($B140,'[10]Level 3 - vlookup table'!$B$2:$D$97, 3, FALSE)","v":289.11502888805302},{"$f":"VLOOKUP($B140,'[20]Level 3 - vlookup table'!$B$2:$D$97,3, FALSE)","v":300.55259304545899},{"$f":"VLOOKUP($B140,'[23]Level 3 - vlookup table'!$B$2:$D$97,3, FALSE)","v":300.55259304545899},{"$f":"VLOOKUP($B140,'[24]Level 3 - vlookup table'!$B$2:$D$97, 3, FALSE)","v":300.55259304545899},{"$f":"VLOOKUP($B140,'[10]Level 3 - vlookup table'!$B$2:$D$97, 3, FALSE)","v":289.11502888805302}]
[3,"095200","Newspapers and periodicals",null,100,100,100,100,null,100,100,100,100,null,100,100,100,100,null,100,100,100,111.111111111111,null,133.333333333333,133.333333333333,{"$f":"VLOOKUP(B141,'[1]Level 3 - vlookup table'!$B$2:$D$97, 3, FALSE)","v":133.333333333333},{"$f":"VLOOKUP(B141,'[2]Level 3 - vlookup table'!$B$2:$D$97, 3, FALSE)","v":133.333333333333},null,{"$f":"VLOOKUP(B141,'[3]Level 3 - vlookup table'!$B$2:$D$97, 3, FALSE)","v":133.333333333333},{"$f":"VLOOKUP(B141,'[4]Level 3 - vlookup table'!$B$2:$D$97,3, FALSE)","v":133.333333333333},{"$f":"VLOOKUP(B141,'[5]Level 3 - vlookup table'!$B$2:$D$97,3, FALSE)","v":133.333333333333},{"$f":"VLOOKUP(B141,'[6]Level 3 - vlookup table'!$B$2:$D$97,3, FALSE)","v":133.333333333333},null,{"$f":"VLOOKUP(B141,'[21]Level 3 - vlookup table'!$B$2:$D$97,3, FALSE)","v":133.333333333333},{"$f":"VLOOKUP(B141,'[22]Level 3 - vlookup table'!$B$2:$D$97,3, FALSE)","v":133.333333333333},{"$f":"VLOOKUP($B141,'[19]Level 3 - vlookup table'!$B$2:$D$97, 3, FALSE)","v":133.333333333333},{"$f":"VLOOKUP($B141,'[10]Level 3 - vlookup table'!$B$2:$D$97, 3, FALSE)","v":133.333333333333},{"$f":"VLOOKUP($B141,'[20]Level 3 - vlookup table'!$B$2:$D$97,3, FALSE)","v":133.333333333333},{"$f":"VLOOKUP($B141,'[23]Level 3 - vlookup table'!$B$2:$D$97,3, FALSE)","v":133.333333333333},{"$f":"VLOOKUP($B141,'[24]Level 3 - vlookup table'!$B$2:$D$97, 3, FALSE)","v":133.333333333333},{"$f":"VLOOKUP($B141,'[10]Level 3 - vlookup table'!$B$2:$D$97, 3, FALSE)","v":133.333333333333}]
[3,"095300","Miscellaneous printed matter",null,"Not relevant","Not relevant","Not relevant","Not relevant",null,"Not relevant","Not relevant","Not relevant","Not relevant",null,"Not relevant","Not relevant","Not relevant","Not relevant",null,"Not relevant","Not relevant","Not relevant","Not relevant",null,"Not relevant","Not relevant","Not relevant","Not relevant",null,"Not relevant","Not relevant","Not relevant","Not relevant",null,"Not relevant","Not relevant","Not relevant","Not relevant","Not relevant","Not relevant","Not relevant","Not relevant"]
[3,"095400","Stationery and drawing materials",null,104.7062207,98.998963059999994,100.0575434,96.237272869999998,null,82.893262654420298,81.962261884091106,84.255969537276101,83.650263527495895,null,83.616550682102201,81.205126223285603,84.510276352000005,85.042312562502104,null,81.719714220106894,83.458931971832897,82.868697367787604,84.064657326699603,null,83.5964615631882,83.438596000076799,{"$f":"VLOOKUP(B143,'[1]Level 3 - vlookup table'!$B$2:$D$97, 3, FALSE)","v":83.344942768710496},{"$f":"VLOOKUP(B143,'[2]Level 3 - vlookup table'!$B$2:$D$97, 3, FALSE)","v":82.3464153021892},null,{"$f":"VLOOKUP(B143,'[3]Level 3 - vlookup table'!$B$2:$D$97, 3, FALSE)","v":81.270249825151893},{"$f":"VLOOKUP(B143,'[4]Level 3 - vlookup table'!$B$2:$D$97,3, FALSE)","v":79.920233932571804},{"$f":"VLOOKUP(B143,'[5]Level 3 - vlookup table'!$B$2:$D$97,3, FALSE)","v":81.904194658721494},{"$f":"VLOOKUP(B143,'[6]Level 3 - vlookup table'!$B$2:$D$97,3, FALSE)","v":82.267657047957996},null,{"$f":"VLOOKUP(B143,'[21]Level 3 - vlookup table'!$B$2:$D$97,3, FALSE)","v":81.289722740952897},{"$f":"VLOOKUP(B143,'[22]Level 3 - vlookup table'!$B$2:$D$97,3, FALSE)","v":81.156318305222101},{"$f":"VLOOKUP($B143,'[19]Level 3 - vlookup table'!$B$2:$D$97, 3, FALSE)","v":82.155703635249594},{"$f":"VLOOKUP($B143,'[10]Level 3 - vlookup table'!$B$2:$D$97, 3, FALSE)","v":85.261938012390203},{"$f":"VLOOKUP($B143,'[20]Level 3 - vlookup table'!$B$2:$D$97,3, FALSE)","v":83.854708569632393},{"$f":"VLOOKUP($B143,'[23]Level 3 - vlookup table'!$B$2:$D$97,3, FALSE)","v":86.483692310214295},{"$f":"VLOOKUP($B143,'[24]Level 3 - vlookup table'!$B$2:$D$97, 3, FALSE)","v":85.677624807171696},{"$f":"VLOOKUP($B143,'[10]Level 3 - vlookup table'!$B$2:$D$97, 3, FALSE)","v":85.261938012390203}]
[2,"096000","Package holidays",null,100,100,100,100,null,100,100,100,106.55622963047701,null,106.55622963047701,106.55622963047701,106.55622963047701,85.155435873569701,null,85.155435873569701,85.155435873569701,85.155435873569701,156.16870145085301,null,156.16870145085301,156.16870145085301,{"$f":"VLOOKUP(B144,'[1]Level 2 -vlookup table'!$B$2:$D$44,3,FALSE)","v":156.16870145085301},{"$f":"VLOOKUP(B144,'[2]Level 2 - vlookup table'!$B$2:$D$33,3,FALSE)","v":179.86089850829299},null,{"$f":"VLOOKUP(B144,'[3]Level 2 - vlookup table'!$B$2:$D$33,3,FALSE)","v":179.86089850829299},{"$f":"VLOOKUP(B144,'[4]Level 2 - vlookup table'!$B$2:$D$44,3,FALSE)","v":179.86089850829299},{"$f":"VLOOKUP(B144,'[5]Level 2 - vlookup table'!$B$2:$D$44,3,FALSE)","v":179.86089850829299},{"$f":"VLOOKUP(B144,'[6]Level 2 - vlookup table'!$B$2:$D$44,3,FALSE)","v":127.02861192202},null,{"$f":"VLOOKUP(B144,'[21]Level 2 - vlookup table'!$B$2:$D$44,3,FALSE)","v":127.02861192202},{"$f":"VLOOKUP(B144,'[22]Level 2 - vlookup table'!$B$2:$D$44,3,FALSE)","v":127.02861192202},{"$f":"VLOOKUP($B144,'[19]Level 2 - vlookup table'!$B$2:$D$44,3,FALSE)","v":127.02861192202},{"$f":"VLOOKUP($B144,'[10]Level 2 - vlookup table'!$B$2:$D$44,3,FALSE)","v":147.15693057085301},{"$f":"VLOOKUP($B144,'[20]Level 2 - vlookup table'!$B$2:$D$44,3,FALSE)","v":147.15693057085301},{"$f":"VLOOKUP($B144,'[8]Level 2 - vlookup table'!$B$2:$D$44,3,FALSE)","v":147.15693057085301},{"$f":"VLOOKUP($B144,'[13]Level 2 - vlookup table'!$B$2:$D$44,3,FALSE)","v":147.15693057085301},{"$f":"VLOOKUP($B144,'[10]Level 2 - vlookup table'!$B$2:$D$44,3,FALSE)","v":147.15693057085301}]
[3,"096100","Package holidays",null,100,100,100,100,null,100,100,100,106.55622963047701,null,106.55622963047701,106.55622963047701,106.55622963047701,85.155435873569701,null,85.155435873569701,85.155435873569701,85.155435873569701,156.16870145085301,null,156.16870145085301,156.16870145085301,{"$f":"VLOOKUP(B145,'[1]Level 3 - vlookup table'!$B$2:$D$97, 3, FALSE)","v":156.16870145085301},{"$f":"VLOOKUP(B145,'[2]Level 3 - vlookup table'!$B$2:$D$97, 3, FALSE)","v":179.86089850829299},null,{"$f":"VLOOKUP(B145,'[3]Level 3 - vlookup table'!$B$2:$D$97, 3, FALSE)","v":179.86089850829299},{"$f":"VLOOKUP(B145,'[4]Level 3 - vlookup table'!$B$2:$D$97,3, FALSE)","v":179.86089850829299},{"$f":"VLOOKUP(B145,'[5]Level 3 - vlookup table'!$B$2:$D$97,3, FALSE)","v":179.86089850829299},{"$f":"VLOOKUP(B145,'[6]Level 3 - vlookup table'!$B$2:$D$97,3, FALSE)","v":127.02861192202},null,{"$f":"VLOOKUP(B145,'[21]Level 3 - vlookup table'!$B$2:$D$97,3, FALSE)","v":127.02861192202},{"$f":"VLOOKUP(B145,'[22]Level 3 - vlookup table'!$B$2:$D$97,3, FALSE)","v":127.02861192202},{"$f":"VLOOKUP($B145,'[19]Level 3 - vlookup table'!$B$2:$D$97, 3, FALSE)","v":127.02861192202},{"$f":"VLOOKUP($B145,'[10]Level 3 - vlookup table'!$B$2:$D$97, 3, FALSE)","v":147.15693057085301},{"$f":"VLOOKUP($B145,'[20]Level 3 - vlookup table'!$B$2:$D$97,3, FALSE)","v":147.15693057085301},{"$f":"VLOOKUP($B145,'[23]Level 3 - vlookup table'!$B$2:$D$97,3, FALSE)","v":147.15693057085301},{"$f":"VLOOKUP($B145,'[24]Level 3 - vlookup table'!$B$2:$D$97, 3, FALSE)","v":147.15693057085301},{"$f":"VLOOKUP($B145,'[10]Level 3 - vlookup table'!$B$2:$D$97, 3, FALSE)","v":147.15693057085301}]
[1,"100000","Education",null,100,100,100,100,null,100,100,100.505939280972,100.821099680107,null,100.821099680107,100.821099680107,101.496140083421,101.83229910090201,null,101.83229910090201,101.83229910090201,101.138150109153,100.752874441392,null,100.752874441392,100.752874441392,{"$f":"VLOOKUP(B146,'[1]Level 1 - vlookup table'!$B$2:$D$13,3,FALSE)","v":103.729636253324},{"$f":"VLOOKUP(B146,'[2]Level 1 - vlookup table'!$B$2:$D$13,3,FALSE)","v":103.729636253324},null,{"$f":"VLOOKUP(B146,'[3]Level 1 - vlookup table'!$B$2:$D$13,3,FALSE)","v":103.729636253324},{"$f":"VLOOKUP(B146,'[4]Level 1 - vlookup table'!$B$2:$D$13,3,FALSE)","v":103.729636253324},{"$f":"VLOOKUP(B146,'[5]Level 1 - vlookup table'!$B$2:$D$13,3,FALSE)","v":107.563991500295},{"$f":"VLOOKUP(B146,'[6]Level 1 - vlookup table'!$B$2:$D$13,3,FALSE)","v":107.563991500295},null,{"$f":"VLOOKUP(B146,'[21]Level 1 - vlookup table'!$B$2:$D$13,3,FALSE)","v":107.563991500295},{"$f":"VLOOKUP($B146,'[22]Level 1 - vlookup table'!$B$2:$D$13,3,FALSE)","v":107.563991500295},{"$f":"VLOOKUP($B146,'[25]Level 1 - vlookup table'!$B$2:$D$13,3,FALSE)","v":107.563991500295},{"$f":"VLOOKUP($B146,'[10]Level 1 - vlookup table'!$B$2:$D$13,3,FALSE)","v":108.960389978907},{"$f":"VLOOKUP($B146,'[17]Level 1 - vlookup table'!$B$2:$D$13,3,FALSE)","v":108.960389978907},{"$f":"VLOOKUP($B146,'[22]Level 1 - vlookup table'!$B$2:$D$13,3,FALSE)","v":107.563991500295},{"$f":"VLOOKUP($B146,'[26]Level 1 - vlookup table'!$B$2:$D$13,3,FALSE)","v":111.831814556395},{"$f":"VLOOKUP($B146,'[14]Level 1 - vlookup table'!$B$2:$D$13,3,FALSE)","v":107.563991500295}]
[2,"101000","Pre-primary and primary education",null,100,100,100,100,null,100,100,100.271745877708,100.620843810381,null,100.620843810381,100.620843810381,101.41294831023799,101.806774725007,null,101.806774725007,101.806774725007,100.147186793812,99.226060557228493,null,99.226060557228493,99.226060557228394,{"$f":"VLOOKUP(B147,'[1]Level 2 -vlookup table'!$B$2:$D$44,3,FALSE)","v":100.202295374643},{"$f":"VLOOKUP(B147,'[2]Level 2 - vlookup table'!$B$2:$D$44,3,FALSE)","v":100.202295374643},null,{"$f":"VLOOKUP(B147,'[3]Level 2 - vlookup table'!$B$2:$D$44,3,FALSE)","v":100.202295374643},{"$f":"VLOOKUP(B147,'[4]Level 2 - vlookup table'!$B$2:$D$44,3,FALSE)","v":100.202295374643},{"$f":"VLOOKUP(B147,'[5]Level 2 - vlookup table'!$B$2:$D$44,3,FALSE)","v":103.327172153338},{"$f":"VLOOKUP(B147,'[6]Level 2 - vlookup table'!$B$2:$D$44,3,FALSE)","v":103.327172153338},null,{"$f":"VLOOKUP(B147,'[21]Level 2 - vlookup table'!$B$2:$D$44,3,FALSE)","v":103.327172153338},{"$f":"VLOOKUP(B147,'[22]Level 2 - vlookup table'!$B$2:$D$44,3,FALSE)","v":103.327172153338},{"$f":"VLOOKUP($B147,'[19]Level 2 - vlookup table'!$B$2:$D$44,3,FALSE)","v":105.307710912369},{"$f":"VLOOKUP($B147,'[10]Level 2 - vlookup table'!$B$2:$D$44,3,FALSE)","v":105.307710912369},{"$f":"VLOOKUP($B147,'[20]Level 2 - vlookup table'!$B$2:$D$44,3,FALSE)","v":105.307710912369},{"$f":"VLOOKUP($B147,'[8]Level 2 - vlookup table'!$B$2:$D$44,3,FALSE)","v":105.307710912369},{"$f":"VLOOKUP($B147,'[13]Level 2 - vlookup table'!$B$2:$D$44,3,FALSE)","v":109.229424415753},{"$f":"VLOOKUP($B147,'[10]Level 2 - vlookup table'!$B$2:$D$44,3,FALSE)","v":105.307710912369}]
[3,"101100","Pre-primary and primary education",null,100,100,100,100,null,100,100,100.271745877708,100.620843810381,null,100.620843810381,100.620843810381,101.41294831023799,101.806774725007,null,101.806774725007,101.806774725007,100.147186793812,99.226060557228493,null,99.226060557228493,99.226060557228394,{"$f":"VLOOKUP(B148,'[1]Level 3 - vlookup table'!$B$2:$D$97, 3, FALSE)","v":100.202295374643},{"$f":"VLOOKUP(B148,'[2]Level 3 - vlookup table'!$B$2:$D$97, 3, FALSE)","v":100.202295374643},null,{"$f":"VLOOKUP(B148,'[3]Level 3 - vlookup table'!$B$2:$D$97, 3, FALSE)","v":100.202295374643},{"$f":"VLOOKUP(B148,'[4]Level 3 - vlookup table'!$B$2:$D$97,3, FALSE)","v":100.202295374643},{"$f":"VLOOKUP(B148,'[5]Level 3 - vlookup table'!$B$2:$D$97,3, FALSE)","v":103.327172153338},{"$f":"VLOOKUP(B148,'[6]Level 3 - vlookup table'!$B$2:$D$97,3, FALSE)","v":103.327172153338},null,{"$f":"VLOOKUP(B148,'[21]Level 3 - vlookup table'!$B$2:$D$97,3, FALSE)","v":103.327172153338},{"$f":"VLOOKUP(B148,'[22]Level 3 - vlookup table'!$B$2:$D$97,3, FALSE)","v":103.327172153338},{"$f":"VLOOKUP($B148,'[19]Level 3 - vlookup table'!$B$2:$D$97, 3, FALSE)","v":105.307710912369},{"$f":"VLOOKUP($B148,'[10]Level 3 - vlookup table'!$B$2:$D$97, 3, FALSE)","v":105.307710912369},{"$f":"VLOOKUP($B148,'[20]Level 3 - vlookup table'!$B$2:$D$97,3, FALSE)","v":105.307710912369},{"$f":"VLOOKUP($B148,'[23]Level 3 - vlookup table'!$B$2:$D$97,3, FALSE)","v":105.307710912369},{"$f":"VLOOKUP($B148,'[24]Level 3 - vlookup table'!$B$2:$D$97, 3, FALSE)","v":109.229424415753},{"$f":"VLOOKUP($B148,'[10]Level 3 - vlookup table'!$B$2:$D$97, 3, FALSE)","v":105.307710912369}]
[2,"102000","Secondary education",null,100,100,100,100,null,100,100,100.58041899633901,100.93519019047299,null,100.93519019047299,100.93519019047299,101.59822807504,101.928480389713,null,101.928480389713,101.928480389713,101.928480389713,101.928480389713,null,101.928480389713,101.928480389713,{"$f":"VLOOKUP(B149,'[1]Level 2 -vlookup table'!$B$2:$D$44,3,FALSE)","v":103.95781577393601},{"$f":"VLOOKUP(B149,'[2]Level 2 - vlookup table'!$B$2:$D$44,3,FALSE)","v":103.95781577393601},null,{"$f":"VLOOKUP(B149,'[3]Level 2 - vlookup table'!$B$2:$D$44,3,FALSE)","v":103.95781577393601},{"$f":"VLOOKUP(B149,'[4]Level 2 - vlookup table'!$B$2:$D$44,3,FALSE)","v":103.95781577393601},{"$f":"VLOOKUP(B149,'[5]Level 2 - vlookup table'!$B$2:$D$44,3,FALSE)","v":106.116766467714},{"$f":"VLOOKUP(B149,'[6]Level 2 - vlookup table'!$B$2:$D$44,3,FALSE)","v":106.116766467714},null,{"$f":"VLOOKUP(B149,'[21]Level 2 - vlookup table'!$B$2:$D$44,3,FALSE)","v":106.116766467714},{"$f":"VLOOKUP(B149,'[22]Level 2 - vlookup table'!$B$2:$D$44,3,FALSE)","v":106.116766467714},{"$f":"VLOOKUP($B149,'[19]Level 2 - vlookup table'!$B$2:$D$44,3,FALSE)","v":107.965344727615},{"$f":"VLOOKUP($B149,'[10]Level 2 - vlookup table'!$B$2:$D$44,3,FALSE)","v":107.965344727615},{"$f":"VLOOKUP($B149,'[20]Level 2 - vlookup table'!$B$2:$D$44,3,FALSE)","v":107.965344727615},{"$f":"VLOOKUP($B149,'[8]Level 2 - vlookup table'!$B$2:$D$44,3,FALSE)","v":107.965344727615},{"$f":"VLOOKUP($B149,'[13]Level 2 - vlookup table'!$B$2:$D$44,3,FALSE)","v":110.73531746129601},{"$f":"VLOOKUP($B149,'[10]Level 2 - vlookup table'!$B$2:$D$44,3,FALSE)","v":107.965344727615}]
[3,"102100","Secondary education",null,100,100,100,100,null,100,100,100.58041899633901,100.93519019047299,null,100.93519019047299,100.93519019047299,101.59822807504,101.928480389713,null,101.928480389713,101.928480389713,101.928480389713,101.928480389713,null,101.928480389713,101.928480389713,{"$f":"VLOOKUP(B150,'[1]Level 3 - vlookup table'!$B$2:$D$97, 3, FALSE)","v":103.95781577393601},{"$f":"VLOOKUP(B150,'[2]Level 3 - vlookup table'!$B$2:$D$97, 3, FALSE)","v":103.95781577393601},null,{"$f":"VLOOKUP(B150,'[3]Level 3 - vlookup table'!$B$2:$D$97, 3, FALSE)","v":103.95781577393601},{"$f":"VLOOKUP(B150,'[4]Level 3 - vlookup table'!$B$2:$D$97,3, FALSE)","v":103.95781577393601},{"$f":"VLOOKUP(B150,'[5]Level 3 - vlookup table'!$B$2:$D$97,3, FALSE)","v":106.116766467714},{"$f":"VLOOKUP(B150,'[6]Level 3 - vlookup table'!$B$2:$D$97,3, FALSE)","v":106.116766467714},null,{"$f":"VLOOKUP(B150,'[21]Level 3 - vlookup table'!$B$2:$D$97,3, FALSE)","v":106.116766467714},{"$f":"VLOOKUP(B150,'[22]Level 3 - vlookup table'!$B$2:$D$97,3, FALSE)","v":106.116766467714},{"$f":"VLOOKUP($B150,'[19]Level 3 - vlookup table'!$B$2:$D$97, 3, FALSE)","v":107.965344727615},{"$f":"VLOOKUP($B150,'[10]Level 3 - vlookup table'!$B$2:$D$97, 3, FALSE)","v":107.965344727615},{"$f":"VLOOKUP($B150,'[20]Level 3 - vlookup table'!$B$2:$D$97,3, FALSE)","v":107.965344727615},{"$f":"VLOOKUP($B150,'[23]Level 3 - vlookup table'!$B$2:$D$97,3, FALSE)","v":107.965344727615},{"$f":"VLOOKUP($B150,'[24]Level 3 - vlookup table'!$B$2:$D$97, 3, FALSE)","v":110.73531746129601},{"$f":"VLOOKUP($B150,'[10]Level 3 - vlookup table'!$B$2:$D$97, 3, FALSE)","v":107.965344727615}]
[2,"103000","Post-secondary non-tertiary education",null,100,100,100,100,null,100,100,100.033361135207,100.050037531277,null,100.050037531277,100.050037531277,100.050037531277,100.050037531277,null,100.050037531277,100.050037531277,100.050037531277,100.050037531277,null,100.050037531277,100.050037531277,{"$f":"VLOOKUP(B151,'[1]Level 2 -vlookup table'!$B$2:$D$44,3,FALSE)","v":108.06639168436401},{"$f":"VLOOKUP(B151,'[2]Level 2 - vlookup table'!$B$2:$D$44,3,FALSE)","v":108.06639168436401},null,{"$f":"VLOOKUP(B151,'[3]Level 2 - vlookup table'!$B$2:$D$44,3,FALSE)","v":108.06639168436401},{"$f":"VLOOKUP(B151,'[4]Level 2 - vlookup table'!$B$2:$D$44,3,FALSE)","v":108.06639168436401},{"$f":"VLOOKUP(B151,'[5]Level 2 - vlookup table'!$B$2:$D$44,3,FALSE)","v":108.06639168436401},{"$f":"VLOOKUP(B151,'[6]Level 2 - vlookup table'!$B$2:$D$44,3,FALSE)","v":108.06639168436401},null,{"$f":"VLOOKUP(B151,'[21]Level 2 - vlookup table'!$B$2:$D$44,3,FALSE)","v":108.06639168436401},{"$f":"VLOOKUP(B151,'[22]Level 2 - vlookup table'!$B$2:$D$44,3,FALSE)","v":108.06639168436401},{"$f":"VLOOKUP($B151,'[19]Level 2 - vlookup table'!$B$2:$D$44,3,FALSE)","v":108.06639168436401},{"$f":"VLOOKUP($B151,'[10]Level 2 - vlookup table'!$B$2:$D$44,3,FALSE)","v":108.06639168436401},{"$f":"VLOOKUP($B151,'[20]Level 2 - vlookup table'!$B$2:$D$44,3,FALSE)","v":108.06639168436401},{"$f":"VLOOKUP($B151,'[8]Level 2 - vlookup table'!$B$2:$D$44,3,FALSE)","v":108.06639168436401},{"$f":"VLOOKUP($B151,'[13]Level 2 - vlookup table'!$B$2:$D$44,3,FALSE)","v":108.06639168436401},{"$f":"VLOOKUP($B151,'[10]Level 2 - vlookup table'!$B$2:$D$44,3,FALSE)","v":108.06639168436401}]
[3,"103100","Post-secondary non-tertiary education",null,100,100,100,100,null,100,100,100.033361135207,100.050037531277,null,100.050037531277,100.050037531277,100.050037531277,100.050037531277,null,100.050037531277,100.050037531277,100.050037531277,100.050037531277,null,100.050037531277,100.050037531277,{"$f":"VLOOKUP(B152,'[1]Level 3 - vlookup table'!$B$2:$D$97, 3, FALSE)","v":108.06639168436401},{"$f":"VLOOKUP(B152,'[2]Level 3 - vlookup table'!$B$2:$D$97, 3, FALSE)","v":108.06639168436401},null,{"$f":"VLOOKUP(B152,'[3]Level 3 - vlookup table'!$B$2:$D$97, 3, FALSE)","v":108.06639168436401},{"$f":"VLOOKUP(B152,'[4]Level 3 - vlookup table'!$B$2:$D$97,3, FALSE)","v":108.06639168436401},{"$f":"VLOOKUP(B152,'[5]Level 3 - vlookup table'!$B$2:$D$97,3, FALSE)","v":108.06639168436401},{"$f":"VLOOKUP(B152,'[6]Level 3 - vlookup table'!$B$2:$D$97,3, FALSE)","v":108.06639168436401},null,{"$f":"VLOOKUP(B152,'[21]Level 3 - vlookup table'!$B$2:$D$97,3, FALSE)","v":108.06639168436401},{"$f":"VLOOKUP(B152,'[22]Level 3 - vlookup table'!$B$2:$D$97,3, FALSE)","v":108.06639168436401},{"$f":"VLOOKUP($B152,'[19]Level 3 - vlookup table'!$B$2:$D$97, 3, FALSE)","v":108.06639168436401},{"$f":"VLOOKUP($B152,'[10]Level 3 - vlookup table'!$B$2:$D$97, 3, FALSE)","v":108.06639168436401},{"$f":"VLOOKUP($B152,'[20]Level 3 - vlookup table'!$B$2:$D$97,3, FALSE)","v":108.06639168436401},{"$f":"VLOOKUP($B152,'[23]Level 3 - vlookup table'!$B$2:$D$97,3, FALSE)","v":108.06639168436401},{"$f":"VLOOKUP($B152,'[24]Level 3 - vlookup table'!$B$2:$D$97, 3, FALSE)","v":108.06639168436401},{"$f":"VLOOKUP($B152,'[10]Level 3 - vlookup table'!$B$2:$D$97, 3, FALSE)","v":108.06639168436401}]
[2,"104000","Tertiary education",null,100,100,100,100,null,100,100,104.772255750517,107.008771254957,null,107.008771254957,107.008771254957,110.84301252514,112.759010261146,null,112.759010261146,112.759010261146,112.759010261146,112.759010261146,null,112.759010261146,112.759010261146,{"$f":"VLOOKUP(B153,'[1]Level 2 -vlookup table'!$B$2:$D$44,3,FALSE)","v":128.180313678196},{"$f":"VLOOKUP(B153,'[2]Level 2 - vlookup table'!$B$2:$D$44,3,FALSE)","v":128.180313678196},null,{"$f":"VLOOKUP(B153,'[3]Level 2 - vlookup table'!$B$2:$D$44,3,FALSE)","v":128.180313678196},{"$f":"VLOOKUP(B153,'[4]Level 2 - vlookup table'!$B$2:$D$44,3,FALSE)","v":128.180313678196},{"$f":"VLOOKUP(B153,'[5]Level 2 - vlookup table'!$B$2:$D$44,3,FALSE)","v":129.25868109970801},{"$f":"VLOOKUP(B153,'[6]Level 2 - vlookup table'!$B$2:$D$44,3,FALSE)","v":129.25868109970801},null,{"$f":"VLOOKUP(B153,'[21]Level 2 - vlookup table'!$B$2:$D$44,3,FALSE)","v":129.25868109970801},{"$f":"VLOOKUP(B153,'[22]Level 2 - vlookup table'!$B$2:$D$44,3,FALSE)","v":129.25868109970801},{"$f":"VLOOKUP($B153,'[19]Level 2 - vlookup table'!$B$2:$D$44,3,FALSE)","v":129.25868109970801},{"$f":"VLOOKUP($B153,'[10]Level 2 - vlookup table'!$B$2:$D$44,3,FALSE)","v":129.25868109970801},{"$f":"VLOOKUP($B153,'[20]Level 2 - vlookup table'!$B$2:$D$44,3,FALSE)","v":129.25868109970801},{"$f":"VLOOKUP($B153,'[8]Level 2 - vlookup table'!$B$2:$D$44,3,FALSE)","v":129.25868109970801},{"$f":"VLOOKUP($B153,'[13]Level 2 - vlookup table'!$B$2:$D$44,3,FALSE)","v":139.665452697105},{"$f":"VLOOKUP($B153,'[10]Level 2 - vlookup table'!$B$2:$D$44,3,FALSE)","v":129.25868109970801}]
[3,"104100","Tertiary education",null,100,100,100,100,null,100,100,104.772255750517,107.008771254957,null,107.008771254957,107.008771254957,110.84301252514,112.759010261146,null,112.759010261146,112.759010261146,112.759010261146,112.759010261146,null,112.759010261146,112.759010261146,{"$f":"VLOOKUP(B154,'[1]Level 3 - vlookup table'!$B$2:$D$97, 3, FALSE)","v":128.180313678196},{"$f":"VLOOKUP(B154,'[2]Level 3 - vlookup table'!$B$2:$D$97, 3, FALSE)","v":128.180313678196},null,{"$f":"VLOOKUP(B154,'[3]Level 3 - vlookup table'!$B$2:$D$97, 3, FALSE)","v":128.180313678196},{"$f":"VLOOKUP(B154,'[4]Level 3 - vlookup table'!$B$2:$D$97,3, FALSE)","v":128.180313678196},{"$f":"VLOOKUP(B154,'[5]Level 3 - vlookup table'!$B$2:$D$97,3, FALSE)","v":129.25868109970801},{"$f":"VLOOKUP(B154,'[6]Level 3 - vlookup table'!$B$2:$D$97,3, FALSE)","v":129.25868109970801},null,{"$f":"VLOOKUP(B154,'[21]Level 3 - vlookup table'!$B$2:$D$97,3, FALSE)","v":129.25868109970801},{"$f":"VLOOKUP(B154,'[22]Level 3 - vlookup table'!$B$2:$D$97,3, FALSE)","v":129.25868109970801},{"$f":"VLOOKUP($B154,'[19]Level 3 - vlookup table'!$B$2:$D$97, 3, FALSE)","v":129.25868109970801},{"$f":"VLOOKUP($B154,'[10]Level 3 - vlookup table'!$B$2:$D$97, 3, FALSE)","v":129.25868109970801},{"$f":"VLOOKUP($B154,'[20]Level 3 - vlookup table'!$B$2:$D$97,3, FALSE)","v":129.25868109970801},{"$f":"VLOOKUP($B154,'[23]Level 3 - vlookup table'!$B$2:$D$97,3, FALSE)","v":129.25868109970801},{"$f":"VLOOKUP($B154,'[24]Level 3 - vlookup table'!$B$2:$D$97, 3, FALSE)","v":139.665452697105},{"$f":"VLOOKUP($B154,'[10]Level 3 - vlookup table'!$B$2:$D$97, 3, FALSE)","v":129.25868109970801}]
[2,"105000","Education not definable by level",null,100,100,100,100,null,100,100,100.51741879618299,100.145330595388,null,100.145330595388,100.145330595388,100.145330595388,100.145330595388,null,100.145330595388,100.145330595388,100.145330595388,100.145330595388,null,100.145330595388,100.145330595388,{"$f":"VLOOKUP(B155,'[1]Level 2 -vlookup table'!$B$2:$D$44,3,FALSE)","v":100.145330595388},{"$f":"VLOOKUP(B155,'[2]Level 2 - vlookup table'!$B$2:$D$44,3,FALSE)","v":100.145330595388},null,{"$f":"VLOOKUP(B155,'[3]Level 2 - vlookup table'!$B$2:$D$44,3,FALSE)","v":100.145330595388},{"$f":"VLOOKUP(B155,'[4]Level 2 - vlookup table'!$B$2:$D$44,3,FALSE)","v":100.145330595388},{"$f":"VLOOKUP(B155,'[5]Level 2 - vlookup table'!$B$2:$D$44,3,FALSE)","v":127.967233714575},{"$f":"VLOOKUP(B155,'[6]Level 2 - vlookup table'!$B$2:$D$44,3,FALSE)","v":127.967233714575},null,{"$f":"VLOOKUP(B155,'[21]Level 2 - vlookup table'!$B$2:$D$44,3,FALSE)","v":127.967233714575},{"$f":"VLOOKUP(B155,'[22]Level 2 - vlookup table'!$B$2:$D$44,3,FALSE)","v":127.967233714575},{"$f":"VLOOKUP($B155,'[19]Level 2 - vlookup table'!$B$2:$D$44,3,FALSE)","v":127.967233714575},{"$f":"VLOOKUP($B155,'[10]Level 2 - vlookup table'!$B$2:$D$44,3,FALSE)","v":127.967233714575},{"$f":"VLOOKUP($B155,'[20]Level 2 - vlookup table'!$B$2:$D$44,3,FALSE)","v":127.967233714575},{"$f":"VLOOKUP($B155,'[8]Level 2 - vlookup table'!$B$2:$D$44,3,FALSE)","v":127.967233714575},{"$f":"VLOOKUP($B155,'[13]Level 2 - vlookup table'!$B$2:$D$44,3,FALSE)","v":127.967233714575},{"$f":"VLOOKUP($B155,'[10]Level 2 - vlookup table'!$B$2:$D$44,3,FALSE)","v":127.967233714575}]
[3,"105100","Education not definable by level",null,100,100,100,100,null,100,100,100.51741879618299,100.145330595388,null,100.145330595388,100.145330595388,100.145330595388,100.145330595388,null,100.145330595388,100.145330595388,100.145330595388,100.145330595388,null,100.145330595388,100.145330595388,{"$f":"VLOOKUP(B156,'[1]Level 3 - vlookup table'!$B$2:$D$97, 3, FALSE)","v":100.145330595388},{"$f":"VLOOKUP(B156,'[2]Level 3 - vlookup table'!$B$2:$D$97, 3, FALSE)","v":100.145330595388},null,{"$f":"VLOOKUP(B156,'[3]Level 3 - vlookup table'!$B$2:$D$97, 3, FALSE)","v":100.145330595388},{"$f":"VLOOKUP(B156,'[4]Level 3 - vlookup table'!$B$2:$D$97,3, FALSE)","v":100.145330595388},{"$f":"VLOOKUP(B156,'[5]Level 3 - vlookup table'!$B$2:$D$97,3, FALSE)","v":127.967233714575},{"$f":"VLOOKUP(B156,'[6]Level 3 - vlookup table'!$B$2:$D$97,3, FALSE)","v":127.967233714575},null,{"$f":"VLOOKUP(B156,'[21]Level 3 - vlookup table'!$B$2:$D$97,3, FALSE)","v":127.967233714575},{"$f":"VLOOKUP(B156,'[22]Level 3 - vlookup table'!$B$2:$D$97,3, FALSE)","v":127.967233714575},{"$f":"VLOOKUP($B156,'[19]Level 3 - vlookup table'!$B$2:$D$97, 3, FALSE)","v":127.967233714575},{"$f":"VLOOKUP($B156,'[10]Level 3 - vlookup table'!$B$2:$D$97, 3, FALSE)","v":127.967233714575},{"$f":"VLOOKUP($B156,'[20]Level 3 - vlookup table'!$B$2:$D$97,3, FALSE)","v":127.967233714575},{"$f":"VLOOKUP($B156,'[23]Level 3 - vlookup table'!$B$2:$D$97,3, FALSE)","v":127.967233714575},{"$f":"VLOOKUP($B156,'[24]Level 3 - vlookup table'!$B$2:$D$97, 3, FALSE)","v":127.967233714575},{"$f":"VLOOKUP($B156,'[10]Level 3 - vlookup table'!$B$2:$D$97, 3, FALSE)","v":127.967233714575}]
[1,"110000","Restaurants and hotels",null,99.999638590000004,99.999638590000004,100.00108419999999,99.999638590000004,null,99.999638594200306,100.036678701383,100.00311111865101,100.356212896955,null,100.638216915394,101.14873558840399,102.176923681106,102.20404135406,null,102.25102040380099,103.05806603270599,104.52063546661699,105.035791784065,null,105.982650805487,113.065582626572,{"$f":"VLOOKUP(B157,'[1]Level 1 - vlookup table'!$B$2:$D$13,3,FALSE)","v":113.84388260867701},{"$f":"VLOOKUP(B157,'[2]Level 1 - vlookup table'!$B$2:$D$13,3,FALSE)","v":114.565831214076},null,{"$f":"VLOOKUP(B157,'[3]Level 1 - vlookup table'!$B$2:$D$13,3,FALSE)","v":114.565831214076},{"$f":"VLOOKUP(B157,'[4]Level 1 - vlookup table'!$B$2:$D$13,3,FALSE)","v":119.055694319434},{"$f":"VLOOKUP(B157,'[5]Level 1 - vlookup table'!$B$2:$D$13,3,FALSE)","v":124.133749493568},{"$f":"VLOOKUP(B157,'[6]Level 1 - vlookup table'!$B$2:$D$13,3,FALSE)","v":121.974855454692},null,{"$f":"VLOOKUP(B157,'[21]Level 1 - vlookup table'!$B$2:$D$13,3,FALSE)","v":121.974855454692},{"$f":"VLOOKUP($B157,'[22]Level 1 - vlookup table'!$B$2:$D$13,3,FALSE)","v":127.97536447739699},{"$f":"VLOOKUP($B157,'[25]Level 1 - vlookup table'!$B$2:$D$13,3,FALSE)","v":121.974855454692},{"$f":"VLOOKUP($B157,'[10]Level 1 - vlookup table'!$B$2:$D$13,3,FALSE)","v":126.351299199498},{"$f":"VLOOKUP($B157,'[17]Level 1 - vlookup table'!$B$2:$D$13,3,FALSE)","v":126.351299347394},{"$f":"VLOOKUP($B157,'[22]Level 1 - vlookup table'!$B$2:$D$13,3,FALSE)","v":127.97536447739699},{"$f":"VLOOKUP($B157,'[26]Level 1 - vlookup table'!$B$2:$D$13,3,FALSE)","v":130.84380446891399},{"$f":"VLOOKUP($B157,'[14]Level 1 - vlookup table'!$B$2:$D$13,3,FALSE)","v":121.974855454692}]
[2,"111000","Catering services",null,99.999638590000004,99.999638590000004,100.00108419999999,99.999638590000004,null,99.999638594200306,100.036678701383,100.00311111865101,100.356212896955,null,100.638216915394,101.14873558840399,102.176923681106,102.20404135406,null,102.25102040380099,103.05806603270599,104.52063546661699,105.035791784065,null,105.982650805487,113.065582626572,{"$f":"VLOOKUP(B158,'[1]Level 2 -vlookup table'!$B$2:$D$44,3,FALSE)","v":113.84388260867701},{"$f":"VLOOKUP(B158,'[2]Level 2 - vlookup table'!$B$2:$D$44,3,FALSE)","v":114.565831214076},null,{"$f":"VLOOKUP(B158,'[3]Level 2 - vlookup table'!$B$2:$D$44,3,FALSE)","v":114.565831214076},{"$f":"VLOOKUP(B158,'[4]Level 2 - vlookup table'!$B$2:$D$44,3,FALSE)","v":119.055694319434},{"$f":"VLOOKUP(B158,'[5]Level 2 - vlookup table'!$B$2:$D$44,3,FALSE)","v":124.133749493568},{"$f":"VLOOKUP(B158,'[6]Level 2 - vlookup table'!$B$2:$D$44,3,FALSE)","v":121.974855454692},null,{"$f":"VLOOKUP(B158,'[21]Level 2 - vlookup table'!$B$2:$D$44,3,FALSE)","v":121.974855454692},{"$f":"VLOOKUP(B158,'[22]Level 2 - vlookup table'!$B$2:$D$44,3,FALSE)","v":127.97536447739699},{"$f":"VLOOKUP($B158,'[19]Level 2 - vlookup table'!$B$2:$D$44,3,FALSE)","v":127.654170684307},{"$f":"VLOOKUP($B158,'[10]Level 2 - vlookup table'!$B$2:$D$44,3,FALSE)","v":126.351299199498},{"$f":"VLOOKUP($B158,'[20]Level 2 - vlookup table'!$B$2:$D$44,3,FALSE)","v":126.351299199498},{"$f":"VLOOKUP($B158,'[8]Level 2 - vlookup table'!$B$2:$D$44,3,FALSE)","v":127.631131212634},{"$f":"VLOOKUP($B158,'[13]Level 2 - vlookup table'!$B$2:$D$44,3,FALSE)","v":130.558504694128},{"$f":"VLOOKUP($B158,'[10]Level 2 - vlookup table'!$B$2:$D$44,3,FALSE)","v":126.351299199498}]
[3,"111100","Restaurants, cafés and the like",null,99.999638590000004,99.999638590000004,100.00108419999999,99.999638590000004,null,99.999638594200306,100.036678701383,100.00311111865101,100.356212896955,null,100.638216915394,101.14873558840399,102.176923681106,102.20404135406,null,102.25102040380099,103.05806603270599,104.52063546661699,105.035791784065,null,105.982650805487,113.065582626572,{"$f":"VLOOKUP(B159,'[1]Level 3 - vlookup table'!$B$2:$D$97, 3, FALSE)","v":113.84388260867701},{"$f":"VLOOKUP(B159,'[2]Level 3 - vlookup table'!$B$2:$D$97, 3, FALSE)","v":114.565831214076},null,{"$f":"VLOOKUP(B159,'[3]Level 3 - vlookup table'!$B$2:$D$97, 3, FALSE)","v":114.565831214076},{"$f":"VLOOKUP(B159,'[4]Level 3 - vlookup table'!$B$2:$D$97,3, FALSE)","v":119.055694319434},{"$f":"VLOOKUP(B159,'[5]Level 3 - vlookup table'!$B$2:$D$97,3, FALSE)","v":124.133749493568},{"$f":"VLOOKUP(B159,'[6]Level 3 - vlookup table'!$B$2:$D$97,3, FALSE)","v":121.974855454692},null,{"$f":"VLOOKUP(B159,'[21]Level 3 - vlookup table'!$B$2:$D$97,3, FALSE)","v":121.974855454692},{"$f":"VLOOKUP(B159,'[22]Level 3 - vlookup table'!$B$2:$D$97,3, FALSE)","v":127.97536447739699},{"$f":"VLOOKUP($B159,'[19]Level 3 - vlookup table'!$B$2:$D$97, 3, FALSE)","v":127.654170684307},{"$f":"VLOOKUP($B159,'[10]Level 3 - vlookup table'!$B$2:$D$97, 3, FALSE)","v":126.351299199498},{"$f":"VLOOKUP($B159,'[20]Level 3 - vlookup table'!$B$2:$D$97,3, FALSE)","v":126.351299199498},{"$f":"VLOOKUP($B159,'[23]Level 3 - vlookup table'!$B$2:$D$97,3, FALSE)","v":127.631131212634},{"$f":"VLOOKUP($B159,'[24]Level 3 - vlookup table'!$B$2:$D$97, 3, FALSE)","v":130.558504694128},{"$f":"VLOOKUP($B159,'[10]Level 3 - vlookup table'!$B$2:$D$97, 3, FALSE)","v":126.351299199498}]
[3,"111200","Canteens",null,"Not relevant","Not relevant","Not relevant","Not relevant",null,"Not relevant","Not relevant","Not relevant","Not relevant",null,"Not relevant","Not relevant","Not relevant","Not relevant",null,"Not relevant","Not relevant","Not relevant","Not relevant",null,"Not relevant","Not relevant","Not relevant","Not relevant",null,"Not relevant","Not relevant","Not relevant","Not relevant",null,"Not relevant","Not relevant","Not relevant","Not relevant","Not relevant","Not relevant","Not relevant","Not relevant"]
[2,"112000","Accommodation services",null,"Not yet available","Not yet available","Not yet available","Not yet available",null,"Not yet available","Not yet available","Not yet available","Not yet available",null,"Not yet available","Not yet available","Not yet available","Not yet available",null,"Not yet available","Not yet available","Not yet available","Not yet available",null,"Not yet available","Not yet available","Not yet available","Not available",null,"Not available","Not available","Not available","Not available",null,"Not available","Not available","Not available","Not available","Not available","Not available","Not available","Not available"]
[3,"112100","Accommodation services",null,"Not yet available","Not yet available","Not yet available","Not yet available",null,"Not yet available","Not yet available","Not yet available","Not yet available",null,"Not yet available","Not yet available","Not yet available","Not yet available",null,"Not yet available","Not yet available","Not yet available","Not available",null,"Not yet available","Not yet available","Not yet available","Not available",null,"Not available","Not available","Not available","Not available",null,"Not available","Not available","Not available","Not relevant","Not available","Not available","Not available","Not relevant"]
[1,"120000","Miscellaneous goods and services",null,99.873800130000006,99.996033859999997,100.42873710000001,99.701428899999996,null,100.558212195159,99.120138366519399,100.21475455441001,99.369343096880002,null,99.236182124067,100.329118463177,101.02571586305299,102.744482595544,null,103.14485762934601,103.470484950928,103.85420243197299,103.648900241411,null,103.824850759469,102.977127905592,{"$f":"VLOOKUP(B163,'[1]Level 1 - vlookup table'!$B$2:$D$13,3,FALSE)","v":103.479514205237},{"$f":"VLOOKUP(B163,'[2]Level 1 - vlookup table'!$B$2:$D$13,3,FALSE)","v":104.207505055675},null,{"$f":"VLOOKUP(B163,'[3]Level 1 - vlookup table'!$B$2:$D$13,3,FALSE)","v":104.604448442924},{"$f":"VLOOKUP(B163,'[4]Level 1 - vlookup table'!$B$2:$D$13,3,FALSE)","v":103.017723172738},{"$f":"VLOOKUP(B163,'[5]Level 1 - vlookup table'!$B$2:$D$13,3,FALSE)","v":102.632389583229},{"$f":"VLOOKUP(B163,'[6]Level 1 - vlookup table'!$B$2:$D$13,3,FALSE)","v":102.643897584059},null,{"$f":"VLOOKUP(B163,'[21]Level 1 - vlookup table'!$B$2:$D$13,3,FALSE)","v":103.607462867772},{"$f":"VLOOKUP($B163,'[22]Level 1 - vlookup table'!$B$2:$D$13,3,FALSE)","v":105.16177025722},{"$f":"VLOOKUP($B163,'[25]Level 1 - vlookup table'!$B$2:$D$13,3,FALSE)","v":103.607462867772},{"$f":"VLOOKUP($B163,'[10]Level 1 - vlookup table'!$B$2:$D$13,3,FALSE)","v":108.220556005551},{"$f":"VLOOKUP($B163,'[17]Level 1 - vlookup table'!$B$2:$D$13,3,FALSE)","v":108.33959510048},{"$f":"VLOOKUP($B163,'[22]Level 1 - vlookup table'!$B$2:$D$13,3,FALSE)","v":105.16177025722},{"$f":"VLOOKUP($B163,'[26]Level 1 - vlookup table'!$B$2:$D$13,3,FALSE)","v":107.542959349421},{"$f":"VLOOKUP($B163,'[14]Level 1 - vlookup table'!$B$2:$D$13,3,FALSE)","v":103.607462867772}]
[2,"121000","Personal care",null,99.669492009999999,100.3836938,101.9000217,98.046792510000003,null,100.42078918477399,97.654504447545307,97.433904105393694,95.494410423660995,null,94.466155124219895,97.082491563048805,96.393065526174297,99.904778321381002,null,99.520832981511504,100.082957739129,100.327442745158,100.612738979743,null,101.196848549877,102.37303151563999,{"$f":"VLOOKUP(B164,'[1]Level 2 -vlookup table'!$B$2:$D$44,3,FALSE)","v":102.63881559862},{"$f":"VLOOKUP(B164,'[2]Level 2 - vlookup table'!$B$2:$D$44,3,FALSE)","v":103.89400050362001},null,{"$f":"VLOOKUP(B164,'[3]Level 2 - vlookup table'!$B$2:$D$44,3,FALSE)","v":104.321142421812},{"$f":"VLOOKUP(B164,'[4]Level 2 - vlookup table'!$B$2:$D$44,3,FALSE)","v":104.11248504695401},{"$f":"VLOOKUP(B164,'[5]Level 2 - vlookup table'!$B$2:$D$44,3,FALSE)","v":103.164957527041},{"$f":"VLOOKUP(B164,'[6]Level 2 - vlookup table'!$B$2:$D$44,3,FALSE)","v":103.218200655999},null,{"$f":"VLOOKUP(B164,'[21]Level 2 - vlookup table'!$B$2:$D$44,3,FALSE)","v":104.934829214796},{"$f":"VLOOKUP(B164,'[22]Level 2 - vlookup table'!$B$2:$D$44,3,FALSE)","v":105.398129960535},{"$f":"VLOOKUP($B164,'[19]Level 2 - vlookup table'!$B$2:$D$44,3,FALSE)","v":107.16331278674799},{"$f":"VLOOKUP($B164,'[10]Level 2 - vlookup table'!$B$2:$D$44,3,FALSE)","v":111.579501433947},{"$f":"VLOOKUP($B164,'[20]Level 2 - vlookup table'!$B$2:$D$44,3,FALSE)","v":111.89946163458499},{"$f":"VLOOKUP($B164,'[8]Level 2 - vlookup table'!$B$2:$D$44,3,FALSE)","v":110.24353330194501},{"$f":"VLOOKUP($B164,'[13]Level 2 - vlookup table'!$B$2:$D$44,3,FALSE)","v":109.77757492393},{"$f":"VLOOKUP($B164,'[10]Level 2 - vlookup table'!$B$2:$D$44,3,FALSE)","v":111.579501433947}]
[3,"121100","Hairdressing salons and personal grooming establishments",null,100.05826140000001,100.05826140000001,100.05826140000001,99.825215929999999,null,101.28522069468799,101.140527701571,101.140527701571,101.140527701571,null,98.236044876393294,96.550489238495899,96.550489238495899,96.550489238495899,null,96.461316964725299,96.4088767812421,96.4088767812421,96.4088767812421,null,96.811316355966596,96.811316355966596,{"$f":"VLOOKUP(B165,'[1]Level 3 - vlookup table'!$B$2:$D$97, 3, FALSE)","v":96.811316355966596},{"$f":"VLOOKUP(B165,'[2]Level 3 - vlookup table'!$B$2:$D$97, 3, FALSE)","v":96.811316355966596},null,{"$f":"VLOOKUP(B165,'[3]Level 3 - vlookup table'!$B$2:$D$97, 3, FALSE)","v":94.094848454188494},{"$f":"VLOOKUP(B165,'[4]Level 3 - vlookup table'!$B$2:$D$97,3, FALSE)","v":94.094848454188494},{"$f":"VLOOKUP(B165,'[5]Level 3 - vlookup table'!$B$2:$D$97,3, FALSE)","v":94.094848454188494},{"$f":"VLOOKUP(B165,'[6]Level 3 - vlookup table'!$B$2:$D$97,3, FALSE)","v":94.094848454188494},null,{"$f":"VLOOKUP(B165,'[21]Level 3 - vlookup table'!$B$2:$D$97,3, FALSE)","v":99.613114950742599},{"$f":"VLOOKUP(B165,'[22]Level 3 - vlookup table'!$B$2:$D$97,3, FALSE)","v":99.613114950742499},{"$f":"VLOOKUP($B165,'[19]Level 3 - vlookup table'!$B$2:$D$97, 3, FALSE)","v":99.613114950742499},{"$f":"VLOOKUP($B165,'[10]Level 3 - vlookup table'!$B$2:$D$97, 3, FALSE)","v":99.613114950742499},{"$f":"VLOOKUP($B165,'[20]Level 3 - vlookup table'!$B$2:$D$97,3, FALSE)","v":104.138223271934},{"$f":"VLOOKUP($B165,'[23]Level 3 - vlookup table'!$B$2:$D$97,3, FALSE)","v":104.138223271934},{"$f":"VLOOKUP($B165,'[24]Level 3 - vlookup table'!$B$2:$D$97, 3, FALSE)","v":104.138223271934},{"$f":"VLOOKUP($B165,'[10]Level 3 - vlookup table'!$B$2:$D$97, 3, FALSE)","v":99.613114950742499}]
[3,"121200","Electric appliances for personal care",null,95.327766780000005,90.115818189999999,100.43573360000001,114.1206814,null,81.579683934465805,87.301241926762202,92.517673245496098,86.9336385884544,null,86.1352033658533,86.1352033658533,77.884678664042596,82.113183143540198,null,80.082624024851995,75.483118013682798,75.483118013682798,75.483118013682798,null,115.823656061829,96.378236476344497,{"$f":"VLOOKUP(B166,'[1]Level 3 - vlookup table'!$B$2:$D$97, 3, FALSE)","v":97.623047997367806},{"$f":"VLOOKUP(B166,'[2]Level 3 - vlookup table'!$B$2:$D$97, 3, FALSE)","v":101.261691660747},null,{"$f":"VLOOKUP(B166,'[3]Level 3 - vlookup table'!$B$2:$D$97, 3, FALSE)","v":103.41282133406},{"$f":"VLOOKUP(B166,'[4]Level 3 - vlookup table'!$B$2:$D$97,3, FALSE)","v":101.259786831189},{"$f":"VLOOKUP(B166,'[5]Level 3 - vlookup table'!$B$2:$D$97,3, FALSE)","v":108.21691625438901},{"$f":"VLOOKUP(B166,'[6]Level 3 - vlookup table'!$B$2:$D$97,3, FALSE)","v":121.845298079771},null,{"$f":"VLOOKUP(B166,'[21]Level 3 - vlookup table'!$B$2:$D$97,3, FALSE)","v":122.618957883349},{"$f":"VLOOKUP(B166,'[22]Level 3 - vlookup table'!$B$2:$D$97,3, FALSE)","v":127.83302798668799},{"$f":"VLOOKUP($B166,'[19]Level 3 - vlookup table'!$B$2:$D$97, 3, FALSE)","v":126.632584930557},{"$f":"VLOOKUP($B166,'[10]Level 3 - vlookup table'!$B$2:$D$97, 3, FALSE)","v":126.632584930557},{"$f":"VLOOKUP($B166,'[20]Level 3 - vlookup table'!$B$2:$D$97,3, FALSE)","v":131.244903785893},{"$f":"VLOOKUP($B166,'[23]Level 3 - vlookup table'!$B$2:$D$97,3, FALSE)","v":135.21700436444999},{"$f":"VLOOKUP($B166,'[24]Level 3 - vlookup table'!$B$2:$D$97, 3, FALSE)","v":135.21700436444999},{"$f":"VLOOKUP($B166,'[10]Level 3 - vlookup table'!$B$2:$D$97, 3, FALSE)","v":126.632584930557}]
[3,"121300","Other appliances, articles and products for personal care",null,99.531391990000003,100.6443721,102.78418189999999,97.040054060000003,null,100.340633168178,96.571035460408197,96.2113008561399,93.644498293231393,null,93.261267421860893,97.392953659304098,96.553119309002298,101.268796288251,null,100.80216731441701,101.636235427572,101.967950402065,102.355037670587,null,102.54133028833201,104.362416291717,{"$f":"VLOOKUP(B167,'[1]Level 3 - vlookup table'!$B$2:$D$97, 3, FALSE)","v":104.70861000216399},{"$f":"VLOOKUP(B167,'[2]Level 3 - vlookup table'!$B$2:$D$97, 3, FALSE)","v":106.369483831487},null,{"$f":"VLOOKUP(B167,'[3]Level 3 - vlookup table'!$B$2:$D$97, 3, FALSE)","v":107.861851098264},{"$f":"VLOOKUP(B167,'[4]Level 3 - vlookup table'!$B$2:$D$97,3, FALSE)","v":107.60368704941099},{"$f":"VLOOKUP(B167,'[5]Level 3 - vlookup table'!$B$2:$D$97,3, FALSE)","v":106.23750052855},{"$f":"VLOOKUP(B167,'[6]Level 3 - vlookup table'!$B$2:$D$97,3, FALSE)","v":106.151871802919},null,{"$f":"VLOOKUP(B167,'[21]Level 3 - vlookup table'!$B$2:$D$97,3, FALSE)","v":106.567072019544},{"$f":"VLOOKUP(B167,'[22]Level 3 - vlookup table'!$B$2:$D$97,3, FALSE)","v":107.13527538058899},{"$f":"VLOOKUP($B167,'[19]Level 3 - vlookup table'!$B$2:$D$97, 3, FALSE)","v":109.544164662673},{"$f":"VLOOKUP($B167,'[10]Level 3 - vlookup table'!$B$2:$D$97, 3, FALSE)","v":115.536008204556},{"$f":"VLOOKUP($B167,'[20]Level 3 - vlookup table'!$B$2:$D$97,3, FALSE)","v":114.354600571106},{"$f":"VLOOKUP($B167,'[23]Level 3 - vlookup table'!$B$2:$D$97,3, FALSE)","v":112.06184042832901},{"$f":"VLOOKUP($B167,'[24]Level 3 - vlookup table'!$B$2:$D$97, 3, FALSE)","v":111.42963244965399},{"$f":"VLOOKUP($B167,'[10]Level 3 - vlookup table'!$B$2:$D$97, 3, FALSE)","v":115.536008204556}]
[2,"122000","Prostitution",null,"Not available","Not available","Not available","Not available",null,"Not available","Not available","Not available","Not available",null,"Not available","Not available","Not available","Not available",null,"Not available","Not available","Not available","Not yet available",null,"Not yet available","Not available","Not available","Not available",null,"Not available","Not available","Not available","Not available",null,"Not available","Not available","Not available","Not available","Not available","Not available","Not available","Not available"]
[3,"122000","Prostitution",null,"Not available","Not available","Not available","Not available",null,"Not available","Not available","Not available","Not available",null,"Not available","Not available","Not available","Not available",null,"Not available","Not available","Not available","Not available",null,"Not available","Not available","Not available","Not available",null,"Not available","Not available","Not available","Not available",null,"Not available","Not available","Not available","Not available","Not available","Not available","Not available","Not available"]
[2,"123000","Personal effects n.e.c.",null,99.645881509999995,98.963926180000001,99.181684300000001,102.20850799999999,null,104.531004434466,100.02813608222,99.201586989991,98.670481612981902,null,102.32247937739299,97.517225721395107,96.851207831520099,99.498762328009505,null,106.246464257111,106.459270148275,108.601465998951,104.861601781056,null,103.986928993429,102.56452271945901,{"$f":"VLOOKUP(B170,'[1]Level 2 -vlookup table'!$B$2:$D$44,3,FALSE)","v":108.365193199793},{"$f":"VLOOKUP(B170,'[2]Level 2 - vlookup table'!$B$2:$D$44,3,FALSE)","v":110.67105020362099},null,{"$f":"VLOOKUP(B170,'[3]Level 2 - vlookup table'!$B$2:$D$44,3,FALSE)","v":113.24055058238299},{"$f":"VLOOKUP(B170,'[4]Level 2 - vlookup table'!$B$2:$D$44,3,FALSE)","v":108.251224574902},{"$f":"VLOOKUP(B170,'[5]Level 2 - vlookup table'!$B$2:$D$44,3,FALSE)","v":109.766438835166},{"$f":"VLOOKUP(B170,'[6]Level 2 - vlookup table'!$B$2:$D$44,3,FALSE)","v":109.632517935252},null,{"$f":"VLOOKUP(B170,'[21]Level 2 - vlookup table'!$B$2:$D$44,3,FALSE)","v":112.40261248151801},{"$f":"VLOOKUP(B170,'[22]Level 2 - vlookup table'!$B$2:$D$44,3,FALSE)","v":113.487020449434},{"$f":"VLOOKUP($B170,'[19]Level 2 - vlookup table'!$B$2:$D$44,3,FALSE)","v":116.43200145395301},{"$f":"VLOOKUP($B170,'[10]Level 2 - vlookup table'!$B$2:$D$44,3,FALSE)","v":115.73800267118},{"$f":"VLOOKUP($B170,'[20]Level 2 - vlookup table'!$B$2:$D$44,3,FALSE)","v":115.529913929901},{"$f":"VLOOKUP($B170,'[8]Level 2 - vlookup table'!$B$2:$D$44,3,FALSE)","v":116.94664458728499},{"$f":"VLOOKUP($B170,'[13]Level 2 - vlookup table'!$B$2:$D$44,3,FALSE)","v":116.020605063985},{"$f":"VLOOKUP($B170,'[10]Level 2 - vlookup table'!$B$2:$D$44,3,FALSE)","v":115.73800267118}]
[3,"123100","Jewelry, clocks and watches",null,99.738441739999999,98.129416070000005,99.463795329999996,102.6683469,null,106.108105241597,102.529895998578,101.025355002363,103.221832753494,null,106.50954020073701,98.780275393955407,98.619364138351699,103.914158986489,null,115.417968735752,115.43654762928099,116.462146072691,110.967180906537,null,110.48973345848199,114.522160291703,{"$f":"VLOOKUP(B171,'[1]Level 3 - vlookup table'!$B$2:$D$97, 3, FALSE)","v":119.664802889245},{"$f":"VLOOKUP(B171,'[2]Level 3 - vlookup table'!$B$2:$D$97, 3, FALSE)","v":122.75331277692401},null,{"$f":"VLOOKUP(B171,'[3]Level 3 - vlookup table'!$B$2:$D$97, 3, FALSE)","v":123.93649693229},{"$f":"VLOOKUP(B171,'[4]Level 3 - vlookup table'!$B$2:$D$97,3, FALSE)","v":116.48199361872101},{"$f":"VLOOKUP(B171,'[5]Level 3 - vlookup table'!$B$2:$D$97,3, FALSE)","v":118.069511014733},{"$f":"VLOOKUP(B171,'[6]Level 3 - vlookup table'!$B$2:$D$97,3, FALSE)","v":117.97937497687801},null,{"$f":"VLOOKUP(B171,'[21]Level 3 - vlookup table'!$B$2:$D$97,3, FALSE)","v":121.515256194144},{"$f":"VLOOKUP(B171,'[22]Level 3 - vlookup table'!$B$2:$D$97,3, FALSE)","v":122.100001328818},{"$f":"VLOOKUP($B171,'[19]Level 3 - vlookup table'!$B$2:$D$97, 3, FALSE)","v":123.988212935562},{"$f":"VLOOKUP($B171,'[10]Level 3 - vlookup table'!$B$2:$D$97, 3, FALSE)","v":124.00781613553499},{"$f":"VLOOKUP($B171,'[20]Level 3 - vlookup table'!$B$2:$D$97,3, FALSE)","v":123.522897548104},{"$f":"VLOOKUP($B171,'[23]Level 3 - vlookup table'!$B$2:$D$97,3, FALSE)","v":124.46173920353399},{"$f":"VLOOKUP($B171,'[24]Level 3 - vlookup table'!$B$2:$D$98, 3, FALSE)","v":123.829886118883},{"$f":"VLOOKUP($B171,'[10]Level 3 - vlookup table'!$B$2:$D$97, 3, FALSE)","v":124.00781613553499}]
[3,"123200","Other personal effects ",null,99.40799312,101.10869479999999,98.456632729999995,101.02667940000001,null,102.092780424528,96.160373750489399,96.382011388852504,91.634017248575006,null,95.849213886444105,95.564529975215606,94.117608849675193,92.672485848137299,null,92.067166189439902,92.580250240927597,96.448724206178696,95.422275169204497,null,93.933485417132601,84.077816670641795,{"$f":"VLOOKUP(B172,'[1]Level 3 - vlookup table'!$B$2:$D$97, 3, FALSE)","v":90.895809173625693},{"$f":"VLOOKUP(B172,'[2]Level 3 - vlookup table'!$B$2:$D$97, 3, FALSE)","v":91.9916718357956},null,{"$f":"VLOOKUP(B172,'[3]Level 3 - vlookup table'!$B$2:$D$97, 3, FALSE)","v":96.704440093166397},{"$f":"VLOOKUP(B172,'[4]Level 3 - vlookup table'!$B$2:$D$97,3, FALSE)","v":95.526319095078506},{"$f":"VLOOKUP(B172,'[5]Level 3 - vlookup table'!$B$2:$D$97,3, FALSE)","v":96.929751508058303},{"$f":"VLOOKUP(B172,'[6]Level 3 - vlookup table'!$B$2:$D$97,3, FALSE)","v":96.728138485065301},null,{"$f":"VLOOKUP(B172,'[21]Level 3 - vlookup table'!$B$2:$D$97,3, FALSE)","v":98.314314134531699},{"$f":"VLOOKUP(B172,'[22]Level 3 - vlookup table'!$B$2:$D$97,3, FALSE)","v":100.17120913141601},{"$f":"VLOOKUP($B172,'[19]Level 3 - vlookup table'!$B$2:$D$97, 3, FALSE)","v":104.74997315536601},{"$f":"VLOOKUP($B172,'[10]Level 3 - vlookup table'!$B$2:$D$97, 3, FALSE)","v":102.952733869512},{"$f":"VLOOKUP($B172,'[20]Level 3 - vlookup table'!$B$2:$D$97,3, FALSE)","v":103.172628662641},{"$f":"VLOOKUP($B172,'[23]Level 3 - vlookup table'!$B$2:$D$97,3, FALSE)","v":105.32818364462101},{"$f":"VLOOKUP($B172,'[24]Level 3 - vlookup table'!$B$2:$D$97, 3, FALSE)","v":103.94732700698999},{"$f":"VLOOKUP($B172,'[10]Level 3 - vlookup table'!$B$2:$D$97, 3, FALSE)","v":102.952733869512}]
[2,"124000","Social protection",null,100,100,100,100,null,100,100,100.542683157868,100.90302791996599,null,100.90302791996599,100.90302791996599,100.90302791996599,100.90302791996599,null,100.90302791996599,100.90302791996599,99.875333196844295,99.246640739882594,null,99.246640739882594,99.246640739882594,{"$f":"VLOOKUP(B173,'[1]Level 2 -vlookup table'!$B$2:$D$44,3,FALSE)","v":100.43533625618601},{"$f":"VLOOKUP(B173,'[2]Level 2 - vlookup table'!$B$2:$D$44,3,FALSE)","v":100.43533625618601},null,{"$f":"VLOOKUP(B173,'[3]Level 2 - vlookup table'!$B$2:$D$44,3,FALSE)","v":100.43533625618601},{"$f":"VLOOKUP(B173,'[4]Level 2 - vlookup table'!$B$2:$D$44,3,FALSE)","v":100.43533625618601},{"$f":"VLOOKUP(B173,'[5]Level 2 - vlookup table'!$B$2:$D$44,3,FALSE)","v":95.692351262245694},{"$f":"VLOOKUP(B173,'[6]Level 2 - vlookup table'!$B$2:$D$44,3,FALSE)","v":95.692351262245595},null,{"$f":"VLOOKUP(B173,'[21]Level 2 - vlookup table'!$B$2:$D$44,3,FALSE)","v":95.692351262245595},{"$f":"VLOOKUP(B173,'[22]Level 2 - vlookup table'!$B$2:$D$44,3,FALSE)","v":95.692351262245595},{"$f":"VLOOKUP($B173,'[19]Level 2 - vlookup table'!$B$2:$D$44,3,FALSE)","v":106.007142307818},{"$f":"VLOOKUP($B173,'[10]Level 2 - vlookup table'!$B$2:$D$44,3,FALSE)","v":106.007142307818},{"$f":"VLOOKUP($B173,'[20]Level 2 - vlookup table'!$B$2:$D$44,3,FALSE)","v":106.007142307818},{"$f":"VLOOKUP($B173,'[8]Level 2 - vlookup table'!$B$2:$D$44,3,FALSE)","v":106.007142307818},{"$f":"VLOOKUP($B173,'[13]Level 2 - vlookup table'!$B$2:$D$44,3,FALSE)","v":108.88222017819599},{"$f":"VLOOKUP($B173,'[10]Level 2 - vlookup table'!$B$2:$D$44,3,FALSE)","v":106.007142307818}]
[3,"124100","Social protection",null,100,100,100,100,null,100,100,100.542683157868,100.90302791996599,null,100.90302791996599,100.90302791996599,100.90302791996599,100.90302791996599,null,100.90302791996599,100.90302791996599,99.875333196844295,99.246640739882594,null,99.246640739882594,99.246640739882594,{"$f":"VLOOKUP(B174,'[1]Level 3 - vlookup table'!$B$2:$D$97, 3, FALSE)","v":100.43533625618601},{"$f":"VLOOKUP(B174,'[2]Level 3 - vlookup table'!$B$2:$D$97, 3, FALSE)","v":100.43533625618601},null,{"$f":"VLOOKUP(B174,'[3]Level 3 - vlookup table'!$B$2:$D$97, 3, FALSE)","v":100.43533625618601},{"$f":"VLOOKUP(B174,'[4]Level 3 - vlookup table'!$B$2:$D$97,3, FALSE)","v":100.43533625618601},{"$f":"VLOOKUP(B174,'[5]Level 3 - vlookup table'!$B$2:$D$97,3, FALSE)","v":95.692351262245694},{"$f":"VLOOKUP(B174,'[6]Level 3 - vlookup table'!$B$2:$D$97,3, FALSE)","v":95.692351262245595},null,{"$f":"VLOOKUP(B174,'[21]Level 3 - vlookup table'!$B$2:$D$97,3, FALSE)","v":95.692351262245595},{"$f":"VLOOKUP(B174,'[22]Level 3 - vlookup table'!$B$2:$D$97,3, FALSE)","v":95.692351262245595},{"$f":"VLOOKUP($B174,'[19]Level 3 - vlookup table'!$B$2:$D$97, 3, FALSE)","v":106.007142307818},{"$f":"VLOOKUP($B174,'[10]Level 3 - vlookup table'!$B$2:$D$97, 3, FALSE)","v":106.007142307818},{"$f":"VLOOKUP($B174,'[20]Level 3 - vlookup table'!$B$2:$D$97,3, FALSE)","v":106.007142307818},{"$f":"VLOOKUP($B174,'[23]Level 3 - vlookup table'!$B$2:$D$97,3, FALSE)","v":106.007142307818},{"$f":"VLOOKUP($B174,'[24]Level 3 - vlookup table'!$B$2:$D$97, 3, FALSE)","v":108.88222017819599},{"$f":"VLOOKUP($B174,'[10]Level 3 - vlookup table'!$B$2:$D$97, 3, FALSE)","v":106.007142307818}]
[2,"125000","Insurance",null,100,100,100,100,null,100,99.703741391744103,98.971822991185604,98.971822991185604,null,98.971822991185604,99.999388235734202,101.981145125669,101.981145125669,null,101.981145125669,102.350481750502,103.021378818694,103.021378818694,null,103.021378818694,102.206107921203,{"$f":"VLOOKUP(B175,'[1]Level 2 -vlookup table'!$B$2:$D$44,3,FALSE)","v":102.206107921203},{"$f":"VLOOKUP(B175,'[2]Level 2 - vlookup table'!$B$2:$D$44,3,FALSE)","v":102.206107921203},null,{"$f":"VLOOKUP(B175,'[3]Level 2 - vlookup table'!$B$2:$D$44,3,FALSE)","v":102.206107921203},{"$f":"VLOOKUP(B175,'[4]Level 2 - vlookup table'!$B$2:$D$44,3,FALSE)","v":106.80490747462601},{"$f":"VLOOKUP(B175,'[5]Level 2 - vlookup table'!$B$2:$D$44,3,FALSE)","v":106.80490747462601},{"$f":"VLOOKUP(B175,'[6]Level 2 - vlookup table'!$B$2:$D$44,3,FALSE)","v":106.80490747462601},null,{"$f":"VLOOKUP(B175,'[21]Level 2 - vlookup table'!$B$2:$D$44,3,FALSE)","v":106.80490747462601},{"$f":"VLOOKUP(B175,'[22]Level 2 - vlookup table'!$B$2:$D$44,3,FALSE)","v":105.47345940248999},{"$f":"VLOOKUP($B175,'[19]Level 2 - vlookup table'!$B$2:$D$44,3,FALSE)","v":105.47345940248999},{"$f":"VLOOKUP($B175,'[10]Level 2 - vlookup table'!$B$2:$D$44,3,FALSE)","v":105.47345940248999},{"$f":"VLOOKUP($B175,'[20]Level 2 - vlookup table'!$B$2:$D$44,3,FALSE)","v":105.47345940248999},{"$f":"VLOOKUP($B175,'[8]Level 2 - vlookup table'!$B$2:$D$44,3,FALSE)","v":110.30687922119},{"$f":"VLOOKUP($B175,'[13]Level 2 - vlookup table'!$B$2:$D$44,3,FALSE)","v":110.30687922119},{"$f":"VLOOKUP($B175,'[10]Level 2 - vlookup table'!$B$2:$D$44,3,FALSE)","v":105.47345940248999}]
[3,"125100","Life insurance",null,100,100,100,100,null,100,100.276552871428,100.824982953008,100.824982953008,null,100.824982953008,101.43848160498101,102.63277106789999,102.63277106789999,null,102.63277106789999,103.373484852522,104.682490007941,104.682490007941,null,104.682490007941,99.351456628588096,{"$f":"VLOOKUP(B176,'[1]Level 3 - vlookup table'!$B$2:$D$97, 3, FALSE)","v":99.351456628588195},{"$f":"VLOOKUP(B176,'[2]Level 3 - vlookup table'!$B$2:$D$97, 3, FALSE)","v":99.351456628588195},null,{"$f":"VLOOKUP(B176,'[3]Level 3 - vlookup table'!$B$2:$D$97, 3, FALSE)","v":99.351456628588195},{"$f":"VLOOKUP(B176,'[4]Level 3 - vlookup table'!$B$2:$D$97,3, FALSE)","v":103.044308591461},{"$f":"VLOOKUP(B176,'[5]Level 3 - vlookup table'!$B$2:$D$97,3, FALSE)","v":103.044308591461},{"$f":"VLOOKUP(B176,'[6]Level 3 - vlookup table'!$B$2:$D$97,3, FALSE)","v":103.044308591461},null,{"$f":"VLOOKUP(B176,'[21]Level 3 - vlookup table'!$B$2:$D$97,3, FALSE)","v":103.044308591461},{"$f":"VLOOKUP(B176,'[22]Level 3 - vlookup table'!$B$2:$D$97,3, FALSE)","v":99.1786100188761},{"$f":"VLOOKUP($B176,'[19]Level 3 - vlookup table'!$B$2:$D$97, 3, FALSE)","v":99.178610018876199},{"$f":"VLOOKUP($B176,'[10]Level 3 - vlookup table'!$B$2:$D$97, 3, FALSE)","v":99.178610018876199},{"$f":"VLOOKUP($B176,'[20]Level 3 - vlookup table'!$B$2:$D$97,3, FALSE)","v":99.178610018876199},{"$f":"VLOOKUP($B176,'[23]Level 3 - vlookup table'!$B$2:$D$97,3, FALSE)","v":116.135226363553},{"$f":"VLOOKUP($B176,'[24]Level 3 - vlookup table'!$B$2:$D$97, 3, FALSE)","v":116.135226363553},{"$f":"VLOOKUP($B176,'[10]Level 3 - vlookup table'!$B$2:$D$97, 3, FALSE)","v":99.178610018876199}]
[3,"125200","Insurance connected with the dwelling",null,100,100,100,100,null,100,98.597597635765695,95.596417790177597,95.596417790177597,null,95.596417790177597,95.358075085269306,94.8497318922701,94.8497318922701,null,94.8497318922701,94.952943578215198,95.155733855749105,95.155733855749105,null,95.155733855749105,95.153897890853401,{"$f":"VLOOKUP(B177,'[1]Level 3 - vlookup table'!$B$2:$D$97, 3, FALSE)","v":95.153897890853301},{"$f":"VLOOKUP(B177,'[2]Level 3 - vlookup table'!$B$2:$D$97, 3, FALSE)","v":95.153897890853301},null,{"$f":"VLOOKUP(B177,'[3]Level 3 - vlookup table'!$B$2:$D$97, 3, FALSE)","v":95.153897890853301},{"$f":"VLOOKUP(B177,'[4]Level 3 - vlookup table'!$B$2:$D$97,3, FALSE)","v":108.996523978719},{"$f":"VLOOKUP(B177,'[5]Level 3 - vlookup table'!$B$2:$D$97,3, FALSE)","v":108.996523978719},{"$f":"VLOOKUP(B177,'[6]Level 3 - vlookup table'!$B$2:$D$97,3, FALSE)","v":108.996523978719},null,{"$f":"VLOOKUP(B177,'[21]Level 3 - vlookup table'!$B$2:$D$97,3, FALSE)","v":108.996523978719},{"$f":"VLOOKUP(B177,'[22]Level 3 - vlookup table'!$B$2:$D$97,3, FALSE)","v":100.094151523202},{"$f":"VLOOKUP($B177,'[19]Level 3 - vlookup table'!$B$2:$D$97, 3, FALSE)","v":100.094151523202},{"$f":"VLOOKUP($B177,'[10]Level 3 - vlookup table'!$B$2:$D$97, 3, FALSE)","v":100.094151523202},{"$f":"VLOOKUP($B177,'[20]Level 3 - vlookup table'!$B$2:$D$97,3, FALSE)","v":100.094151523202},{"$f":"VLOOKUP($B177,'[23]Level 3 - vlookup table'!$B$2:$D$97,3, FALSE)","v":97.839346079782302},{"$f":"VLOOKUP($B177,'[24]Level 3 - vlookup table'!$B$2:$D$97, 3, FALSE)","v":97.839346079782302},{"$f":"VLOOKUP($B177,'[10]Level 3 - vlookup table'!$B$2:$D$97, 3, FALSE)","v":100.094151523202}]
[3,"125300","Insurance connected with health",null,100,100,100,100,null,100,100,100,100,null,100,101.91002226942599,105.730064989418,105.730064989418,null,105.730064989418,105.730064989418,105.730064989418,105.730064989418,null,105.730064989418,105.730064989418,{"$f":"VLOOKUP(B178,'[1]Level 3 - vlookup table'!$B$2:$D$97, 3, FALSE)","v":105.730064989418},{"$f":"VLOOKUP(B178,'[2]Level 3 - vlookup table'!$B$2:$D$97, 3, FALSE)","v":105.730064989418},null,{"$f":"VLOOKUP(B178,'[3]Level 3 - vlookup table'!$B$2:$D$97, 3, FALSE)","v":105.730064989418},{"$f":"VLOOKUP(B178,'[4]Level 3 - vlookup table'!$B$2:$D$97,3, FALSE)","v":114.63684938424301},{"$f":"VLOOKUP(B178,'[5]Level 3 - vlookup table'!$B$2:$D$97,3, FALSE)","v":114.636849384242},{"$f":"VLOOKUP(B178,'[6]Level 3 - vlookup table'!$B$2:$D$97,3, FALSE)","v":114.636849384242},null,{"$f":"VLOOKUP(B178,'[21]Level 3 - vlookup table'!$B$2:$D$97,3, FALSE)","v":114.636849384242},{"$f":"VLOOKUP(B178,'[22]Level 3 - vlookup table'!$B$2:$D$97,3, FALSE)","v":108.33818209009},{"$f":"VLOOKUP($B178,'[19]Level 3 - vlookup table'!$B$2:$D$97, 3, FALSE)","v":108.33818209009},{"$f":"VLOOKUP($B178,'[10]Level 3 - vlookup table'!$B$2:$D$97, 3, FALSE)","v":108.33818209009},{"$f":"VLOOKUP($B178,'[20]Level 3 - vlookup table'!$B$2:$D$97,3, FALSE)","v":108.33818209009},{"$f":"VLOOKUP($B178,'[23]Level 3 - vlookup table'!$B$2:$D$97,3, FALSE)","v":108.33818209009},{"$f":"VLOOKUP($B178,'[24]Level 3 - vlookup table'!$B$2:$D$97, 3, FALSE)","v":108.33818209009},{"$f":"VLOOKUP($B178,'[10]Level 3 - vlookup table'!$B$2:$D$97, 3, FALSE)","v":108.33818209009}]
[3,"125400","Insurance connected with transport",null,100,100,100,100,null,100,99.513861665063303,98.253559081122802,98.253559081122802,null,98.253559081122802,99.603621304510796,102.15001843603299,102.15001843603299,null,102.15001843603299,102.511231961315,103.189446966256,103.189446966256,null,103.189446966256,105.085706714878,{"$f":"VLOOKUP(B179,'[1]Level 3 - vlookup table'!$B$2:$D$97, 3, FALSE)","v":105.08570671487701},{"$f":"VLOOKUP(B179,'[2]Level 3 - vlookup table'!$B$2:$D$97, 3, FALSE)","v":105.08570671487701},null,{"$f":"VLOOKUP(B179,'[3]Level 3 - vlookup table'!$B$2:$D$97, 3, FALSE)","v":105.08570671487701},{"$f":"VLOOKUP(B179,'[4]Level 3 - vlookup table'!$B$2:$D$97,3, FALSE)","v":105.085706714878},{"$f":"VLOOKUP(B179,'[5]Level 3 - vlookup table'!$B$2:$D$97,3, FALSE)","v":105.08570671487701},{"$f":"VLOOKUP(B179,'[6]Level 3 - vlookup table'!$B$2:$D$97,3, FALSE)","v":105.08570671487701},null,{"$f":"VLOOKUP(B179,'[21]Level 3 - vlookup table'!$B$2:$D$97,3, FALSE)","v":105.08570671487701},{"$f":"VLOOKUP(B179,'[22]Level 3 - vlookup table'!$B$2:$D$97,3, FALSE)","v":110.67246514815101},{"$f":"VLOOKUP($B179,'[19]Level 3 - vlookup table'!$B$2:$D$97, 3, FALSE)","v":110.67246514815101},{"$f":"VLOOKUP($B179,'[10]Level 3 - vlookup table'!$B$2:$D$97, 3, FALSE)","v":110.67246514815101},{"$f":"VLOOKUP($B179,'[20]Level 3 - vlookup table'!$B$2:$D$97,3, FALSE)","v":110.67246514815101},{"$f":"VLOOKUP($B179,'[23]Level 3 - vlookup table'!$B$2:$D$97,3, FALSE)","v":111.20017566111601},{"$f":"VLOOKUP($B179,'[24]Level 3 - vlookup table'!$B$2:$D$97, 3, FALSE)","v":111.200175661115},{"$f":"VLOOKUP($B179,'[10]Level 3 - vlookup table'!$B$2:$D$97, 3, FALSE)","v":110.67246514815101}]
[3,"125500","Other insurance",null,"Not relevant","Not relevant","Not relevant","Not relevant",null,"Not relevant","Not relevant","Not relevant","Not available",null,"Not available","Not available","Not available","Not available",null,"Not available","Not available","Not available","Not available",null,"Not available","Not available","Not available","Not available",null,"Not available","Not available","Not available","Not available",null,"Not available","Not available","Not available","Not available","Not available","Not available","Not available","Not available"]
[2,"126000","Financial services n.e.c.",null,100,100,100,100,null,100,101.073027213364,108.736841859922,108.736841859922,null,108.736841859922,110.910522673374,114.558568171961,114.558568171961,null,114.558568171961,114.558568171961,114.558568171961,114.558568171961,null,114.558568171961,108.770325211588,{"$f":"VLOOKUP(B181,'[1]Level 2 -vlookup table'!$B$2:$D$44,3,FALSE)","v":108.111447652107},{"$f":"VLOOKUP(B181,'[2]Level 2 - vlookup table'!$B$2:$D$44,3,FALSE)","v":108.111447652107},null,{"$f":"VLOOKUP(B181,'[3]Level 2 - vlookup table'!$B$2:$D$44,3,FALSE)","v":108.111447652107},{"$f":"VLOOKUP(B181,'[4]Level 2 - vlookup table'!$B$2:$D$44,3,FALSE)","v":97.771850687199702},{"$f":"VLOOKUP(B181,'[5]Level 2 - vlookup table'!$B$2:$D$44,3,FALSE)","v":97.771850687199802},{"$f":"VLOOKUP(B181,'[6]Level 2 - vlookup table'!$B$2:$D$44,3,FALSE)","v":97.771850687199802},null,{"$f":"VLOOKUP(B181,'[21]Level 2 - vlookup table'!$B$2:$D$44,3,FALSE)","v":97.771850687199802},{"$f":"VLOOKUP(B181,'[22]Level 2 - vlookup table'!$B$2:$D$44,3,FALSE)","v":101.727572972731},{"$f":"VLOOKUP($B181,'[19]Level 2 - vlookup table'!$B$2:$D$44,3,FALSE)","v":101.727572972731},{"$f":"VLOOKUP($B181,'[10]Level 2 - vlookup table'!$B$2:$D$44,3,FALSE)","v":101.727572972731},{"$f":"VLOOKUP($B181,'[20]Level 2 - vlookup table'!$B$2:$D$44,3,FALSE)","v":101.727572972731},{"$f":"VLOOKUP($B181,'[8]Level 2 - vlookup table'!$B$2:$D$44,3,FALSE)","v":96.957137753043199},{"$f":"VLOOKUP($B181,'[13]Level 2 - vlookup table'!$B$2:$D$44,3,FALSE)","v":96.957137753043},{"$f":"VLOOKUP($B181,'[10]Level 2 - vlookup table'!$B$2:$D$44,3,FALSE)","v":101.727572972731}]
[3,"126100","FISIM",null,"Not available","Not available","Not available","Not available",null,"Not available","Not available","Not available","Not available",null,"Not available","Not available","Not available","Not available",null,"Not available","Not available","Not available","Not available",null,"Not available","Not available","Not available","Not available",null,"Not available","Not available","Not available","Not available",null,"Not available","Not available","Not available","Not available","Not available","Not available","Not available","Not available"]
[3,"126200","Other financial services n.e.c.",null,100,100,100,100,null,100,101.073027213364,108.736841859922,108.736841859922,null,108.736841859922,110.910522673374,114.558568171961,114.558568171961,null,114.558568171961,114.558568171961,114.558568171961,114.558568171961,null,114.558568171961,108.770325211588,{"$f":"VLOOKUP(B183,'[1]Level 3 - vlookup table'!$B$2:$D$97, 3, FALSE)","v":108.111447652107},{"$f":"VLOOKUP(B183,'[2]Level 3 - vlookup table'!$B$2:$D$97, 3, FALSE)","v":108.111447652107},null,{"$f":"VLOOKUP(B183,'[3]Level 3 - vlookup table'!$B$2:$D$97, 3, FALSE)","v":108.111447652107},{"$f":"VLOOKUP(B183,'[4]Level 3 - vlookup table'!$B$2:$D$97,3, FALSE)","v":97.771850687199702},{"$f":"VLOOKUP(B183,'[5]Level 3 - vlookup table'!$B$2:$D$97,3, FALSE)","v":97.771850687199802},{"$f":"VLOOKUP(B183,'[6]Level 3 - vlookup table'!$B$2:$D$97,3, FALSE)","v":97.771850687199802},null,{"$f":"VLOOKUP(B183,'[21]Level 3 - vlookup table'!$B$2:$D$97,3, FALSE)","v":97.771850687199802},{"$f":"VLOOKUP(B183,'[22]Level 3 - vlookup table'!$B$2:$D$97,3, FALSE)","v":101.727572972731},{"$f":"VLOOKUP($B183,'[19]Level 3 - vlookup table'!$B$2:$D$97, 3, FALSE)","v":101.727572972731},{"$f":"VLOOKUP($B183,'[10]Level 3 - vlookup table'!$B$2:$D$97, 3, FALSE)","v":101.727572972731},{"$f":"VLOOKUP($B183,'[20]Level 3 - vlookup table'!$B$2:$D$97,3, FALSE)","v":101.727572972731},{"$f":"VLOOKUP($B183,'[23]Level 3 - vlookup table'!$B$2:$D$97,3, FALSE)","v":96.957137753043199},{"$f":"VLOOKUP($B183,'[24]Level 3 - vlookup table'!$B$2:$D$97, 3, FALSE)","v":96.957137753043},{"$f":"VLOOKUP($B183,'[10]Level 3 - vlookup table'!$B$2:$D$97, 3, FALSE)","v":101.727572972731}]
[2,"127000","Other services n.e.c.",null,100,100,100,100,null,100,99.712892653970897,99.199048800996593,99.384251217936395,null,99.384251217936395,97.136656589718399,97.136656589718399,97.136656589718399,null,97.136656589718399,97.136656589718399,97.136656589718399,97.136656589718399,null,97.136656589718399,97.136656589718399,{"$f":"VLOOKUP(B184,'[1]Level 2 -vlookup table'!$B$2:$D$44,3,FALSE)","v":97.136656589718399},{"$f":"VLOOKUP(B184,'[2]Level 2 - vlookup table'!$B$2:$D$44,3,FALSE)","v":97.136656589718399},null,{"$f":"VLOOKUP(B184,'[3]Level 2 - vlookup table'!$B$2:$D$44,3,FALSE)","v":97.136656589718399},{"$f":"VLOOKUP(B184,'[4]Level 2 - vlookup table'!$B$2:$D$44,3,FALSE)","v":97.136656589718399},{"$f":"VLOOKUP(B184,'[5]Level 2 - vlookup table'!$B$2:$D$44,3,FALSE)","v":97.136656589718399},{"$f":"VLOOKUP(B184,'[6]Level 2 - vlookup table'!$B$2:$D$44,3,FALSE)","v":97.136656589718399},null,{"$f":"VLOOKUP(B184,'[21]Level 2 - vlookup table'!$B$2:$D$44,3,FALSE)","v":97.136656589718399},{"$f":"VLOOKUP(B184,'[22]Level 2 - vlookup table'!$B$2:$D$44,3,FALSE)","v":105.182800111563},{"$f":"VLOOKUP($B184,'[19]Level 2 - vlookup table'!$B$2:$D$44,3,FALSE)","v":105.182800111563},{"$f":"VLOOKUP($B184,'[10]Level 2 - vlookup table'!$B$2:$D$44,3,FALSE)","v":105.182800111563},{"$f":"VLOOKUP($B184,'[20]Level 2 - vlookup table'!$B$2:$D$44,3,FALSE)","v":105.182800111563},{"$f":"VLOOKUP($B184,'[20]Level 2 - vlookup table'!$B$2:$D$44,3,FALSE)","v":105.182800111563},{"$f":"VLOOKUP($B184,'[13]Level 2 - vlookup table'!$B$2:$D$45,3,FALSE)","v":105.182800111563},{"$f":"VLOOKUP($B184,'[10]Level 2 - vlookup table'!$B$2:$D$44,3,FALSE)","v":105.182800111563}]
[3,"127100","Other services n.e.c.",null,100,100,100,100,null,100,99.712892653970897,99.199048800996593,99.384251217936395,null,99.384251217936395,97.136656589718399,97.136656589718399,97.136656589718399,null,97.136656589718399,97.136656589718399,97.136656589718399,97.136656589718399,null,97.136656589718399,97.136656589718399,{"$f":"VLOOKUP(B185,'[1]Level 3 - vlookup table'!$B$2:$D$97, 3, FALSE)","v":97.136656589718399},{"$f":"VLOOKUP(B185,'[2]Level 3 - vlookup table'!$B$2:$D$97, 3, FALSE)","v":97.136656589718399},null,{"$f":"VLOOKUP(B185,'[3]Level 3 - vlookup table'!$B$2:$D$97, 3, FALSE)","v":97.136656589718399},{"$f":"VLOOKUP(B185,'[4]Level 3 - vlookup table'!$B$2:$D$97,3, FALSE)","v":97.136656589718399},{"$f":"VLOOKUP(B185,'[5]Level 3 - vlookup table'!$B$2:$D$97,3, FALSE)","v":97.136656589718399},{"$f":"VLOOKUP(B185,'[6]Level 3 - vlookup table'!$B$2:$D$97,3, FALSE)","v":97.136656589718399},null,{"$f":"VLOOKUP(B185,'[21]Level 3 - vlookup table'!$B$2:$D$97,3, FALSE)","v":97.136656589718399},{"$f":"VLOOKUP(B185,'[22]Level 3 - vlookup table'!$B$2:$D$97,3, FALSE)","v":105.182800111563},{"$f":"VLOOKUP($B185,'[19]Level 3 - vlookup table'!$B$2:$D$97, 3, FALSE)","v":105.182800111563},{"$f":"VLOOKUP($B185,'[10]Level 3 - vlookup table'!$B$2:$D$97, 3, FALSE)","v":105.182800111563},{"$f":"VLOOKUP($B185,'[20]Level 3 - vlookup table'!$B$2:$D$97,3, FALSE)","v":{"$error":"#N/A"}},{"$f":"VLOOKUP($B185,'[23]Level 3 - vlookup table'!$B$2:$D$98,3, FALSE)","v":105.182800111563},{"$f":"VLOOKUP($B185,'[19]Level 3 - vlookup table'!$B$2:$D$98, 3, FALSE)","v":105.182800111563},{"$f":"VLOOKUP($B185,'[10]Level 3 - vlookup table'!$B$2:$D$97, 3, FALSE)","v":105.182800111563}]

{"sheet":"CPI Charts","index":5,"n_rows":129,"n_cols":6,"rows_kept":129,"cut":false,"hidden":false,"merged":[]}
[]
["CPI Charts   Quarterly Index comparison between Total CPI and the four expenditure categories with the highest weight"]
[]
[]
[null,null,null,null,"Navigate the charts, by clicking on the relevant cell below."]
[null,null,null,null,null,"Expenditure categories (weight)"]
[null,null,null,null,"Chart 1","Food and non-alcoholic beverages (7%)"]
[null,null,null,null,"Chart 2","Housing, water, electricity, gas and other fuels (36%)"]
[null,null,null,null,"Chart 3","Transport (15%)"]
[null,null,null,null,"Chart 4","Miscellaneous goods and services (13%)"]
[]
[]
[]
[]
[]
[]
[]
[]
[]
[]
[]
[]
[]
[]
[]
[]
[]
[]
[]
[]
[]
[]
[]
[]
[]
[]
[]
[]
[]
[]
[]
[]
[]
[]
[]
[]
[]
[]
[]
[]
[]
[]
[]
[]
[]
[]
[]
[]
[]
[]
[]
[]
[]
[]
[]
[null,null,"Back to the top"]
[]
[]
[]
[]
[]
[]
[]
[]
[]
[]
[]
[]
[]
[]
[]
[]
[]
[]
[]
[]
[]
[]
[]
[]
[]
[]
[]
[]
[]
[]
[null,null,"Back to the top"]
[]
[]
[]
[]
[]
[]
[]
[]
[]
[]
[]
[]
[]
[]
[]
[]
[]
[]
[]
[]
[]
[]
[]
[]
[]
[]
[]
[]
[]
[]
[]
[null,null,"Back to the top"]

{"sheet":"Inflation","index":6,"n_rows":57,"n_cols":16,"rows_kept":57,"cut":false,"hidden":false,"merged":[[56,0,56,3],[51,0,51,1],[52,0,52,1],[53,0,53,1],[54,0,54,1],[55,0,55,1],[42,0,42,3],[37,0,37,1],[38,0,38,1],[39,0,39,1],[40,0,40,1],[41,0,41,1],[21,0,21,3],[16,0,16,1],[17,0,17,1],[18,0,18,1],[19,0,19,1],[20,0,20,1],[14,0,14,3],[12,0,12,1],[13,0,13,1],[9,0,9,1],[10,0,10,1],[11,0,11,1],[28,0,28,3],[23,0,23,1],[24,0,24,1],[25,0,25,1],[26,0,26,1],[27,0,27,1],[35,0,35,3],[30,0,30,1],[31,0,31,1],[32,0,32,1],[33,0,33,1],[34,0,34,1],[49,0,49,3],[44,0,44,1],[45,0,45,1],[46,0,46,1],[47,0,47,1],[48,0,48,1]]}
[null,null,null,null,null,null,null,null,null,null,null,null,null,null,"Year","Annual Average"]
["Table 5. Inflation rate by Quarter",null,null,null,null,null,null,null,null,null,null,null,null,null,2019,{"$f":"E15","v":3.9209274436349303E-3}]
[null,null,null,null,null,null,null,null,null,null,null,null,null,null,2020,{"$f":"E22","v":7.1484948461244023E-3}]
[null,null,null,null,null,null,null,null,null,null,null,null,null,null,2021,{"$f":"E29","v":2.7672302616543382E-2}]
[null,null,null,null,null,null,null,null,null,null,null,null,null,null,2022,{"$f":"E36","v":3.6455907993340107E-2}]
[null,null,null,null,null,null,null,null,null,null,null,null,null,null,2023,{"$f":"E43","v":2.0932424626837087E-2}]
[null,null,null,null,null,null,null,null,null,null,null,null,null,null,2024,{"$f":"E50","v":3.5654674385482824E-2}]
[null,null,null,null,null,null,null,null,null,null,null,null,null,null,2025,{"$f":"E57","v":1.0928780141131481E-2}]
[null,null,null,null,null,null,null,null,null,null,null,null,null,null,2026]
["Period 2019",null,"2018 Index","2019 Index","Inflation"]
["Quarter 1",null,99.628071550000001,100.295144989363,6.6956373739324301E-3]
["Quarter 2",null,99.637934970000003,100.241957731474,6.0621766363972143E-3]
["Quarter 3",null,100.4999535,100.591352449789,9.0944270724459351E-4]
["Quarter 4",null,100.23403999999999,100.43615723636999,2.0164530569654815E-3]
["Annual average 2019",null,null,null,{"$f":"AVERAGE(E11:E14)","v":3.9209274436349303E-3}]
[]
["Period 2020",null,"2019 Index","2020 Index","Inflation"]
["Quarter 1",null,100.295144989363,100.455870031472,1.6025206616536941E-3]
["Quarter 2",null,100.241957731474,100.69715724595299,4.5410078252698331E-3]
["Quarter 3",null,100.591352449789,101.19254326005,5.976565535900231E-3]
["Quarter 4",null,100.43615723636999,102.090730976849,1.6473885361673851E-2]
["Annual average 2020",null,null,null,{"$f":"AVERAGE(E18:E21)","v":7.1484948461244023E-3}]
[]
["Period 2021",null,"2020 Index","2021 Index","Inflation"]
["Quarter 1",null,{"$f":"D18","v":100.455870031472},102.783563714295,2.31713057892361E-2]
["Quarter 2",null,{"$f":"D19","v":100.69715724595299},103.55538950205199,2.8384438392016997E-2]
["Quarter 3",null,{"$f":"D20","v":101.19254326005},104.044818827643,{"$f":"(D27-C27)/C27","v":2.8186618061995607E-2}]
["Quarter 4",null,{"$f":"D21","v":102.090730976849},105.250117333357,{"$f":"(D28-C28)/C28","v":3.094684822292481E-2}]
["Annual average 2021",null,null,null,{"$f":"AVERAGE(E25:E28)","v":2.7672302616543382E-2}]
[]
["Period 2022",null,"2021 Index","2022 Index","Inflation"]
["Quarter 1",null,102.783563714295,{"$f":"'CPI Sub-Categories'!Y8","v":105.99716825485},{"$f":"(D32-C32)/C32","v":3.1265743514087285E-2}]
["Quarter 2",null,103.55538950205199,{"$f":"'CPI Sub-Categories'!Z8","v":108.63739956853099},{"$f":"(D33-C33)/C33","v":4.9075283197870627E-2}]
["Quarter 3",null,104.044818827643,{"$f":"'CPI Sub-Categories'!AA8","v":107.29051975442999},{"$f":"(D34-C34)/C34","v":3.1195219169574503E-2}]
["Quarter 4",null,105.250117333357,{"$f":"'CPI Sub-Categories'!AB8","v":108.85886874257601},{"$f":"(D35-C35)/C35","v":3.4287386091828007E-2}]
["Annual average 2022",null,null,null,{"$f":"AVERAGE(E32:E35)","v":3.6455907993340107E-2}]
[]
["Period 2023",null,"2022 Index","2023 Index","Inflation"]
["Quarter 1",null,{"$f":"'CPI Sub-Categories'!Y8","v":105.99716825485},{"$f":"'CPI Sub-Categories'!AD8","v":109.351037943989},{"$f":"(D39-C39)/C39","v":3.1641125365493371E-2}]
["Quarter 2",null,{"$f":"'CPI Sub-Categories'!Z8","v":108.63739956853099},{"$f":"'CPI Sub-Categories'!AE8","v":108.691413717518},{"$f":"(D40-C40)/C40","v":4.9719663027219911E-4}]
["Quarter 3",null,{"$f":"'CPI Sub-Categories'!AA8","v":107.29051975442999},{"$f":"'CPI Sub-Categories'!AF8","v":109.437713633071},{"$f":"(D41-C41)/C41","v":2.0012894741824085E-2}]
["Quarter 4",null,{"$f":"'CPI Sub-Categories'!AB8","v":108.85886874257601},{"$f":"'CPI Sub-Categories'!AG8","v":112.29646654464},{"$f":"(D42-C42)/C42","v":3.1578481769758693E-2}]
["Annual average 2023",null,null,null,{"$f":"AVERAGE(E39:E42)","v":2.0932424626837087E-2}]
[]
["Period 2024",null,"2023 Index","2024 Index","Inflation"]
["Quarter 1",null,{"$f":"'CPI Sub-Categories'!AD8","v":109.351037943989},{"$f":"'CPI Sub-Categories'!AI8","v":113.31000289621799},{"$f":"IF(ISBLANK(D46)=TRUE,\"\",SUM((D46-C46)/C46))","v":3.6204182664062397E-2}]
["Quarter 2",null,{"$f":"'CPI Sub-Categories'!AE8","v":108.691413717518},{"$f":"'CPI Sub-Categories'!AJ8","v":113.485723011283},{"$f":"IF(ISBLANK(D47)=TRUE,\"\",SUM((D47-C47)/C47))","v":4.4109365494362764E-2}]
["Quarter 3",null,{"$f":"'CPI Sub-Categories'!AF8","v":109.437713633071},{"$f":"'CPI Sub-Categories'!AK8","v":113.822041355032},{"$f":"IF(ISBLANK(D48)=TRUE,\"\",SUM((D48-C48)/C48))","v":4.006231102982491E-2}]
["Quarter 4",null,{"$f":"'CPI Sub-Categories'!AG8","v":112.29646654464},{"$f":"'CPI Sub-Categories'!AL8","v":114.794258697682},{"$f":"(D49-C49)/C49","v":2.2242838353681224E-2}]
["Annual average 2024",null,null,null,{"$f":"AVERAGE(E46:E49)","v":3.5654674385482824E-2},"`"]
[]
["Period 2025",null,"2024 Index","2025 Index","Inflation"]
["Quarter 1",null,{"$f":"'CPI Sub-Categories'!AI8","v":113.31000289621799},{"$f":"'CPI Sub-Categories'!AM8","v":115.01942829105499},{"$f":"IF(ISBLANK(D53)=TRUE,\"\",SUM((D53-C53)/C53))","v":1.5086270859975898E-2}]
["Quarter 2",null,{"$f":"'CPI Sub-Categories'!AJ8","v":113.485723011283},{"$f":"'CPI Sub-Categories'!AN8","v":114.22829585201499},{"$f":"IF(ISBLANK(D54)=TRUE,\"\",SUM((D54-C54)/C54))","v":6.5433150622670562E-3}]
["Quarter 3",null,{"$f":"'CPI Sub-Categories'!AK8","v":113.822041355032},{"$f":"'CPI Sub-Categories'!AO8","v":115.09192592725},{"$f":"IF(ISBLANK(D55)=TRUE,\"\",SUM((D55-C55)/C55))","v":1.1156754501151486E-2}]
["Quarter 4",null,{"$f":"'CPI Sub-Categories'!AL8","v":114.794258697682}]
["Annual average 2025",null,null,null,{"$f":"AVERAGE(E53:E56)","v":1.0928780141131481E-2},"`"]

{"sheet":"Inflation Sub-Categories","index":7,"n_rows":185,"n_cols":39,"rows_kept":185,"cut":false,"hidden":false,"merged":[[3,34,3,37],[3,29,3,32],[1,1,2,3],[3,14,3,17],[3,4,3,7],[3,9,3,12],[3,24,3,27],[4,0,5,0],[4,1,5,1],[4,2,5,2],[4,3,5,3],[3,19,3,22]]}
[]
["Table 6. ","Quarterly Inflation rates for the 12 major expenditure categories and sub categories."]
[]
[null,null,null,null,2019,null,null,null,null,2020,null,null,null,null,2021,null,null,null,null,2022,null,null,null,null,2023,null,null,null,null,2024,null,null,null,null,2025]
["Level","Code","Expenditure category",null,"2019Q1","2019Q2","2019Q3","2019Q4",null,"2020Q1","2020Q2","2020Q3","2020Q4",null,"2021Q1","2021Q2","2021Q3","2021Q4",null,"2022Q1","2022Q2","2022Q3","2022Q4",null,"2023Q1","2023Q2","2023Q3","2023Q4",null,"2024Q1","2024Q2","2024Q3","2024Q4",null,"2025Q1","2025Q2","2025Q3","2025Q4"]
[null,null,null,null,"Inflation","Inflation","Inflation","Inflation",null,"Inflation","Inflation","Inflation","Inflation",null,"Inflation","Inflation","Inflation","Inflation",null,"Inflation","Inflation","Inflation","Inflation",null,"Inflation","Inflation","Inflation","Inflation",null,"Inflation","Inflation","Inflation","Inflation",null,"Inflation","Inflation","Inflation","Inflation"]
[]
[null,null,"Total Inflation ",null,6.7443687260650967E-3,6.0621766363972143E-3,9.0944270724459351E-4,2.0164530569654815E-3,null,1.6025206616536941E-3,4.5410078252698331E-3,5.976565535900231E-3,1.6473885361673851E-2,null,2.31713057892361E-2,2.8384438392016997E-2,2.8186618061995607E-2,3.094684822292481E-2,null,{"$f":"('CPI Sub-Categories'!Y8-'CPI Sub-Categories'!T8)/'CPI Sub-Categories'!T8","v":3.1265743514087285E-2},{"$f":"('CPI Sub-Categories'!Z8-'CPI Sub-Categories'!U8)/'CPI Sub-Categories'!U8","v":4.9075283197870627E-2},{"$f":"('CPI Sub-Categories'!AA8-'CPI Sub-Categories'!V8)/'CPI Sub-Categories'!V8","v":3.1195219169574503E-2},{"$f":"('CPI Sub-Categories'!AB8-'CPI Sub-Categories'!W8)/'CPI Sub-Categories'!W8","v":3.4287386091828007E-2},null,{"$f":"('CPI Sub-Categories'!AD8-'CPI Sub-Categories'!Y8)/'CPI Sub-Categories'!Y8","v":3.1641125365493371E-2},{"$f":"('CPI Sub-Categories'!AE8-'CPI Sub-Categories'!Z8)/'CPI Sub-Categories'!Z8","v":4.9719663027219911E-4},{"$f":"('CPI Sub-Categories'!AF8-'CPI Sub-Categories'!AA8)/'CPI Sub-Categories'!AA8","v":2.0012894741824085E-2},{"$f":"('CPI Sub-Categories'!AG8-'CPI Sub-Categories'!AB8)/'CPI Sub-Categories'!AB8","v":3.1578481769758693E-2},null,{"$f":"('CPI Sub-Categories'!AI8-'CPI Sub-Categories'!AD8)/'CPI Sub-Categories'!AD8","v":3.6204182664062397E-2},{"$f":"('CPI Sub-Categories'!AJ8-'CPI Sub-Categories'!AE8)/'CPI Sub-Categories'!AE8","v":4.4109365494362764E-2},{"$f":"('CPI Sub-Categories'!AK8-'CPI Sub-Categories'!AF8)/'CPI Sub-Categories'!AF8","v":4.006231102982491E-2},{"$f":"('CPI Sub-Categories'!AL8-'CPI Sub-Categories'!AG8)/'CPI Sub-Categories'!AG8","v":2.2242838353681224E-2},null,{"$f":"('CPI Sub-Categories'!AM8-'CPI Sub-Categories'!AI8)/'CPI Sub-Categories'!AI8","v":1.5086270859975898E-2},{"$f":"('CPI Sub-Categories'!AN8-'CPI Sub-Categories'!AJ8)/'CPI Sub-Categories'!AJ8","v":6.5433150622670562E-3},{"$f":"('CPI Sub-Categories'!AO8-'CPI Sub-Categories'!AK8)/'CPI Sub-Categories'!AK8","v":1.1156754501151486E-2},{"$f":"('CPI Sub-Categories'!AQ8-'CPI Sub-Categories'!AP8)/'CPI Sub-Categories'!AL8","v":-0.9870702958640738},{"$f":"[11]Total!$D$30","v":115.01942829105499}]
[null,null,null,null,{"$error":"#DIV/0!"}]
[1,"010000","Food and non-alcoholic beverages",null,-5.2289705021416211E-3,-7.2152090154882029E-3,-8.3810875188836398E-3,-3.6785838410507677E-3,null,-4.2362567627277324E-3,3.3567673020898178E-2,2.3123644716905218E-2,2.5230505110442777E-2,null,1.8563520206849812E-2,-9.0838412945226828E-3,7.5935542707838231E-3,1.9254730953702281E-2,null,{"$f":"('CPI Sub-Categories'!Y10-'CPI Sub-Categories'!T10)/'CPI Sub-Categories'!T10","v":4.08778928509234E-2},{"$f":"('CPI Sub-Categories'!Z10-'CPI Sub-Categories'!U10)/'CPI Sub-Categories'!U10","v":9.0493316953321898E-2},{"$f":"('CPI Sub-Categories'!AA10-'CPI Sub-Categories'!V10)/'CPI Sub-Categories'!V10","v":8.9008362172492708E-2},{"$f":"('CPI Sub-Categories'!AB10-'CPI Sub-Categories'!W10)/'CPI Sub-Categories'!W10","v":0.11224776900471872},null,{"$f":"('CPI Sub-Categories'!AD10-'CPI Sub-Categories'!Y10)/'CPI Sub-Categories'!Y10","v":0.10504173821876288},{"$f":"('CPI Sub-Categories'!AE10-'CPI Sub-Categories'!Z10)/'CPI Sub-Categories'!Z10","v":4.8774224633991031E-2},{"$f":"('CPI Sub-Categories'!AF10-'CPI Sub-Categories'!AA10)/'CPI Sub-Categories'!AA10","v":4.2308649195957629E-2},{"$f":"('CPI Sub-Categories'!AG10-'CPI Sub-Categories'!AB10)/'CPI Sub-Categories'!AB10","v":1.1514716637990979E-2},null,{"$f":"('CPI Sub-Categories'!AI10-'CPI Sub-Categories'!AD10)/'CPI Sub-Categories'!AD10","v":2.1132757836942524E-2},{"$f":"('CPI Sub-Categories'!AJ10-'CPI Sub-Categories'!AE10)/'CPI Sub-Categories'!AE10","v":3.2867822103598836E-2},{"$f":"('CPI Sub-Categories'!AK10-'CPI Sub-Categories'!AF10)/'CPI Sub-Categories'!AF10","v":3.9438192740288432E-2},{"$f":"('CPI Sub-Categories'!AL10-'CPI Sub-Categories'!AG10)/'CPI Sub-Categories'!AG10","v":4.319844748159439E-2},null,{"$f":"('CPI Sub-Categories'!AM10-'CPI Sub-Categories'!AI10)/'CPI Sub-Categories'!AI10","v":4.0124828454001518E-2},{"$f":"('CPI Sub-Categories'!AN10-'CPI Sub-Categories'!AJ10)/'CPI Sub-Categories'!AJ10","v":3.0296240929640492E-2},{"$f":"('CPI Sub-Categories'!AO10-'CPI Sub-Categories'!AK10)/'CPI Sub-Categories'!AK10","v":2.3051529556672921E-2},{"$f":"('CPI Sub-Categories'!AQ10-'CPI Sub-Categories'!AL10)/'CPI Sub-Categories'!AL10","v":-1},{"$f":"VLOOKUP($B10,'[17]Level 1 - vlookup table'!$B$2:$D$13,3,FALSE)","v":123.94516709055701}]
[2,"011000","Food",null,-6.7906110869179678E-3,-1.1130982576523221E-2,-8.2822249486385162E-3,1.3639203365170532E-3,null,-1.2316007033196291E-3,3.2816403345816557E-2,1.8105453437695714E-2,1.9830565253697679E-2,null,1.521682142690235E-2,-7.7523568520812729E-3,1.227798510140838E-2,2.5863634718166915E-2,null,{"$f":"('CPI Sub-Categories'!Y11-'CPI Sub-Categories'!T11)/'CPI Sub-Categories'!T11","v":4.6556208760709102E-2},{"$f":"('CPI Sub-Categories'!Z11-'CPI Sub-Categories'!U11)/'CPI Sub-Categories'!U11","v":9.695695997553018E-2},{"$f":"('CPI Sub-Categories'!AA11-'CPI Sub-Categories'!V11)/'CPI Sub-Categories'!V11","v":9.0420498151397702E-2},{"$f":"('CPI Sub-Categories'!AB11-'CPI Sub-Categories'!W11)/'CPI Sub-Categories'!W11","v":0.11274119044634845},null,{"$f":"('CPI Sub-Categories'!AD11-'CPI Sub-Categories'!Y11)/'CPI Sub-Categories'!Y11","v":0.1057209410476756},{"$f":"('CPI Sub-Categories'!AE11-'CPI Sub-Categories'!Z11)/'CPI Sub-Categories'!Z11","v":4.2415987024291384E-2},{"$f":"('CPI Sub-Categories'!AF11-'CPI Sub-Categories'!AA11)/'CPI Sub-Categories'!AA11","v":3.8686425984868912E-2},{"$f":"('CPI Sub-Categories'!AG11-'CPI Sub-Categories'!AB11)/'CPI Sub-Categories'!AB11","v":5.3440034977273922E-3},null,{"$f":"('CPI Sub-Categories'!AI11-'CPI Sub-Categories'!AD11)/'CPI Sub-Categories'!AD11","v":1.5614562459890721E-2},{"$f":"('CPI Sub-Categories'!AJ11-'CPI Sub-Categories'!AE11)/'CPI Sub-Categories'!AE11","v":3.138234870214527E-2},{"$f":"('CPI Sub-Categories'!AK11-'CPI Sub-Categories'!AF11)/'CPI Sub-Categories'!AF11","v":3.7963396702465992E-2},{"$f":"('CPI Sub-Categories'!AL11-'CPI Sub-Categories'!AG11)/'CPI Sub-Categories'!AG11","v":3.9960603259369384E-2},null,{"$f":"('CPI Sub-Categories'!AM11-'CPI Sub-Categories'!AI11)/'CPI Sub-Categories'!AI11","v":4.0991136711159226E-2},{"$f":"('CPI Sub-Categories'!AN11-'CPI Sub-Categories'!AJ11)/'CPI Sub-Categories'!AJ11","v":2.9908861920165147E-2},{"$f":"('CPI Sub-Categories'!AO11-'CPI Sub-Categories'!AK11)/'CPI Sub-Categories'!AK11","v":2.296268978211229E-2},{"$f":"('CPI Sub-Categories'!AQ11-'CPI Sub-Categories'!AL11)/'CPI Sub-Categories'!AL11","v":-1},{"$f":"VLOOKUP($B11,'[20]Level 2 - vlookup table'!$B$2:$D$44,3,FALSE)","v":123.81519601909901}]
[3,"011100","Bread and cereals",null,3.0667233045366632E-3,1.7021004467212844E-2,1.6425978379053855E-2,1.2647871831214543E-2,null,1.1148564367461313E-2,9.9744993647726109E-3,1.7556420669401458E-2,1.7133155459264974E-2,null,1.2044725732888529E-2,1.2181443949546397E-2,3.104898830982697E-4,1.7733563035244773E-2,null,{"$f":"('CPI Sub-Categories'!Y12-'CPI Sub-Categories'!T12)/'CPI Sub-Categories'!T12","v":3.2893027392443819E-2},{"$f":"('CPI Sub-Categories'!Z12-'CPI Sub-Categories'!U12)/'CPI Sub-Categories'!U12","v":5.5775951022264542E-2},{"$f":"('CPI Sub-Categories'!AA12-'CPI Sub-Categories'!V12)/'CPI Sub-Categories'!V12","v":6.4788553878675839E-2},{"$f":"('CPI Sub-Categories'!AB12-'CPI Sub-Categories'!W12)/'CPI Sub-Categories'!W12","v":7.9848075796438323E-2},null,{"$f":"('CPI Sub-Categories'!AD12-'CPI Sub-Categories'!Y12)/'CPI Sub-Categories'!Y12","v":7.839315971306049E-2},{"$f":"('CPI Sub-Categories'!AE12-'CPI Sub-Categories'!Z12)/'CPI Sub-Categories'!Z12","v":5.6642781501439546E-2},{"$f":"('CPI Sub-Categories'!AF12-'CPI Sub-Categories'!AA12)/'CPI Sub-Categories'!AA12","v":6.3486782150527554E-2},{"$f":"('CPI Sub-Categories'!AG12-'CPI Sub-Categories'!AB12)/'CPI Sub-Categories'!AB12","v":2.9696826923457646E-2},null,{"$f":"('CPI Sub-Categories'!AI12-'CPI Sub-Categories'!AD12)/'CPI Sub-Categories'!AD12","v":2.0332149712019663E-2},{"$f":"('CPI Sub-Categories'!AJ12-'CPI Sub-Categories'!AE12)/'CPI Sub-Categories'!AE12","v":1.3775351340783913E-2},{"$f":"('CPI Sub-Categories'!AK12-'CPI Sub-Categories'!AF12)/'CPI Sub-Categories'!AF12","v":1.8166244432826446E-2},{"$f":"('CPI Sub-Categories'!AL12-'CPI Sub-Categories'!AG12)/'CPI Sub-Categories'!AG12","v":2.9709751684114497E-2},null,{"$f":"('CPI Sub-Categories'!AM12-'CPI Sub-Categories'!AI12)/'CPI Sub-Categories'!AI12","v":1.8048696014850218E-2},{"$f":"('CPI Sub-Categories'!AN12-'CPI Sub-Categories'!AJ12)/'CPI Sub-Categories'!AJ12","v":5.7136425320034106E-3},{"$f":"('CPI Sub-Categories'!AO12-'CPI Sub-Categories'!AK12)/'CPI Sub-Categories'!AK12","v":-1.1318614351866174E-2},{"$f":"('CPI Sub-Categories'!AQ12-'CPI Sub-Categories'!AL12)/'CPI Sub-Categories'!AL12","v":-1},{"$f":"VLOOKUP($B12,'[20]Level 3 - vlookup table'!$B$2:$D$97,3, FALSE)","v":118.964632771521}]
[3,"011200","Meat",null,-3.8633404864257287E-2,-2.889787870778756E-2,-5.6583103263399465E-2,-2.4835456541926541E-2,null,-9.2764277860290061E-3,6.8714470162006172E-2,4.0657127300113026E-2,4.1216881656132069E-2,null,3.9319558600473793E-2,-3.1659273324365633E-2,-1.5244107938902506E-2,2.6641124544349921E-2,null,{"$f":"('CPI Sub-Categories'!Y13-'CPI Sub-Categories'!T13)/'CPI Sub-Categories'!T13","v":4.5728738785700163E-2},{"$f":"('CPI Sub-Categories'!Z13-'CPI Sub-Categories'!U13)/'CPI Sub-Categories'!U13","v":7.6646307934709085E-2},{"$f":"('CPI Sub-Categories'!AA13-'CPI Sub-Categories'!V13)/'CPI Sub-Categories'!V13","v":9.0983172533006279E-2},{"$f":"('CPI Sub-Categories'!AB13-'CPI Sub-Categories'!W13)/'CPI Sub-Categories'!W13","v":8.965368264318252E-2},null,{"$f":"('CPI Sub-Categories'!AD13-'CPI Sub-Categories'!Y13)/'CPI Sub-Categories'!Y13","v":8.7374585476741776E-2},{"$f":"('CPI Sub-Categories'!AE13-'CPI Sub-Categories'!Z13)/'CPI Sub-Categories'!Z13","v":4.8404199663153964E-2},{"$f":"('CPI Sub-Categories'!AF13-'CPI Sub-Categories'!AA13)/'CPI Sub-Categories'!AA13","v":4.3757202205743313E-2},{"$f":"('CPI Sub-Categories'!AG13-'CPI Sub-Categories'!AB13)/'CPI Sub-Categories'!AB13","v":-3.0767055476181048E-3},null,{"$f":"('CPI Sub-Categories'!AI13-'CPI Sub-Categories'!AD13)/'CPI Sub-Categories'!AD13","v":-6.4715162469773518E-3},{"$f":"('CPI Sub-Categories'!AJ13-'CPI Sub-Categories'!AE13)/'CPI Sub-Categories'!AE13","v":1.8608490390541525E-2},{"$f":"('CPI Sub-Categories'!AK13-'CPI Sub-Categories'!AF13)/'CPI Sub-Categories'!AF13","v":1.3249000009259302E-2},{"$f":"('CPI Sub-Categories'!AL13-'CPI Sub-Categories'!AG13)/'CPI Sub-Categories'!AG13","v":1.9945141270245128E-2},null,{"$f":"('CPI Sub-Categories'!AM13-'CPI Sub-Categories'!AI13)/'CPI Sub-Categories'!AI13","v":3.1333457846323354E-2},{"$f":"('CPI Sub-Categories'!AN13-'CPI Sub-Categories'!AJ13)/'CPI Sub-Categories'!AJ13","v":3.3359425958063224E-2},{"$f":"('CPI Sub-Categories'!AO13-'CPI Sub-Categories'!AK13)/'CPI Sub-Categories'!AK13","v":5.8063604302256683E-2},{"$f":"('CPI Sub-Categories'!AQ13-'CPI Sub-Categories'!AL13)/'CPI Sub-Categories'!AL13","v":-1}]
[3,"011300","Fish and seafood",null,-6.8404919814549258E-3,-1.3978288529833287E-2,-1.1520784407101607E-2,7.9628516316210349E-3,null,9.6582649049938626E-3,3.2061356868985869E-2,4.5574159381071809E-2,2.3721814430497191E-2,null,4.8076744657438462E-2,1.3119758305323954E-2,2.5348343079451385E-2,5.3103473363346212E-2,null,{"$f":"('CPI Sub-Categories'!Y14-'CPI Sub-Categories'!T14)/'CPI Sub-Categories'!T14","v":5.1239123432265395E-2},{"$f":"('CPI Sub-Categories'!Z14-'CPI Sub-Categories'!U14)/'CPI Sub-Categories'!U14","v":0.15184810861181686},{"$f":"('CPI Sub-Categories'!AA14-'CPI Sub-Categories'!V14)/'CPI Sub-Categories'!V14","v":0.10687522942573537},{"$f":"('CPI Sub-Categories'!AB14-'CPI Sub-Categories'!W14)/'CPI Sub-Categories'!W14","v":6.5777000935595575E-2},null,{"$f":"('CPI Sub-Categories'!AD14-'CPI Sub-Categories'!Y14)/'CPI Sub-Categories'!Y14","v":9.0640640763497135E-2},{"$f":"('CPI Sub-Categories'!AE14-'CPI Sub-Categories'!Z14)/'CPI Sub-Categories'!Z14","v":1.404911861505802E-3},{"$f":"('CPI Sub-Categories'!AF14-'CPI Sub-Categories'!AA14)/'CPI Sub-Categories'!AA14","v":1.4751824005352391E-2},{"$f":"('CPI Sub-Categories'!AG14-'CPI Sub-Categories'!AB14)/'CPI Sub-Categories'!AB14","v":1.1516340719806246E-2},null,{"$f":"('CPI Sub-Categories'!AI14-'CPI Sub-Categories'!AD14)/'CPI Sub-Categories'!AD14","v":-3.8171985582432906E-2},{"$f":"('CPI Sub-Categories'!AJ14-'CPI Sub-Categories'!AE14)/'CPI Sub-Categories'!AE14","v":-1.2896977327910989E-2},{"$f":"('CPI Sub-Categories'!AK14-'CPI Sub-Categories'!AF14)/'CPI Sub-Categories'!AF14","v":-1.1487303248002203E-2},{"$f":"('CPI Sub-Categories'!AL14-'CPI Sub-Categories'!AG14)/'CPI Sub-Categories'!AG14","v":-3.4953271840171211E-2},null,{"$f":"('CPI Sub-Categories'!AM14-'CPI Sub-Categories'!AI14)/'CPI Sub-Categories'!AI14","v":1.6587387650897612E-2},{"$f":"('CPI Sub-Categories'!AN14-'CPI Sub-Categories'!AJ14)/'CPI Sub-Categories'!AJ14","v":2.294910787092554E-2},{"$f":"('CPI Sub-Categories'!AO14-'CPI Sub-Categories'!AK14)/'CPI Sub-Categories'!AK14","v":2.5862376320406805E-2},{"$f":"('CPI Sub-Categories'!AQ14-'CPI Sub-Categories'!AL14)/'CPI Sub-Categories'!AL14","v":-1}]
[3,"011400","Milk, cheese and eggs",null,-3.3160987979588358E-2,-5.0080337330799113E-2,-3.677369733242869E-2,3.5060594879405362E-3,null,-1.6555096875772071E-2,6.0129253859220168E-2,3.6276925662781297E-2,2.3759277177368497E-2,null,3.0072519351334669E-2,-1.4325146166416483E-2,2.6024513161139639E-2,1.2909327325938601E-2,null,{"$f":"('CPI Sub-Categories'!Y15-'CPI Sub-Categories'!T15)/'CPI Sub-Categories'!T15","v":3.7510861594052279E-2},{"$f":"('CPI Sub-Categories'!Z15-'CPI Sub-Categories'!U15)/'CPI Sub-Categories'!U15","v":0.18182159156479444},{"$f":"('CPI Sub-Categories'!AA15-'CPI Sub-Categories'!V15)/'CPI Sub-Categories'!V15","v":0.19319381576584349},{"$f":"('CPI Sub-Categories'!AB15-'CPI Sub-Categories'!W15)/'CPI Sub-Categories'!W15","v":0.28667228296136799},null,{"$f":"('CPI Sub-Categories'!AD15-'CPI Sub-Categories'!Y15)/'CPI Sub-Categories'!Y15","v":0.25835183361776304},{"$f":"('CPI Sub-Categories'!AE15-'CPI Sub-Categories'!Z15)/'CPI Sub-Categories'!Z15","v":3.1543600729092756E-3},{"$f":"('CPI Sub-Categories'!AF15-'CPI Sub-Categories'!AA15)/'CPI Sub-Categories'!AA15","v":-4.2715947407550532E-2},{"$f":"('CPI Sub-Categories'!AG15-'CPI Sub-Categories'!AB15)/'CPI Sub-Categories'!AB15","v":-8.5785022735236457E-2},null,{"$f":"('CPI Sub-Categories'!AI15-'CPI Sub-Categories'!AD15)/'CPI Sub-Categories'!AD15","v":-2.8719666779302797E-2},{"$f":"('CPI Sub-Categories'!AJ15-'CPI Sub-Categories'!AE15)/'CPI Sub-Categories'!AE15","v":7.1832593644519327E-2},{"$f":"('CPI Sub-Categories'!AK15-'CPI Sub-Categories'!AF15)/'CPI Sub-Categories'!AF15","v":0.10954602880225578},{"$f":"('CPI Sub-Categories'!AL15-'CPI Sub-Categories'!AG15)/'CPI Sub-Categories'!AG15","v":0.12366130949470348},null,{"$f":"('CPI Sub-Categories'!AM15-'CPI Sub-Categories'!AI15)/'CPI Sub-Categories'!AI15","v":0.14830374602052818},{"$f":"('CPI Sub-Categories'!AN15-'CPI Sub-Categories'!AJ15)/'CPI Sub-Categories'!AJ15","v":9.598973715384948E-2},{"$f":"('CPI Sub-Categories'!AO15-'CPI Sub-Categories'!AK15)/'CPI Sub-Categories'!AK15","v":1.4668311600834264E-2},{"$f":"('CPI Sub-Categories'!AQ15-'CPI Sub-Categories'!AL15)/'CPI Sub-Categories'!AL15","v":-1}]
[3,"011500","Oils and fats",null,-3.3835685389118957E-2,2.3338363557964398E-3,4.3874304433067272E-2,5.5278361903373645E-2,null,7.3940989792310813E-2,3.8890009064604894E-2,-5.9077865218482893E-3,-3.0667208655443839E-2,null,-2.8766831786562731E-2,-2.3571876138267452E-2,-2.7809838230318609E-3,1.1989970708479244E-3,null,{"$f":"('CPI Sub-Categories'!Y16-'CPI Sub-Categories'!T16)/'CPI Sub-Categories'!T16","v":2.9799401523914807E-2},{"$f":"('CPI Sub-Categories'!Z16-'CPI Sub-Categories'!U16)/'CPI Sub-Categories'!U16","v":7.6184185477948654E-2},{"$f":"('CPI Sub-Categories'!AA16-'CPI Sub-Categories'!V16)/'CPI Sub-Categories'!V16","v":2.4916243918242459E-2},{"$f":"('CPI Sub-Categories'!AB16-'CPI Sub-Categories'!W16)/'CPI Sub-Categories'!W16","v":7.0711703349414151E-2},null,{"$f":"('CPI Sub-Categories'!AD16-'CPI Sub-Categories'!Y16)/'CPI Sub-Categories'!Y16","v":5.4069769649866921E-2},{"$f":"('CPI Sub-Categories'!AE16-'CPI Sub-Categories'!Z16)/'CPI Sub-Categories'!Z16","v":7.670373523594054E-2},{"$f":"('CPI Sub-Categories'!AF16-'CPI Sub-Categories'!AA16)/'CPI Sub-Categories'!AA16","v":0.1620424991908434},{"$f":"('CPI Sub-Categories'!AG16-'CPI Sub-Categories'!AB16)/'CPI Sub-Categories'!AB16","v":0.21985432745795219},null,{"$f":"('CPI Sub-Categories'!AI16-'CPI Sub-Categories'!AD16)/'CPI Sub-Categories'!AD16","v":0.1089110217282791},{"$f":"('CPI Sub-Categories'!AJ16-'CPI Sub-Categories'!AE16)/'CPI Sub-Categories'!AE16","v":3.9906312820987E-2},{"$f":"('CPI Sub-Categories'!AK16-'CPI Sub-Categories'!AF16)/'CPI Sub-Categories'!AF16","v":7.3146790957715785E-2},{"$f":"('CPI Sub-Categories'!AL16-'CPI Sub-Categories'!AG16)/'CPI Sub-Categories'!AG16","v":9.8835521626660199E-3},null,{"$f":"('CPI Sub-Categories'!AM16-'CPI Sub-Categories'!AI16)/'CPI Sub-Categories'!AI16","v":8.8185319690292044E-2},{"$f":"('CPI Sub-Categories'!AN16-'CPI Sub-Categories'!AJ16)/'CPI Sub-Categories'!AJ16","v":9.1839546955948564E-2},{"$f":"('CPI Sub-Categories'!AO16-'CPI Sub-Categories'!AK16)/'CPI Sub-Categories'!AK16","v":3.7198130389543303E-2},{"$f":"('CPI Sub-Categories'!AQ16-'CPI Sub-Categories'!AL16)/'CPI Sub-Categories'!AL16","v":-1}]
[3,"011600","Fruit",null,-7.2459061508245342E-3,-2.3317623537916877E-2,1.6779715727909254E-2,1.8976501033333168E-3,null,-2.6499369966962727E-2,-1.1851988155484453E-2,-2.8735754971863221E-2,1.0990842009471081E-2,null,1.7349476326420745E-3,3.2120763275794273E-2,9.0541835490753217E-2,5.1281602939283563E-2,null,{"$f":"('CPI Sub-Categories'!Y17-'CPI Sub-Categories'!T17)/'CPI Sub-Categories'!T17","v":9.8747258177672659E-2},{"$f":"('CPI Sub-Categories'!Z17-'CPI Sub-Categories'!U17)/'CPI Sub-Categories'!U17","v":9.3144711907580585E-2},{"$f":"('CPI Sub-Categories'!AA17-'CPI Sub-Categories'!V17)/'CPI Sub-Categories'!V17","v":5.2228311897381925E-2},{"$f":"('CPI Sub-Categories'!AB17-'CPI Sub-Categories'!W17)/'CPI Sub-Categories'!W17","v":7.1357817728308709E-2},null,{"$f":"('CPI Sub-Categories'!AD17-'CPI Sub-Categories'!Y17)/'CPI Sub-Categories'!Y17","v":4.7573584307005944E-2},{"$f":"('CPI Sub-Categories'!AE17-'CPI Sub-Categories'!Z17)/'CPI Sub-Categories'!Z17","v":2.1680223354477446E-2},{"$f":"('CPI Sub-Categories'!AF17-'CPI Sub-Categories'!AA17)/'CPI Sub-Categories'!AA17","v":-1.5903940315735896E-3},{"$f":"('CPI Sub-Categories'!AG17-'CPI Sub-Categories'!AB17)/'CPI Sub-Categories'!AB17","v":-1.564234376506685E-2},null,{"$f":"('CPI Sub-Categories'!AI17-'CPI Sub-Categories'!AD17)/'CPI Sub-Categories'!AD17","v":4.6553050681655515E-2},{"$f":"('CPI Sub-Categories'!AJ17-'CPI Sub-Categories'!AE17)/'CPI Sub-Categories'!AE17","v":3.769574629900882E-2},{"$f":"('CPI Sub-Categories'!AK17-'CPI Sub-Categories'!AF17)/'CPI Sub-Categories'!AF17","v":3.9238496462047696E-2},{"$f":"('CPI Sub-Categories'!AL17-'CPI Sub-Categories'!AG17)/'CPI Sub-Categories'!AG17","v":6.181112901346298E-2},null,{"$f":"('CPI Sub-Categories'!AM17-'CPI Sub-Categories'!AI17)/'CPI Sub-Categories'!AI17","v":1.2470709165348851E-2},{"$f":"('CPI Sub-Categories'!AN17-'CPI Sub-Categories'!AJ17)/'CPI Sub-Categories'!AJ17","v":7.2948886552441144E-3},{"$f":"('CPI Sub-Categories'!AO17-'CPI Sub-Categories'!AK17)/'CPI Sub-Categories'!AK17","v":3.1184537804377126E-2},{"$f":"('CPI Sub-Categories'!AQ17-'CPI Sub-Categories'!AL17)/'CPI Sub-Categories'!AL17","v":-1}]
[3,"011700","Vegetables",null,4.2137044421397367E-2,1.1191986044182462E-3,9.2502016865316037E-3,-1.539523156795162E-2,null,-2.5683316138079788E-2,1.3277101911548109E-2,1.5398432946456557E-3,2.5332304082176679E-2,null,5.5300259278328705E-3,-2.5016282460639947E-2,8.6078628698729471E-3,4.6511112424083172E-2,null,{"$f":"('CPI Sub-Categories'!Y18-'CPI Sub-Categories'!T18)/'CPI Sub-Categories'!T18","v":6.6609962372612991E-2},{"$f":"('CPI Sub-Categories'!Z18-'CPI Sub-Categories'!U18)/'CPI Sub-Categories'!U18","v":0.13911323017528821},{"$f":"('CPI Sub-Categories'!AA18-'CPI Sub-Categories'!V18)/'CPI Sub-Categories'!V18","v":0.10129412374422701},{"$f":"('CPI Sub-Categories'!AB18-'CPI Sub-Categories'!W18)/'CPI Sub-Categories'!W18","v":0.12695600386073752},null,{"$f":"('CPI Sub-Categories'!AD18-'CPI Sub-Categories'!Y18)/'CPI Sub-Categories'!Y18","v":0.12001533644557522},{"$f":"('CPI Sub-Categories'!AE18-'CPI Sub-Categories'!Z18)/'CPI Sub-Categories'!Z18","v":6.1514101832634213E-2},{"$f":"('CPI Sub-Categories'!AF18-'CPI Sub-Categories'!AA18)/'CPI Sub-Categories'!AA18","v":6.213201394407588E-2},{"$f":"('CPI Sub-Categories'!AG18-'CPI Sub-Categories'!AB18)/'CPI Sub-Categories'!AB18","v":-1.0348457087936381E-2},null,{"$f":"('CPI Sub-Categories'!AI18-'CPI Sub-Categories'!AD18)/'CPI Sub-Categories'!AD18","v":2.1092164886525176E-2},{"$f":"('CPI Sub-Categories'!AJ18-'CPI Sub-Categories'!AE18)/'CPI Sub-Categories'!AE18","v":1.4112930589552415E-2},{"$f":"('CPI Sub-Categories'!AK18-'CPI Sub-Categories'!AF18)/'CPI Sub-Categories'!AF18","v":1.704696703189507E-2},{"$f":"('CPI Sub-Categories'!AL18-'CPI Sub-Categories'!AG18)/'CPI Sub-Categories'!AG18","v":4.8999317808725244E-3},null,{"$f":"('CPI Sub-Categories'!AM18-'CPI Sub-Categories'!AI18)/'CPI Sub-Categories'!AI18","v":-1.515420192667365E-2},{"$f":"('CPI Sub-Categories'!AN18-'CPI Sub-Categories'!AJ18)/'CPI Sub-Categories'!AJ18","v":-1.3528058691213008E-2},{"$f":"('CPI Sub-Categories'!AO18-'CPI Sub-Categories'!AK18)/'CPI Sub-Categories'!AK18","v":1.3274672473213083E-2},{"$f":"('CPI Sub-Categories'!AQ18-'CPI Sub-Categories'!AL18)/'CPI Sub-Categories'!AL18","v":-1}]
[3,"011800","Sugar, jam, honey, chocolate and confectionery",null,1.1935933371565415E-2,1.7206339586124085E-3,-2.5431629335571377E-2,-2.5330447540555506E-2,null,-1.0452446841963841E-2,9.857178486397649E-3,3.1200423933667364E-2,4.1007038552715827E-2,null,1.7984743957914377E-2,2.4025454095324583E-2,2.4319993262337754E-2,1.3993596512731517E-2,null,{"$f":"('CPI Sub-Categories'!Y19-'CPI Sub-Categories'!T19)/'CPI Sub-Categories'!T19","v":2.6487463056086454E-2},{"$f":"('CPI Sub-Categories'!Z19-'CPI Sub-Categories'!U19)/'CPI Sub-Categories'!U19","v":3.8454576382278699E-2},{"$f":"('CPI Sub-Categories'!AA19-'CPI Sub-Categories'!V19)/'CPI Sub-Categories'!V19","v":3.030667335482767E-2},{"$f":"('CPI Sub-Categories'!AB19-'CPI Sub-Categories'!W19)/'CPI Sub-Categories'!W19","v":4.3485504944412876E-2},null,{"$f":"('CPI Sub-Categories'!AD19-'CPI Sub-Categories'!Y19)/'CPI Sub-Categories'!Y19","v":4.8670017249933882E-2},{"$f":"('CPI Sub-Categories'!AE19-'CPI Sub-Categories'!Z19)/'CPI Sub-Categories'!Z19","v":4.455731942682558E-2},{"$f":"('CPI Sub-Categories'!AF19-'CPI Sub-Categories'!AA19)/'CPI Sub-Categories'!AA19","v":5.7984280067705174E-2},{"$f":"('CPI Sub-Categories'!AG19-'CPI Sub-Categories'!AB19)/'CPI Sub-Categories'!AB19","v":4.553505973836533E-2},null,{"$f":"('CPI Sub-Categories'!AI19-'CPI Sub-Categories'!AD19)/'CPI Sub-Categories'!AD19","v":4.1452761515177537E-2},{"$f":"('CPI Sub-Categories'!AJ19-'CPI Sub-Categories'!AE19)/'CPI Sub-Categories'!AE19","v":6.5592508097635005E-2},{"$f":"('CPI Sub-Categories'!AK19-'CPI Sub-Categories'!AF19)/'CPI Sub-Categories'!AF19","v":7.3793829213503997E-2},{"$f":"('CPI Sub-Categories'!AL19-'CPI Sub-Categories'!AG19)/'CPI Sub-Categories'!AG19","v":7.1638852876219475E-2},null,{"$f":"('CPI Sub-Categories'!AM19-'CPI Sub-Categories'!AI19)/'CPI Sub-Categories'!AI19","v":7.225266657181606E-2},{"$f":"('CPI Sub-Categories'!AN19-'CPI Sub-Categories'!AJ19)/'CPI Sub-Categories'!AJ19","v":4.922904941996125E-2},{"$f":"('CPI Sub-Categories'!AO19-'CPI Sub-Categories'!AK19)/'CPI Sub-Categories'!AK19","v":2.212163416052285E-2},{"$f":"('CPI Sub-Categories'!AQ19-'CPI Sub-Categories'!AL19)/'CPI Sub-Categories'!AL19","v":-1}]
[3,"011900","Food products n.e.c.",null,8.9454036138025914E-3,5.4962377882985559E-3,1.3516419677082571E-2,4.0345090564193879E-2,null,4.7323053426716832E-2,7.369100105697006E-2,1.3054313149973452E-2,-1.3282263585241835E-2,null,-2.4473591095208549E-2,-4.0830683826380318E-2,-1.5837403391370599E-2,-4.38339970574238E-3,null,{"$f":"('CPI Sub-Categories'!Y20-'CPI Sub-Categories'!T20)/'CPI Sub-Categories'!T20","v":1.5384430256897759E-2},{"$f":"('CPI Sub-Categories'!Z20-'CPI Sub-Categories'!U20)/'CPI Sub-Categories'!U20","v":4.4400900065274036E-2},{"$f":"('CPI Sub-Categories'!AA20-'CPI Sub-Categories'!V20)/'CPI Sub-Categories'!V20","v":7.0965441263320508E-2},{"$f":"('CPI Sub-Categories'!AB20-'CPI Sub-Categories'!W20)/'CPI Sub-Categories'!W20","v":9.0899879186214935E-2},null,{"$f":"('CPI Sub-Categories'!AD20-'CPI Sub-Categories'!Y20)/'CPI Sub-Categories'!Y20","v":8.6182233242900336E-2},{"$f":"('CPI Sub-Categories'!AE20-'CPI Sub-Categories'!Z20)/'CPI Sub-Categories'!Z20","v":7.6199521921475555E-2},{"$f":"('CPI Sub-Categories'!AF20-'CPI Sub-Categories'!AA20)/'CPI Sub-Categories'!AA20","v":7.7397725549231397E-2},{"$f":"('CPI Sub-Categories'!AG20-'CPI Sub-Categories'!AB20)/'CPI Sub-Categories'!AB20","v":6.9003343534622369E-2},null,{"$f":"('CPI Sub-Categories'!AI20-'CPI Sub-Categories'!AD20)/'CPI Sub-Categories'!AD20","v":7.9239481033445122E-2},{"$f":"('CPI Sub-Categories'!AJ20-'CPI Sub-Categories'!AE20)/'CPI Sub-Categories'!AE20","v":7.4085275158996503E-2},{"$f":"('CPI Sub-Categories'!AK20-'CPI Sub-Categories'!AF20)/'CPI Sub-Categories'!AF20","v":6.4124014609493546E-2},{"$f":"('CPI Sub-Categories'!AL20-'CPI Sub-Categories'!AG20)/'CPI Sub-Categories'!AG20","v":5.9445258893912223E-2},null,{"$f":"('CPI Sub-Categories'!AM20-'CPI Sub-Categories'!AI20)/'CPI Sub-Categories'!AI20","v":4.0817283179002378E-2},{"$f":"('CPI Sub-Categories'!AN20-'CPI Sub-Categories'!AJ20)/'CPI Sub-Categories'!AJ20","v":3.2979586029492955E-2},{"$f":"('CPI Sub-Categories'!AO20-'CPI Sub-Categories'!AK20)/'CPI Sub-Categories'!AK20","v":4.8937405518769052E-2},{"$f":"('CPI Sub-Categories'!AQ20-'CPI Sub-Categories'!AL20)/'CPI Sub-Categories'!AL20","v":-1}]
[2,"012000","Non-alcoholic beverages",null,3.8050265484524037E-3,1.6423250298596773E-2,-8.8960858216913137E-3,-3.2917311586677135E-2,null,-2.1560562831210217E-2,3.792882763880643E-2,5.2657696142506545E-2,5.7356920009657517E-2,null,3.8260904189793173E-2,-1.677509742260247E-2,-1.9071240150925178E-2,-1.8668836200114811E-2,null,{"$f":"('CPI Sub-Categories'!Y21-'CPI Sub-Categories'!T21)/'CPI Sub-Categories'!T21","v":8.1992674095309158E-3},{"$f":"('CPI Sub-Categories'!Z21-'CPI Sub-Categories'!U21)/'CPI Sub-Categories'!U21","v":5.2813763507521691E-2},{"$f":"('CPI Sub-Categories'!AA21-'CPI Sub-Categories'!V21)/'CPI Sub-Categories'!V21","v":8.0713288423552812E-2},{"$f":"('CPI Sub-Categories'!AB21-'CPI Sub-Categories'!W21)/'CPI Sub-Categories'!W21","v":0.10928790460515583},null,{"$f":"('CPI Sub-Categories'!AD21-'CPI Sub-Categories'!Y21)/'CPI Sub-Categories'!Y21","v":0.10098422543260699},{"$f":"('CPI Sub-Categories'!AE21-'CPI Sub-Categories'!Z21)/'CPI Sub-Categories'!Z21","v":8.7393415641608962E-2},{"$f":"('CPI Sub-Categories'!AF21-'CPI Sub-Categories'!AA21)/'CPI Sub-Categories'!AA21","v":6.3777186587779949E-2},{"$f":"('CPI Sub-Categories'!AG21-'CPI Sub-Categories'!AB21)/'CPI Sub-Categories'!AB21","v":4.864592152954407E-2},null,{"$f":"('CPI Sub-Categories'!AI21-'CPI Sub-Categories'!AD21)/'CPI Sub-Categories'!AD21","v":5.4239917412272409E-2},{"$f":"('CPI Sub-Categories'!AJ21-'CPI Sub-Categories'!AE21)/'CPI Sub-Categories'!AE21","v":4.1517215742336383E-2},{"$f":"('CPI Sub-Categories'!AK21-'CPI Sub-Categories'!AF21)/'CPI Sub-Categories'!AF21","v":4.7972985783949158E-2},{"$f":"('CPI Sub-Categories'!AL21-'CPI Sub-Categories'!AG21)/'CPI Sub-Categories'!AG21","v":6.187709619673825E-2},null,{"$f":"('CPI Sub-Categories'!AM21-'CPI Sub-Categories'!AI21)/'CPI Sub-Categories'!AI21","v":0.33902115163828406},{"$f":"('CPI Sub-Categories'!AN21-'CPI Sub-Categories'!AJ21)/'CPI Sub-Categories'!AJ21","v":3.2529865141302995E-2},{"$f":"('CPI Sub-Categories'!AO21-'CPI Sub-Categories'!AK21)/'CPI Sub-Categories'!AK21","v":2.3560743668860303E-2},{"$f":"('CPI Sub-Categories'!AQ21-'CPI Sub-Categories'!AL21)/'CPI Sub-Categories'!AL21","v":-1}]
[3,"012100","Coffee, tea and cocoa",null,4.7194472910481372E-2,5.862578222687724E-2,9.5031765401712362E-3,-7.9008340349660394E-3,null,-2.0024725089996684E-2,-3.384432382909814E-2,-2.4784897349611382E-2,-1.3936090875648476E-2,null,-1.036428319337397E-2,-5.0461002663227915E-3,1.8863950267859045E-2,2.1202689720915869E-2,null,{"$f":"('CPI Sub-Categories'!Y22-'CPI Sub-Categories'!T22)/'CPI Sub-Categories'!T22","v":3.4266687679537146E-2},{"$f":"('CPI Sub-Categories'!Z22-'CPI Sub-Categories'!U22)/'CPI Sub-Categories'!U22","v":5.8614665983116425E-2},{"$f":"('CPI Sub-Categories'!AA22-'CPI Sub-Categories'!V22)/'CPI Sub-Categories'!V22","v":5.9445859088772618E-2},{"$f":"('CPI Sub-Categories'!AB22-'CPI Sub-Categories'!W22)/'CPI Sub-Categories'!W22","v":6.0849548460754202E-2},null,{"$f":"('CPI Sub-Categories'!AD22-'CPI Sub-Categories'!Y22)/'CPI Sub-Categories'!Y22","v":6.7115726173722717E-2},{"$f":"('CPI Sub-Categories'!AE22-'CPI Sub-Categories'!Z22)/'CPI Sub-Categories'!Z22","v":6.5274049359946046E-2},{"$f":"('CPI Sub-Categories'!AF22-'CPI Sub-Categories'!AA22)/'CPI Sub-Categories'!AA22","v":7.7327466587157584E-2},{"$f":"('CPI Sub-Categories'!AG22-'CPI Sub-Categories'!AB22)/'CPI Sub-Categories'!AB22","v":5.8099246378580736E-2},null,{"$f":"('CPI Sub-Categories'!AI22-'CPI Sub-Categories'!AD22)/'CPI Sub-Categories'!AD22","v":3.8088263379564086E-2},{"$f":"('CPI Sub-Categories'!AJ22-'CPI Sub-Categories'!AE22)/'CPI Sub-Categories'!AE22","v":2.2469289500938721E-2},{"$f":"('CPI Sub-Categories'!AK22-'CPI Sub-Categories'!AF22)/'CPI Sub-Categories'!AF22","v":-4.5985507790727905E-3},{"$f":"('CPI Sub-Categories'!AL22-'CPI Sub-Categories'!AG22)/'CPI Sub-Categories'!AG22","v":1.25706458119598E-2},null,{"$f":"('CPI Sub-Categories'!AM22-'CPI Sub-Categories'!AI22)/'CPI Sub-Categories'!AI22","v":1.5126382524731237E-2},{"$f":"('CPI Sub-Categories'!AN22-'CPI Sub-Categories'!AJ22)/'CPI Sub-Categories'!AJ22","v":2.6908608278351183E-2},{"$f":"('CPI Sub-Categories'!AO22-'CPI Sub-Categories'!AK22)/'CPI Sub-Categories'!AK22","v":2.8237209543417928E-2},{"$f":"('CPI Sub-Categories'!AQ22-'CPI Sub-Categories'!AL22)/'CPI Sub-Categories'!AL22","v":-1}]
[3,"012200","Mineral waters, soft drinks, fruit and vegetable juices",null,-2.9477187348202756E-3,9.698159485328265E-3,-1.1876025301041156E-2,-3.6965463474520933E-2,null,-2.1810441951519835E-2,4.9913093376073074E-2,6.55550628402298E-2,6.9286972607737363E-2,null,4.618661125289935E-2,-1.857730185453E-2,-2.4853371445678337E-2,-2.4821583047589194E-2,null,{"$f":"('CPI Sub-Categories'!Y23-'CPI Sub-Categories'!T23)/'CPI Sub-Categories'!T23","v":4.1800547490249453E-3},{"$f":"('CPI Sub-Categories'!Z23-'CPI Sub-Categories'!U23)/'CPI Sub-Categories'!U23","v":5.1910144001825094E-2},{"$f":"('CPI Sub-Categories'!AA23-'CPI Sub-Categories'!V23)/'CPI Sub-Categories'!V23","v":8.410022412252087E-2},{"$f":"('CPI Sub-Categories'!AB23-'CPI Sub-Categories'!W23)/'CPI Sub-Categories'!W23","v":0.11711541143167736},null,{"$f":"('CPI Sub-Categories'!AD23-'CPI Sub-Categories'!Y23)/'CPI Sub-Categories'!Y23","v":0.10636270881072488},{"$f":"('CPI Sub-Categories'!AE23-'CPI Sub-Categories'!Z23)/'CPI Sub-Categories'!Z23","v":9.0860959608137809E-2},{"$f":"('CPI Sub-Categories'!AF23-'CPI Sub-Categories'!AA23)/'CPI Sub-Categories'!AA23","v":6.1668317813773681E-2},{"$f":"('CPI Sub-Categories'!AG23-'CPI Sub-Categories'!AB23)/'CPI Sub-Categories'!AB23","v":4.7195232276879912E-2},null,{"$f":"('CPI Sub-Categories'!AI23-'CPI Sub-Categories'!AD23)/'CPI Sub-Categories'!AD23","v":5.6713889938207501E-2},{"$f":"('CPI Sub-Categories'!AJ23-'CPI Sub-Categories'!AE23)/'CPI Sub-Categories'!AE23","v":4.4433225313029789E-2},{"$f":"('CPI Sub-Categories'!AK23-'CPI Sub-Categories'!AF23)/'CPI Sub-Categories'!AF23","v":5.627552303052416E-2},{"$f":"('CPI Sub-Categories'!AL23-'CPI Sub-Categories'!AG23)/'CPI Sub-Categories'!AG23","v":6.9522356888980896E-2},null,{"$f":"('CPI Sub-Categories'!AM23-'CPI Sub-Categories'!AI23)/'CPI Sub-Categories'!AI23","v":3.8125852965005057E-2},{"$f":"('CPI Sub-Categories'!AN23-'CPI Sub-Categories'!AJ23)/'CPI Sub-Categories'!AJ23","v":3.3372315401316618E-2},{"$f":"('CPI Sub-Categories'!AO23-'CPI Sub-Categories'!AK23)/'CPI Sub-Categories'!AK23","v":2.2864760104293644E-2},{"$f":"('CPI Sub-Categories'!AQ23-'CPI Sub-Categories'!AL23)/'CPI Sub-Categories'!AL23","v":-1}]
[1,"020000","Alcoholic beverages, tobacco and narcotics",null,1.1522611521571252E-2,2.3161181246063544E-2,2.0770609168648139E-2,2.2894784301763126E-2,null,2.4541995001291131E-2,2.2307351069241498E-2,8.33347294500612E-3,4.2851697545017212E-4,null,-5.500394764427396E-3,-7.8463702613409698E-3,8.2102994151009596E-3,1.8586884972973467E-2,null,{"$f":"('CPI Sub-Categories'!Y24-'CPI Sub-Categories'!T24)/'CPI Sub-Categories'!T24","v":2.9741026707486646E-2},{"$f":"('CPI Sub-Categories'!Z24-'CPI Sub-Categories'!U24)/'CPI Sub-Categories'!U24","v":6.2801798043897947E-2},{"$f":"('CPI Sub-Categories'!AA24-'CPI Sub-Categories'!V24)/'CPI Sub-Categories'!V24","v":5.3412079103732926E-2},{"$f":"('CPI Sub-Categories'!AB24-'CPI Sub-Categories'!W24)/'CPI Sub-Categories'!W24","v":5.6305495406030762E-2},null,{"$f":"('CPI Sub-Categories'!AD24-'CPI Sub-Categories'!Y24)/'CPI Sub-Categories'!Y24","v":4.3205449702210047E-2},{"$f":"('CPI Sub-Categories'!AE24-'CPI Sub-Categories'!Z24)/'CPI Sub-Categories'!Z24","v":3.6883662505489773E-2},{"$f":"('CPI Sub-Categories'!AF24-'CPI Sub-Categories'!AA24)/'CPI Sub-Categories'!AA24","v":3.7322443697677801E-2},{"$f":"('CPI Sub-Categories'!AG24-'CPI Sub-Categories'!AB24)/'CPI Sub-Categories'!AB24","v":1.961091048731993E-2},null,{"$f":"('CPI Sub-Categories'!AI24-'CPI Sub-Categories'!AD24)/'CPI Sub-Categories'!AD24","v":1.7964330855775545E-2},{"$f":"('CPI Sub-Categories'!AJ24-'CPI Sub-Categories'!AE24)/'CPI Sub-Categories'!AE24","v":-1.1550951356504654E-2},{"$f":"('CPI Sub-Categories'!AK24-'CPI Sub-Categories'!AF24)/'CPI Sub-Categories'!AF24","v":-1.1990149559099186E-2},{"$f":"('CPI Sub-Categories'!AL24-'CPI Sub-Categories'!AG24)/'CPI Sub-Categories'!AG24","v":-1.721594076777553E-2},null,{"$f":"('CPI Sub-Categories'!AM24-'CPI Sub-Categories'!AI24)/'CPI Sub-Categories'!AI24","v":-2.3439886093544079E-2},{"$f":"('CPI Sub-Categories'!AN24-'CPI Sub-Categories'!AJ24)/'CPI Sub-Categories'!AJ24","v":0},{"$f":"('CPI Sub-Categories'!AO24-'CPI Sub-Categories'!AK24)/'CPI Sub-Categories'!AK24","v":-2.3518262965049393E-2},{"$f":"('CPI Sub-Categories'!AQ24-'CPI Sub-Categories'!AL24)/'CPI Sub-Categories'!AL24","v":-1},{"$f":"VLOOKUP($B24,'[17]Level 1 - vlookup table'!$B$2:$D$13,3,FALSE)","v":109.806669733353}]
[2,"021000","Alcoholic beverages",null,1.1414355208469883E-2,2.3111136565729828E-2,1.6213416484951958E-2,1.8985575809531408E-2,null,2.2720481694599053E-2,1.2509122095611657E-2,1.32930264634882E-3,-8.1943021956673561E-3,null,-1.5223982977575806E-2,-1.1141143440774656E-2,6.9280274746012192E-3,1.937536401049508E-2,null,{"$f":"('CPI Sub-Categories'!Y25-'CPI Sub-Categories'!T25)/'CPI Sub-Categories'!T25","v":3.2903025886399873E-2},{"$f":"('CPI Sub-Categories'!Z25-'CPI Sub-Categories'!U25)/'CPI Sub-Categories'!U25","v":7.307231069672461E-2},{"$f":"('CPI Sub-Categories'!AA25-'CPI Sub-Categories'!V25)/'CPI Sub-Categories'!V25","v":6.1015631432861803E-2},{"$f":"('CPI Sub-Categories'!AB25-'CPI Sub-Categories'!W25)/'CPI Sub-Categories'!W25","v":6.4258872714712728E-2},null,{"$f":"('CPI Sub-Categories'!AD25-'CPI Sub-Categories'!Y25)/'CPI Sub-Categories'!Y25","v":4.8448755299819755E-2},{"$f":"('CPI Sub-Categories'!AE25-'CPI Sub-Categories'!Z25)/'CPI Sub-Categories'!Z25","v":4.0463927983780124E-2},{"$f":"('CPI Sub-Categories'!AF25-'CPI Sub-Categories'!AA25)/'CPI Sub-Categories'!AA25","v":4.3332078527345053E-2},{"$f":"('CPI Sub-Categories'!AG25-'CPI Sub-Categories'!AB25)/'CPI Sub-Categories'!AB25","v":2.1599900744808682E-2},null,{"$f":"('CPI Sub-Categories'!AI25-'CPI Sub-Categories'!AD25)/'CPI Sub-Categories'!AD25","v":1.880640373676442E-2},{"$f":"('CPI Sub-Categories'!AJ25-'CPI Sub-Categories'!AE25)/'CPI Sub-Categories'!AE25","v":-1.4975338613898994E-2},{"$f":"('CPI Sub-Categories'!AK25-'CPI Sub-Categories'!AF25)/'CPI Sub-Categories'!AF25","v":-2.2519098817388315E-2},{"$f":"('CPI Sub-Categories'!AL25-'CPI Sub-Categories'!AG25)/'CPI Sub-Categories'!AG25","v":-2.2174705427200181E-2},null,{"$f":"('CPI Sub-Categories'!AM25-'CPI Sub-Categories'!AI25)/'CPI Sub-Categories'!AI25","v":-2.7942108939750427E-2},{"$f":"('CPI Sub-Categories'!AN25-'CPI Sub-Categories'!AJ25)/'CPI Sub-Categories'!AJ25","v":-3.2882447000329773E-2},{"$f":"('CPI Sub-Categories'!AO25-'CPI Sub-Categories'!AK25)/'CPI Sub-Categories'!AK25","v":-2.1929581764122321E-2},{"$f":"('CPI Sub-Categories'!AQ25-'CPI Sub-Categories'!AL25)/'CPI Sub-Categories'!AL25","v":-1}]
[3,"021100","Spirits",null,-3.2754090792408747E-3,6.2789079971026021E-3,-8.2652563917673754E-5,-1.147857664400906E-2,null,-4.4147592949517426E-3,-9.9931106749215487E-3,-2.0489856489750959E-2,-2.8420030097795999E-2,null,-2.5208487250022869E-2,-2.149100120545841E-2,-4.3238489452454391E-3,2.0443477448650247E-2,null,{"$f":"('CPI Sub-Categories'!Y26-'CPI Sub-Categories'!T26)/'CPI Sub-Categories'!T26","v":3.0476042044920482E-2},{"$f":"('CPI Sub-Categories'!Z26-'CPI Sub-Categories'!U26)/'CPI Sub-Categories'!U26","v":7.1268758296285414E-2},{"$f":"('CPI Sub-Categories'!AA26-'CPI Sub-Categories'!V26)/'CPI Sub-Categories'!V26","v":7.7687687072881664E-2},{"$f":"('CPI Sub-Categories'!AB26-'CPI Sub-Categories'!W26)/'CPI Sub-Categories'!W26","v":8.572880672433833E-2},null,{"$f":"('CPI Sub-Categories'!AD26-'CPI Sub-Categories'!Y26)/'CPI Sub-Categories'!Y26","v":6.3375844942935536E-2},{"$f":"('CPI Sub-Categories'!AE26-'CPI Sub-Categories'!Z26)/'CPI Sub-Categories'!Z26","v":7.4765751649855008E-2},{"$f":"('CPI Sub-Categories'!AF26-'CPI Sub-Categories'!AA26)/'CPI Sub-Categories'!AA26","v":5.5386076132226958E-2},{"$f":"('CPI Sub-Categories'!AG26-'CPI Sub-Categories'!AB26)/'CPI Sub-Categories'!AB26","v":3.4589781362966351E-2},null,{"$f":"('CPI Sub-Categories'!AI26-'CPI Sub-Categories'!AD26)/'CPI Sub-Categories'!AD26","v":3.1820997631263961E-2},{"$f":"('CPI Sub-Categories'!AJ26-'CPI Sub-Categories'!AE26)/'CPI Sub-Categories'!AE26","v":-3.3026213087768957E-2},{"$f":"('CPI Sub-Categories'!AK26-'CPI Sub-Categories'!AF26)/'CPI Sub-Categories'!AF26","v":-2.5516537216979922E-2},{"$f":"('CPI Sub-Categories'!AL26-'CPI Sub-Categories'!AG26)/'CPI Sub-Categories'!AG26","v":-2.6510505752920296E-2},null,{"$f":"('CPI Sub-Categories'!AM26-'CPI Sub-Categories'!AI26)/'CPI Sub-Categories'!AI26","v":-3.0946037429162288E-2},{"$f":"('CPI Sub-Categories'!AN26-'CPI Sub-Categories'!AJ26)/'CPI Sub-Categories'!AJ26","v":-3.0408888003385363E-2},{"$f":"('CPI Sub-Categories'!AO26-'CPI Sub-Categories'!AK26)/'CPI Sub-Categories'!AK26","v":-2.1312297392107989E-2},{"$f":"('CPI Sub-Categories'!AQ26-'CPI Sub-Categories'!AL26)/'CPI Sub-Categories'!AL26","v":-1}]
[3,"021200","Wine",null,8.6046492240274608E-2,4.7014703487070528E-2,5.6054196299466855E-2,6.6182112433789297E-2,null,7.4097016236964339E-2,4.2832095298380425E-2,1.6894151901713349E-2,5.5333455950318314E-3,null,-2.1066248616019325E-2,-6.9188450938691354E-3,3.1192720433514513E-2,4.5215459555776209E-2,null,{"$f":"('CPI Sub-Categories'!Y27-'CPI Sub-Categories'!T27)/'CPI Sub-Categories'!T27","v":6.2615097501775713E-2},{"$f":"('CPI Sub-Categories'!Z27-'CPI Sub-Categories'!U27)/'CPI Sub-Categories'!U27","v":0.12528645423000037},{"$f":"('CPI Sub-Categories'!AA27-'CPI Sub-Categories'!V27)/'CPI Sub-Categories'!V27","v":7.6604399257405226E-2},{"$f":"('CPI Sub-Categories'!AB27-'CPI Sub-Categories'!W27)/'CPI Sub-Categories'!W27","v":6.8243212998203129E-2},null,{"$f":"('CPI Sub-Categories'!AD27-'CPI Sub-Categories'!Y27)/'CPI Sub-Categories'!Y27","v":4.97079213837196E-2},{"$f":"('CPI Sub-Categories'!AE27-'CPI Sub-Categories'!Z27)/'CPI Sub-Categories'!Z27","v":2.2340217884164772E-2},{"$f":"('CPI Sub-Categories'!AF27-'CPI Sub-Categories'!AA27)/'CPI Sub-Categories'!AA27","v":5.4310750128326854E-2},{"$f":"('CPI Sub-Categories'!AG27-'CPI Sub-Categories'!AB27)/'CPI Sub-Categories'!AB27","v":9.7690569557905022E-3},null,{"$f":"('CPI Sub-Categories'!AI27-'CPI Sub-Categories'!AD27)/'CPI Sub-Categories'!AD27","v":1.3332295403318041E-2},{"$f":"('CPI Sub-Categories'!AJ27-'CPI Sub-Categories'!AE27)/'CPI Sub-Categories'!AE27","v":-6.8369678253689722E-3},{"$f":"('CPI Sub-Categories'!AK27-'CPI Sub-Categories'!AF27)/'CPI Sub-Categories'!AF27","v":-4.6103984199116627E-2},{"$f":"('CPI Sub-Categories'!AL27-'CPI Sub-Categories'!AG27)/'CPI Sub-Categories'!AG27","v":-4.798555398471023E-2},null,{"$f":"('CPI Sub-Categories'!AM27-'CPI Sub-Categories'!AI27)/'CPI Sub-Categories'!AI27","v":-6.4234471477430929E-2},{"$f":"('CPI Sub-Categories'!AN27-'CPI Sub-Categories'!AJ27)/'CPI Sub-Categories'!AJ27","v":-9.4613599873866486E-2},{"$f":"('CPI Sub-Categories'!AO27-'CPI Sub-Categories'!AK27)/'CPI Sub-Categories'!AK27","v":-5.6939733670807721E-2},{"$f":"('CPI Sub-Categories'!AQ27-'CPI Sub-Categories'!AL27)/'CPI Sub-Categories'!AL27","v":-1}]
[3,"021300","Beer",null,-9.5117675305190115E-3,2.4693096976644062E-2,9.3107277462450896E-3,2.207935914229571E-2,null,2.0601599058959152E-2,1.8141345043914611E-2,1.5117460610402481E-2,4.6150562170624359E-3,null,-9.2468425837574544E-4,-2.9221070486463684E-3,3.3919789830692488E-3,2.0047301505131351E-3,null,{"$f":"('CPI Sub-Categories'!Y28-'CPI Sub-Categories'!T28)/'CPI Sub-Categories'!T28","v":1.6636210848919995E-2},{"$f":"('CPI Sub-Categories'!Z28-'CPI Sub-Categories'!U28)/'CPI Sub-Categories'!U28","v":4.2063819401571938E-2},{"$f":"('CPI Sub-Categories'!AA28-'CPI Sub-Categories'!V28)/'CPI Sub-Categories'!V28","v":3.3704324042244153E-2},{"$f":"('CPI Sub-Categories'!AB28-'CPI Sub-Categories'!W28)/'CPI Sub-Categories'!W28","v":3.9217497013595316E-2},null,{"$f":"('CPI Sub-Categories'!AD28-'CPI Sub-Categories'!Y28)/'CPI Sub-Categories'!Y28","v":3.2043112519929216E-2},{"$f":"('CPI Sub-Categories'!AE28-'CPI Sub-Categories'!Z28)/'CPI Sub-Categories'!Z28","v":1.6379407985343444E-2},{"$f":"('CPI Sub-Categories'!AF28-'CPI Sub-Categories'!AA28)/'CPI Sub-Categories'!AA28","v":2.2949897711528947E-2},{"$f":"('CPI Sub-Categories'!AG28-'CPI Sub-Categories'!AB28)/'CPI Sub-Categories'!AB28","v":1.5415832553104769E-2},null,{"$f":"('CPI Sub-Categories'!AI28-'CPI Sub-Categories'!AD28)/'CPI Sub-Categories'!AD28","v":8.4906016867013125E-3},{"$f":"('CPI Sub-Categories'!AJ28-'CPI Sub-Categories'!AE28)/'CPI Sub-Categories'!AE28","v":-2.8206259786059921E-4},{"$f":"('CPI Sub-Categories'!AK28-'CPI Sub-Categories'!AF28)/'CPI Sub-Categories'!AF28","v":-2.8241095061596472E-3},{"$f":"('CPI Sub-Categories'!AL28-'CPI Sub-Categories'!AG28)/'CPI Sub-Categories'!AG28","v":-1.9720856673355136E-5},null,{"$f":"('CPI Sub-Categories'!AM28-'CPI Sub-Categories'!AI28)/'CPI Sub-Categories'!AI28","v":-1.5345373140384977E-4},{"$f":"('CPI Sub-Categories'!AN28-'CPI Sub-Categories'!AJ28)/'CPI Sub-Categories'!AJ28","v":6.3671149349813685E-3},{"$f":"('CPI Sub-Categories'!AO28-'CPI Sub-Categories'!AK28)/'CPI Sub-Categories'!AK28","v":6.3336025266843611E-4},{"$f":"('CPI Sub-Categories'!AQ28-'CPI Sub-Categories'!AL28)/'CPI Sub-Categories'!AL28","v":-1}]
[2,"022000","Tobacco",null,1.1586615997762229E-2,2.3084470894071972E-2,5.8048553758230766E-2,5.4698818662214377E-2,null,3.8937227858114085E-2,9.9988576384436242E-2,6.2259825598142519E-2,6.707773905035562E-2,null,7.0144661409442963E-2,1.6197522088285021E-2,1.7516462477353004E-2,1.2922320857661141E-2,null,{"$f":"('CPI Sub-Categories'!Y29-'CPI Sub-Categories'!T29)/'CPI Sub-Categories'!T29","v":7.1044516534487026E-3},{"$f":"('CPI Sub-Categories'!Z29-'CPI Sub-Categories'!U29)/'CPI Sub-Categories'!U29","v":-1.0131785151508517E-2},{"$f":"('CPI Sub-Categories'!AA29-'CPI Sub-Categories'!V29)/'CPI Sub-Categories'!V29","v":-1.196898198627248E-3},{"$f":"('CPI Sub-Categories'!AB29-'CPI Sub-Categories'!W29)/'CPI Sub-Categories'!W29","v":-1.196898198627248E-3},null,{"$f":"('CPI Sub-Categories'!AD29-'CPI Sub-Categories'!Y29)/'CPI Sub-Categories'!Y29","v":4.7073609015493177E-3},{"$f":"('CPI Sub-Categories'!AE29-'CPI Sub-Categories'!Z29)/'CPI Sub-Categories'!Z29","v":9.3221993453082904E-3},{"$f":"('CPI Sub-Categories'!AF29-'CPI Sub-Categories'!AA29)/'CPI Sub-Categories'!AA29","v":-8.5273606943655367E-3},{"$f":"('CPI Sub-Categories'!AG29-'CPI Sub-Categories'!AB29)/'CPI Sub-Categories'!AB29","v":4.2882425399765308E-3},null,{"$f":"('CPI Sub-Categories'!AI29-'CPI Sub-Categories'!AD29)/'CPI Sub-Categories'!AD29","v":1.1512376225757188E-2},{"$f":"('CPI Sub-Categories'!AJ29-'CPI Sub-Categories'!AE29)/'CPI Sub-Categories'!AE29","v":1.562389601118592E-2},{"$f":"('CPI Sub-Categories'!AK29-'CPI Sub-Categories'!AF29)/'CPI Sub-Categories'!AF29","v":2.5570562313203059E-2},{"$f":"('CPI Sub-Categories'!AL29-'CPI Sub-Categories'!AG29)/'CPI Sub-Categories'!AG29","v":2.1643602824401836E-2},null,{"$f":"('CPI Sub-Categories'!AM29-'CPI Sub-Categories'!AI29)/'CPI Sub-Categories'!AI29","v":1.1304854718963557E-2},{"$f":"('CPI Sub-Categories'!AN29-'CPI Sub-Categories'!AJ29)/'CPI Sub-Categories'!AJ29","v":9.9446330632098397E-3},{"$f":"('CPI Sub-Categories'!AO29-'CPI Sub-Categories'!AK29)/'CPI Sub-Categories'!AK29","v":9.0472842375025637E-3},{"$f":"('CPI Sub-Categories'!AQ29-'CPI Sub-Categories'!AL29)/'CPI Sub-Categories'!AL29","v":-1}]
[3,"022100","Tobacco",null,1.1586615997762229E-2,2.3084470894071972E-2,5.8048553758230766E-2,5.4698818662214377E-2,null,3.8937227858114085E-2,9.9988576384436242E-2,6.2259825598142519E-2,6.707773905035562E-2,null,7.0144661409442963E-2,1.6197522088285021E-2,1.7516462477353004E-2,1.2922320857661141E-2,null,{"$f":"('CPI Sub-Categories'!Y30-'CPI Sub-Categories'!T30)/'CPI Sub-Categories'!T30","v":7.1044516534487026E-3},{"$f":"('CPI Sub-Categories'!Z30-'CPI Sub-Categories'!U30)/'CPI Sub-Categories'!U30","v":-1.0131785151508517E-2},{"$f":"('CPI Sub-Categories'!AA30-'CPI Sub-Categories'!V30)/'CPI Sub-Categories'!V30","v":-1.196898198627248E-3},{"$f":"('CPI Sub-Categories'!AB30-'CPI Sub-Categories'!W30)/'CPI Sub-Categories'!W30","v":-1.196898198627248E-3},null,{"$f":"('CPI Sub-Categories'!AD30-'CPI Sub-Categories'!Y30)/'CPI Sub-Categories'!Y30","v":4.7073609015493177E-3},{"$f":"('CPI Sub-Categories'!AE30-'CPI Sub-Categories'!Z30)/'CPI Sub-Categories'!Z30","v":9.3221993453082904E-3},{"$f":"('CPI Sub-Categories'!AF30-'CPI Sub-Categories'!AA30)/'CPI Sub-Categories'!AA30","v":-8.5273606943655367E-3},{"$f":"('CPI Sub-Categories'!AG30-'CPI Sub-Categories'!AB30)/'CPI Sub-Categories'!AB30","v":4.2882425399765308E-3},null,{"$f":"('CPI Sub-Categories'!AI30-'CPI Sub-Categories'!AD30)/'CPI Sub-Categories'!AD30","v":1.1512376225757188E-2},{"$f":"('CPI Sub-Categories'!AJ30-'CPI Sub-Categories'!AE30)/'CPI Sub-Categories'!AE30","v":1.562389601118592E-2},{"$f":"('CPI Sub-Categories'!AK30-'CPI Sub-Categories'!AF30)/'CPI Sub-Categories'!AF30","v":2.5570562313203059E-2},{"$f":"('CPI Sub-Categories'!AL30-'CPI Sub-Categories'!AG30)/'CPI Sub-Categories'!AG30","v":2.1643602824401836E-2},null,{"$f":"('CPI Sub-Categories'!AM30-'CPI Sub-Categories'!AI30)/'CPI Sub-Categories'!AI30","v":1.1304854718963557E-2},{"$f":"('CPI Sub-Categories'!AN30-'CPI Sub-Categories'!AJ30)/'CPI Sub-Categories'!AJ30","v":9.9446330632098397E-3},{"$f":"('CPI Sub-Categories'!AO30-'CPI Sub-Categories'!AK30)/'CPI Sub-Categories'!AK30","v":9.0472842375025637E-3},{"$f":"('CPI Sub-Categories'!AQ30-'CPI Sub-Categories'!AL30)/'CPI Sub-Categories'!AL30","v":-1}]
[2,"023000","Narcotics",null,"Not available","Not available","Not available","Not available",null,"Not available","Not available","Not available","Not available",null,"Not available","Not available","Not available","Not available",null,"Not available","Not available","Not available","Not available",null,"Not available","Not available","Not available","Not available",null,"Not available","Not available","Not available","Not available",null,"Not available","Not available","Not available","Not available"]
[3,"023000","Narcotics",null,"Not available","Not available","Not available","Not available",null,"Not available","Not available","Not available","Not available",null,"Not available","Not available","Not available","Not available",null,"Not available","Not available","Not available","Not available",null,"Not available","Not available","Not available","Not available",null,"Not available","Not available","Not available","Not available",null,"Not available","Not available","Not available","Not available"]
[1,"030000","Clothing and footwear",null,-6.7626193859893621E-3,6.2196757394866395E-2,3.5346143604972631E-2,3.561771841398087E-2,null,3.0739942989114893E-2,7.9661274146570723E-4,-6.7129923397276844E-2,-5.7964597041996135E-2,null,-6.4298089802304656E-2,-1.4863851368729189E-2,5.1063973965285218E-2,4.5092089811666292E-2,null,{"$f":"('CPI Sub-Categories'!Y33-'CPI Sub-Categories'!T33)/'CPI Sub-Categories'!T33","v":2.7620377305305352E-2},{"$f":"('CPI Sub-Categories'!Z33-'CPI Sub-Categories'!U33)/'CPI Sub-Categories'!U33","v":1.0757194193874615E-2},{"$f":"('CPI Sub-Categories'!AA33-'CPI Sub-Categories'!V33)/'CPI Sub-Categories'!V33","v":3.6331834730608664E-2},{"$f":"('CPI Sub-Categories'!AB33-'CPI Sub-Categories'!W33)/'CPI Sub-Categories'!W33","v":6.4463173175424965E-2},null,{"$f":"('CPI Sub-Categories'!AD33-'CPI Sub-Categories'!Y33)/'CPI Sub-Categories'!Y33","v":6.995382371667222E-2},{"$f":"('CPI Sub-Categories'!AE33-'CPI Sub-Categories'!Z33)/'CPI Sub-Categories'!Z33","v":6.6698893245589183E-2},{"$f":"('CPI Sub-Categories'!AF33-'CPI Sub-Categories'!AA33)/'CPI Sub-Categories'!AA33","v":6.9522284637690973E-2},{"$f":"('CPI Sub-Categories'!AG33-'CPI Sub-Categories'!AB33)/'CPI Sub-Categories'!AB33","v":6.0860382194044514E-2},null,{"$f":"('CPI Sub-Categories'!AI33-'CPI Sub-Categories'!AD33)/'CPI Sub-Categories'!AD33","v":0.11000213702073999},{"$f":"('CPI Sub-Categories'!AJ33-'CPI Sub-Categories'!AE33)/'CPI Sub-Categories'!AE33","v":0.12418166062575754},{"$f":"('CPI Sub-Categories'!AK33-'CPI Sub-Categories'!AF33)/'CPI Sub-Categories'!AF33","v":8.3179439355992951E-2},{"$f":"('CPI Sub-Categories'!AL33-'CPI Sub-Categories'!AG33)/'CPI Sub-Categories'!AG33","v":6.4630097426225039E-2},null,{"$f":"('CPI Sub-Categories'!AM33-'CPI Sub-Categories'!AI33)/'CPI Sub-Categories'!AI33","v":2.1591943784945205E-2},{"$f":"('CPI Sub-Categories'!AN33-'CPI Sub-Categories'!AJ33)/'CPI Sub-Categories'!AJ33","v":0},{"$f":"('CPI Sub-Categories'!AO33-'CPI Sub-Categories'!AK33)/'CPI Sub-Categories'!AK33","v":2.5889630136625978E-2},{"$f":"('CPI Sub-Categories'!AQ33-'CPI Sub-Categories'!AL33)/'CPI Sub-Categories'!AL33","v":-1},{"$f":"VLOOKUP($B33,'[17]Level 1 - vlookup table'!$B$2:$D$13,3,FALSE)","v":123.73629245287501}]
[2,"031000","Clothing",null,2.5228533401183435E-2,8.5368111869709801E-2,4.9029110643963168E-2,5.0661598738316146E-2,null,2.9326192594917627E-2,5.8032741494371837E-3,-6.3252582766280471E-2,-5.2149430480855893E-2,null,-5.4864627916464404E-2,1.8999895514476429E-3,7.1403351409038918E-2,5.4164874989896167E-2,null,{"$f":"('CPI Sub-Categories'!Y34-'CPI Sub-Categories'!T34)/'CPI Sub-Categories'!T34","v":2.0258410280428286E-2},{"$f":"('CPI Sub-Categories'!Z34-'CPI Sub-Categories'!U34)/'CPI Sub-Categories'!U34","v":-1.1910706652654519E-2},{"$f":"('CPI Sub-Categories'!AA34-'CPI Sub-Categories'!V34)/'CPI Sub-Categories'!V34","v":4.2870262264361981E-3},{"$f":"('CPI Sub-Categories'!AB34-'CPI Sub-Categories'!W34)/'CPI Sub-Categories'!W34","v":3.170902637806456E-2},null,{"$f":"('CPI Sub-Categories'!AD34-'CPI Sub-Categories'!Y34)/'CPI Sub-Categories'!Y34","v":4.4389608449758262E-2},{"$f":"('CPI Sub-Categories'!AE34-'CPI Sub-Categories'!Z34)/'CPI Sub-Categories'!Z34","v":4.9872395469188105E-2},{"$f":"('CPI Sub-Categories'!AF34-'CPI Sub-Categories'!AA34)/'CPI Sub-Categories'!AA34","v":4.7373908418512897E-2},{"$f":"('CPI Sub-Categories'!AG34-'CPI Sub-Categories'!AB34)/'CPI Sub-Categories'!AB34","v":3.1852601059693002E-2},null,{"$f":"('CPI Sub-Categories'!AI34-'CPI Sub-Categories'!AD34)/'CPI Sub-Categories'!AD34","v":7.0335669168240522E-2},{"$f":"('CPI Sub-Categories'!AJ34-'CPI Sub-Categories'!AE34)/'CPI Sub-Categories'!AE34","v":7.3266946680249356E-2},{"$f":"('CPI Sub-Categories'!AK34-'CPI Sub-Categories'!AF34)/'CPI Sub-Categories'!AF34","v":7.2704442826393934E-2},{"$f":"('CPI Sub-Categories'!AL34-'CPI Sub-Categories'!AG34)/'CPI Sub-Categories'!AG34","v":4.9913944627900546E-2},null,{"$f":"('CPI Sub-Categories'!AM34-'CPI Sub-Categories'!AI34)/'CPI Sub-Categories'!AI34","v":2.9706520144591686E-2},{"$f":"('CPI Sub-Categories'!AN34-'CPI Sub-Categories'!AJ34)/'CPI Sub-Categories'!AJ34","v":2.0086546781017241E-2},{"$f":"('CPI Sub-Categories'!AO34-'CPI Sub-Categories'!AK34)/'CPI Sub-Categories'!AK34","v":2.1020059726943714E-2},{"$f":"('CPI Sub-Categories'!AQ34-'CPI Sub-Categories'!AL34)/'CPI Sub-Categories'!AL34","v":-1}]
[3,"031100","Clothing materials",null,-0.44444444444444442,-0.44444444444444442,-0.44444444444444442,0,null,0,0,0,0,null,0,0,0,0,null,{"$f":"('CPI Sub-Categories'!Y35-'CPI Sub-Categories'!T35)/'CPI Sub-Categories'!T35","v":0},{"$f":"('CPI Sub-Categories'!Z35-'CPI Sub-Categories'!U35)/'CPI Sub-Categories'!U35","v":0},{"$f":"('CPI Sub-Categories'!AA35-'CPI Sub-Categories'!V35)/'CPI Sub-Categories'!V35","v":0},{"$f":"('CPI Sub-Categories'!AB35-'CPI Sub-Categories'!W35)/'CPI Sub-Categories'!W35","v":0},null,{"$f":"('CPI Sub-Categories'!AD35-'CPI Sub-Categories'!Y35)/'CPI Sub-Categories'!Y35","v":0},{"$f":"('CPI Sub-Categories'!AE35-'CPI Sub-Categories'!Z35)/'CPI Sub-Categories'!Z35","v":0},{"$f":"('CPI Sub-Categories'!AF35-'CPI Sub-Categories'!AA35)/'CPI Sub-Categories'!AA35","v":0},{"$f":"('CPI Sub-Categories'!AG35-'CPI Sub-Categories'!AB35)/'CPI Sub-Categories'!AB35","v":0},null,{"$f":"('CPI Sub-Categories'!AI35-'CPI Sub-Categories'!AD35)/'CPI Sub-Categories'!AD35","v":0},{"$f":"('CPI Sub-Categories'!AJ35-'CPI Sub-Categories'!AE35)/'CPI Sub-Categories'!AE35","v":0},{"$f":"('CPI Sub-Categories'!AK35-'CPI Sub-Categories'!AF35)/'CPI Sub-Categories'!AF35","v":0},{"$f":"('CPI Sub-Categories'!AL35-'CPI Sub-Categories'!AG35)/'CPI Sub-Categories'!AG35","v":0},null,{"$f":"('CPI Sub-Categories'!AM35-'CPI Sub-Categories'!AI35)/'CPI Sub-Categories'!AI35","v":0},{"$f":"('CPI Sub-Categories'!AN35-'CPI Sub-Categories'!AJ35)/'CPI Sub-Categories'!AJ35","v":0},{"$f":"('CPI Sub-Categories'!AO35-'CPI Sub-Categories'!AK35)/'CPI Sub-Categories'!AK35","v":0},{"$f":"('CPI Sub-Categories'!AQ35-'CPI Sub-Categories'!AL35)/'CPI Sub-Categories'!AL35","v":-1}]
[3,"031200","Garments",null,2.7579600765935623E-2,9.8130753549921554E-2,5.6987016456120379E-2,4.874222269990066E-2,null,2.9286433800839427E-2,2.841243404753602E-3,-6.9992641241442777E-2,-5.4500773407766032E-2,null,-5.6669448633484845E-2,6.1345396532238921E-3,8.035967713385482E-2,5.951897864999408E-2,null,{"$f":"('CPI Sub-Categories'!Y36-'CPI Sub-Categories'!T36)/'CPI Sub-Categories'!T36","v":2.2226805924421954E-2},{"$f":"('CPI Sub-Categories'!Z36-'CPI Sub-Categories'!U36)/'CPI Sub-Categories'!U36","v":-1.4487196360199081E-2},{"$f":"('CPI Sub-Categories'!AA36-'CPI Sub-Categories'!V36)/'CPI Sub-Categories'!V36","v":3.4899958427428148E-3},{"$f":"('CPI Sub-Categories'!AB36-'CPI Sub-Categories'!W36)/'CPI Sub-Categories'!W36","v":3.3937730390742792E-2},null,{"$f":"('CPI Sub-Categories'!AD36-'CPI Sub-Categories'!Y36)/'CPI Sub-Categories'!Y36","v":4.4450760669558602E-2},{"$f":"('CPI Sub-Categories'!AE36-'CPI Sub-Categories'!Z36)/'CPI Sub-Categories'!Z36","v":4.9352971651468923E-2},{"$f":"('CPI Sub-Categories'!AF36-'CPI Sub-Categories'!AA36)/'CPI Sub-Categories'!AA36","v":3.8143333185394458E-2},{"$f":"('CPI Sub-Categories'!AG36-'CPI Sub-Categories'!AB36)/'CPI Sub-Categories'!AB36","v":1.976018207382714E-2},null,{"$f":"('CPI Sub-Categories'!AI36-'CPI Sub-Categories'!AD36)/'CPI Sub-Categories'!AD36","v":6.3256354781200674E-2},{"$f":"('CPI Sub-Categories'!AJ36-'CPI Sub-Categories'!AE36)/'CPI Sub-Categories'!AE36","v":7.0896529994699378E-2},{"$f":"('CPI Sub-Categories'!AK36-'CPI Sub-Categories'!AF36)/'CPI Sub-Categories'!AF36","v":7.8070755890164781E-2},{"$f":"('CPI Sub-Categories'!AL36-'CPI Sub-Categories'!AG36)/'CPI Sub-Categories'!AG36","v":5.6565272717265212E-2},null,{"$f":"('CPI Sub-Categories'!AM36-'CPI Sub-Categories'!AI36)/'CPI Sub-Categories'!AI36","v":3.3876830048782038E-2},{"$f":"('CPI Sub-Categories'!AN36-'CPI Sub-Categories'!AJ36)/'CPI Sub-Categories'!AJ36","v":1.8132005344563756E-2},{"$f":"('CPI Sub-Categories'!AO36-'CPI Sub-Categories'!AK36)/'CPI Sub-Categories'!AK36","v":1.7495219105718024E-2},{"$f":"('CPI Sub-Categories'!AQ36-'CPI Sub-Categories'!AL36)/'CPI Sub-Categories'!AL36","v":-1}]
[3,"031300","Other articles of clothing and clothing accessories",null,3.3654211116921462E-2,3.1983046521446873E-2,-1.6632990084067975E-2,6.9443405465590149E-2,null,6.3448037534815677E-2,0.10102780830129776,4.6267840571735802E-2,-6.642240257992689E-2,null,-9.0097580783964265E-2,-0.13274462677926754,-7.7562658636126366E-2,-1.9730034719977137E-2,null,{"$f":"('CPI Sub-Categories'!Y37-'CPI Sub-Categories'!T37)/'CPI Sub-Categories'!T37","v":-9.2685868354560347E-3},{"$f":"('CPI Sub-Categories'!Z37-'CPI Sub-Categories'!U37)/'CPI Sub-Categories'!U37","v":6.160145343562605E-2},{"$f":"('CPI Sub-Categories'!AA37-'CPI Sub-Categories'!V37)/'CPI Sub-Categories'!V37","v":3.9986254984080887E-3},{"$f":"('CPI Sub-Categories'!AB37-'CPI Sub-Categories'!W37)/'CPI Sub-Categories'!W37","v":-2.303172794924109E-2},null,{"$f":"('CPI Sub-Categories'!AD37-'CPI Sub-Categories'!Y37)/'CPI Sub-Categories'!Y37","v":9.0771852993878036E-2},{"$f":"('CPI Sub-Categories'!AE37-'CPI Sub-Categories'!Z37)/'CPI Sub-Categories'!Z37","v":0.12581862070583183},{"$f":"('CPI Sub-Categories'!AF37-'CPI Sub-Categories'!AA37)/'CPI Sub-Categories'!AA37","v":0.22356806451299313},{"$f":"('CPI Sub-Categories'!AG37-'CPI Sub-Categories'!AB37)/'CPI Sub-Categories'!AB37","v":0.29298634107688776},null,{"$f":"('CPI Sub-Categories'!AI37-'CPI Sub-Categories'!AD37)/'CPI Sub-Categories'!AD37","v":0.2100037903042124},{"$f":"('CPI Sub-Categories'!AJ37-'CPI Sub-Categories'!AE37)/'CPI Sub-Categories'!AE37","v":5.8243117106600253E-2},{"$f":"('CPI Sub-Categories'!AK37-'CPI Sub-Categories'!AF37)/'CPI Sub-Categories'!AF37","v":5.521432956386628E-2},{"$f":"('CPI Sub-Categories'!AL37-'CPI Sub-Categories'!AG37)/'CPI Sub-Categories'!AG37","v":-4.5163548694352365E-2},null,{"$f":"('CPI Sub-Categories'!AM37-'CPI Sub-Categories'!AI37)/'CPI Sub-Categories'!AI37","v":-3.1984077665748373E-2},{"$f":"('CPI Sub-Categories'!AN37-'CPI Sub-Categories'!AJ37)/'CPI Sub-Categories'!AJ37","v":0.13645357279754519},{"$f":"('CPI Sub-Categories'!AO37-'CPI Sub-Categories'!AK37)/'CPI Sub-Categories'!AK37","v":9.2703522606509964E-2},{"$f":"('CPI Sub-Categories'!AQ37-'CPI Sub-Categories'!AL37)/'CPI Sub-Categories'!AL37","v":-1}]
[3,"031400","Cleaning, repair and hire of clothing",null,1.2287873552484478E-2,1.2287873552484478E-2,2.0763762780754688E-2,1.2262141935926094E-2,null,1.2262141935926094E-2,1.2262141935926094E-2,3.8568457274798028E-3,0,null,0,0,0,0,null,{"$f":"('CPI Sub-Categories'!Y38-'CPI Sub-Categories'!T38)/'CPI Sub-Categories'!T38","v":0},{"$f":"('CPI Sub-Categories'!Z38-'CPI Sub-Categories'!U38)/'CPI Sub-Categories'!U38","v":0},{"$f":"('CPI Sub-Categories'!AA38-'CPI Sub-Categories'!V38)/'CPI Sub-Categories'!V38","v":2.060151024305985E-2},{"$f":"('CPI Sub-Categories'!AB38-'CPI Sub-Categories'!W38)/'CPI Sub-Categories'!W38","v":2.060151024305985E-2},null,{"$f":"('CPI Sub-Categories'!AD38-'CPI Sub-Categories'!Y38)/'CPI Sub-Categories'!Y38","v":2.060151024305985E-2},{"$f":"('CPI Sub-Categories'!AE38-'CPI Sub-Categories'!Z38)/'CPI Sub-Categories'!Z38","v":2.060151024305985E-2},{"$f":"('CPI Sub-Categories'!AF38-'CPI Sub-Categories'!AA38)/'CPI Sub-Categories'!AA38","v":0.13596455053485107},{"$f":"('CPI Sub-Categories'!AG38-'CPI Sub-Categories'!AB38)/'CPI Sub-Categories'!AB38","v":0.13596455053485107},null,{"$f":"('CPI Sub-Categories'!AI38-'CPI Sub-Categories'!AD38)/'CPI Sub-Categories'!AD38","v":0.13596455053485107},{"$f":"('CPI Sub-Categories'!AJ38-'CPI Sub-Categories'!AE38)/'CPI Sub-Categories'!AE38","v":0.13596455053485107},{"$f":"('CPI Sub-Categories'!AK38-'CPI Sub-Categories'!AF38)/'CPI Sub-Categories'!AF38","v":-8.7998047626490494E-3},{"$f":"('CPI Sub-Categories'!AL38-'CPI Sub-Categories'!AG38)/'CPI Sub-Categories'!AG38","v":-8.7998047626490494E-3},null,{"$f":"('CPI Sub-Categories'!AM38-'CPI Sub-Categories'!AI38)/'CPI Sub-Categories'!AI38","v":-8.7998047626490494E-3},{"$f":"('CPI Sub-Categories'!AN38-'CPI Sub-Categories'!AJ38)/'CPI Sub-Categories'!AJ38","v":-8.7998047626490494E-3},{"$f":"('CPI Sub-Categories'!AO38-'CPI Sub-Categories'!AK38)/'CPI Sub-Categories'!AK38","v":4.6413030337543924E-2},{"$f":"('CPI Sub-Categories'!AQ38-'CPI Sub-Categories'!AL38)/'CPI Sub-Categories'!AL38","v":-1}]
[2,"032000","Footwear",null,-0.14638625562823512,-4.3918724984982165E-2,-2.9811331268538379E-2,-3.6894827260027623E-2,null,3.821161009124735E-2,-2.5268381983763424E-2,-8.6908550559937445E-2,-8.8178981688049843E-2,null,-0.11372722552387574,-0.10491949651113223,-5.5376811779582862E-2,-3.9108911145143569E-3,null,{"$f":"('CPI Sub-Categories'!Y39-'CPI Sub-Categories'!T39)/'CPI Sub-Categories'!T39","v":6.875735624089889E-2},{"$f":"('CPI Sub-Categories'!Z39-'CPI Sub-Categories'!U39)/'CPI Sub-Categories'!U39","v":0.14706194392241412},{"$f":"('CPI Sub-Categories'!AA39-'CPI Sub-Categories'!V39)/'CPI Sub-Categories'!V39","v":0.22653708253557969},{"$f":"('CPI Sub-Categories'!AB39-'CPI Sub-Categories'!W39)/'CPI Sub-Categories'!W39","v":0.2516858768249286},null,{"$f":"('CPI Sub-Categories'!AD39-'CPI Sub-Categories'!Y39)/'CPI Sub-Categories'!Y39","v":0.20631855432689861},{"$f":"('CPI Sub-Categories'!AE39-'CPI Sub-Categories'!Z39)/'CPI Sub-Categories'!Z39","v":0.15385598691350447},{"$f":"('CPI Sub-Categories'!AF39-'CPI Sub-Categories'!AA39)/'CPI Sub-Categories'!AA39","v":0.17716480942658469},{"$f":"('CPI Sub-Categories'!AG39-'CPI Sub-Categories'!AB39)/'CPI Sub-Categories'!AB39","v":0.19752893938469551},null,{"$f":"('CPI Sub-Categories'!AI39-'CPI Sub-Categories'!AD39)/'CPI Sub-Categories'!AD39","v":0.2931887180572112},{"$f":"('CPI Sub-Categories'!AJ39-'CPI Sub-Categories'!AE39)/'CPI Sub-Categories'!AE39","v":0.36414076074998103},{"$f":"('CPI Sub-Categories'!AK39-'CPI Sub-Categories'!AF39)/'CPI Sub-Categories'!AF39","v":0.18698322363964262},{"$f":"('CPI Sub-Categories'!AL39-'CPI Sub-Categories'!AG39)/'CPI Sub-Categories'!AG39","v":0.12437213546254454},null,{"$f":"('CPI Sub-Categories'!AM39-'CPI Sub-Categories'!AI39)/'CPI Sub-Categories'!AI39","v":-9.4246477039595968E-3},{"$f":"('CPI Sub-Categories'!AN39-'CPI Sub-Categories'!AJ39)/'CPI Sub-Categories'!AJ39","v":-5.5723533205655484E-2},{"$f":"('CPI Sub-Categories'!AO39-'CPI Sub-Categories'!AK39)/'CPI Sub-Categories'!AK39","v":-5.6478890612247021E-3},{"$f":"('CPI Sub-Categories'!AQ39-'CPI Sub-Categories'!AL39)/'CPI Sub-Categories'!AL39","v":-1}]
[3,"032100","Shoes and other footwear",null,-0.14796170950416399,-4.407212202737442E-2,-2.9839922093575916E-2,-3.6953251947502652E-2,null,3.8536047283843321E-2,-2.5479469700418818E-2,-8.7624731986801055E-2,-8.8913585188907462E-2,null,-0.114657001169265,-0.10581889205930946,-5.5876978729820254E-2,-3.9466516545181201E-3,null,{"$f":"('CPI Sub-Categories'!Y40-'CPI Sub-Categories'!T40)/'CPI Sub-Categories'!T40","v":6.9392279641960541E-2},{"$f":"('CPI Sub-Categories'!Z40-'CPI Sub-Categories'!U40)/'CPI Sub-Categories'!U40","v":0.14847178236395484},{"$f":"('CPI Sub-Categories'!AA40-'CPI Sub-Categories'!V40)/'CPI Sub-Categories'!V40","v":0.22870427638011348},{"$f":"('CPI Sub-Categories'!AB40-'CPI Sub-Categories'!W40)/'CPI Sub-Categories'!W40","v":0.2539963694677545},null,{"$f":"('CPI Sub-Categories'!AD40-'CPI Sub-Categories'!Y40)/'CPI Sub-Categories'!Y40","v":0.20810012644001916},{"$f":"('CPI Sub-Categories'!AE40-'CPI Sub-Categories'!Z40)/'CPI Sub-Categories'!Z40","v":0.15514027696089511},{"$f":"('CPI Sub-Categories'!AF40-'CPI Sub-Categories'!AA40)/'CPI Sub-Categories'!AA40","v":0.18121366945279382},{"$f":"('CPI Sub-Categories'!AG40-'CPI Sub-Categories'!AB40)/'CPI Sub-Categories'!AB40","v":0.20148491512682801},null,{"$f":"('CPI Sub-Categories'!AI40-'CPI Sub-Categories'!AD40)/'CPI Sub-Categories'!AD40","v":0.29773493986644139},{"$f":"('CPI Sub-Categories'!AJ40-'CPI Sub-Categories'!AE40)/'CPI Sub-Categories'!AE40","v":0.36924971620081609},{"$f":"('CPI Sub-Categories'!AK40-'CPI Sub-Categories'!AF40)/'CPI Sub-Categories'!AF40","v":0.18741649338359734},{"$f":"('CPI Sub-Categories'!AL40-'CPI Sub-Categories'!AG40)/'CPI Sub-Categories'!AG40","v":0.12452194649847882},null,{"$f":"('CPI Sub-Categories'!AM40-'CPI Sub-Categories'!AI40)/'CPI Sub-Categories'!AI40","v":-9.773489228506186E-3},{"$f":"('CPI Sub-Categories'!AN40-'CPI Sub-Categories'!AJ40)/'CPI Sub-Categories'!AJ40","v":-5.6218361346195886E-2},{"$f":"('CPI Sub-Categories'!AO40-'CPI Sub-Categories'!AK40)/'CPI Sub-Categories'!AK40","v":-5.6702833702073248E-3},{"$f":"('CPI Sub-Categories'!AQ40-'CPI Sub-Categories'!AL40)/'CPI Sub-Categories'!AL40","v":-1}]
[3,"032200","Repair and hire of footwear",null,0,0,0,0,null,0,0,0,0,null,0,0,0,0,null,{"$f":"('CPI Sub-Categories'!Y41-'CPI Sub-Categories'!T41)/'CPI Sub-Categories'!T41","v":0},{"$f":"('CPI Sub-Categories'!Z41-'CPI Sub-Categories'!U41)/'CPI Sub-Categories'!U41","v":0},{"$f":"('CPI Sub-Categories'!AA41-'CPI Sub-Categories'!V41)/'CPI Sub-Categories'!V41","v":0},{"$f":"('CPI Sub-Categories'!AB41-'CPI Sub-Categories'!W41)/'CPI Sub-Categories'!W41","v":0},null,{"$f":"('CPI Sub-Categories'!AD41-'CPI Sub-Categories'!Y41)/'CPI Sub-Categories'!Y41","v":0},{"$f":"('CPI Sub-Categories'!AE41-'CPI Sub-Categories'!Z41)/'CPI Sub-Categories'!Z41","v":0},{"$f":"('CPI Sub-Categories'!AF41-'CPI Sub-Categories'!AA41)/'CPI Sub-Categories'!AA41","v":-0.34285714285714308},{"$f":"('CPI Sub-Categories'!AG41-'CPI Sub-Categories'!AB41)/'CPI Sub-Categories'!AB41","v":-0.34285714285714208},null,{"$f":"('CPI Sub-Categories'!AI41-'CPI Sub-Categories'!AD41)/'CPI Sub-Categories'!AD41","v":-0.34285714285714208},{"$f":"('CPI Sub-Categories'!AJ41-'CPI Sub-Categories'!AE41)/'CPI Sub-Categories'!AE41","v":-0.34285714285714208},{"$f":"('CPI Sub-Categories'!AK41-'CPI Sub-Categories'!AF41)/'CPI Sub-Categories'!AF41","v":8.6956521739130363E-2},{"$f":"('CPI Sub-Categories'!AL41-'CPI Sub-Categories'!AG41)/'CPI Sub-Categories'!AG41","v":8.6956521739127213E-2},null,{"$f":"('CPI Sub-Categories'!AM41-'CPI Sub-Categories'!AI41)/'CPI Sub-Categories'!AI41","v":8.6956521739127213E-2},{"$f":"('CPI Sub-Categories'!AN41-'CPI Sub-Categories'!AJ41)/'CPI Sub-Categories'!AJ41","v":8.6956521739127213E-2},{"$f":"('CPI Sub-Categories'!AO41-'CPI Sub-Categories'!AK41)/'CPI Sub-Categories'!AK41","v":-1.3926637620897968E-15},{"$f":"('CPI Sub-Categories'!AQ41-'CPI Sub-Categories'!AL41)/'CPI Sub-Categories'!AL41","v":-1}]
[1,"040000","Housing, water, electricity, gas and other fuels",null,1.2504575785162498E-2,9.6214865146374232E-3,-1.8428511963454793E-3,-1.0537846879257276E-2,null,-5.8591272892167005E-3,4.7437384312603399E-3,2.1539905813668301E-2,5.4816791725893529E-2,null,6.5058060169715701E-2,4.6985026288643074E-2,2.6905775121671274E-2,1.1178496689780387E-2,null,{"$f":"('CPI Sub-Categories'!Y42-'CPI Sub-Categories'!T42)/'CPI Sub-Categories'!T42","v":5.4085269108881256E-3},{"$f":"('CPI Sub-Categories'!Z42-'CPI Sub-Categories'!U42)/'CPI Sub-Categories'!U42","v":1.954388386523247E-2},{"$f":"('CPI Sub-Categories'!AA42-'CPI Sub-Categories'!V42)/'CPI Sub-Categories'!V42","v":-1.9995839800826315E-3},{"$f":"('CPI Sub-Categories'!AB42-'CPI Sub-Categories'!W42)/'CPI Sub-Categories'!W42","v":1.8887381377418272E-2},null,{"$f":"('CPI Sub-Categories'!AD42-'CPI Sub-Categories'!Y42)/'CPI Sub-Categories'!Y42","v":1.3781321091386942E-2},{"$f":"('CPI Sub-Categories'!AE42-'CPI Sub-Categories'!Z42)/'CPI Sub-Categories'!Z42","v":1.1333601564207497E-2},{"$f":"('CPI Sub-Categories'!AF42-'CPI Sub-Categories'!AA42)/'CPI Sub-Categories'!AA42","v":2.3847726117229698E-2},{"$f":"('CPI Sub-Categories'!AG42-'CPI Sub-Categories'!AB42)/'CPI Sub-Categories'!AB42","v":3.2652163082585936E-2},null,{"$f":"('CPI Sub-Categories'!AI42-'CPI Sub-Categories'!AD42)/'CPI Sub-Categories'!AD42","v":5.5360513487985014E-2},{"$f":"('CPI Sub-Categories'!AJ42-'CPI Sub-Categories'!AE42)/'CPI Sub-Categories'!AE42","v":3.3557556013444123E-2},{"$f":"('CPI Sub-Categories'!AK42-'CPI Sub-Categories'!AF42)/'CPI Sub-Categories'!AF42","v":3.827118601212328E-2},{"$f":"('CPI Sub-Categories'!AL42-'CPI Sub-Categories'!AG42)/'CPI Sub-Categories'!AG42","v":-3.7071392265143124E-3},null,{"$f":"('CPI Sub-Categories'!AM42-'CPI Sub-Categories'!AI42)/'CPI Sub-Categories'!AI42","v":-2.0176529524049053E-2},{"$f":"('CPI Sub-Categories'!AN42-'CPI Sub-Categories'!AJ42)/'CPI Sub-Categories'!AJ42","v":0},{"$f":"('CPI Sub-Categories'!AO42-'CPI Sub-Categories'!AK42)/'CPI Sub-Categories'!AK42","v":-2.8851423687444636E-3},{"$f":"('CPI Sub-Categories'!AQ42-'CPI Sub-Categories'!AL42)/'CPI Sub-Categories'!AL42","v":-1},{"$f":"VLOOKUP($B42,'[17]Level 1 - vlookup table'!$B$2:$D$13,3,FALSE)","v":111.636110685204}]
[2,"041000","Actual rentals for housing",null,1.2504575802298464E-2,2.0456314883635914E-2,3.2320346572579629E-2,-6.68889161709923E-3,null,-9.1079206314909743E-3,7.9943642762869537E-3,3.7469196865180694E-2,0.14082528713052733,null,0.15045920734491774,7.6243393636600307E-2,1.2177379856791343E-2,-3.8077773565013781E-2,null,{"$f":"('CPI Sub-Categories'!Y43-'CPI Sub-Categories'!T43)/'CPI Sub-Categories'!T43","v":-3.7042985992306918E-2},{"$f":"('CPI Sub-Categories'!Z43-'CPI Sub-Categories'!U43)/'CPI Sub-Categories'!U43","v":-6.0450122389251675E-2},{"$f":"('CPI Sub-Categories'!AA43-'CPI Sub-Categories'!V43)/'CPI Sub-Categories'!V43","v":-0.11232776802348969},{"$f":"('CPI Sub-Categories'!AB43-'CPI Sub-Categories'!W43)/'CPI Sub-Categories'!W43","v":-1.187230887799357E-2},null,{"$f":"('CPI Sub-Categories'!AD43-'CPI Sub-Categories'!Y43)/'CPI Sub-Categories'!Y43","v":1.5433665893875103E-2},{"$f":"('CPI Sub-Categories'!AE43-'CPI Sub-Categories'!Z43)/'CPI Sub-Categories'!Z43","v":7.8676840913958615E-2},{"$f":"('CPI Sub-Categories'!AF43-'CPI Sub-Categories'!AA43)/'CPI Sub-Categories'!AA43","v":0.10843934805374585},{"$f":"('CPI Sub-Categories'!AG43-'CPI Sub-Categories'!AB43)/'CPI Sub-Categories'!AB43","v":6.039365643498916E-2},null,{"$f":"('CPI Sub-Categories'!AI43-'CPI Sub-Categories'!AD43)/'CPI Sub-Categories'!AD43","v":7.5161290752751825E-2},{"$f":"('CPI Sub-Categories'!AJ43-'CPI Sub-Categories'!AE43)/'CPI Sub-Categories'!AE43","v":2.5154579146010683E-2},{"$f":"('CPI Sub-Categories'!AK43-'CPI Sub-Categories'!AF43)/'CPI Sub-Categories'!AF43","v":5.3398836677785284E-2},{"$f":"('CPI Sub-Categories'!AL43-'CPI Sub-Categories'!AG43)/'CPI Sub-Categories'!AG43","v":-1.4981625424777836E-2},null,{"$f":"('CPI Sub-Categories'!AM43-'CPI Sub-Categories'!AI43)/'CPI Sub-Categories'!AI43","v":-9.2845733192234339E-2},{"$f":"('CPI Sub-Categories'!AN43-'CPI Sub-Categories'!AJ43)/'CPI Sub-Categories'!AJ43","v":-7.1035829294065394E-3},{"$f":"('CPI Sub-Categories'!AO43-'CPI Sub-Categories'!AK43)/'CPI Sub-Categories'!AK43","v":4.2915679508116332E-2},{"$f":"('CPI Sub-Categories'!AQ43-'CPI Sub-Categories'!AL43)/'CPI Sub-Categories'!AL43","v":-1}]
[3,"041100","Actual rentals paid by tenants",null,1.2504575802298464E-2,2.0456314883635914E-2,3.2320346572579629E-2,-6.68889161709923E-3,null,-9.1079206314909743E-3,7.9943642762869537E-3,3.7469196865180694E-2,0.14082528713052733,null,0.15045920734491774,7.6243393636600307E-2,1.2177379856791343E-2,-3.8077773565013781E-2,null,{"$f":"('CPI Sub-Categories'!Y44-'CPI Sub-Categories'!T44)/'CPI Sub-Categories'!T44","v":-3.7042985992306918E-2},{"$f":"('CPI Sub-Categories'!Z44-'CPI Sub-Categories'!U44)/'CPI Sub-Categories'!U44","v":-6.0450122389251675E-2},{"$f":"('CPI Sub-Categories'!AA44-'CPI Sub-Categories'!V44)/'CPI Sub-Categories'!V44","v":-0.11232776802348969},{"$f":"('CPI Sub-Categories'!AB44-'CPI Sub-Categories'!W44)/'CPI Sub-Categories'!W44","v":-1.187230887799357E-2},null,{"$f":"('CPI Sub-Categories'!AD44-'CPI Sub-Categories'!Y44)/'CPI Sub-Categories'!Y44","v":1.5433665893875103E-2},{"$f":"('CPI Sub-Categories'!AE44-'CPI Sub-Categories'!Z44)/'CPI Sub-Categories'!Z44","v":7.8676840913958615E-2},{"$f":"('CPI Sub-Categories'!AF44-'CPI Sub-Categories'!AA44)/'CPI Sub-Categories'!AA44","v":0.10843934805374585},{"$f":"('CPI Sub-Categories'!AG44-'CPI Sub-Categories'!AB44)/'CPI Sub-Categories'!AB44","v":6.039365643498916E-2},null,{"$f":"('CPI Sub-Categories'!AI44-'CPI Sub-Categories'!AD44)/'CPI Sub-Categories'!AD44","v":7.5161290752751825E-2},{"$f":"('CPI Sub-Categories'!AJ44-'CPI Sub-Categories'!AE44)/'CPI Sub-Categories'!AE44","v":2.5154579146010683E-2},{"$f":"('CPI Sub-Categories'!AK44-'CPI Sub-Categories'!AF44)/'CPI Sub-Categories'!AF44","v":5.3398836677785284E-2},{"$f":"('CPI Sub-Categories'!AL44-'CPI Sub-Categories'!AG44)/'CPI Sub-Categories'!AG44","v":-1.4981625424777836E-2},null,{"$f":"('CPI Sub-Categories'!AM44-'CPI Sub-Categories'!AI44)/'CPI Sub-Categories'!AI44","v":-5.3560249656355037E-2},{"$f":"('CPI Sub-Categories'!AN44-'CPI Sub-Categories'!AJ44)/'CPI Sub-Categories'!AJ44","v":-7.1035829294065394E-3},{"$f":"('CPI Sub-Categories'!AO44-'CPI Sub-Categories'!AK44)/'CPI Sub-Categories'!AK44","v":4.2915679508116332E-2},{"$f":"('CPI Sub-Categories'!AQ44-'CPI Sub-Categories'!AL44)/'CPI Sub-Categories'!AL44","v":-1}]
[3,"041200","Other actual rentals",null,"Not available","Not available","Not available","Not available",null,"Not available","Not available","Not available","Not available",null,"Not available","Not available","Not available","Not available",null,"Not available","Not available","Not available","Not available",null,"Not available","Not available","Not available","Not available",null,"Not available","Not available","Not available","Not available",null,"Not available","Not available","Not available","Not available"]
[2,"042000","Imputed rentals for housing",null,1.2504575802298464E-2,6.4609423348029535E-3,-9.7767016557006071E-3,-8.487199135466755E-3,null,-3.4062400000046147E-4,0,0,0,null,0,0,0,0,null,{"$f":"('CPI Sub-Categories'!Y46-'CPI Sub-Categories'!T46)/'CPI Sub-Categories'!T46","v":0},{"$f":"('CPI Sub-Categories'!Z46-'CPI Sub-Categories'!U46)/'CPI Sub-Categories'!U46","v":0},{"$f":"('CPI Sub-Categories'!AA46-'CPI Sub-Categories'!V46)/'CPI Sub-Categories'!V46","v":0},{"$f":"('CPI Sub-Categories'!AB46-'CPI Sub-Categories'!W46)/'CPI Sub-Categories'!W46","v":0},null,{"$f":"('CPI Sub-Categories'!AD46-'CPI Sub-Categories'!Y46)/'CPI Sub-Categories'!Y46","v":0},{"$f":"('CPI Sub-Categories'!AE46-'CPI Sub-Categories'!Z46)/'CPI Sub-Categories'!Z46","v":0},{"$f":"('CPI Sub-Categories'!AF46-'CPI Sub-Categories'!AA46)/'CPI Sub-Categories'!AA46","v":0},{"$f":"('CPI Sub-Categories'!AG46-'CPI Sub-Categories'!AB46)/'CPI Sub-Categories'!AB46","v":0},null,{"$f":"('CPI Sub-Categories'!AI46-'CPI Sub-Categories'!AD46)/'CPI Sub-Categories'!AD46","v":0},{"$f":"('CPI Sub-Categories'!AJ46-'CPI Sub-Categories'!AE46)/'CPI Sub-Categories'!AE46","v":0},{"$f":"('CPI Sub-Categories'!AK46-'CPI Sub-Categories'!AF46)/'CPI Sub-Categories'!AF46","v":0},{"$f":"('CPI Sub-Categories'!AL46-'CPI Sub-Categories'!AG46)/'CPI Sub-Categories'!AG46","v":0},null,{"$f":"('CPI Sub-Categories'!AM46-'CPI Sub-Categories'!AI46)/'CPI Sub-Categories'!AI46","v":0},{"$f":"('CPI Sub-Categories'!AO46-'CPI Sub-Categories'!AJ46)/'CPI Sub-Categories'!AJ46","v":0},{"$f":"('CPI Sub-Categories'!AO46-'CPI Sub-Categories'!AK46)/'CPI Sub-Categories'!AK46","v":0},{"$f":"('CPI Sub-Categories'!AQ46-'CPI Sub-Categories'!AL46)/'CPI Sub-Categories'!AL46","v":-1}]
[3,"042100","Imputed rentals of owner-occupiers",null,1.2504575802298464E-2,6.4609423348029535E-3,-9.7767016557006071E-3,-8.487199135466755E-3,null,-3.4062400000046147E-4,0,0,0,null,0,0,0,0,null,{"$f":"('CPI Sub-Categories'!Y47-'CPI Sub-Categories'!T47)/'CPI Sub-Categories'!T47","v":0},{"$f":"('CPI Sub-Categories'!Z47-'CPI Sub-Categories'!U47)/'CPI Sub-Categories'!U47","v":0},{"$f":"('CPI Sub-Categories'!AA47-'CPI Sub-Categories'!V47)/'CPI Sub-Categories'!V47","v":0},{"$f":"('CPI Sub-Categories'!AB47-'CPI Sub-Categories'!W47)/'CPI Sub-Categories'!W47","v":0},null,{"$f":"('CPI Sub-Categories'!AD47-'CPI Sub-Categories'!Y47)/'CPI Sub-Categories'!Y47","v":0},{"$f":"('CPI Sub-Categories'!AE47-'CPI Sub-Categories'!Z47)/'CPI Sub-Categories'!Z47","v":0},{"$f":"('CPI Sub-Categories'!AF47-'CPI Sub-Categories'!AA47)/'CPI Sub-Categories'!AA47","v":0},{"$f":"('CPI Sub-Categories'!AG47-'CPI Sub-Categories'!AB47)/'CPI Sub-Categories'!AB47","v":0},null,{"$f":"('CPI Sub-Categories'!AI47-'CPI Sub-Categories'!AD47)/'CPI Sub-Categories'!AD47","v":0},{"$f":"('CPI Sub-Categories'!AJ47-'CPI Sub-Categories'!AE47)/'CPI Sub-Categories'!AE47","v":0},{"$f":"('CPI Sub-Categories'!AK47-'CPI Sub-Categories'!AF47)/'CPI Sub-Categories'!AF47","v":0},{"$f":"('CPI Sub-Categories'!AL47-'CPI Sub-Categories'!AG47)/'CPI Sub-Categories'!AG47","v":0},null,{"$f":"('CPI Sub-Categories'!AM47-'CPI Sub-Categories'!AI47)/'CPI Sub-Categories'!AI47","v":0},{"$f":"('CPI Sub-Categories'!AO47-'CPI Sub-Categories'!AJ47)/'CPI Sub-Categories'!AJ47","v":0},{"$f":"('CPI Sub-Categories'!AO47-'CPI Sub-Categories'!AK47)/'CPI Sub-Categories'!AK47","v":0},{"$f":"('CPI Sub-Categories'!AQ47-'CPI Sub-Categories'!AL47)/'CPI Sub-Categories'!AL47","v":-1}]
[3,"042200","Other imputed rentals",null,"Not available","Not available","Not available","Not available",null,"Not available","Not available","Not available","Not available",null,"Not available","Not available","Not available","Not available",null,"Not available","Not available","Not available","Not available",null,"Not available","Not available","Not available","Not available",null,"Not available","Not available","Not available","Not available",null,"Not available","Not available","Not available","Not available"]
[2,"043000","Maintenance and repair of the dwelling",null,-1.349918918802117E-2,-2.9121452628480274E-2,-2.0677307402354451E-2,7.1139993692320765E-3,null,2.4728495627797643E-2,2.0025369252413348E-2,1.8257262692993707E-2,1.8743155956092487E-2,null,3.3474120841425412E-2,4.6542549297917422E-2,6.6884777007236246E-2,4.384500764206712E-2,null,{"$f":"('CPI Sub-Categories'!Y49-'CPI Sub-Categories'!T49)/'CPI Sub-Categories'!T49","v":3.6909849177151025E-2},{"$f":"('CPI Sub-Categories'!Z49-'CPI Sub-Categories'!U49)/'CPI Sub-Categories'!U49","v":0.1003241497031483},{"$f":"('CPI Sub-Categories'!AA49-'CPI Sub-Categories'!V49)/'CPI Sub-Categories'!V49","v":0.15380871562336881},{"$f":"('CPI Sub-Categories'!AB49-'CPI Sub-Categories'!W49)/'CPI Sub-Categories'!W49","v":0.15960045316712826},null,{"$f":"('CPI Sub-Categories'!AD49-'CPI Sub-Categories'!Y49)/'CPI Sub-Categories'!Y49","v":0.15232949542313981},{"$f":"('CPI Sub-Categories'!AE49-'CPI Sub-Categories'!Z49)/'CPI Sub-Categories'!Z49","v":7.4215526095513976E-2},{"$f":"('CPI Sub-Categories'!AF49-'CPI Sub-Categories'!AA49)/'CPI Sub-Categories'!AA49","v":-1.34351633824804E-2},{"$f":"('CPI Sub-Categories'!AG49-'CPI Sub-Categories'!AB49)/'CPI Sub-Categories'!AB49","v":2.8312385484443668E-2},null,{"$f":"('CPI Sub-Categories'!AI49-'CPI Sub-Categories'!AD49)/'CPI Sub-Categories'!AD49","v":4.7634748593189807E-2},{"$f":"('CPI Sub-Categories'!AJ49-'CPI Sub-Categories'!AE49)/'CPI Sub-Categories'!AE49","v":2.3104371072759276E-2},{"$f":"('CPI Sub-Categories'!AK49-'CPI Sub-Categories'!AF49)/'CPI Sub-Categories'!AF49","v":3.7922966166325171E-2},{"$f":"('CPI Sub-Categories'!AL49-'CPI Sub-Categories'!AG49)/'CPI Sub-Categories'!AG49","v":-2.8551503455216148E-2},null,{"$f":"('CPI Sub-Categories'!AM49-'CPI Sub-Categories'!AI49)/'CPI Sub-Categories'!AI49","v":-4.3084033194479135E-2},{"$f":"('CPI Sub-Categories'!AN49-'CPI Sub-Categories'!AJ49)/'CPI Sub-Categories'!AJ49","v":-4.2504695900377615E-2},{"$f":"('CPI Sub-Categories'!AO49-'CPI Sub-Categories'!AK49)/'CPI Sub-Categories'!AK49","v":-3.9475055759227912E-2},{"$f":"('CPI Sub-Categories'!AQ49-'CPI Sub-Categories'!AL49)/'CPI Sub-Categories'!AL49","v":-1}]
[3,"043100","Materials for the maintenance and repair of the dwelling",null,-1.1026832709404466E-2,-4.818823527484048E-2,-3.2597968510386835E-2,1.4885335301630354E-2,null,3.462110511151955E-2,2.798297451613644E-2,2.5480511340629418E-2,2.5990879852580334E-2,null,4.6417301562048145E-2,6.4533996754771283E-2,9.2689355695846687E-2,6.0369783271600141E-2,null,{"$f":"('CPI Sub-Categories'!Y50-'CPI Sub-Categories'!T50)/'CPI Sub-Categories'!T50","v":5.0548430397840738E-2},{"$f":"('CPI Sub-Categories'!Z50-'CPI Sub-Categories'!U50)/'CPI Sub-Categories'!U50","v":0.13675437771312712},{"$f":"('CPI Sub-Categories'!AA50-'CPI Sub-Categories'!V50)/'CPI Sub-Categories'!V50","v":0.20811545427951555},{"$f":"('CPI Sub-Categories'!AB50-'CPI Sub-Categories'!W50)/'CPI Sub-Categories'!W50","v":0.21632776423526559},null,{"$f":"('CPI Sub-Categories'!AD50-'CPI Sub-Categories'!Y50)/'CPI Sub-Categories'!Y50","v":0.20590852570269941},{"$f":"('CPI Sub-Categories'!AE50-'CPI Sub-Categories'!Z50)/'CPI Sub-Categories'!Z50","v":9.7922959369542151E-2},{"$f":"('CPI Sub-Categories'!AF50-'CPI Sub-Categories'!AA50)/'CPI Sub-Categories'!AA50","v":-1.736167863750978E-2},{"$f":"('CPI Sub-Categories'!AG50-'CPI Sub-Categories'!AB50)/'CPI Sub-Categories'!AB50","v":-2.1857882886920085E-2},null,{"$f":"('CPI Sub-Categories'!AI50-'CPI Sub-Categories'!AD50)/'CPI Sub-Categories'!AD50","v":3.1938928972947969E-3},{"$f":"('CPI Sub-Categories'!AJ50-'CPI Sub-Categories'!AE50)/'CPI Sub-Categories'!AE50","v":-2.8363357408513437E-2},{"$f":"('CPI Sub-Categories'!AK50-'CPI Sub-Categories'!AF50)/'CPI Sub-Categories'!AF50","v":-1.028203748060519E-2},{"$f":"('CPI Sub-Categories'!AL50-'CPI Sub-Categories'!AG50)/'CPI Sub-Categories'!AG50","v":-3.8787160513893755E-2},null,{"$f":"('CPI Sub-Categories'!AM50-'CPI Sub-Categories'!AI50)/'CPI Sub-Categories'!AI50","v":-5.8115771218037293E-2},{"$f":"('CPI Sub-Categories'!AN50-'CPI Sub-Categories'!AJ50)/'CPI Sub-Categories'!AJ50","v":-3.8865788071559625E-2},{"$f":"('CPI Sub-Categories'!AO50-'CPI Sub-Categories'!AK50)/'CPI Sub-Categories'!AK50","v":-3.473065278905741E-2},{"$f":"('CPI Sub-Categories'!AQ50-'CPI Sub-Categories'!AL50)/'CPI Sub-Categories'!AL50","v":-1}]
[3,"043200","Services for the maintenance and repair of the dwelling",null,0,0,0,0,null,0,0,0,0,null,0,0,0,0,null,{"$f":"('CPI Sub-Categories'!Y51-'CPI Sub-Categories'!T51)/'CPI Sub-Categories'!T51","v":0},{"$f":"('CPI Sub-Categories'!Z51-'CPI Sub-Categories'!U51)/'CPI Sub-Categories'!U51","v":0},{"$f":"('CPI Sub-Categories'!AA51-'CPI Sub-Categories'!V51)/'CPI Sub-Categories'!V51","v":0},{"$f":"('CPI Sub-Categories'!AB51-'CPI Sub-Categories'!W51)/'CPI Sub-Categories'!W51","v":0},null,{"$f":"('CPI Sub-Categories'!AD51-'CPI Sub-Categories'!Y51)/'CPI Sub-Categories'!Y51","v":0},{"$f":"('CPI Sub-Categories'!AE51-'CPI Sub-Categories'!Z51)/'CPI Sub-Categories'!Z51","v":0},{"$f":"('CPI Sub-Categories'!AF51-'CPI Sub-Categories'!AA51)/'CPI Sub-Categories'!AA51","v":0},{"$f":"('CPI Sub-Categories'!AG51-'CPI Sub-Categories'!AB51)/'CPI Sub-Categories'!AB51","v":0.2},null,{"$f":"('CPI Sub-Categories'!AI51-'CPI Sub-Categories'!AD51)/'CPI Sub-Categories'!AD51","v":0.2},{"$f":"('CPI Sub-Categories'!AJ51-'CPI Sub-Categories'!AE51)/'CPI Sub-Categories'!AE51","v":0.2},{"$f":"('CPI Sub-Categories'!AK51-'CPI Sub-Categories'!AF51)/'CPI Sub-Categories'!AF51","v":0.2},{"$f":"('CPI Sub-Categories'!AL51-'CPI Sub-Categories'!AG51)/'CPI Sub-Categories'!AG51","v":0},null,{"$f":"('CPI Sub-Categories'!AM51-'CPI Sub-Categories'!AI51)/'CPI Sub-Categories'!AI51","v":0},{"$f":"('CPI Sub-Categories'!AN51-'CPI Sub-Categories'!AJ51)/'CPI Sub-Categories'!AJ51","v":-5.2631578947366718E-2},{"$f":"('CPI Sub-Categories'!AO51-'CPI Sub-Categories'!AK51)/'CPI Sub-Categories'!AK51","v":-5.2631578947366718E-2},{"$f":"('CPI Sub-Categories'!AQ51-'CPI Sub-Categories'!AL51)/'CPI Sub-Categories'!AL51","v":-1}]
[2,"044000","Water supply and miscellaneous services relating to the dwelling",null,2.3987595346000034E-4,3.5983719999421737E-6,3.5983719999421737E-6,2.0828115975000117E-3,null,7.9983428057033828E-3,8.2365093592454038E-3,8.2365093592454038E-3,5.4859269351264679E-3,null,-2.0026490050361174E-3,-2.0026490050361174E-3,-2.0026490050361174E-3,4.1007631148855285E-3,null,{"$f":"('CPI Sub-Categories'!Y52-'CPI Sub-Categories'!T52)/'CPI Sub-Categories'!T52","v":1.6548242585198422E-2},{"$f":"('CPI Sub-Categories'!Z52-'CPI Sub-Categories'!U52)/'CPI Sub-Categories'!U52","v":1.6725232494762543E-2},{"$f":"('CPI Sub-Categories'!AA52-'CPI Sub-Categories'!V52)/'CPI Sub-Categories'!V52","v":1.6725232494762543E-2},{"$f":"('CPI Sub-Categories'!AB52-'CPI Sub-Categories'!W52)/'CPI Sub-Categories'!W52","v":1.3747520524687078E-2},null,{"$f":"('CPI Sub-Categories'!AD52-'CPI Sub-Categories'!Y52)/'CPI Sub-Categories'!Y52","v":2.6869131288813986E-3},{"$f":"('CPI Sub-Categories'!AE52-'CPI Sub-Categories'!Z52)/'CPI Sub-Categories'!Z52","v":2.5123669875995918E-3},{"$f":"('CPI Sub-Categories'!AF52-'CPI Sub-Categories'!AA52)/'CPI Sub-Categories'!AA52","v":2.5123669875995918E-3},{"$f":"('CPI Sub-Categories'!AG52-'CPI Sub-Categories'!AB52)/'CPI Sub-Categories'!AB52","v":-2.7285378411131709E-3},null,{"$f":"('CPI Sub-Categories'!AI52-'CPI Sub-Categories'!AD52)/'CPI Sub-Categories'!AD52","v":-2.7285378411131709E-3},{"$f":"('CPI Sub-Categories'!AJ52-'CPI Sub-Categories'!AE52)/'CPI Sub-Categories'!AE52","v":-2.7285378411131709E-3},{"$f":"('CPI Sub-Categories'!AK52-'CPI Sub-Categories'!AF52)/'CPI Sub-Categories'!AF52","v":-2.7285378411131709E-3},{"$f":"('CPI Sub-Categories'!AL52-'CPI Sub-Categories'!AG52)/'CPI Sub-Categories'!AG52","v":0},null,{"$f":"('CPI Sub-Categories'!AM52-'CPI Sub-Categories'!AI52)/'CPI Sub-Categories'!AI52","v":0},{"$f":"('CPI Sub-Categories'!AN52-'CPI Sub-Categories'!AJ52)/'CPI Sub-Categories'!AJ52","v":-2.4158274449782757E-2},{"$f":"('CPI Sub-Categories'!AO52-'CPI Sub-Categories'!AK52)/'CPI Sub-Categories'!AK52","v":-2.4158274449782757E-2},{"$f":"('CPI Sub-Categories'!AQ52-'CPI Sub-Categories'!AL52)/'CPI Sub-Categories'!AL52","v":-1}]
[3,"044100","Water supply",null,2.8517738155002802E-4,4.2779373700341235E-6,4.2779373700341235E-6,4.2779373700341235E-6,null,-2.8081936084997818E-4,0,0,0,null,0,0,0,0,null,{"$f":"('CPI Sub-Categories'!Y53-'CPI Sub-Categories'!T53)/'CPI Sub-Categories'!T53","v":2.1174696757964403E-4},{"$f":"('CPI Sub-Categories'!Z53-'CPI Sub-Categories'!U53)/'CPI Sub-Categories'!U53","v":4.2347013551123283E-4},{"$f":"('CPI Sub-Categories'!AA53-'CPI Sub-Categories'!V53)/'CPI Sub-Categories'!V53","v":4.2347013551123283E-4},{"$f":"('CPI Sub-Categories'!AB53-'CPI Sub-Categories'!W53)/'CPI Sub-Categories'!W53","v":4.2347013551123283E-4},null,{"$f":"('CPI Sub-Categories'!AD53-'CPI Sub-Categories'!Y53)/'CPI Sub-Categories'!Y53","v":2.1167834568378797E-4},{"$f":"('CPI Sub-Categories'!AE53-'CPI Sub-Categories'!Z53)/'CPI Sub-Categories'!Z53","v":0},{"$f":"('CPI Sub-Categories'!AF53-'CPI Sub-Categories'!AA53)/'CPI Sub-Categories'!AA53","v":0},{"$f":"('CPI Sub-Categories'!AG53-'CPI Sub-Categories'!AB53)/'CPI Sub-Categories'!AB53","v":0},null,{"$f":"('CPI Sub-Categories'!AI53-'CPI Sub-Categories'!AD53)/'CPI Sub-Categories'!AD53","v":0},{"$f":"('CPI Sub-Categories'!AJ53-'CPI Sub-Categories'!AE53)/'CPI Sub-Categories'!AE53","v":0},{"$f":"('CPI Sub-Categories'!AK53-'CPI Sub-Categories'!AF53)/'CPI Sub-Categories'!AF53","v":0},{"$f":"('CPI Sub-Categories'!AL53-'CPI Sub-Categories'!AG53)/'CPI Sub-Categories'!AG53","v":0},null,{"$f":"('CPI Sub-Categories'!AM53-'CPI Sub-Categories'!AI53)/'CPI Sub-Categories'!AI53","v":0},{"$f":"('CPI Sub-Categories'!AN53-'CPI Sub-Categories'!AJ53)/'CPI Sub-Categories'!AJ53","v":0},{"$f":"('CPI Sub-Categories'!AO53-'CPI Sub-Categories'!AK53)/'CPI Sub-Categories'!AK53","v":0},{"$f":"('CPI Sub-Categories'!AQ53-'CPI Sub-Categories'!AL53)/'CPI Sub-Categories'!AL53","v":-1}]
[3,"044200","Refuse collection",null,"Not available","Not available","Not available","Not available",null,"Not available","Not available","Not available","Not available",null,"Not available","Not available","Not available","Not available",null,"Not available","Not available","Not available","Not available",null,"Not available","Not available","Not available","Not available",null,"Not available","Not available","Not available","Not available",null,"Not available","Not available","Not available","Not available"]
[3,"044300","Sewage collection",null,0,0,0,-1.8872447186111002E-2,null,0,0,0,1.8265730170766978E-4,null,-5.7190958417936033E-2,-5.7190958417936033E-2,-5.7190958417936033E-2,-3.9231077169477283E-2,null,{"$f":"('CPI Sub-Categories'!Y55-'CPI Sub-Categories'!T55)/'CPI Sub-Categories'!T55","v":0},{"$f":"('CPI Sub-Categories'!Z55-'CPI Sub-Categories'!U55)/'CPI Sub-Categories'!U55","v":0},{"$f":"('CPI Sub-Categories'!AA55-'CPI Sub-Categories'!V55)/'CPI Sub-Categories'!V55","v":0},{"$f":"('CPI Sub-Categories'!AB55-'CPI Sub-Categories'!W55)/'CPI Sub-Categories'!W55","v":7.7217345015946459E-2},null,{"$f":"('CPI Sub-Categories'!AD55-'CPI Sub-Categories'!Y55)/'CPI Sub-Categories'!Y55","v":7.7217345015946459E-2},{"$f":"('CPI Sub-Categories'!AE55-'CPI Sub-Categories'!Z55)/'CPI Sub-Categories'!Z55","v":7.7217345015946459E-2},{"$f":"('CPI Sub-Categories'!AF55-'CPI Sub-Categories'!AA55)/'CPI Sub-Categories'!AA55","v":7.7217345015946459E-2},{"$f":"('CPI Sub-Categories'!AG55-'CPI Sub-Categories'!AB55)/'CPI Sub-Categories'!AB55","v":-7.8045554270714093E-2},null,{"$f":"('CPI Sub-Categories'!AI55-'CPI Sub-Categories'!AD55)/'CPI Sub-Categories'!AD55","v":-7.8045554270714093E-2},{"$f":"('CPI Sub-Categories'!AJ55-'CPI Sub-Categories'!AE55)/'CPI Sub-Categories'!AE55","v":-7.8045554270714093E-2},{"$f":"('CPI Sub-Categories'!AK55-'CPI Sub-Categories'!AF55)/'CPI Sub-Categories'!AF55","v":-7.8045554270714093E-2},{"$f":"('CPI Sub-Categories'!AL55-'CPI Sub-Categories'!AG55)/'CPI Sub-Categories'!AG55","v":1.0623844373203019E-15},null,{"$f":"('CPI Sub-Categories'!AM55-'CPI Sub-Categories'!AI55)/'CPI Sub-Categories'!AI55","v":0},{"$f":"('CPI Sub-Categories'!AN55-'CPI Sub-Categories'!AJ55)/'CPI Sub-Categories'!AJ55","v":0},{"$f":"('CPI Sub-Categories'!AO55-'CPI Sub-Categories'!AK55)/'CPI Sub-Categories'!AK55","v":0},{"$f":"('CPI Sub-Categories'!AQ55-'CPI Sub-Categories'!AL55)/'CPI Sub-Categories'!AL55","v":-1}]
[3,"044400","Other services relating to the dwelling n.e.c.",null,0,0,0,2.2222222222220013E-2,null,6.6666666666669983E-2,6.6666666666669983E-2,6.6666666666669983E-2,4.3478260869570719E-2,null,0,0,0,4.166666666666239E-2,null,{"$f":"('CPI Sub-Categories'!Y56-'CPI Sub-Categories'!T56)/'CPI Sub-Categories'!T56","v":0.1249999999999965},{"$f":"('CPI Sub-Categories'!Z56-'CPI Sub-Categories'!U56)/'CPI Sub-Categories'!U56","v":0.1249999999999965},{"$f":"('CPI Sub-Categories'!AA56-'CPI Sub-Categories'!V56)/'CPI Sub-Categories'!V56","v":0.1249999999999965},{"$f":"('CPI Sub-Categories'!AB56-'CPI Sub-Categories'!W56)/'CPI Sub-Categories'!W56","v":8.000000000000107E-2},null,{"$f":"('CPI Sub-Categories'!AD56-'CPI Sub-Categories'!Y56)/'CPI Sub-Categories'!Y56","v":0},{"$f":"('CPI Sub-Categories'!AE56-'CPI Sub-Categories'!Z56)/'CPI Sub-Categories'!Z56","v":0},{"$f":"('CPI Sub-Categories'!AF56-'CPI Sub-Categories'!AA56)/'CPI Sub-Categories'!AA56","v":0},{"$f":"('CPI Sub-Categories'!AG56-'CPI Sub-Categories'!AB56)/'CPI Sub-Categories'!AB56","v":0},null,{"$f":"('CPI Sub-Categories'!AI56-'CPI Sub-Categories'!AD56)/'CPI Sub-Categories'!AD56","v":0},{"$f":"('CPI Sub-Categories'!AJ56-'CPI Sub-Categories'!AE56)/'CPI Sub-Categories'!AE56","v":0},{"$f":"('CPI Sub-Categories'!AK56-'CPI Sub-Categories'!AF56)/'CPI Sub-Categories'!AF56","v":0},{"$f":"('CPI Sub-Categories'!AL56-'CPI Sub-Categories'!AG56)/'CPI Sub-Categories'!AG56","v":0},null,{"$f":"('CPI Sub-Categories'!AM56-'CPI Sub-Categories'!AI56)/'CPI Sub-Categories'!AI56","v":0},{"$f":"('CPI Sub-Categories'!AN56-'CPI Sub-Categories'!AJ56)/'CPI Sub-Categories'!AJ56","v":-0.16666666666666749},{"$f":"('CPI Sub-Categories'!AO56-'CPI Sub-Categories'!AK56)/'CPI Sub-Categories'!AK56","v":-0.16666666666666666},{"$f":"('CPI Sub-Categories'!AQ56-'CPI Sub-Categories'!AL56)/'CPI Sub-Categories'!AL56","v":-1}]
[2,"045000","Electricity, gas and other fuels",null,2.7783199136576831E-2,1.153986000795147E-2,-6.2643003657319909E-2,-4.0451189094554224E-2,null,-3.1340760849706516E-2,3.9049990067479552E-3,5.3440648756609435E-2,2.8970502804193374E-2,null,8.2059509791913815E-2,0.13540430030533768,0.15120907034937339,0.18836895399805076,null,{"$f":"('CPI Sub-Categories'!Y57-'CPI Sub-Categories'!T57)/'CPI Sub-Categories'!T57","v":0.13012129624923183},{"$f":"('CPI Sub-Categories'!Z57-'CPI Sub-Categories'!U57)/'CPI Sub-Categories'!U57","v":0.25754621559278112},{"$f":"('CPI Sub-Categories'!AA57-'CPI Sub-Categories'!V57)/'CPI Sub-Categories'!V57","v":0.21370558698971276},{"$f":"('CPI Sub-Categories'!AB57-'CPI Sub-Categories'!W57)/'CPI Sub-Categories'!W57","v":9.8836661014914104E-2},null,{"$f":"('CPI Sub-Categories'!AD57-'CPI Sub-Categories'!Y57)/'CPI Sub-Categories'!Y57","v":1.3357737715217306E-3},{"$f":"('CPI Sub-Categories'!AE57-'CPI Sub-Categories'!Z57)/'CPI Sub-Categories'!Z57","v":-0.11342088360976516},{"$f":"('CPI Sub-Categories'!AF57-'CPI Sub-Categories'!AA57)/'CPI Sub-Categories'!AA57","v":-6.2031537147215189E-2},{"$f":"('CPI Sub-Categories'!AG57-'CPI Sub-Categories'!AB57)/'CPI Sub-Categories'!AB57","v":6.2018884838241237E-2},null,{"$f":"('CPI Sub-Categories'!AI57-'CPI Sub-Categories'!AD57)/'CPI Sub-Categories'!AD57","v":0.17534621977848514},{"$f":"('CPI Sub-Categories'!AJ57-'CPI Sub-Categories'!AE57)/'CPI Sub-Categories'!AE57","v":0.15399032334526583},{"$f":"('CPI Sub-Categories'!AK57-'CPI Sub-Categories'!AF57)/'CPI Sub-Categories'!AF57","v":0.11008744221728649},{"$f":"('CPI Sub-Categories'!AL57-'CPI Sub-Categories'!AG57)/'CPI Sub-Categories'!AG57","v":2.0904814992937074E-2},null,{"$f":"('CPI Sub-Categories'!AM57-'CPI Sub-Categories'!AI57)/'CPI Sub-Categories'!AI57","v":1.3835197367263002E-2},{"$f":"('CPI Sub-Categories'!AN57-'CPI Sub-Categories'!AJ57)/'CPI Sub-Categories'!AJ57","v":-7.6318755081898421E-2},{"$f":"('CPI Sub-Categories'!AO57-'CPI Sub-Categories'!AK57)/'CPI Sub-Categories'!AK57","v":-8.807037083407887E-2},{"$f":"('CPI Sub-Categories'!AQ57-'CPI Sub-Categories'!AL57)/'CPI Sub-Categories'!AL57","v":-1}]
[3,"045100","Electricity",null,3.7234081042069551E-2,1.4708398741619411E-2,-8.6727582250730878E-2,-6.239385937454961E-2,null,-4.6606325761041879E-2,-6.3289410877685141E-3,5.1722492414841691E-2,2.3424291357484306E-2,null,8.4830492884588646E-2,0.1492711165744309,0.17183963711443875,0.21499214879728815,null,{"$f":"('CPI Sub-Categories'!Y58-'CPI Sub-Categories'!T58)/'CPI Sub-Categories'!T58","v":0.1462000230675323},{"$f":"('CPI Sub-Categories'!Z58-'CPI Sub-Categories'!U58)/'CPI Sub-Categories'!U58","v":0.25766583452548653},{"$f":"('CPI Sub-Categories'!AA58-'CPI Sub-Categories'!V58)/'CPI Sub-Categories'!V58","v":0.21092575855558895},{"$f":"('CPI Sub-Categories'!AB58-'CPI Sub-Categories'!W58)/'CPI Sub-Categories'!W58","v":8.0225493902756684E-2},null,{"$f":"('CPI Sub-Categories'!AD58-'CPI Sub-Categories'!Y58)/'CPI Sub-Categories'!Y58","v":-3.0875653219566469E-2},{"$f":"('CPI Sub-Categories'!AE58-'CPI Sub-Categories'!Z58)/'CPI Sub-Categories'!Z58","v":-0.11982236470555421},{"$f":"('CPI Sub-Categories'!AF58-'CPI Sub-Categories'!AA58)/'CPI Sub-Categories'!AA58","v":-6.0981623072034218E-2},{"$f":"('CPI Sub-Categories'!AG58-'CPI Sub-Categories'!AB58)/'CPI Sub-Categories'!AB58","v":8.2884843377999298E-2},null,{"$f":"('CPI Sub-Categories'!AI58-'CPI Sub-Categories'!AD58)/'CPI Sub-Categories'!AD58","v":0.2187070367334783},{"$f":"('CPI Sub-Categories'!AJ58-'CPI Sub-Categories'!AE58)/'CPI Sub-Categories'!AE58","v":0.17754841481835301},{"$f":"('CPI Sub-Categories'!AK58-'CPI Sub-Categories'!AF58)/'CPI Sub-Categories'!AF58","v":0.12617387875478869},{"$f":"('CPI Sub-Categories'!AL58-'CPI Sub-Categories'!AG58)/'CPI Sub-Categories'!AG58","v":2.374474929884721E-2},null,{"$f":"('CPI Sub-Categories'!AM58-'CPI Sub-Categories'!AI58)/'CPI Sub-Categories'!AI58","v":1.5698001676019577E-2},{"$f":"('CPI Sub-Categories'!AN58-'CPI Sub-Categories'!AJ58)/'CPI Sub-Categories'!AJ58","v":-9.7149831098557918E-2},{"$f":"('CPI Sub-Categories'!AO58-'CPI Sub-Categories'!AK58)/'CPI Sub-Categories'!AK58","v":-0.11037801294322225},{"$f":"('CPI Sub-Categories'!AQ58-'CPI Sub-Categories'!AL58)/'CPI Sub-Categories'!AL58","v":-1}]
[3,"045200","Cooking gas",null,0,2.6737490933609963E-2,7.9057956205339938E-2,7.9057956205339938E-2,null,7.9057956205339938E-2,7.4590653005639662E-2,6.4709937783835325E-2,6.4709937783835325E-2,null,6.4709937783835325E-2,4.8173604588129283E-2,2.5986879469989801E-2,2.5986879469989801E-2,null,{"$f":"('CPI Sub-Categories'!Y59-'CPI Sub-Categories'!T59)/'CPI Sub-Categories'!T59","v":2.5986879469989801E-2},{"$f":"('CPI Sub-Categories'!Z59-'CPI Sub-Categories'!U59)/'CPI Sub-Categories'!U59","v":0.25806448574439456},{"$f":"('CPI Sub-Categories'!AA59-'CPI Sub-Categories'!V59)/'CPI Sub-Categories'!V59","v":0.23429995974689635},{"$f":"('CPI Sub-Categories'!AB59-'CPI Sub-Categories'!W59)/'CPI Sub-Categories'!W59","v":0.23429995974689635},null,{"$f":"('CPI Sub-Categories'!AD59-'CPI Sub-Categories'!Y59)/'CPI Sub-Categories'!Y59","v":0.23429995974689635},{"$f":"('CPI Sub-Categories'!AE59-'CPI Sub-Categories'!Z59)/'CPI Sub-Categories'!Z59","v":-7.0187269436594008E-2},{"$f":"('CPI Sub-Categories'!AF59-'CPI Sub-Categories'!AA59)/'CPI Sub-Categories'!AA59","v":-7.0187269436594008E-2},{"$f":"('CPI Sub-Categories'!AG59-'CPI Sub-Categories'!AB59)/'CPI Sub-Categories'!AB59","v":-7.0187269436594008E-2},null,{"$f":"('CPI Sub-Categories'!AI59-'CPI Sub-Categories'!AD59)/'CPI Sub-Categories'!AD59","v":-7.0187269436594008E-2},{"$f":"('CPI Sub-Categories'!AJ59-'CPI Sub-Categories'!AE59)/'CPI Sub-Categories'!AE59","v":0},{"$f":"('CPI Sub-Categories'!AK59-'CPI Sub-Categories'!AF59)/'CPI Sub-Categories'!AF59","v":0},{"$f":"('CPI Sub-Categories'!AL59-'CPI Sub-Categories'!AG59)/'CPI Sub-Categories'!AG59","v":0},null,{"$f":"('CPI Sub-Categories'!AM59-'CPI Sub-Categories'!AI59)/'CPI Sub-Categories'!AI59","v":0},{"$f":"('CPI Sub-Categories'!AN59-'CPI Sub-Categories'!AJ59)/'CPI Sub-Categories'!AJ59","v":8.4660060007473073E-2},{"$f":"('CPI Sub-Categories'!AO59-'CPI Sub-Categories'!AK59)/'CPI Sub-Categories'!AK59","v":8.4660060007473073E-2},{"$f":"('CPI Sub-Categories'!AQ59-'CPI Sub-Categories'!AL59)/'CPI Sub-Categories'!AL59","v":-1}]
[3,"045300","Liquid fuels",null,"Not available","Not available","Not available","Not available",null,"Not available","Not available","Not available","Not available",null,"Not available","Not available","Not available","Not available",null,"Not available","Not available","Not available","Not available",null,"Not available","Not available","Not available","Not available",null,"Not available","Not available","Not available","Not available",null,"Not available","Not available","Not available","Not available"]
[3,"045400","Solid fuels",null,0.17819958523860097,0.16978050137992681,0.16036145725013889,0.11846056949066315,null,-7.0972038603613383E-2,-4.0831647127092786E-2,-2.4654347034001118E-2,-2.0220142682652324E-2,null,4.5280096555255438E-2,3.3079790599588745E-2,7.4977831628357472E-2,0.11389868929453552,null,{"$f":"('CPI Sub-Categories'!Y61-'CPI Sub-Categories'!T61)/'CPI Sub-Categories'!T61","v":0.10574810453261942},{"$f":"('CPI Sub-Categories'!Z61-'CPI Sub-Categories'!U61)/'CPI Sub-Categories'!U61","v":8.7964628885198862E-2},{"$f":"('CPI Sub-Categories'!AA61-'CPI Sub-Categories'!V61)/'CPI Sub-Categories'!V61","v":6.2267803695357941E-2},{"$f":"('CPI Sub-Categories'!AB61-'CPI Sub-Categories'!W61)/'CPI Sub-Categories'!W61","v":3.4047529479881752E-2},null,{"$f":"('CPI Sub-Categories'!AD61-'CPI Sub-Categories'!Y61)/'CPI Sub-Categories'!Y61","v":6.3398080855290764E-2},{"$f":"('CPI Sub-Categories'!AE61-'CPI Sub-Categories'!Z61)/'CPI Sub-Categories'!Z61","v":7.8758828943904069E-2},{"$f":"('CPI Sub-Categories'!AF61-'CPI Sub-Categories'!AA61)/'CPI Sub-Categories'!AA61","v":7.8126005185350025E-2},{"$f":"('CPI Sub-Categories'!AG61-'CPI Sub-Categories'!AB61)/'CPI Sub-Categories'!AB61","v":3.8476579187704404E-2},null,{"$f":"('CPI Sub-Categories'!AI61-'CPI Sub-Categories'!AD61)/'CPI Sub-Categories'!AD61","v":4.8784653632761819E-3},{"$f":"('CPI Sub-Categories'!AJ61-'CPI Sub-Categories'!AE61)/'CPI Sub-Categories'!AE61","v":-2.9807928282027195E-4},{"$f":"('CPI Sub-Categories'!AK61-'CPI Sub-Categories'!AF61)/'CPI Sub-Categories'!AF61","v":-4.1151876009705764E-3},{"$f":"('CPI Sub-Categories'!AL61-'CPI Sub-Categories'!AG61)/'CPI Sub-Categories'!AG61","v":1.1152197717278824E-2},null,{"$f":"('CPI Sub-Categories'!AM61-'CPI Sub-Categories'!AI61)/'CPI Sub-Categories'!AI61","v":6.1601659102787617E-3},{"$f":"('CPI Sub-Categories'!AN61-'CPI Sub-Categories'!AJ61)/'CPI Sub-Categories'!AJ61","v":4.5335357386945326E-3},{"$f":"('CPI Sub-Categories'!AO61-'CPI Sub-Categories'!AK61)/'CPI Sub-Categories'!AK61","v":-8.7148226388333652E-3},{"$f":"('CPI Sub-Categories'!AQ61-'CPI Sub-Categories'!AL61)/'CPI Sub-Categories'!AL61","v":-1}]
[3,"045500","Heat energy",null,"Not available","Not available","Not available","Not available",null,"Not available","Not available","Not available","Not available",null,"Not available","Not available","Not available","Not available",null,"Not available","Not available","Not available","Not available",null,"Not available","Not available","Not available","Not available",null,"Not available","Not available","Not available","Not available",null,"Not available","Not available","Not available","Not available"]
[1,"050000","Furnishings, household equipment and routine household maintenance",null,2.5459941404753068E-2,2.1999033734607265E-2,2.2758742249407724E-3,1.9129545596109479E-2,null,1.9765801616125313E-2,1.4944117752850972E-2,-5.1566019396835829E-3,-1.3331621502249038E-2,null,-9.8246272212302917E-3,4.8281101830455482E-2,5.8126764724257846E-2,7.3837784511775417E-2,null,{"$f":"('CPI Sub-Categories'!Y63-'CPI Sub-Categories'!T63)/'CPI Sub-Categories'!T63","v":7.4442539775921038E-2},{"$f":"('CPI Sub-Categories'!Z63-'CPI Sub-Categories'!U63)/'CPI Sub-Categories'!U63","v":4.5984888093322351E-2},{"$f":"('CPI Sub-Categories'!AA63-'CPI Sub-Categories'!V63)/'CPI Sub-Categories'!V63","v":5.9179106420504342E-2},{"$f":"('CPI Sub-Categories'!AB63-'CPI Sub-Categories'!W63)/'CPI Sub-Categories'!W63","v":6.3076910806244182E-2},null,{"$f":"('CPI Sub-Categories'!AD63-'CPI Sub-Categories'!Y63)/'CPI Sub-Categories'!Y63","v":7.9659765301616586E-2},{"$f":"('CPI Sub-Categories'!AE63-'CPI Sub-Categories'!Z63)/'CPI Sub-Categories'!Z63","v":5.2923126707286473E-2},{"$f":"('CPI Sub-Categories'!AF63-'CPI Sub-Categories'!AA63)/'CPI Sub-Categories'!AA63","v":3.657524848741598E-2},{"$f":"('CPI Sub-Categories'!AG63-'CPI Sub-Categories'!AB63)/'CPI Sub-Categories'!AB63","v":2.4514146330958499E-3},null,{"$f":"('CPI Sub-Categories'!AI63-'CPI Sub-Categories'!AD63)/'CPI Sub-Categories'!AD63","v":-1.4585489328889372E-2},{"$f":"('CPI Sub-Categories'!AJ63-'CPI Sub-Categories'!AE63)/'CPI Sub-Categories'!AE63","v":-5.5272913722768874E-3},{"$f":"('CPI Sub-Categories'!AK63-'CPI Sub-Categories'!AF63)/'CPI Sub-Categories'!AF63","v":-1.3029327693900184E-2},{"$f":"('CPI Sub-Categories'!AL63-'CPI Sub-Categories'!AG63)/'CPI Sub-Categories'!AG63","v":-1.23298108262645E-2},null,{"$f":"('CPI Sub-Categories'!AM63-'CPI Sub-Categories'!AI63)/'CPI Sub-Categories'!AI63","v":-9.6378933081812633E-3},{"$f":"('CPI Sub-Categories'!AN63-'CPI Sub-Categories'!AJ63)/'CPI Sub-Categories'!AJ63","v":0},{"$f":"('CPI Sub-Categories'!AO63-'CPI Sub-Categories'!AK63)/'CPI Sub-Categories'!AK63","v":5.8857052326948146E-3},{"$f":"('CPI Sub-Categories'!AQ63-'CPI Sub-Categories'!AL63)/'CPI Sub-Categories'!AL63","v":-1},{"$f":"VLOOKUP($B63,'[17]Level 1 - vlookup table'!$B$2:$D$13,3,FALSE)","v":115.477699930325}]
[2,"051000","Furniture and furnishings, carpets and other floor coverings",null,6.5063526108715214E-2,2.2573617517989215E-2,1.7205003652888635E-2,-2.7961976135356488E-3,null,4.5425445145945726E-3,5.5162528453687902E-2,1.3320996538504495E-3,-3.2509754695498029E-2,null,-7.1018404682120064E-3,-2.8192930697221907E-2,-2.4380245807827616E-2,8.5966738312731224E-3,null,{"$f":"('CPI Sub-Categories'!Y64-'CPI Sub-Categories'!T64)/'CPI Sub-Categories'!T64","v":2.1903983054942053E-2},{"$f":"('CPI Sub-Categories'!Z64-'CPI Sub-Categories'!U64)/'CPI Sub-Categories'!U64","v":7.1115438587484217E-2},{"$f":"('CPI Sub-Categories'!AA64-'CPI Sub-Categories'!V64)/'CPI Sub-Categories'!V64","v":8.3632249258007232E-2},{"$f":"('CPI Sub-Categories'!AB64-'CPI Sub-Categories'!W64)/'CPI Sub-Categories'!W64","v":7.901350828699491E-2},null,{"$f":"('CPI Sub-Categories'!AD64-'CPI Sub-Categories'!Y64)/'CPI Sub-Categories'!Y64","v":6.4999943115497144E-2},{"$f":"('CPI Sub-Categories'!AE64-'CPI Sub-Categories'!Z64)/'CPI Sub-Categories'!Z64","v":-6.418882015014297E-3},{"$f":"('CPI Sub-Categories'!AF64-'CPI Sub-Categories'!AA64)/'CPI Sub-Categories'!AA64","v":-6.47035104024298E-3},{"$f":"('CPI Sub-Categories'!AG64-'CPI Sub-Categories'!AB64)/'CPI Sub-Categories'!AB64","v":-4.7754511638360975E-2},null,{"$f":"('CPI Sub-Categories'!AI64-'CPI Sub-Categories'!AD64)/'CPI Sub-Categories'!AD64","v":-6.8879883326447275E-2},{"$f":"('CPI Sub-Categories'!AJ64-'CPI Sub-Categories'!AE64)/'CPI Sub-Categories'!AE64","v":-3.5470216870387553E-2},{"$f":"('CPI Sub-Categories'!AK64-'CPI Sub-Categories'!AF64)/'CPI Sub-Categories'!AF64","v":-3.1845610060663686E-2},{"$f":"('CPI Sub-Categories'!AL64-'CPI Sub-Categories'!AG64)/'CPI Sub-Categories'!AG64","v":-2.6384145399294741E-2},null,{"$f":"('CPI Sub-Categories'!AM64-'CPI Sub-Categories'!AI64)/'CPI Sub-Categories'!AI64","v":-2.1113297630055313E-2},{"$f":"('CPI Sub-Categories'!AN64-'CPI Sub-Categories'!AJ64)/'CPI Sub-Categories'!AJ64","v":-5.0116949926283134E-3},{"$f":"('CPI Sub-Categories'!AO64-'CPI Sub-Categories'!AK64)/'CPI Sub-Categories'!AK64","v":-7.2158734122290489E-3},{"$f":"('CPI Sub-Categories'!AQ64-'CPI Sub-Categories'!AL64)/'CPI Sub-Categories'!AL64","v":-1}]
[3,"051100","Furniture and furnishings",null,7.6646750509468092E-2,1.3540920362576127E-2,4.4969933554053383E-3,-4.9475231757496472E-3,null,6.4508028881297081E-3,5.1090528651080436E-2,3.2750790625452214E-3,-2.7866207498088408E-2,null,-2.0809019579308509E-2,-3.7938838039991485E-2,-3.7685438586479741E-2,-7.5282570320995678E-4,null,{"$f":"('CPI Sub-Categories'!Y65-'CPI Sub-Categories'!T65)/'CPI Sub-Categories'!T65","v":2.5033028797774266E-2},{"$f":"('CPI Sub-Categories'!Z65-'CPI Sub-Categories'!U65)/'CPI Sub-Categories'!U65","v":7.8786103174799019E-2},{"$f":"('CPI Sub-Categories'!AA65-'CPI Sub-Categories'!V65)/'CPI Sub-Categories'!V65","v":8.9343419816604472E-2},{"$f":"('CPI Sub-Categories'!AB65-'CPI Sub-Categories'!W65)/'CPI Sub-Categories'!W65","v":7.7242008245809249E-2},null,{"$f":"('CPI Sub-Categories'!AD65-'CPI Sub-Categories'!Y65)/'CPI Sub-Categories'!Y65","v":5.6254194859991682E-2},{"$f":"('CPI Sub-Categories'!AE65-'CPI Sub-Categories'!Z65)/'CPI Sub-Categories'!Z65","v":-2.9061450440405014E-2},{"$f":"('CPI Sub-Categories'!AF65-'CPI Sub-Categories'!AA65)/'CPI Sub-Categories'!AA65","v":-3.4543670202098004E-2},{"$f":"('CPI Sub-Categories'!AG65-'CPI Sub-Categories'!AB65)/'CPI Sub-Categories'!AB65","v":-6.2463102821268233E-2},null,{"$f":"('CPI Sub-Categories'!AI65-'CPI Sub-Categories'!AD65)/'CPI Sub-Categories'!AD65","v":-6.4487278707171927E-2},{"$f":"('CPI Sub-Categories'!AJ65-'CPI Sub-Categories'!AE65)/'CPI Sub-Categories'!AE65","v":-1.8487204559872641E-2},{"$f":"('CPI Sub-Categories'!AK65-'CPI Sub-Categories'!AF65)/'CPI Sub-Categories'!AF65","v":-9.6885706562671418E-3},{"$f":"('CPI Sub-Categories'!AL65-'CPI Sub-Categories'!AG65)/'CPI Sub-Categories'!AG65","v":-1.2200278313304058E-2},null,{"$f":"('CPI Sub-Categories'!AM65-'CPI Sub-Categories'!AI65)/'CPI Sub-Categories'!AI65","v":-1.1432056408491691E-2},{"$f":"('CPI Sub-Categories'!AN65-'CPI Sub-Categories'!AJ65)/'CPI Sub-Categories'!AJ65","v":5.8278765930503788E-3},{"$f":"('CPI Sub-Categories'!AO65-'CPI Sub-Categories'!AK65)/'CPI Sub-Categories'!AK65","v":-5.2947798005163679E-3},{"$f":"('CPI Sub-Categories'!AQ65-'CPI Sub-Categories'!AL65)/'CPI Sub-Categories'!AL65","v":-1}]
[3,"051200","Carpets and other floor coverings",null,-4.4951084094350863E-2,0.1647661288515509,0.21726904024400059,5.3253736871217691E-2,null,-2.8258017280188702E-2,0.12499789338919501,-3.2748626293809702E-2,-0.10812748673194046,null,0.2369228539525482,0.12797014364932147,0.21769059567713864,0.17454978867747889,null,{"$f":"('CPI Sub-Categories'!Y66-'CPI Sub-Categories'!T66)/'CPI Sub-Categories'!T66","v":-2.2194372274095191E-2},{"$f":"('CPI Sub-Categories'!Z66-'CPI Sub-Categories'!U66)/'CPI Sub-Categories'!U66","v":-3.3716627055780983E-2},{"$f":"('CPI Sub-Categories'!AA66-'CPI Sub-Categories'!V66)/'CPI Sub-Categories'!V66","v":1.5164840855363903E-3},{"$f":"('CPI Sub-Categories'!AB66-'CPI Sub-Categories'!W66)/'CPI Sub-Categories'!W66","v":0.10576448901454852},null,{"$f":"('CPI Sub-Categories'!AD66-'CPI Sub-Categories'!Y66)/'CPI Sub-Categories'!Y66","v":0.19420894737386102},{"$f":"('CPI Sub-Categories'!AE66-'CPI Sub-Categories'!Z66)/'CPI Sub-Categories'!Z66","v":0.33905695361570642},{"$f":"('CPI Sub-Categories'!AF66-'CPI Sub-Categories'!AA66)/'CPI Sub-Categories'!AA66","v":0.43256742490778272},{"$f":"('CPI Sub-Categories'!AG66-'CPI Sub-Categories'!AB66)/'CPI Sub-Categories'!AB66","v":0.16862705509775999},null,{"$f":"('CPI Sub-Categories'!AI66-'CPI Sub-Categories'!AD66)/'CPI Sub-Categories'!AD66","v":-0.12627911081750723},{"$f":"('CPI Sub-Categories'!AJ66-'CPI Sub-Categories'!AE66)/'CPI Sub-Categories'!AE66","v":-0.22335837404444944},{"$f":"('CPI Sub-Categories'!AK66-'CPI Sub-Categories'!AF66)/'CPI Sub-Categories'!AF66","v":-0.26537278164802069},{"$f":"('CPI Sub-Categories'!AL66-'CPI Sub-Categories'!AG66)/'CPI Sub-Categories'!AG66","v":-0.19378445962353311},null,{"$f":"('CPI Sub-Categories'!AM66-'CPI Sub-Categories'!AI66)/'CPI Sub-Categories'!AI66","v":-0.15656733469824671},{"$f":"('CPI Sub-Categories'!AN66-'CPI Sub-Categories'!AJ66)/'CPI Sub-Categories'!AJ66","v":-0.15656733469824671},{"$f":"('CPI Sub-Categories'!AO66-'CPI Sub-Categories'!AK66)/'CPI Sub-Categories'!AK66","v":-3.4510615394364383E-2},{"$f":"('CPI Sub-Categories'!AQ66-'CPI Sub-Categories'!AL66)/'CPI Sub-Categories'!AL66","v":-1}]
[3,"051300","Repair of furniture, furnishings and floor coverings",null,"Not relevant","Not relevant","Not relevant","Not relevant",null,"Not relevant","Not relevant","Not relevant","Not relevant",null,"Not relevant","Not relevant","Not relevant","Not relevant",null,"Not relevant","Not relevant","Not relevant","Not relevant",null,"Not relevant","Not relevant","Not relevant","Not relevant",null,"Not relevant","Not relevant","Not relevant","Not available",null,"Not relevant","Not relevant","Not relevant","Not available"]
[2,"052000","Household textiles",null,-7.7478007241898478E-3,1.6897228006324955E-2,-0.18287610340651755,-4.6015280822647261E-2,null,-2.6859844894219151E-2,-5.5080261669933316E-2,-4.2203548093218704E-2,5.0601764421793084E-3,null,-7.1530665016181286E-2,-1.2049951983619607E-2,9.178826313989813E-2,0.10126700098831481,null,{"$f":"('CPI Sub-Categories'!Y68-'CPI Sub-Categories'!T68)/'CPI Sub-Categories'!T68","v":0.11146043633731552},{"$f":"('CPI Sub-Categories'!Z68-'CPI Sub-Categories'!U68)/'CPI Sub-Categories'!U68","v":0.13080446660223044},{"$f":"('CPI Sub-Categories'!AA68-'CPI Sub-Categories'!V68)/'CPI Sub-Categories'!V68","v":8.8232023307934837E-2},{"$f":"('CPI Sub-Categories'!AB68-'CPI Sub-Categories'!W68)/'CPI Sub-Categories'!W68","v":-1.4196272218561671E-4},null,{"$f":"('CPI Sub-Categories'!AD68-'CPI Sub-Categories'!Y68)/'CPI Sub-Categories'!Y68","v":8.7692861491842411E-2},{"$f":"('CPI Sub-Categories'!AE68-'CPI Sub-Categories'!Z68)/'CPI Sub-Categories'!Z68","v":9.4939001138927379E-2},{"$f":"('CPI Sub-Categories'!AF68-'CPI Sub-Categories'!AA68)/'CPI Sub-Categories'!AA68","v":9.4119601724674221E-2},{"$f":"('CPI Sub-Categories'!AG68-'CPI Sub-Categories'!AB68)/'CPI Sub-Categories'!AB68","v":-9.9289577984363227E-3},null,{"$f":"('CPI Sub-Categories'!AI68-'CPI Sub-Categories'!AD68)/'CPI Sub-Categories'!AD68","v":3.3502576901869287E-2},{"$f":"('CPI Sub-Categories'!AJ68-'CPI Sub-Categories'!AE68)/'CPI Sub-Categories'!AE68","v":7.5257705576810899E-2},{"$f":"('CPI Sub-Categories'!AK68-'CPI Sub-Categories'!AF68)/'CPI Sub-Categories'!AF68","v":2.413932964194309E-2},{"$f":"('CPI Sub-Categories'!AL68-'CPI Sub-Categories'!AG68)/'CPI Sub-Categories'!AG68","v":1.3758628217082815E-2},null,{"$f":"('CPI Sub-Categories'!AM68-'CPI Sub-Categories'!AI68)/'CPI Sub-Categories'!AI68","v":-8.257601075342863E-2},{"$f":"('CPI Sub-Categories'!AN68-'CPI Sub-Categories'!AJ68)/'CPI Sub-Categories'!AJ68","v":-0.12067270253809481},{"$f":"('CPI Sub-Categories'!AO68-'CPI Sub-Categories'!AK68)/'CPI Sub-Categories'!AK68","v":-6.8947939847656209E-2},{"$f":"('CPI Sub-Categories'!AQ68-'CPI Sub-Categories'!AL68)/'CPI Sub-Categories'!AL68","v":-1}]
[3,"052100","Household textiles",null,-7.7478007241898478E-3,1.6897228006324955E-2,-0.18287610340651755,-4.6015280822647261E-2,null,-2.6859844894219151E-2,-5.5080261669933316E-2,-4.2203548093218704E-2,5.0601764421793084E-3,null,-7.1530665016181286E-2,-1.2049951983619607E-2,9.178826313989813E-2,0.10126700098831481,null,{"$f":"('CPI Sub-Categories'!Y69-'CPI Sub-Categories'!T69)/'CPI Sub-Categories'!T69","v":0.11146043633731552},{"$f":"('CPI Sub-Categories'!Z69-'CPI Sub-Categories'!U69)/'CPI Sub-Categories'!U69","v":0.13080446660223044},{"$f":"('CPI Sub-Categories'!AA69-'CPI Sub-Categories'!V69)/'CPI Sub-Categories'!V69","v":8.8232023307934837E-2},{"$f":"('CPI Sub-Categories'!AB69-'CPI Sub-Categories'!W69)/'CPI Sub-Categories'!W69","v":-1.4196272218561671E-4},null,{"$f":"('CPI Sub-Categories'!AD69-'CPI Sub-Categories'!Y69)/'CPI Sub-Categories'!Y69","v":8.7692861491842411E-2},{"$f":"('CPI Sub-Categories'!AE69-'CPI Sub-Categories'!Z69)/'CPI Sub-Categories'!Z69","v":9.4939001138927379E-2},{"$f":"('CPI Sub-Categories'!AF69-'CPI Sub-Categories'!AA69)/'CPI Sub-Categories'!AA69","v":9.4119601724674221E-2},{"$f":"('CPI Sub-Categories'!AG69-'CPI Sub-Categories'!AB69)/'CPI Sub-Categories'!AB69","v":-9.9289577984363227E-3},null,{"$f":"('CPI Sub-Categories'!AI69-'CPI Sub-Categories'!AD69)/'CPI Sub-Categories'!AD69","v":3.3502576901869287E-2},{"$f":"('CPI Sub-Categories'!AJ69-'CPI Sub-Categories'!AE69)/'CPI Sub-Categories'!AE69","v":7.5257705576810899E-2},{"$f":"('CPI Sub-Categories'!AK69-'CPI Sub-Categories'!AF69)/'CPI Sub-Categories'!AF69","v":2.413932964194309E-2},{"$f":"('CPI Sub-Categories'!AL69-'CPI Sub-Categories'!AG69)/'CPI Sub-Categories'!AG69","v":1.3758628217082815E-2},null,{"$f":"('CPI Sub-Categories'!AM69-'CPI Sub-Categories'!AI69)/'CPI Sub-Categories'!AI69","v":-8.257601075342863E-2},{"$f":"('CPI Sub-Categories'!AN69-'CPI Sub-Categories'!AJ69)/'CPI Sub-Categories'!AJ69","v":-0.12067270253809481},{"$f":"('CPI Sub-Categories'!AO69-'CPI Sub-Categories'!AK69)/'CPI Sub-Categories'!AK69","v":-6.8947939847656209E-2},{"$f":"('CPI Sub-Categories'!AQ69-'CPI Sub-Categories'!AL69)/'CPI Sub-Categories'!AL69","v":-1}]
[2,"053000","Household appliances",null,9.4643964450071311E-2,0.10315478115860313,9.1544904150824405E-2,6.568990057643033E-2,null,6.2741390590685217E-2,-1.6539152144571599E-2,-3.9116736465684372E-2,9.8140219321659113E-3,null,7.2707478250299537E-2,6.9631673164480268E-2,1.3060427704435435E-4,-6.9407678832786928E-3,null,{"$f":"('CPI Sub-Categories'!Y70-'CPI Sub-Categories'!T70)/'CPI Sub-Categories'!T70","v":-2.7188212254763731E-2},{"$f":"('CPI Sub-Categories'!Z70-'CPI Sub-Categories'!U70)/'CPI Sub-Categories'!U70","v":2.3181632568070872E-2},{"$f":"('CPI Sub-Categories'!AA70-'CPI Sub-Categories'!V70)/'CPI Sub-Categories'!V70","v":0.15427787971751905},{"$f":"('CPI Sub-Categories'!AB70-'CPI Sub-Categories'!W70)/'CPI Sub-Categories'!W70","v":0.22385973674452739},null,{"$f":"('CPI Sub-Categories'!AD70-'CPI Sub-Categories'!Y70)/'CPI Sub-Categories'!Y70","v":0.27213810831310298},{"$f":"('CPI Sub-Categories'!AE70-'CPI Sub-Categories'!Z70)/'CPI Sub-Categories'!Z70","v":0.23887051058640194},{"$f":"('CPI Sub-Categories'!AF70-'CPI Sub-Categories'!AA70)/'CPI Sub-Categories'!AA70","v":0.12274584001902848},{"$f":"('CPI Sub-Categories'!AG70-'CPI Sub-Categories'!AB70)/'CPI Sub-Categories'!AB70","v":1.1207115484304052E-2},null,{"$f":"('CPI Sub-Categories'!AI70-'CPI Sub-Categories'!AD70)/'CPI Sub-Categories'!AD70","v":-5.6536601303476625E-2},{"$f":"('CPI Sub-Categories'!AJ70-'CPI Sub-Categories'!AE70)/'CPI Sub-Categories'!AE70","v":-5.06637251492996E-2},{"$f":"('CPI Sub-Categories'!AK70-'CPI Sub-Categories'!AF70)/'CPI Sub-Categories'!AF70","v":-9.4717571458261818E-2},{"$f":"('CPI Sub-Categories'!AL70-'CPI Sub-Categories'!AG70)/'CPI Sub-Categories'!AG70","v":-0.10827914712111175},null,{"$f":"('CPI Sub-Categories'!AM70-'CPI Sub-Categories'!AI70)/'CPI Sub-Categories'!AI70","v":-0.10061693941655334},{"$f":"('CPI Sub-Categories'!AN70-'CPI Sub-Categories'!AJ70)/'CPI Sub-Categories'!AJ70","v":-0.10483678081781039},{"$f":"('CPI Sub-Categories'!AO70-'CPI Sub-Categories'!AK70)/'CPI Sub-Categories'!AK70","v":-1.8348106566927858E-2},{"$f":"('CPI Sub-Categories'!AQ70-'CPI Sub-Categories'!AL70)/'CPI Sub-Categories'!AL70","v":-1}]
[3,"053100","Major household appliances whether electric or not",null,9.2757921551686051E-2,9.195707533902242E-2,8.1890341390570401E-2,6.2936187737098415E-2,null,7.0241869372241014E-2,-9.1494108369361352E-3,-3.5174298628106011E-2,6.0795379749004194E-3,null,7.530366797774192E-2,7.1104417475553988E-2,4.9668936936413145E-3,1.5696330422706245E-3,null,{"$f":"('CPI Sub-Categories'!Y71-'CPI Sub-Categories'!T71)/'CPI Sub-Categories'!T71","v":-2.4044514579227738E-2},{"$f":"('CPI Sub-Categories'!Z71-'CPI Sub-Categories'!U71)/'CPI Sub-Categories'!U71","v":2.8431966353969277E-2},{"$f":"('CPI Sub-Categories'!AA71-'CPI Sub-Categories'!V71)/'CPI Sub-Categories'!V71","v":0.16356472305244918},{"$f":"('CPI Sub-Categories'!AB71-'CPI Sub-Categories'!W71)/'CPI Sub-Categories'!W71","v":0.23776481647678713},null,{"$f":"('CPI Sub-Categories'!AD71-'CPI Sub-Categories'!Y71)/'CPI Sub-Categories'!Y71","v":0.28984304442496978},{"$f":"('CPI Sub-Categories'!AE71-'CPI Sub-Categories'!Z71)/'CPI Sub-Categories'!Z71","v":0.25645463434583754},{"$f":"('CPI Sub-Categories'!AF71-'CPI Sub-Categories'!AA71)/'CPI Sub-Categories'!AA71","v":0.13556517248060532},{"$f":"('CPI Sub-Categories'!AG71-'CPI Sub-Categories'!AB71)/'CPI Sub-Categories'!AB71","v":1.9631933154540839E-2},null,{"$f":"('CPI Sub-Categories'!AI71-'CPI Sub-Categories'!AD71)/'CPI Sub-Categories'!AD71","v":-5.2912188020026667E-2},{"$f":"('CPI Sub-Categories'!AJ71-'CPI Sub-Categories'!AE71)/'CPI Sub-Categories'!AE71","v":-4.7268292445437364E-2},{"$f":"('CPI Sub-Categories'!AK71-'CPI Sub-Categories'!AF71)/'CPI Sub-Categories'!AF71","v":-0.10020169336198753},{"$f":"('CPI Sub-Categories'!AL71-'CPI Sub-Categories'!AG71)/'CPI Sub-Categories'!AG71","v":-0.11469042197266249},null,{"$f":"('CPI Sub-Categories'!AM71-'CPI Sub-Categories'!AI71)/'CPI Sub-Categories'!AI71","v":-7.8978426315725894E-2},{"$f":"('CPI Sub-Categories'!AN71-'CPI Sub-Categories'!AJ71)/'CPI Sub-Categories'!AJ71","v":-0.12140125796858105},{"$f":"('CPI Sub-Categories'!AO71-'CPI Sub-Categories'!AK71)/'CPI Sub-Categories'!AK71","v":-2.9697328130256325E-2},{"$f":"('CPI Sub-Categories'!AQ71-'CPI Sub-Categories'!AL71)/'CPI Sub-Categories'!AL71","v":-1}]
[3,"053200","Small electric household appliances",null,0.12108500793212885,0.24121184612296562,0.21098288621409333,9.8859443812218284E-2,null,-2.1075255928398449E-2,-9.7498172840012262E-2,-8.3581940987358772E-2,5.4563297753229441E-2,null,4.0989145405001877E-2,5.1917395541505595E-2,-5.7297297278857434E-2,-0.10423007209695544,null,{"$f":"('CPI Sub-Categories'!Y72-'CPI Sub-Categories'!T72)/'CPI Sub-Categories'!T72","v":-6.6861630904040972E-2},{"$f":"('CPI Sub-Categories'!Z72-'CPI Sub-Categories'!U72)/'CPI Sub-Categories'!U72","v":-4.1121655490065905E-2},{"$f":"('CPI Sub-Categories'!AA72-'CPI Sub-Categories'!V72)/'CPI Sub-Categories'!V72","v":3.6718905709274163E-2},{"$f":"('CPI Sub-Categories'!AB72-'CPI Sub-Categories'!W72)/'CPI Sub-Categories'!W72","v":4.6124625365134092E-2},null,{"$f":"('CPI Sub-Categories'!AD72-'CPI Sub-Categories'!Y72)/'CPI Sub-Categories'!Y72","v":3.8449696383910784E-2},{"$f":"('CPI Sub-Categories'!AE72-'CPI Sub-Categories'!Z72)/'CPI Sub-Categories'!Z72","v":7.8880227586150039E-3},{"$f":"('CPI Sub-Categories'!AF72-'CPI Sub-Categories'!AA72)/'CPI Sub-Categories'!AA72","v":-5.9384629057162151E-2},{"$f":"('CPI Sub-Categories'!AG72-'CPI Sub-Categories'!AB72)/'CPI Sub-Categories'!AB72","v":-0.11620624382373852},null,{"$f":"('CPI Sub-Categories'!AI72-'CPI Sub-Categories'!AD72)/'CPI Sub-Categories'!AD72","v":-0.11595650301530451},{"$f":"('CPI Sub-Categories'!AJ72-'CPI Sub-Categories'!AE72)/'CPI Sub-Categories'!AE72","v":-0.10626541341814695},{"$f":"('CPI Sub-Categories'!AK72-'CPI Sub-Categories'!AF72)/'CPI Sub-Categories'!AF72","v":-6.5338838005672196E-4},{"$f":"('CPI Sub-Categories'!AL72-'CPI Sub-Categories'!AG72)/'CPI Sub-Categories'!AG72","v":3.5851119430343205E-3},null,{"$f":"('CPI Sub-Categories'!AM72-'CPI Sub-Categories'!AI72)/'CPI Sub-Categories'!AI72","v":0.12056135221594344},{"$f":"('CPI Sub-Categories'!AN72-'CPI Sub-Categories'!AJ72)/'CPI Sub-Categories'!AJ72","v":0.1843195048530514},{"$f":"('CPI Sub-Categories'!AO72-'CPI Sub-Categories'!AK72)/'CPI Sub-Categories'!AK72","v":0.15692379156929395},{"$f":"('CPI Sub-Categories'!AQ72-'CPI Sub-Categories'!AL72)/'CPI Sub-Categories'!AL72","v":-1}]
[3,"053300","Repair of household appliances",null,"Not relevant","Not relevant","Not relevant","Not relevant",null,"Not relevant","Not relevant","Not relevant","Not relevant",null,"Not relevant","Not relevant","Not relevant","Not relevant",null,"Not relevant","Not relevant","Not relevant","Not relevant",null,"Not relevant","Not relevant","Not relevant","Not relevant",null,"Not relevant","Not relevant","Not relevant","Not available",null,"Not relevant","Not relevant","Not relevant","Not available"]
[2,"054000","Glassware, tableware and household utensils",null,3.8768815771997721E-2,3.9023091807401634E-2,8.4095904465389219E-3,0.10160786337210646,null,8.3868009227420923E-2,8.4284833036962145E-2,6.1570446076938942E-2,-8.9462958604123004E-3,null,-4.1604637173620306E-2,-6.2371609646501368E-2,1.2882631920229509E-2,2.5913335289177615E-2,null,{"$f":"('CPI Sub-Categories'!Y74-'CPI Sub-Categories'!T74)/'CPI Sub-Categories'!T74","v":1.2949290002854464E-2},{"$f":"('CPI Sub-Categories'!Z74-'CPI Sub-Categories'!U74)/'CPI Sub-Categories'!U74","v":0.11633596617806426},{"$f":"('CPI Sub-Categories'!AA74-'CPI Sub-Categories'!V74)/'CPI Sub-Categories'!V74","v":5.5627593368414843E-2},{"$f":"('CPI Sub-Categories'!AB74-'CPI Sub-Categories'!W74)/'CPI Sub-Categories'!W74","v":0.13809059385009129},null,{"$f":"('CPI Sub-Categories'!AD74-'CPI Sub-Categories'!Y74)/'CPI Sub-Categories'!Y74","v":0.17466556397723865},{"$f":"('CPI Sub-Categories'!AE74-'CPI Sub-Categories'!Z74)/'CPI Sub-Categories'!Z74","v":7.9483510090447365E-2},{"$f":"('CPI Sub-Categories'!AF74-'CPI Sub-Categories'!AA74)/'CPI Sub-Categories'!AA74","v":7.6648725698484785E-2},{"$f":"('CPI Sub-Categories'!AG74-'CPI Sub-Categories'!AB74)/'CPI Sub-Categories'!AB74","v":4.4106792288953374E-3},null,{"$f":"('CPI Sub-Categories'!AI74-'CPI Sub-Categories'!AD74)/'CPI Sub-Categories'!AD74","v":-4.7239721032939904E-3},{"$f":"('CPI Sub-Categories'!AJ74-'CPI Sub-Categories'!AE74)/'CPI Sub-Categories'!AE74","v":-1.809063254785781E-2},{"$f":"('CPI Sub-Categories'!AK74-'CPI Sub-Categories'!AF74)/'CPI Sub-Categories'!AF74","v":-1.4608113016032615E-2},{"$f":"('CPI Sub-Categories'!AL74-'CPI Sub-Categories'!AG74)/'CPI Sub-Categories'!AG74","v":-2.3899823367709575E-2},null,{"$f":"('CPI Sub-Categories'!AM74-'CPI Sub-Categories'!AI74)/'CPI Sub-Categories'!AI74","v":-0.17140668401068257},{"$f":"('CPI Sub-Categories'!AN74-'CPI Sub-Categories'!AJ74)/'CPI Sub-Categories'!AJ74","v":-2.2973486677312725E-3},{"$f":"('CPI Sub-Categories'!AO74-'CPI Sub-Categories'!AK74)/'CPI Sub-Categories'!AK74","v":8.5835756239331755E-3},{"$f":"('CPI Sub-Categories'!AQ74-'CPI Sub-Categories'!AL74)/'CPI Sub-Categories'!AL74","v":-1}]
[3,"054100","Glassware, tableware and household utensils",null,3.8768815771997721E-2,3.9023091807401634E-2,8.4095904465389219E-3,0.10160786337210646,null,8.3868009227420923E-2,8.4284833036962145E-2,6.1570446076938942E-2,-8.9462958604123004E-3,null,-4.1604637173620306E-2,-6.2371609646501368E-2,1.2882631920229509E-2,2.5913335289177615E-2,null,{"$f":"('CPI Sub-Categories'!Y75-'CPI Sub-Categories'!T75)/'CPI Sub-Categories'!T75","v":1.2949290002854464E-2},{"$f":"('CPI Sub-Categories'!Z75-'CPI Sub-Categories'!U75)/'CPI Sub-Categories'!U75","v":0.11633596617806426},{"$f":"('CPI Sub-Categories'!AA75-'CPI Sub-Categories'!V75)/'CPI Sub-Categories'!V75","v":5.5627593368414843E-2},{"$f":"('CPI Sub-Categories'!AB75-'CPI Sub-Categories'!W75)/'CPI Sub-Categories'!W75","v":0.13809059385009129},null,{"$f":"('CPI Sub-Categories'!AD75-'CPI Sub-Categories'!Y75)/'CPI Sub-Categories'!Y75","v":0.17466556397723865},{"$f":"('CPI Sub-Categories'!AE75-'CPI Sub-Categories'!Z75)/'CPI Sub-Categories'!Z75","v":7.9483510090447365E-2},{"$f":"('CPI Sub-Categories'!AF75-'CPI Sub-Categories'!AA75)/'CPI Sub-Categories'!AA75","v":7.6648725698484785E-2},{"$f":"('CPI Sub-Categories'!AG75-'CPI Sub-Categories'!AB75)/'CPI Sub-Categories'!AB75","v":4.4106792288953374E-3},null,{"$f":"('CPI Sub-Categories'!AI75-'CPI Sub-Categories'!AD75)/'CPI Sub-Categories'!AD75","v":-4.7239721032939904E-3},{"$f":"('CPI Sub-Categories'!AJ75-'CPI Sub-Categories'!AE75)/'CPI Sub-Categories'!AE75","v":-1.809063254785781E-2},{"$f":"('CPI Sub-Categories'!AK75-'CPI Sub-Categories'!AF75)/'CPI Sub-Categories'!AF75","v":-1.4608113016032615E-2},{"$f":"('CPI Sub-Categories'!AL75-'CPI Sub-Categories'!AG75)/'CPI Sub-Categories'!AG75","v":-2.3899823367709575E-2},null,{"$f":"('CPI Sub-Categories'!AM75-'CPI Sub-Categories'!AI75)/'CPI Sub-Categories'!AI75","v":-3.1332650855536014E-2},{"$f":"('CPI Sub-Categories'!AN75-'CPI Sub-Categories'!AJ75)/'CPI Sub-Categories'!AJ75","v":-2.2973486677312725E-3},{"$f":"('CPI Sub-Categories'!AO75-'CPI Sub-Categories'!AK75)/'CPI Sub-Categories'!AK75","v":8.5835756239331755E-3},{"$f":"('CPI Sub-Categories'!AQ75-'CPI Sub-Categories'!AL75)/'CPI Sub-Categories'!AL75","v":-1}]
[2,"055000","Tools and equipment for house and garden",null,4.8418849874552861E-2,3.9076672635480376E-3,-4.5245256729247972E-3,5.8790768310058104E-2,null,6.07643405471293E-2,3.5174127122964E-2,3.8384471989887724E-2,-4.6250955061482329E-2,null,-3.5141095441669212E-2,-1.6549937721763008E-2,-1.1440573770127577E-2,4.3974474998927537E-2,null,{"$f":"('CPI Sub-Categories'!Y76-'CPI Sub-Categories'!T76)/'CPI Sub-Categories'!T76","v":5.6803555621628705E-2},{"$f":"('CPI Sub-Categories'!Z76-'CPI Sub-Categories'!U76)/'CPI Sub-Categories'!U76","v":8.4017812134470862E-2},{"$f":"('CPI Sub-Categories'!AA76-'CPI Sub-Categories'!V76)/'CPI Sub-Categories'!V76","v":6.6281179515895225E-2},{"$f":"('CPI Sub-Categories'!AB76-'CPI Sub-Categories'!W76)/'CPI Sub-Categories'!W76","v":6.0704430172451522E-2},null,{"$f":"('CPI Sub-Categories'!AD76-'CPI Sub-Categories'!Y76)/'CPI Sub-Categories'!Y76","v":5.2999717800535799E-2},{"$f":"('CPI Sub-Categories'!AE76-'CPI Sub-Categories'!Z76)/'CPI Sub-Categories'!Z76","v":5.3378056512627281E-2},{"$f":"('CPI Sub-Categories'!AF76-'CPI Sub-Categories'!AA76)/'CPI Sub-Categories'!AA76","v":5.6510890686317546E-2},{"$f":"('CPI Sub-Categories'!AG76-'CPI Sub-Categories'!AB76)/'CPI Sub-Categories'!AB76","v":2.9655000065063174E-2},null,{"$f":"('CPI Sub-Categories'!AI76-'CPI Sub-Categories'!AD76)/'CPI Sub-Categories'!AD76","v":4.6354174990630307E-3},{"$f":"('CPI Sub-Categories'!AJ76-'CPI Sub-Categories'!AE76)/'CPI Sub-Categories'!AE76","v":-1.6329510306010819E-2},{"$f":"('CPI Sub-Categories'!AK76-'CPI Sub-Categories'!AF76)/'CPI Sub-Categories'!AF76","v":-1.8474927966155606E-2},{"$f":"('CPI Sub-Categories'!AL76-'CPI Sub-Categories'!AG76)/'CPI Sub-Categories'!AG76","v":-6.1628994576646652E-3},null,{"$f":"('CPI Sub-Categories'!AM76-'CPI Sub-Categories'!AI76)/'CPI Sub-Categories'!AI76","v":3.8609011732779565E-2},{"$f":"('CPI Sub-Categories'!AN76-'CPI Sub-Categories'!AJ76)/'CPI Sub-Categories'!AJ76","v":7.8684612773148893E-2},{"$f":"('CPI Sub-Categories'!AO76-'CPI Sub-Categories'!AK76)/'CPI Sub-Categories'!AK76","v":7.6893782847915731E-2},{"$f":"('CPI Sub-Categories'!AQ76-'CPI Sub-Categories'!AL76)/'CPI Sub-Categories'!AL76","v":-1}]
[3,"055100","Major tools and equipment",null,3.4934951553900078E-3,-7.0096445643646366E-2,-3.5218315659348701E-2,-9.494282172064987E-3,null,-3.7390968763324653E-3,-3.7390968763324653E-3,8.3306152474107997E-3,5.4479251505475433E-3,null,0,0,0,2.6063492129008055E-2,null,{"$f":"('CPI Sub-Categories'!Y77-'CPI Sub-Categories'!T77)/'CPI Sub-Categories'!T77","v":3.838338755442592E-2},{"$f":"('CPI Sub-Categories'!Z77-'CPI Sub-Categories'!U77)/'CPI Sub-Categories'!U77","v":3.8563199397739632E-2},{"$f":"('CPI Sub-Categories'!AA77-'CPI Sub-Categories'!V77)/'CPI Sub-Categories'!V77","v":3.9868465515551031E-2},{"$f":"('CPI Sub-Categories'!AB77-'CPI Sub-Categories'!W77)/'CPI Sub-Categories'!W77","v":1.3978357763466818E-2},null,{"$f":"('CPI Sub-Categories'!AD77-'CPI Sub-Categories'!Y77)/'CPI Sub-Categories'!Y77","v":-8.8148453192239806E-3},{"$f":"('CPI Sub-Categories'!AE77-'CPI Sub-Categories'!Z77)/'CPI Sub-Categories'!Z77","v":2.8214854487222159E-2},{"$f":"('CPI Sub-Categories'!AF77-'CPI Sub-Categories'!AA77)/'CPI Sub-Categories'!AA77","v":5.2366269645677026E-2},{"$f":"('CPI Sub-Categories'!AG77-'CPI Sub-Categories'!AB77)/'CPI Sub-Categories'!AB77","v":7.6575456971238985E-3},null,{"$f":"('CPI Sub-Categories'!AI77-'CPI Sub-Categories'!AD77)/'CPI Sub-Categories'!AD77","v":-6.7652181905354394E-2},{"$f":"('CPI Sub-Categories'!AJ77-'CPI Sub-Categories'!AE77)/'CPI Sub-Categories'!AE77","v":-0.10138497518137228},{"$f":"('CPI Sub-Categories'!AK77-'CPI Sub-Categories'!AF77)/'CPI Sub-Categories'!AF77","v":-0.12310993170084047},{"$f":"('CPI Sub-Categories'!AL77-'CPI Sub-Categories'!AG77)/'CPI Sub-Categories'!AG77","v":0.10080379078099715},null,{"$f":"('CPI Sub-Categories'!AM77-'CPI Sub-Categories'!AI77)/'CPI Sub-Categories'!AI77","v":0.2026391007292169},{"$f":"('CPI Sub-Categories'!AN77-'CPI Sub-Categories'!AJ77)/'CPI Sub-Categories'!AJ77","v":0.2026391007292169},{"$f":"('CPI Sub-Categories'!AO77-'CPI Sub-Categories'!AK77)/'CPI Sub-Categories'!AK77","v":0.21914178441440632},{"$f":"('CPI Sub-Categories'!AQ77-'CPI Sub-Categories'!AL77)/'CPI Sub-Categories'!AL77","v":-1}]
[3,"055200","Small tools and miscellaneous accessories",null,5.9978220683743318E-2,2.354626564587119E-2,3.3894659759158064E-3,7.5959884505814826E-2,null,7.6623202277677979E-2,4.4838411913942208E-2,4.5614282430038351E-2,-5.7901925992148162E-2,null,-4.3136009532171074E-2,-2.0469096208058906E-2,-1.4094604525675932E-2,4.8282357676511595E-2,null,{"$f":"('CPI Sub-Categories'!Y78-'CPI Sub-Categories'!T78)/'CPI Sub-Categories'!T78","v":6.1183230610671505E-2},{"$f":"('CPI Sub-Categories'!Z78-'CPI Sub-Categories'!U78)/'CPI Sub-Categories'!U78","v":9.5006764277426436E-2},{"$f":"('CPI Sub-Categories'!AA78-'CPI Sub-Categories'!V78)/'CPI Sub-Categories'!V78","v":7.2496105071527817E-2},{"$f":"('CPI Sub-Categories'!AB78-'CPI Sub-Categories'!W78)/'CPI Sub-Categories'!W78","v":7.1704607464990952E-2},null,{"$f":"('CPI Sub-Categories'!AD78-'CPI Sub-Categories'!Y78)/'CPI Sub-Categories'!Y78","v":6.7381292852218763E-2},{"$f":"('CPI Sub-Categories'!AE78-'CPI Sub-Categories'!Z78)/'CPI Sub-Categories'!Z78","v":5.914785110192284E-2},{"$f":"('CPI Sub-Categories'!AF78-'CPI Sub-Categories'!AA78)/'CPI Sub-Categories'!AA78","v":5.7456453564843191E-2},{"$f":"('CPI Sub-Categories'!AG78-'CPI Sub-Categories'!AB78)/'CPI Sub-Categories'!AB78","v":3.4554665436687435E-2},null,{"$f":"('CPI Sub-Categories'!AI78-'CPI Sub-Categories'!AD78)/'CPI Sub-Categories'!AD78","v":2.0253030329402903E-2},{"$f":"('CPI Sub-Categories'!AJ78-'CPI Sub-Categories'!AE78)/'CPI Sub-Categories'!AE78","v":2.6036867323475156E-3},{"$f":"('CPI Sub-Categories'!AK78-'CPI Sub-Categories'!AF78)/'CPI Sub-Categories'!AF78","v":5.2818209930858206E-3},{"$f":"('CPI Sub-Categories'!AL78-'CPI Sub-Categories'!AG78)/'CPI Sub-Categories'!AG78","v":-2.9368994727448829E-2},null,{"$f":"('CPI Sub-Categories'!AM78-'CPI Sub-Categories'!AI78)/'CPI Sub-Categories'!AI78","v":3.4744965891559446E-3},{"$f":"('CPI Sub-Categories'!AN78-'CPI Sub-Categories'!AJ78)/'CPI Sub-Categories'!AJ78","v":5.3954370774973136E-2},{"$f":"('CPI Sub-Categories'!AO78-'CPI Sub-Categories'!AK78)/'CPI Sub-Categories'!AK78","v":4.8722053313772239E-2},{"$f":"('CPI Sub-Categories'!AQ78-'CPI Sub-Categories'!AL78)/'CPI Sub-Categories'!AL78","v":-1}]
[2,"056000","Goods and services for routine household maintenance",null,1.5436584077448542E-5,3.8793597097356116E-3,8.0884098178328288E-3,5.1042638825372216E-3,null,9.4175357710714561E-3,6.6467273033611537E-3,-7.0481823609084594E-3,-8.686143969236915E-3,null,-1.539184850925193E-2,0.1125269840432315,0.12555294088751925,0.13364099115101141,null,{"$f":"('CPI Sub-Categories'!Y79-'CPI Sub-Categories'!T79)/'CPI Sub-Categories'!T79","v":0.13453169342616136},{"$f":"('CPI Sub-Categories'!Z79-'CPI Sub-Categories'!U79)/'CPI Sub-Categories'!U79","v":1.6596779674853439E-2},{"$f":"('CPI Sub-Categories'!AA79-'CPI Sub-Categories'!V79)/'CPI Sub-Categories'!V79","v":2.0187077102874911E-2},{"$f":"('CPI Sub-Categories'!AB79-'CPI Sub-Categories'!W79)/'CPI Sub-Categories'!W79","v":1.8028917873883894E-2},null,{"$f":"('CPI Sub-Categories'!AD79-'CPI Sub-Categories'!Y79)/'CPI Sub-Categories'!Y79","v":2.8128427961751742E-2},{"$f":"('CPI Sub-Categories'!AE79-'CPI Sub-Categories'!Z79)/'CPI Sub-Categories'!Z79","v":1.895115622235222E-2},{"$f":"('CPI Sub-Categories'!AF79-'CPI Sub-Categories'!AA79)/'CPI Sub-Categories'!AA79","v":1.3491780599971928E-2},{"$f":"('CPI Sub-Categories'!AG79-'CPI Sub-Categories'!AB79)/'CPI Sub-Categories'!AB79","v":1.8835547245382563E-2},null,{"$f":"('CPI Sub-Categories'!AI79-'CPI Sub-Categories'!AD79)/'CPI Sub-Categories'!AD79","v":1.0294178196949444E-2},{"$f":"('CPI Sub-Categories'!AJ79-'CPI Sub-Categories'!AE79)/'CPI Sub-Categories'!AE79","v":1.1173102470487294E-2},{"$f":"('CPI Sub-Categories'!AK79-'CPI Sub-Categories'!AF79)/'CPI Sub-Categories'!AF79","v":2.4841448687327791E-2},{"$f":"('CPI Sub-Categories'!AL79-'CPI Sub-Categories'!AG79)/'CPI Sub-Categories'!AG79","v":1.893755622944843E-2},null,{"$f":"('CPI Sub-Categories'!AM79-'CPI Sub-Categories'!AI79)/'CPI Sub-Categories'!AI79","v":2.0290021511525338E-2},{"$f":"('CPI Sub-Categories'!AN79-'CPI Sub-Categories'!AJ79)/'CPI Sub-Categories'!AJ79","v":2.2962455813904502E-2},{"$f":"('CPI Sub-Categories'!AO79-'CPI Sub-Categories'!AK79)/'CPI Sub-Categories'!AK79","v":9.9072199396995284E-3},{"$f":"('CPI Sub-Categories'!AQ79-'CPI Sub-Categories'!AL79)/'CPI Sub-Categories'!AL79","v":-1}]
[3,"056100","Non-durable household goods",null,-5.2386965755293977E-3,1.8018351629485944E-2,3.0329827589048695E-2,1.4658979304705434E-2,null,3.1620003907293248E-2,2.221555154268573E-2,1.7631515516446775E-2,1.2348884314133852E-2,null,-1.0014995008533315E-2,4.429506514898051E-3,2.8434760969318438E-3,2.7720263667468801E-2,null,{"$f":"('CPI Sub-Categories'!Y80-'CPI Sub-Categories'!T80)/'CPI Sub-Categories'!T80","v":2.9955572536103772E-2},{"$f":"('CPI Sub-Categories'!Z80-'CPI Sub-Categories'!U80)/'CPI Sub-Categories'!U80","v":6.0506044253188736E-2},{"$f":"('CPI Sub-Categories'!AA80-'CPI Sub-Categories'!V80)/'CPI Sub-Categories'!V80","v":7.3116335650235786E-2},{"$f":"('CPI Sub-Categories'!AB80-'CPI Sub-Categories'!W80)/'CPI Sub-Categories'!W80","v":6.4694610894227969E-2},null,{"$f":"('CPI Sub-Categories'!AD80-'CPI Sub-Categories'!Y80)/'CPI Sub-Categories'!Y80","v":0.10124046782502656},{"$f":"('CPI Sub-Categories'!AE80-'CPI Sub-Categories'!Z80)/'CPI Sub-Categories'!Z80","v":6.6228699215129E-2},{"$f":"('CPI Sub-Categories'!AF80-'CPI Sub-Categories'!AA80)/'CPI Sub-Categories'!AA80","v":4.6456154587899715E-2},{"$f":"('CPI Sub-Categories'!AG80-'CPI Sub-Categories'!AB80)/'CPI Sub-Categories'!AB80","v":6.4626665157734742E-2},null,{"$f":"('CPI Sub-Categories'!AI80-'CPI Sub-Categories'!AD80)/'CPI Sub-Categories'!AD80","v":3.4591195313592629E-2},{"$f":"('CPI Sub-Categories'!AJ80-'CPI Sub-Categories'!AE80)/'CPI Sub-Categories'!AE80","v":3.731533060319691E-2},{"$f":"('CPI Sub-Categories'!AK80-'CPI Sub-Categories'!AF80)/'CPI Sub-Categories'!AF80","v":4.4579889543339461E-2},{"$f":"('CPI Sub-Categories'!AL80-'CPI Sub-Categories'!AG80)/'CPI Sub-Categories'!AG80","v":2.4760614667384211E-2},null,{"$f":"('CPI Sub-Categories'!AM80-'CPI Sub-Categories'!AI80)/'CPI Sub-Categories'!AI80","v":2.9192993637475555E-2},{"$f":"('CPI Sub-Categories'!AN80-'CPI Sub-Categories'!AJ80)/'CPI Sub-Categories'!AJ80","v":3.779273079019204E-2},{"$f":"('CPI Sub-Categories'!AO80-'CPI Sub-Categories'!AK80)/'CPI Sub-Categories'!AK80","v":3.2414550834755855E-2},{"$f":"('CPI Sub-Categories'!AQ80-'CPI Sub-Categories'!AL80)/'CPI Sub-Categories'!AL80","v":-1}]
[3,"056200","Domestic services and household services",null,0,0,0,0,null,0,0,-1.7744642929772E-2,-1.7744642929772E-2,null,-1.7744642929772E-2,0.15970178636794999,0.18065203515610365,0.18065203515610365,null,{"$f":"('CPI Sub-Categories'!Y81-'CPI Sub-Categories'!T81)/'CPI Sub-Categories'!T81","v":0.18065203515610365},{"$f":"('CPI Sub-Categories'!Z81-'CPI Sub-Categories'!U81)/'CPI Sub-Categories'!U81","v":0},{"$f":"('CPI Sub-Categories'!AA81-'CPI Sub-Categories'!V81)/'CPI Sub-Categories'!V81","v":0},{"$f":"('CPI Sub-Categories'!AB81-'CPI Sub-Categories'!W81)/'CPI Sub-Categories'!W81","v":0},null,{"$f":"('CPI Sub-Categories'!AD81-'CPI Sub-Categories'!Y81)/'CPI Sub-Categories'!Y81","v":0},{"$f":"('CPI Sub-Categories'!AE81-'CPI Sub-Categories'!Z81)/'CPI Sub-Categories'!Z81","v":0},{"$f":"('CPI Sub-Categories'!AF81-'CPI Sub-Categories'!AA81)/'CPI Sub-Categories'!AA81","v":0},{"$f":"('CPI Sub-Categories'!AG81-'CPI Sub-Categories'!AB81)/'CPI Sub-Categories'!AB81","v":0},null,{"$f":"('CPI Sub-Categories'!AI81-'CPI Sub-Categories'!AD81)/'CPI Sub-Categories'!AD81","v":0},{"$f":"('CPI Sub-Categories'!AJ81-'CPI Sub-Categories'!AE81)/'CPI Sub-Categories'!AE81","v":0},{"$f":"('CPI Sub-Categories'!AK81-'CPI Sub-Categories'!AF81)/'CPI Sub-Categories'!AF81","v":1.6387525085953678E-2},{"$f":"('CPI Sub-Categories'!AL81-'CPI Sub-Categories'!AG81)/'CPI Sub-Categories'!AG81","v":1.6387525085953678E-2},null,{"$f":"('CPI Sub-Categories'!AM81-'CPI Sub-Categories'!AI81)/'CPI Sub-Categories'!AI81","v":1.638752508594498E-2},{"$f":"('CPI Sub-Categories'!AN81-'CPI Sub-Categories'!AJ81)/'CPI Sub-Categories'!AJ81","v":1.638752508594498E-2},{"$f":"('CPI Sub-Categories'!AO81-'CPI Sub-Categories'!AK81)/'CPI Sub-Categories'!AK81","v":0},{"$f":"('CPI Sub-Categories'!AQ81-'CPI Sub-Categories'!AL81)/'CPI Sub-Categories'!AL81","v":-1}]
[1,"060000","Health",null,2.6621768741159704E-2,3.2863733639339567E-2,1.3262881069658785E-2,1.9509210695314444E-2,null,2.7313356679189667E-2,3.6444097067189866E-2,3.9671232754682935E-2,1.6819809363515952E-2,null,1.0066660272282852E-2,-1.3447126021713151E-3,-7.3763828136079726E-3,8.6250562010772702E-3,null,{"$f":"('CPI Sub-Categories'!Y82-'CPI Sub-Categories'!T82)/'CPI Sub-Categories'!T82","v":9.3485385144940879E-3},{"$f":"('CPI Sub-Categories'!Z82-'CPI Sub-Categories'!U82)/'CPI Sub-Categories'!U82","v":5.3999069688769677E-3},{"$f":"('CPI Sub-Categories'!AA82-'CPI Sub-Categories'!V82)/'CPI Sub-Categories'!V82","v":1.8705216810890997E-2},{"$f":"('CPI Sub-Categories'!AB82-'CPI Sub-Categories'!W82)/'CPI Sub-Categories'!W82","v":3.1285996415264639E-2},null,{"$f":"('CPI Sub-Categories'!AD82-'CPI Sub-Categories'!Y82)/'CPI Sub-Categories'!Y82","v":2.2436855879695638E-2},{"$f":"('CPI Sub-Categories'!AE82-'CPI Sub-Categories'!Z82)/'CPI Sub-Categories'!Z82","v":1.2878297505318806E-2},{"$f":"('CPI Sub-Categories'!AF82-'CPI Sub-Categories'!AA82)/'CPI Sub-Categories'!AA82","v":9.3821546587754979E-3},{"$f":"('CPI Sub-Categories'!AG82-'CPI Sub-Categories'!AB82)/'CPI Sub-Categories'!AB82","v":-3.8856992034667268E-3},null,{"$f":"('CPI Sub-Categories'!AI82-'CPI Sub-Categories'!AD82)/'CPI Sub-Categories'!AD82","v":8.8840070701799532E-3},{"$f":"('CPI Sub-Categories'!AJ82-'CPI Sub-Categories'!AE82)/'CPI Sub-Categories'!AE82","v":8.7434096100439777E-3},{"$f":"('CPI Sub-Categories'!AK82-'CPI Sub-Categories'!AF82)/'CPI Sub-Categories'!AF82","v":5.5970259979991645E-3},{"$f":"('CPI Sub-Categories'!AL82-'CPI Sub-Categories'!AG82)/'CPI Sub-Categories'!AG82","v":2.4048426360131929E-2},null,{"$f":"('CPI Sub-Categories'!AM82-'CPI Sub-Categories'!AI82)/'CPI Sub-Categories'!AI82","v":1.7327585303797067E-2},{"$f":"('CPI Sub-Categories'!AN82-'CPI Sub-Categories'!AJ82)/'CPI Sub-Categories'!AJ82","v":0},{"$f":"('CPI Sub-Categories'!AO82-'CPI Sub-Categories'!AK82)/'CPI Sub-Categories'!AK82","v":5.6913595484456174E-2},{"$f":"('CPI Sub-Categories'!AQ82-'CPI Sub-Categories'!AL82)/'CPI Sub-Categories'!AL82","v":-1},{"$f":"VLOOKUP($B82,'[17]Level 1 - vlookup table'!$B$2:$D$13,3,FALSE)","v":111.05234224603301}]
[2,"061000","Medical products, appliances and equipment",null,4.8646241541439345E-2,1.2057804859397121E-2,-2.2371509424568767E-2,-1.0872119022614856E-2,null,2.789838877116859E-3,7.7965639931845812E-2,8.5417041280486411E-2,4.2118609456065659E-2,null,2.9298231754714299E-2,-2.6802844398331339E-2,-3.8654555514716346E-2,-1.0350819538526167E-2,null,{"$f":"('CPI Sub-Categories'!Y83-'CPI Sub-Categories'!T83)/'CPI Sub-Categories'!T83","v":-9.043457443676196E-3},{"$f":"('CPI Sub-Categories'!Z83-'CPI Sub-Categories'!U83)/'CPI Sub-Categories'!U83","v":9.9669952301859044E-3},{"$f":"('CPI Sub-Categories'!AA83-'CPI Sub-Categories'!V83)/'CPI Sub-Categories'!V83","v":3.4736651858937019E-2},{"$f":"('CPI Sub-Categories'!AB83-'CPI Sub-Categories'!W83)/'CPI Sub-Categories'!W83","v":5.8002456071995515E-2},null,{"$f":"('CPI Sub-Categories'!AD83-'CPI Sub-Categories'!Y83)/'CPI Sub-Categories'!Y83","v":4.158042973731161E-2},{"$f":"('CPI Sub-Categories'!AE83-'CPI Sub-Categories'!Z83)/'CPI Sub-Categories'!Z83","v":2.3662906372448535E-2},{"$f":"('CPI Sub-Categories'!AF83-'CPI Sub-Categories'!AA83)/'CPI Sub-Categories'!AA83","v":1.7153253063113872E-2},{"$f":"('CPI Sub-Categories'!AG83-'CPI Sub-Categories'!AB83)/'CPI Sub-Categories'!AB83","v":-7.0219545748354843E-3},null,{"$f":"('CPI Sub-Categories'!AI83-'CPI Sub-Categories'!AD83)/'CPI Sub-Categories'!AD83","v":1.6161421440558901E-2},{"$f":"('CPI Sub-Categories'!AJ83-'CPI Sub-Categories'!AE83)/'CPI Sub-Categories'!AE83","v":1.589610620579187E-2},{"$f":"('CPI Sub-Categories'!AK83-'CPI Sub-Categories'!AF83)/'CPI Sub-Categories'!AF83","v":2.1747885859159797E-2},{"$f":"('CPI Sub-Categories'!AL83-'CPI Sub-Categories'!AG83)/'CPI Sub-Categories'!AG83","v":4.3595837898025132E-2},null,{"$f":"('CPI Sub-Categories'!AM83-'CPI Sub-Categories'!AI83)/'CPI Sub-Categories'!AI83","v":3.1295885216391074E-2},{"$f":"('CPI Sub-Categories'!AN83-'CPI Sub-Categories'!AJ83)/'CPI Sub-Categories'!AJ83","v":3.7524294447232591E-2},{"$f":"('CPI Sub-Categories'!AO83-'CPI Sub-Categories'!AK83)/'CPI Sub-Categories'!AK83","v":2.7394601179016112E-2},{"$f":"('CPI Sub-Categories'!AQ83-'CPI Sub-Categories'!AL83)/'CPI Sub-Categories'!AL83","v":-1}]
[3,"061100","Pharmaceutical products",null,3.7231433581468652E-2,-1.9488468426755123E-2,-1.6888580481135358E-2,-1.3173441502228257E-2,null,-4.7957917444520139E-2,5.2218176766516737E-2,4.8383100897735343E-2,2.7365420687332886E-2,null,6.3189284400449713E-2,-1.8715262924640288E-2,-3.6240500149672603E-2,-1.7045898273926344E-2,null,{"$f":"('CPI Sub-Categories'!Y84-'CPI Sub-Categories'!T84)/'CPI Sub-Categories'!T84","v":-1.4299442537206952E-2},{"$f":"('CPI Sub-Categories'!Z84-'CPI Sub-Categories'!U84)/'CPI Sub-Categories'!U84","v":1.9436472439073291E-2},{"$f":"('CPI Sub-Categories'!AA84-'CPI Sub-Categories'!V84)/'CPI Sub-Categories'!V84","v":6.1732217583202569E-2},{"$f":"('CPI Sub-Categories'!AB84-'CPI Sub-Categories'!W84)/'CPI Sub-Categories'!W84","v":8.6763502911032991E-2},null,{"$f":"('CPI Sub-Categories'!AD84-'CPI Sub-Categories'!Y84)/'CPI Sub-Categories'!Y84","v":6.0457417274243481E-2},{"$f":"('CPI Sub-Categories'!AE84-'CPI Sub-Categories'!Z84)/'CPI Sub-Categories'!Z84","v":3.63663385019527E-2},{"$f":"('CPI Sub-Categories'!AF84-'CPI Sub-Categories'!AA84)/'CPI Sub-Categories'!AA84","v":1.745210852163832E-2},{"$f":"('CPI Sub-Categories'!AG84-'CPI Sub-Categories'!AB84)/'CPI Sub-Categories'!AB84","v":-2.6110916592287123E-2},null,{"$f":"('CPI Sub-Categories'!AI84-'CPI Sub-Categories'!AD84)/'CPI Sub-Categories'!AD84","v":1.2139665276097847E-2},{"$f":"('CPI Sub-Categories'!AJ84-'CPI Sub-Categories'!AE84)/'CPI Sub-Categories'!AE84","v":2.7055050139425753E-2},{"$f":"('CPI Sub-Categories'!AK84-'CPI Sub-Categories'!AF84)/'CPI Sub-Categories'!AF84","v":2.9422611669303319E-2},{"$f":"('CPI Sub-Categories'!AL84-'CPI Sub-Categories'!AG84)/'CPI Sub-Categories'!AG84","v":7.2895892190041847E-2},null,{"$f":"('CPI Sub-Categories'!AM84-'CPI Sub-Categories'!AI84)/'CPI Sub-Categories'!AI84","v":4.9233179313606656E-2},{"$f":"('CPI Sub-Categories'!AN84-'CPI Sub-Categories'!AJ84)/'CPI Sub-Categories'!AJ84","v":4.1526358952069256E-2},{"$f":"('CPI Sub-Categories'!AO84-'CPI Sub-Categories'!AK84)/'CPI Sub-Categories'!AK84","v":3.4367489550308404E-2},{"$f":"('CPI Sub-Categories'!AQ84-'CPI Sub-Categories'!AL84)/'CPI Sub-Categories'!AL84","v":-1}]
[3,"061200","Other medical products",null,3.1643467315888393E-2,-8.2850359700420602E-3,-3.5256801471046581E-2,-2.5308879841689337E-3,null,8.6475848574822274E-3,1.2005142242503881E-2,7.0470638959055351E-2,4.2283393563705605E-2,null,1.2475825551585532E-2,4.054395233964822E-2,-2.376027017337105E-2,-5.6529260849422565E-2,null,{"$f":"('CPI Sub-Categories'!Y85-'CPI Sub-Categories'!T85)/'CPI Sub-Categories'!T85","v":-2.9283412836391218E-2},{"$f":"('CPI Sub-Categories'!Z85-'CPI Sub-Categories'!U85)/'CPI Sub-Categories'!U85","v":-3.7585607270852403E-2},{"$f":"('CPI Sub-Categories'!AA85-'CPI Sub-Categories'!V85)/'CPI Sub-Categories'!V85","v":-3.0774664573213147E-2},{"$f":"('CPI Sub-Categories'!AB85-'CPI Sub-Categories'!W85)/'CPI Sub-Categories'!W85","v":6.586475949382517E-2},null,{"$f":"('CPI Sub-Categories'!AD85-'CPI Sub-Categories'!Y85)/'CPI Sub-Categories'!Y85","v":6.3568050585773125E-2},{"$f":"('CPI Sub-Categories'!AE85-'CPI Sub-Categories'!Z85)/'CPI Sub-Categories'!Z85","v":5.4589820188051086E-2},{"$f":"('CPI Sub-Categories'!AF85-'CPI Sub-Categories'!AA85)/'CPI Sub-Categories'!AA85","v":7.0837767844384114E-2},{"$f":"('CPI Sub-Categories'!AG85-'CPI Sub-Categories'!AB85)/'CPI Sub-Categories'!AB85","v":4.9314753108182709E-2},null,{"$f":"('CPI Sub-Categories'!AI85-'CPI Sub-Categories'!AD85)/'CPI Sub-Categories'!AD85","v":2.4134286380101649E-2},{"$f":"('CPI Sub-Categories'!AJ85-'CPI Sub-Categories'!AE85)/'CPI Sub-Categories'!AE85","v":1.621615565460505E-2},{"$f":"('CPI Sub-Categories'!AK85-'CPI Sub-Categories'!AF85)/'CPI Sub-Categories'!AF85","v":5.9273033296404591E-2},{"$f":"('CPI Sub-Categories'!AL85-'CPI Sub-Categories'!AG85)/'CPI Sub-Categories'!AG85","v":7.026647636091217E-2},null,{"$f":"('CPI Sub-Categories'!AM85-'CPI Sub-Categories'!AI85)/'CPI Sub-Categories'!AI85","v":8.1108504607855597E-2},{"$f":"('CPI Sub-Categories'!AN85-'CPI Sub-Categories'!AJ85)/'CPI Sub-Categories'!AJ85","v":0.1090898810145183},{"$f":"('CPI Sub-Categories'!AO85-'CPI Sub-Categories'!AK85)/'CPI Sub-Categories'!AK85","v":6.987705342656482E-2},{"$f":"('CPI Sub-Categories'!AQ85-'CPI Sub-Categories'!AL85)/'CPI Sub-Categories'!AL85","v":-1}]
[3,"061300","Therapeutic appliances and equipment",null,7.8721201443830907E-2,9.1372737304185811E-2,-3.2010751418616534E-2,-8.5264193575927613E-3,null,0.11112410653648062,0.1458660695378742,0.16861481924107483,7.3436603769411302E-2,null,-3.0052311675783473E-2,-5.5112478527038614E-2,-4.63347719317381E-2,1.3237781981204772E-2,null,{"$f":"('CPI Sub-Categories'!Y86-'CPI Sub-Categories'!T86)/'CPI Sub-Categories'!T86","v":5.8693116216895318E-3},{"$f":"('CPI Sub-Categories'!Z86-'CPI Sub-Categories'!U86)/'CPI Sub-Categories'!U86","v":1.1155747791237087E-3},{"$f":"('CPI Sub-Categories'!AA86-'CPI Sub-Categories'!V86)/'CPI Sub-Categories'!V86","v":-4.5266276576665663E-3},{"$f":"('CPI Sub-Categories'!AB86-'CPI Sub-Categories'!W86)/'CPI Sub-Categories'!W86","v":-3.31488223064694E-4},null,{"$f":"('CPI Sub-Categories'!AD86-'CPI Sub-Categories'!Y86)/'CPI Sub-Categories'!Y86","v":-4.0654028684197752E-4},{"$f":"('CPI Sub-Categories'!AE86-'CPI Sub-Categories'!Z86)/'CPI Sub-Categories'!Z86","v":-8.2904414499036082E-3},{"$f":"('CPI Sub-Categories'!AF86-'CPI Sub-Categories'!AA86)/'CPI Sub-Categories'!AA86","v":5.7251922435858386E-3},{"$f":"('CPI Sub-Categories'!AG86-'CPI Sub-Categories'!AB86)/'CPI Sub-Categories'!AB86","v":2.1851331813078141E-2},null,{"$f":"('CPI Sub-Categories'!AI86-'CPI Sub-Categories'!AD86)/'CPI Sub-Categories'!AD86","v":2.292627639799354E-2},{"$f":"('CPI Sub-Categories'!AJ86-'CPI Sub-Categories'!AE86)/'CPI Sub-Categories'!AE86","v":-7.7801926102044486E-3},{"$f":"('CPI Sub-Categories'!AK86-'CPI Sub-Categories'!AF86)/'CPI Sub-Categories'!AF86","v":-2.4916017800422556E-3},{"$f":"('CPI Sub-Categories'!AL86-'CPI Sub-Categories'!AG86)/'CPI Sub-Categories'!AG86","v":-2.2178786969152101E-2},null,{"$f":"('CPI Sub-Categories'!AM86-'CPI Sub-Categories'!AI86)/'CPI Sub-Categories'!AI86","v":-1.6890349350477625E-2},{"$f":"('CPI Sub-Categories'!AN86-'CPI Sub-Categories'!AJ86)/'CPI Sub-Categories'!AJ86","v":1.3043440476094138E-2},{"$f":"('CPI Sub-Categories'!AO86-'CPI Sub-Categories'!AK86)/'CPI Sub-Categories'!AK86","v":2.5395664725703531E-3},{"$f":"('CPI Sub-Categories'!AQ86-'CPI Sub-Categories'!AL86)/'CPI Sub-Categories'!AL86","v":-1}]
[2,"062000","Outpatient services",null,0,8.401866708764999E-2,8.401866708764999E-2,8.401866708764999E-2,null,8.401866708764999E-2,-1.5995742319009278E-2,-1.7719398870837816E-2,-1.7719398870837816E-2,null,-1.7719398870837816E-2,1.0112205908043794E-2,1.1884699958922882E-2,1.1884699958922882E-2,null,{"$f":"('CPI Sub-Categories'!Y87-'CPI Sub-Categories'!T87)/'CPI Sub-Categories'!T87","v":1.1884699958922882E-2},{"$f":"('CPI Sub-Categories'!Z87-'CPI Sub-Categories'!U87)/'CPI Sub-Categories'!U87","v":0},{"$f":"('CPI Sub-Categories'!AA87-'CPI Sub-Categories'!V87)/'CPI Sub-Categories'!V87","v":0},{"$f":"('CPI Sub-Categories'!AB87-'CPI Sub-Categories'!W87)/'CPI Sub-Categories'!W87","v":0},null,{"$f":"('CPI Sub-Categories'!AD87-'CPI Sub-Categories'!Y87)/'CPI Sub-Categories'!Y87","v":0},{"$f":"('CPI Sub-Categories'!AE87-'CPI Sub-Categories'!Z87)/'CPI Sub-Categories'!Z87","v":0},{"$f":"('CPI Sub-Categories'!AF87-'CPI Sub-Categories'!AA87)/'CPI Sub-Categories'!AA87","v":0},{"$f":"('CPI Sub-Categories'!AG87-'CPI Sub-Categories'!AB87)/'CPI Sub-Categories'!AB87","v":0},null,{"$f":"('CPI Sub-Categories'!AI87-'CPI Sub-Categories'!AD87)/'CPI Sub-Categories'!AD87","v":0},{"$f":"('CPI Sub-Categories'!AJ87-'CPI Sub-Categories'!AE87)/'CPI Sub-Categories'!AE87","v":0},{"$f":"('CPI Sub-Categories'!AK87-'CPI Sub-Categories'!AF87)/'CPI Sub-Categories'!AF87","v":0},{"$f":"('CPI Sub-Categories'!AL87-'CPI Sub-Categories'!AG87)/'CPI Sub-Categories'!AG87","v":0},null,{"$f":"('CPI Sub-Categories'!AM87-'CPI Sub-Categories'!AI87)/'CPI Sub-Categories'!AI87","v":0},{"$f":"('CPI Sub-Categories'!AN87-'CPI Sub-Categories'!AJ87)/'CPI Sub-Categories'!AJ87","v":7.3158778775789579E-2},{"$f":"('CPI Sub-Categories'!AO87-'CPI Sub-Categories'!AK87)/'CPI Sub-Categories'!AK87","v":7.3158778775798822E-2},{"$f":"('CPI Sub-Categories'!AQ87-'CPI Sub-Categories'!AL87)/'CPI Sub-Categories'!AL87","v":-1}]
[3,"062100","Medical services",null,0,9.0146195553199963E-3,9.0146195553199963E-3,9.0146195553199963E-3,null,9.0146195553199963E-3,5.6411539195919463E-3,0,0,null,0,2.1150256249161177E-2,2.6910722019693453E-2,2.6910722019693453E-2,null,{"$f":"('CPI Sub-Categories'!Y88-'CPI Sub-Categories'!T88)/'CPI Sub-Categories'!T88","v":2.6910722019693453E-2},{"$f":"('CPI Sub-Categories'!Z88-'CPI Sub-Categories'!U88)/'CPI Sub-Categories'!U88","v":0},{"$f":"('CPI Sub-Categories'!AA88-'CPI Sub-Categories'!V88)/'CPI Sub-Categories'!V88","v":0},{"$f":"('CPI Sub-Categories'!AB88-'CPI Sub-Categories'!W88)/'CPI Sub-Categories'!W88","v":0},null,{"$f":"('CPI Sub-Categories'!AD88-'CPI Sub-Categories'!Y88)/'CPI Sub-Categories'!Y88","v":0},{"$f":"('CPI Sub-Categories'!AE88-'CPI Sub-Categories'!Z88)/'CPI Sub-Categories'!Z88","v":0},{"$f":"('CPI Sub-Categories'!AF88-'CPI Sub-Categories'!AA88)/'CPI Sub-Categories'!AA88","v":0},{"$f":"('CPI Sub-Categories'!AG88-'CPI Sub-Categories'!AB88)/'CPI Sub-Categories'!AB88","v":0},null,{"$f":"('CPI Sub-Categories'!AI88-'CPI Sub-Categories'!AD88)/'CPI Sub-Categories'!AD88","v":0},{"$f":"('CPI Sub-Categories'!AJ88-'CPI Sub-Categories'!AE88)/'CPI Sub-Categories'!AE88","v":0},{"$f":"('CPI Sub-Categories'!AK88-'CPI Sub-Categories'!AF88)/'CPI Sub-Categories'!AF88","v":0},{"$f":"('CPI Sub-Categories'!AL88-'CPI Sub-Categories'!AG88)/'CPI Sub-Categories'!AG88","v":0},null,{"$f":"('CPI Sub-Categories'!AM88-'CPI Sub-Categories'!AI88)/'CPI Sub-Categories'!AI88","v":0},{"$f":"('CPI Sub-Categories'!AN88-'CPI Sub-Categories'!AJ88)/'CPI Sub-Categories'!AJ88","v":3.2054574211524751E-2},{"$f":"('CPI Sub-Categories'!AO88-'CPI Sub-Categories'!AK88)/'CPI Sub-Categories'!AK88","v":3.2054574211524751E-2},{"$f":"('CPI Sub-Categories'!AQ88-'CPI Sub-Categories'!AL88)/'CPI Sub-Categories'!AL88","v":-1}]
[3,"062200","Dental services",null,0,0.14183338913314997,0.14183338913314997,0.14183338913314997,null,0.14183338913314997,-2.9434561278485035E-2,-2.9434561278485035E-2,-2.9434561278485035E-2,null,-2.9434561278485035E-2,0,0,0,null,{"$f":"('CPI Sub-Categories'!Y89-'CPI Sub-Categories'!T89)/'CPI Sub-Categories'!T89","v":0},{"$f":"('CPI Sub-Categories'!Z89-'CPI Sub-Categories'!U89)/'CPI Sub-Categories'!U89","v":0},{"$f":"('CPI Sub-Categories'!AA89-'CPI Sub-Categories'!V89)/'CPI Sub-Categories'!V89","v":0},{"$f":"('CPI Sub-Categories'!AB89-'CPI Sub-Categories'!W89)/'CPI Sub-Categories'!W89","v":0},null,{"$f":"('CPI Sub-Categories'!AD89-'CPI Sub-Categories'!Y89)/'CPI Sub-Categories'!Y89","v":0},{"$f":"('CPI Sub-Categories'!AE89-'CPI Sub-Categories'!Z89)/'CPI Sub-Categories'!Z89","v":0},{"$f":"('CPI Sub-Categories'!AF89-'CPI Sub-Categories'!AA89)/'CPI Sub-Categories'!AA89","v":0},{"$f":"('CPI Sub-Categories'!AG89-'CPI Sub-Categories'!AB89)/'CPI Sub-Categories'!AB89","v":0},null,{"$f":"('CPI Sub-Categories'!AI89-'CPI Sub-Categories'!AD89)/'CPI Sub-Categories'!AD89","v":0},{"$f":"('CPI Sub-Categories'!AJ89-'CPI Sub-Categories'!AE89)/'CPI Sub-Categories'!AE89","v":0},{"$f":"('CPI Sub-Categories'!AK89-'CPI Sub-Categories'!AF89)/'CPI Sub-Categories'!AF89","v":0},{"$f":"('CPI Sub-Categories'!AL89-'CPI Sub-Categories'!AG89)/'CPI Sub-Categories'!AG89","v":0},null,{"$f":"('CPI Sub-Categories'!AM89-'CPI Sub-Categories'!AI89)/'CPI Sub-Categories'!AI89","v":0},{"$f":"('CPI Sub-Categories'!AN89-'CPI Sub-Categories'!AJ89)/'CPI Sub-Categories'!AJ89","v":0.1028768951866736},{"$f":"('CPI Sub-Categories'!AO89-'CPI Sub-Categories'!AK89)/'CPI Sub-Categories'!AK89","v":0.1028768951866736},{"$f":"('CPI Sub-Categories'!AQ89-'CPI Sub-Categories'!AL89)/'CPI Sub-Categories'!AL89","v":-1}]
[3,"062300","Paramedical services",null,0,0,0,0,null,0,0,0,0,null,0,3.7331316287809953E-2,3.7331316287809953E-2,3.7331316287809953E-2,null,{"$f":"('CPI Sub-Categories'!Y90-'CPI Sub-Categories'!T90)/'CPI Sub-Categories'!T90","v":3.7331316287809953E-2},{"$f":"('CPI Sub-Categories'!Z90-'CPI Sub-Categories'!U90)/'CPI Sub-Categories'!U90","v":0},{"$f":"('CPI Sub-Categories'!AA90-'CPI Sub-Categories'!V90)/'CPI Sub-Categories'!V90","v":0},{"$f":"('CPI Sub-Categories'!AB90-'CPI Sub-Categories'!W90)/'CPI Sub-Categories'!W90","v":0},null,{"$f":"('CPI Sub-Categories'!AD90-'CPI Sub-Categories'!Y90)/'CPI Sub-Categories'!Y90","v":0},{"$f":"('CPI Sub-Categories'!AE90-'CPI Sub-Categories'!Z90)/'CPI Sub-Categories'!Z90","v":0},{"$f":"('CPI Sub-Categories'!AF90-'CPI Sub-Categories'!AA90)/'CPI Sub-Categories'!AA90","v":0},{"$f":"('CPI Sub-Categories'!AG90-'CPI Sub-Categories'!AB90)/'CPI Sub-Categories'!AB90","v":0},null,{"$f":"('CPI Sub-Categories'!AI90-'CPI Sub-Categories'!AD90)/'CPI Sub-Categories'!AD90","v":0},{"$f":"('CPI Sub-Categories'!AJ90-'CPI Sub-Categories'!AE90)/'CPI Sub-Categories'!AE90","v":0},{"$f":"('CPI Sub-Categories'!AK90-'CPI Sub-Categories'!AF90)/'CPI Sub-Categories'!AF90","v":0},{"$f":"('CPI Sub-Categories'!AL90-'CPI Sub-Categories'!AG90)/'CPI Sub-Categories'!AG90","v":0},null,{"$f":"('CPI Sub-Categories'!AM90-'CPI Sub-Categories'!AI90)/'CPI Sub-Categories'!AI90","v":0},{"$f":"('CPI Sub-Categories'!AN90-'CPI Sub-Categories'!AJ90)/'CPI Sub-Categories'!AJ90","v":2.6592139194867064E-2},{"$f":"('CPI Sub-Categories'!AO90-'CPI Sub-Categories'!AK90)/'CPI Sub-Categories'!AK90","v":2.6592139194867064E-2},{"$f":"('CPI Sub-Categories'!AQ90-'CPI Sub-Categories'!AL90)/'CPI Sub-Categories'!AL90","v":-1}]
[2,"063000","Hospital services",null,0,0,0,0,null,0,0,0,0,null,0,7.7999745246719959E-2,7.7999745246719959E-2,7.7999745246719959E-2,null,{"$f":"('CPI Sub-Categories'!Y91-'CPI Sub-Categories'!T91)/'CPI Sub-Categories'!T91","v":7.7999745246719959E-2},{"$f":"('CPI Sub-Categories'!Z91-'CPI Sub-Categories'!U91)/'CPI Sub-Categories'!U91","v":-9.2278299178676647E-15},{"$f":"('CPI Sub-Categories'!AA91-'CPI Sub-Categories'!V91)/'CPI Sub-Categories'!V91","v":-9.2278299178676647E-15},{"$f":"('CPI Sub-Categories'!AB91-'CPI Sub-Categories'!W91)/'CPI Sub-Categories'!W91","v":-9.2278299178676647E-15},null,{"$f":"('CPI Sub-Categories'!AD91-'CPI Sub-Categories'!Y91)/'CPI Sub-Categories'!Y91","v":-9.2278299178676647E-15},{"$f":"('CPI Sub-Categories'!AE91-'CPI Sub-Categories'!Z91)/'CPI Sub-Categories'!Z91","v":0},{"$f":"('CPI Sub-Categories'!AF91-'CPI Sub-Categories'!AA91)/'CPI Sub-Categories'!AA91","v":0},{"$f":"('CPI Sub-Categories'!AG91-'CPI Sub-Categories'!AB91)/'CPI Sub-Categories'!AB91","v":0},null,{"$f":"('CPI Sub-Categories'!AI91-'CPI Sub-Categories'!AD91)/'CPI Sub-Categories'!AD91","v":0},{"$f":"('CPI Sub-Categories'!AJ91-'CPI Sub-Categories'!AE91)/'CPI Sub-Categories'!AE91","v":0},{"$f":"('CPI Sub-Categories'!AK91-'CPI Sub-Categories'!AF91)/'CPI Sub-Categories'!AF91","v":0},{"$f":"('CPI Sub-Categories'!AL91-'CPI Sub-Categories'!AG91)/'CPI Sub-Categories'!AG91","v":0},null,{"$f":"('CPI Sub-Categories'!AM91-'CPI Sub-Categories'!AI91)/'CPI Sub-Categories'!AI91","v":0},{"$f":"('CPI Sub-Categories'!AN91-'CPI Sub-Categories'!AJ91)/'CPI Sub-Categories'!AJ91","v":9.1424388395958928E-2},{"$f":"('CPI Sub-Categories'!AO91-'CPI Sub-Categories'!AK91)/'CPI Sub-Categories'!AK91","v":9.1424388395958928E-2},{"$f":"('CPI Sub-Categories'!AQ91-'CPI Sub-Categories'!AL91)/'CPI Sub-Categories'!AL91","v":-1}]
[3,"063100","Hospital services",null,0,0,0,0,null,0,0,0,0,null,0,7.7999745246719959E-2,7.7999745246719959E-2,7.7999745246719959E-2,null,{"$f":"('CPI Sub-Categories'!Y92-'CPI Sub-Categories'!T92)/'CPI Sub-Categories'!T92","v":7.7999745246719959E-2},{"$f":"('CPI Sub-Categories'!Z92-'CPI Sub-Categories'!U92)/'CPI Sub-Categories'!U92","v":-9.2278299178676647E-15},{"$f":"('CPI Sub-Categories'!AA92-'CPI Sub-Categories'!V92)/'CPI Sub-Categories'!V92","v":-9.2278299178676647E-15},{"$f":"('CPI Sub-Categories'!AB92-'CPI Sub-Categories'!W92)/'CPI Sub-Categories'!W92","v":-9.2278299178676647E-15},null,{"$f":"('CPI Sub-Categories'!AD92-'CPI Sub-Categories'!Y92)/'CPI Sub-Categories'!Y92","v":-9.2278299178676647E-15},{"$f":"('CPI Sub-Categories'!AE92-'CPI Sub-Categories'!Z92)/'CPI Sub-Categories'!Z92","v":0},{"$f":"('CPI Sub-Categories'!AF92-'CPI Sub-Categories'!AA92)/'CPI Sub-Categories'!AA92","v":0},{"$f":"('CPI Sub-Categories'!AG92-'CPI Sub-Categories'!AB92)/'CPI Sub-Categories'!AB92","v":0},null,{"$f":"('CPI Sub-Categories'!AI92-'CPI Sub-Categories'!AD92)/'CPI Sub-Categories'!AD92","v":0},{"$f":"('CPI Sub-Categories'!AJ92-'CPI Sub-Categories'!AE92)/'CPI Sub-Categories'!AE92","v":0},{"$f":"('CPI Sub-Categories'!AK92-'CPI Sub-Categories'!AF92)/'CPI Sub-Categories'!AF92","v":0},{"$f":"('CPI Sub-Categories'!AL92-'CPI Sub-Categories'!AG92)/'CPI Sub-Categories'!AG92","v":0},null,{"$f":"('CPI Sub-Categories'!AM92-'CPI Sub-Categories'!AI92)/'CPI Sub-Categories'!AI92","v":0},{"$f":"('CPI Sub-Categories'!AN92-'CPI Sub-Categories'!AJ92)/'CPI Sub-Categories'!AJ92","v":9.1424388395958928E-2},{"$f":"('CPI Sub-Categories'!AO92-'CPI Sub-Categories'!AK92)/'CPI Sub-Categories'!AK92","v":9.1424388395958928E-2},{"$f":"('CPI Sub-Categories'!AQ92-'CPI Sub-Categories'!AL92)/'CPI Sub-Categories'!AL92","v":-1}]
[1,"070000","Transport",null,2.5915088029874883E-3,3.7057017793985488E-3,-1.9200042437882341E-3,1.2698360073091835E-2,null,9.9516871601656558E-3,-3.2060439697457477E-2,-2.3278617050944167E-2,-5.089246127923424E-2,null,-3.1597293118171811E-2,2.3836947924036907E-2,3.8786519662221665E-2,8.96027766198607E-2,null,{"$f":"('CPI Sub-Categories'!Y93-'CPI Sub-Categories'!T93)/'CPI Sub-Categories'!T93","v":0.10604379187432282},{"$f":"('CPI Sub-Categories'!Z93-'CPI Sub-Categories'!U93)/'CPI Sub-Categories'!U93","v":0.19197740542724234},{"$f":"('CPI Sub-Categories'!AA93-'CPI Sub-Categories'!V93)/'CPI Sub-Categories'!V93","v":9.2592978426393677E-2},{"$f":"('CPI Sub-Categories'!AB93-'CPI Sub-Categories'!W93)/'CPI Sub-Categories'!W93","v":4.66933404397223E-2},null,{"$f":"('CPI Sub-Categories'!AD93-'CPI Sub-Categories'!Y93)/'CPI Sub-Categories'!Y93","v":3.2221003763013761E-2},{"$f":"('CPI Sub-Categories'!AE93-'CPI Sub-Categories'!Z93)/'CPI Sub-Categories'!Z93","v":-0.11082985492186985},{"$f":"('CPI Sub-Categories'!AF93-'CPI Sub-Categories'!AA93)/'CPI Sub-Categories'!AA93","v":-1.3704367969415578E-2},{"$f":"('CPI Sub-Categories'!AG93-'CPI Sub-Categories'!AB93)/'CPI Sub-Categories'!AB93","v":6.4752379415280364E-2},null,{"$f":"('CPI Sub-Categories'!AI93-'CPI Sub-Categories'!AD93)/'CPI Sub-Categories'!AD93","v":2.8614352338791671E-2},{"$f":"('CPI Sub-Categories'!AJ93-'CPI Sub-Categories'!AE93)/'CPI Sub-Categories'!AE93","v":0.10167043342745261},{"$f":"('CPI Sub-Categories'!AK93-'CPI Sub-Categories'!AF93)/'CPI Sub-Categories'!AF93","v":5.0068667646567332E-2},{"$f":"('CPI Sub-Categories'!AL93-'CPI Sub-Categories'!AG93)/'CPI Sub-Categories'!AG93","v":5.486702014483244E-2},null,{"$f":"('CPI Sub-Categories'!AM93-'CPI Sub-Categories'!AI93)/'CPI Sub-Categories'!AI93","v":6.4547891421156495E-2},{"$f":"('CPI Sub-Categories'!AN93-'CPI Sub-Categories'!AJ93)/'CPI Sub-Categories'!AJ93","v":0},{"$f":"('CPI Sub-Categories'!AO93-'CPI Sub-Categories'!AK93)/'CPI Sub-Categories'!AK93","v":5.4266023583309557E-2},{"$f":"('CPI Sub-Categories'!AQ93-'CPI Sub-Categories'!AL93)/'CPI Sub-Categories'!AL93","v":-1},{"$f":"VLOOKUP($B93,'[17]Level 1 - vlookup table'!$B$2:$D$13,3,FALSE)","v":122.126602514326}]
[2,"071000","Purchase of vehicles",null,-9.8414207674268218E-3,-1.727602538733658E-2,-1.6133636957905303E-2,2.7857898908426569E-2,null,2.2376470649691085E-2,2.7540511490394978E-2,2.5553920760113823E-2,-2.8262099836140222E-2,null,4.7380002671575522E-3,9.5211967508339081E-3,1.0489775013929866E-2,7.7903605121146149E-2,null,{"$f":"('CPI Sub-Categories'!Y94-'CPI Sub-Categories'!T94)/'CPI Sub-Categories'!T94","v":5.5850721829528688E-2},{"$f":"('CPI Sub-Categories'!Z94-'CPI Sub-Categories'!U94)/'CPI Sub-Categories'!U94","v":5.4052946838385504E-2},{"$f":"('CPI Sub-Categories'!AA94-'CPI Sub-Categories'!V94)/'CPI Sub-Categories'!V94","v":5.3950023550355705E-2},{"$f":"('CPI Sub-Categories'!AB94-'CPI Sub-Categories'!W94)/'CPI Sub-Categories'!W94","v":2.1142956967768294E-3},null,{"$f":"('CPI Sub-Categories'!AD94-'CPI Sub-Categories'!Y94)/'CPI Sub-Categories'!Y94","v":2.8510669974393235E-2},{"$f":"('CPI Sub-Categories'!AE94-'CPI Sub-Categories'!Z94)/'CPI Sub-Categories'!Z94","v":2.8562338788323524E-2},{"$f":"('CPI Sub-Categories'!AF94-'CPI Sub-Categories'!AA94)/'CPI Sub-Categories'!AA94","v":2.9461002577827487E-2},{"$f":"('CPI Sub-Categories'!AG94-'CPI Sub-Categories'!AB94)/'CPI Sub-Categories'!AB94","v":8.3959666377857484E-2},null,{"$f":"('CPI Sub-Categories'!AI94-'CPI Sub-Categories'!AD94)/'CPI Sub-Categories'!AD94","v":5.282542782145222E-2},{"$f":"('CPI Sub-Categories'!AJ94-'CPI Sub-Categories'!AE94)/'CPI Sub-Categories'!AE94","v":5.303794957571626E-2},{"$f":"('CPI Sub-Categories'!AK94-'CPI Sub-Categories'!AF94)/'CPI Sub-Categories'!AF94","v":5.1870481301860102E-2},{"$f":"('CPI Sub-Categories'!AL94-'CPI Sub-Categories'!AG94)/'CPI Sub-Categories'!AG94","v":9.7148759588732772E-3},null,{"$f":"('CPI Sub-Categories'!AM94-'CPI Sub-Categories'!AI94)/'CPI Sub-Categories'!AI94","v":4.3447743595388753E-3},{"$f":"('CPI Sub-Categories'!AN94-'CPI Sub-Categories'!AJ94)/'CPI Sub-Categories'!AJ94","v":-1.1447990753905032E-2},{"$f":"('CPI Sub-Categories'!AO94-'CPI Sub-Categories'!AK94)/'CPI Sub-Categories'!AK94","v":-1.0820955304648824E-2},{"$f":"('CPI Sub-Categories'!AQ94-'CPI Sub-Categories'!AL94)/'CPI Sub-Categories'!AL94","v":-1}]
[3,"071100","Motor cars",null,-1.0069415645250242E-2,-1.784136239195187E-2,-1.784136239195187E-2,2.5957778438029877E-2,null,2.0962097421868584E-2,2.6207016263181938E-2,2.6207016263181938E-2,-3.0145517093442088E-2,null,3.4273044466777195E-3,8.207553502741733E-3,8.207553502741733E-3,7.924983433458492E-2,null,{"$f":"('CPI Sub-Categories'!Y95-'CPI Sub-Categories'!T95)/'CPI Sub-Categories'!T95","v":5.6117371842674929E-2},{"$f":"('CPI Sub-Categories'!Z95-'CPI Sub-Categories'!U95)/'CPI Sub-Categories'!U95","v":5.4012825649506019E-2},{"$f":"('CPI Sub-Categories'!AA95-'CPI Sub-Categories'!V95)/'CPI Sub-Categories'!V95","v":5.4012825649506019E-2},{"$f":"('CPI Sub-Categories'!AB95-'CPI Sub-Categories'!W95)/'CPI Sub-Categories'!W95","v":1.1913112662528303E-3},null,{"$f":"('CPI Sub-Categories'!AD95-'CPI Sub-Categories'!Y95)/'CPI Sub-Categories'!Y95","v":2.8544883159375225E-2},{"$f":"('CPI Sub-Categories'!AE95-'CPI Sub-Categories'!Z95)/'CPI Sub-Categories'!Z95","v":2.8544883159375225E-2},{"$f":"('CPI Sub-Categories'!AF95-'CPI Sub-Categories'!AA95)/'CPI Sub-Categories'!AA95","v":2.8544883159375225E-2},{"$f":"('CPI Sub-Categories'!AG95-'CPI Sub-Categories'!AB95)/'CPI Sub-Categories'!AB95","v":8.3632182967230725E-2},null,{"$f":"('CPI Sub-Categories'!AI95-'CPI Sub-Categories'!AD95)/'CPI Sub-Categories'!AD95","v":4.9238430804755026E-2},{"$f":"('CPI Sub-Categories'!AJ95-'CPI Sub-Categories'!AE95)/'CPI Sub-Categories'!AE95","v":4.9238430804755026E-2},{"$f":"('CPI Sub-Categories'!AK95-'CPI Sub-Categories'!AF95)/'CPI Sub-Categories'!AF95","v":4.9238430804755026E-2},{"$f":"('CPI Sub-Categories'!AL95-'CPI Sub-Categories'!AG95)/'CPI Sub-Categories'!AG95","v":6.8539340767900551E-3},null,{"$f":"('CPI Sub-Categories'!AM95-'CPI Sub-Categories'!AI95)/'CPI Sub-Categories'!AI95","v":4.6582090343962237E-3},{"$f":"('CPI Sub-Categories'!AN95-'CPI Sub-Categories'!AJ95)/'CPI Sub-Categories'!AJ95","v":-1.1107398831916282E-2},{"$f":"('CPI Sub-Categories'!AO95-'CPI Sub-Categories'!AK95)/'CPI Sub-Categories'!AK95","v":-1.1107398831916282E-2},{"$f":"('CPI Sub-Categories'!AQ95-'CPI Sub-Categories'!AL95)/'CPI Sub-Categories'!AL95","v":-1}]
[3,"071200","Motor cycles",null,2.1443679660190042E-2,3.5523541240930004E-2,3.5523541240930004E-2,5.3924688923780051E-2,null,6.2440584660739974E-3,-3.3976723427356671E-2,-3.3976723427356671E-2,0.10331469920982622,null,0.11679869648636464,0.14747989627778871,0.14747989627778871,-4.2616204844368177E-3,null,{"$f":"('CPI Sub-Categories'!Y96-'CPI Sub-Categories'!T96)/'CPI Sub-Categories'!T96","v":7.114238211048475E-2},{"$f":"('CPI Sub-Categories'!Z96-'CPI Sub-Categories'!U96)/'CPI Sub-Categories'!U96","v":7.114238211048475E-2},{"$f":"('CPI Sub-Categories'!AA96-'CPI Sub-Categories'!V96)/'CPI Sub-Categories'!V96","v":7.114238211048475E-2},{"$f":"('CPI Sub-Categories'!AB96-'CPI Sub-Categories'!W96)/'CPI Sub-Categories'!W96","v":3.2691701793260614E-2},null,{"$f":"('CPI Sub-Categories'!AD96-'CPI Sub-Categories'!Y96)/'CPI Sub-Categories'!Y96","v":-2.7510188172375351E-2},{"$f":"('CPI Sub-Categories'!AE96-'CPI Sub-Categories'!Z96)/'CPI Sub-Categories'!Z96","v":-2.7510188172375351E-2},{"$f":"('CPI Sub-Categories'!AF96-'CPI Sub-Categories'!AA96)/'CPI Sub-Categories'!AA96","v":3.9885617391489776E-2},{"$f":"('CPI Sub-Categories'!AG96-'CPI Sub-Categories'!AB96)/'CPI Sub-Categories'!AB96","v":0.13571956932371715},null,{"$f":"('CPI Sub-Categories'!AI96-'CPI Sub-Categories'!AD96)/'CPI Sub-Categories'!AD96","v":0.41402434223034246},{"$f":"('CPI Sub-Categories'!AJ96-'CPI Sub-Categories'!AE96)/'CPI Sub-Categories'!AE96","v":0.41402434223034246},{"$f":"('CPI Sub-Categories'!AK96-'CPI Sub-Categories'!AF96)/'CPI Sub-Categories'!AF96","v":0.32238031135069356},{"$f":"('CPI Sub-Categories'!AL96-'CPI Sub-Categories'!AG96)/'CPI Sub-Categories'!AG96","v":0.24522758162647523},null,{"$f":"('CPI Sub-Categories'!AM96-'CPI Sub-Categories'!AI96)/'CPI Sub-Categories'!AI96","v":1.4496955841662091E-4},{"$f":"('CPI Sub-Categories'!AN96-'CPI Sub-Categories'!AJ96)/'CPI Sub-Categories'!AJ96","v":1.4496955841662091E-4},{"$f":"('CPI Sub-Categories'!AO96-'CPI Sub-Categories'!AK96)/'CPI Sub-Categories'!AK96","v":1.4496955841662091E-4},{"$f":"('CPI Sub-Categories'!AQ96-'CPI Sub-Categories'!AL96)/'CPI Sub-Categories'!AL96","v":-1}]
[3,"071300","Bicycles",null,-3.3889660035976439E-2,-3.7194157481472471E-3,0.28300162669447981,0.41804151450519927,null,0.35709175491985146,0.475082425676285,1.7215037237125155E-2,6.7151555210396174E-2,null,3.7701994714858994E-2,7.4069807790177605E-3,0.19152892255396664,1.5024266603836522E-2,null,{"$f":"('CPI Sub-Categories'!Y97-'CPI Sub-Categories'!T97)/'CPI Sub-Categories'!T97","v":-1.1275709988997034E-2},{"$f":"('CPI Sub-Categories'!Z97-'CPI Sub-Categories'!U97)/'CPI Sub-Categories'!U97","v":3.0713678883798754E-2},{"$f":"('CPI Sub-Categories'!AA97-'CPI Sub-Categories'!V97)/'CPI Sub-Categories'!V97","v":1.4086357131202066E-2},{"$f":"('CPI Sub-Categories'!AB97-'CPI Sub-Categories'!W97)/'CPI Sub-Categories'!W97","v":0.10090575366856008},null,{"$f":"('CPI Sub-Categories'!AD97-'CPI Sub-Categories'!Y97)/'CPI Sub-Categories'!Y97","v":0.1257386768561054},{"$f":"('CPI Sub-Categories'!AE97-'CPI Sub-Categories'!Z97)/'CPI Sub-Categories'!Z97","v":0.13270634890314265},{"$f":"('CPI Sub-Categories'!AF97-'CPI Sub-Categories'!AA97)/'CPI Sub-Categories'!AA97","v":0.16153654666525746},{"$f":"('CPI Sub-Categories'!AG97-'CPI Sub-Categories'!AB97)/'CPI Sub-Categories'!AB97","v":4.8627558733077031E-2},null,{"$f":"('CPI Sub-Categories'!AI97-'CPI Sub-Categories'!AD97)/'CPI Sub-Categories'!AD97","v":2.0791472463701291E-2},{"$f":"('CPI Sub-Categories'!AJ97-'CPI Sub-Categories'!AE97)/'CPI Sub-Categories'!AE97","v":5.3384417726773777E-2},{"$f":"('CPI Sub-Categories'!AK97-'CPI Sub-Categories'!AF97)/'CPI Sub-Categories'!AF97","v":-8.1457071146665786E-3},{"$f":"('CPI Sub-Categories'!AL97-'CPI Sub-Categories'!AG97)/'CPI Sub-Categories'!AG97","v":3.6561646629675301E-2},null,{"$f":"('CPI Sub-Categories'!AM97-'CPI Sub-Categories'!AI97)/'CPI Sub-Categories'!AI97","v":-3.5013623086587495E-2},{"$f":"('CPI Sub-Categories'!AN97-'CPI Sub-Categories'!AJ97)/'CPI Sub-Categories'!AJ97","v":-8.5616293332167789E-2},{"$f":"('CPI Sub-Categories'!AO97-'CPI Sub-Categories'!AK97)/'CPI Sub-Categories'!AK97","v":9.4331664873628877E-3},{"$f":"('CPI Sub-Categories'!AQ97-'CPI Sub-Categories'!AL97)/'CPI Sub-Categories'!AL97","v":-1}]
[3,"071400","Animal drawn vehicles",null,"Not relevant","Not relevant","Not relevant","Not relevant",null,"Not relevant","Not relevant","Not relevant","Not relevant",null,"Not relevant","Not relevant","Not relevant","Not relevant",null,"Not relevant","Not relevant","Not relevant","Not relevant",null,"Not relevant","Not relevant","Not relevant","Not relevant",null,"Not relevant","Not relevant","Not relevant","Not available",null,"Not relevant","Not relevant","Not relevant","Not available"]
[2,"072000","Operation of personal transport equipment (incl. fuel)",null,-3.2000762452163253E-2,-3.1027179830329977E-2,-5.3787330651569758E-2,-1.4289767208451858E-2,null,-1.0423281532742246E-2,-0.13574711354032334,-8.2931400941079036E-2,-7.6622823394701001E-2,null,3.0558559108088797E-2,0.21026658624437061,0.20683808548358987,0.20811587944116727,null,{"$f":"('CPI Sub-Categories'!Y99-'CPI Sub-Categories'!T99)/'CPI Sub-Categories'!T99","v":0.13747334494910082},{"$f":"('CPI Sub-Categories'!Z99-'CPI Sub-Categories'!U99)/'CPI Sub-Categories'!U99","v":0.37538981211352684},{"$f":"('CPI Sub-Categories'!AA99-'CPI Sub-Categories'!V99)/'CPI Sub-Categories'!V99","v":9.2907869068362056E-2},{"$f":"('CPI Sub-Categories'!AB99-'CPI Sub-Categories'!W99)/'CPI Sub-Categories'!W99","v":4.740139533285477E-2},null,{"$f":"('CPI Sub-Categories'!AD99-'CPI Sub-Categories'!Y99)/'CPI Sub-Categories'!Y99","v":4.1150544747167131E-2},{"$f":"('CPI Sub-Categories'!AE99-'CPI Sub-Categories'!Z99)/'CPI Sub-Categories'!Z99","v":-0.27389350831638598},{"$f":"('CPI Sub-Categories'!AF99-'CPI Sub-Categories'!AA99)/'CPI Sub-Categories'!AA99","v":-3.4647119188754183E-2},{"$f":"('CPI Sub-Categories'!AG99-'CPI Sub-Categories'!AB99)/'CPI Sub-Categories'!AB99","v":6.0552179781967606E-2},null,{"$f":"('CPI Sub-Categories'!AI99-'CPI Sub-Categories'!AD99)/'CPI Sub-Categories'!AD99","v":1.2588308643289912E-2},{"$f":"('CPI Sub-Categories'!AJ99-'CPI Sub-Categories'!AE99)/'CPI Sub-Categories'!AE99","v":0.15426563687467504},{"$f":"('CPI Sub-Categories'!AK99-'CPI Sub-Categories'!AF99)/'CPI Sub-Categories'!AF99","v":6.4892154938858831E-2},{"$f":"('CPI Sub-Categories'!AL99-'CPI Sub-Categories'!AG99)/'CPI Sub-Categories'!AG99","v":-4.0050790377579193E-2},null,{"$f":"('CPI Sub-Categories'!AM99-'CPI Sub-Categories'!AI99)/'CPI Sub-Categories'!AI99","v":3.9389214067003381E-3},{"$f":"('CPI Sub-Categories'!AN99-'CPI Sub-Categories'!AJ99)/'CPI Sub-Categories'!AJ99","v":-2.8068059466146163E-2},{"$f":"('CPI Sub-Categories'!AO99-'CPI Sub-Categories'!AK99)/'CPI Sub-Categories'!AK99","v":-7.123118358917096E-3},{"$f":"('CPI Sub-Categories'!AQ99-'CPI Sub-Categories'!AL99)/'CPI Sub-Categories'!AL99","v":-1}]
[3,"072100","Spare parts and accessories for personal transport equipment",null,2.6494327060261136E-3,-1.1848353293008554E-3,6.0090478936654737E-4,8.0724777688101171E-2,null,8.3336555612857618E-2,3.4999135060990214E-2,4.4825734742088202E-2,-4.5176407643156401E-3,null,-1.5048680328841891E-2,4.2855170397643742E-2,2.9775972535771883E-2,2.0494704199445588E-2,null,{"$f":"('CPI Sub-Categories'!Y100-'CPI Sub-Categories'!T100)/'CPI Sub-Categories'!T100","v":3.4677740675166754E-2},{"$f":"('CPI Sub-Categories'!Z100-'CPI Sub-Categories'!U100)/'CPI Sub-Categories'!U100","v":9.0958714677821656E-2},{"$f":"('CPI Sub-Categories'!AA100-'CPI Sub-Categories'!V100)/'CPI Sub-Categories'!V100","v":0.10726439608424448},{"$f":"('CPI Sub-Categories'!AB100-'CPI Sub-Categories'!W100)/'CPI Sub-Categories'!W100","v":8.589803102535197E-2},null,{"$f":"('CPI Sub-Categories'!AD100-'CPI Sub-Categories'!Y100)/'CPI Sub-Categories'!Y100","v":0.14067212012605906},{"$f":"('CPI Sub-Categories'!AE100-'CPI Sub-Categories'!Z100)/'CPI Sub-Categories'!Z100","v":8.5294627466824757E-2},{"$f":"('CPI Sub-Categories'!AF100-'CPI Sub-Categories'!AA100)/'CPI Sub-Categories'!AA100","v":7.0930352107548764E-2},{"$f":"('CPI Sub-Categories'!AG100-'CPI Sub-Categories'!AB100)/'CPI Sub-Categories'!AB100","v":5.952931427905734E-2},null,{"$f":"('CPI Sub-Categories'!AI100-'CPI Sub-Categories'!AD100)/'CPI Sub-Categories'!AD100","v":-2.4248736924926063E-2},{"$f":"('CPI Sub-Categories'!AJ100-'CPI Sub-Categories'!AE100)/'CPI Sub-Categories'!AE100","v":-3.4913440747036853E-2},{"$f":"('CPI Sub-Categories'!AK100-'CPI Sub-Categories'!AF100)/'CPI Sub-Categories'!AF100","v":-3.1690386004952741E-2},{"$f":"('CPI Sub-Categories'!AL100-'CPI Sub-Categories'!AG100)/'CPI Sub-Categories'!AG100","v":-2.7062369412876198E-3},null,{"$f":"('CPI Sub-Categories'!AM100-'CPI Sub-Categories'!AI100)/'CPI Sub-Categories'!AI100","v":3.2763448983066275E-2},{"$f":"('CPI Sub-Categories'!AN100-'CPI Sub-Categories'!AJ100)/'CPI Sub-Categories'!AJ100","v":7.2253354694539612E-2},{"$f":"('CPI Sub-Categories'!AO100-'CPI Sub-Categories'!AK100)/'CPI Sub-Categories'!AK100","v":8.4246449348477359E-2},{"$f":"('CPI Sub-Categories'!AQ100-'CPI Sub-Categories'!AL100)/'CPI Sub-Categories'!AL100","v":-1}]
[3,"072200","Fuels and lubricants for personal transport equipment",null,-4.2894877199022852E-2,-5.2741054784608637E-2,-8.6500535408598256E-2,-3.2268309450102541E-2,null,-3.5551454357159923E-2,-0.2115355927443367,-0.13591558745467633,-0.12091641779109066,null,5.0141215523646449E-2,0.33086765861558248,0.3241137595359444,0.31556882787972573,null,{"$f":"('CPI Sub-Categories'!Y101-'CPI Sub-Categories'!T101)/'CPI Sub-Categories'!T101","v":0.18757596035867535},{"$f":"('CPI Sub-Categories'!Z101-'CPI Sub-Categories'!U101)/'CPI Sub-Categories'!U101","v":0.52859312421263338},{"$f":"('CPI Sub-Categories'!AA101-'CPI Sub-Categories'!V101)/'CPI Sub-Categories'!V101","v":9.5490202289025911E-2},{"$f":"('CPI Sub-Categories'!AB101-'CPI Sub-Categories'!W101)/'CPI Sub-Categories'!W101","v":2.3089780592633467E-2},null,{"$f":"('CPI Sub-Categories'!AD101-'CPI Sub-Categories'!Y101)/'CPI Sub-Categories'!Y101","v":-3.6838874618829126E-4},{"$f":"('CPI Sub-Categories'!AE101-'CPI Sub-Categories'!Z101)/'CPI Sub-Categories'!Z101","v":-0.40830679044127227},{"$f":"('CPI Sub-Categories'!AF101-'CPI Sub-Categories'!AA101)/'CPI Sub-Categories'!AA101","v":-9.3873595221696998E-2},{"$f":"('CPI Sub-Categories'!AG101-'CPI Sub-Categories'!AB101)/'CPI Sub-Categories'!AB101","v":4.983634261179902E-2},null,{"$f":"('CPI Sub-Categories'!AI101-'CPI Sub-Categories'!AD101)/'CPI Sub-Categories'!AD101","v":1.5291205119293992E-3},{"$f":"('CPI Sub-Categories'!AJ101-'CPI Sub-Categories'!AE101)/'CPI Sub-Categories'!AE101","v":0.24061121069947528},{"$f":"('CPI Sub-Categories'!AK101-'CPI Sub-Categories'!AF101)/'CPI Sub-Categories'!AF101","v":8.6370755951541658E-2},{"$f":"('CPI Sub-Categories'!AL101-'CPI Sub-Categories'!AG101)/'CPI Sub-Categories'!AG101","v":-7.681161166186927E-2},null,{"$f":"('CPI Sub-Categories'!AM101-'CPI Sub-Categories'!AI101)/'CPI Sub-Categories'!AI101","v":-1.8836939002501833E-2},{"$f":"('CPI Sub-Categories'!AN101-'CPI Sub-Categories'!AJ101)/'CPI Sub-Categories'!AJ101","v":-8.0696876794748643E-2},{"$f":"('CPI Sub-Categories'!AO101-'CPI Sub-Categories'!AK101)/'CPI Sub-Categories'!AK101","v":-5.1258802773784778E-2},{"$f":"('CPI Sub-Categories'!AQ101-'CPI Sub-Categories'!AL101)/'CPI Sub-Categories'!AL101","v":-1}]
[3,"072300","Maintenance and repair of personal transport equipment",null,0,0,0,-2.3169124465740935E-2,null,-2.3169124465740935E-2,-2.3169124465740935E-2,-2.3169124465740935E-2,1.4146183865773284E-2,null,1.4146183865773284E-2,1.4146183865773284E-2,1.4146183865773284E-2,6.9993785163836517E-2,null,{"$f":"('CPI Sub-Categories'!Y102-'CPI Sub-Categories'!T102)/'CPI Sub-Categories'!T102","v":6.9993785163836517E-2},{"$f":"('CPI Sub-Categories'!Z102-'CPI Sub-Categories'!U102)/'CPI Sub-Categories'!U102","v":6.9993785163836517E-2},{"$f":"('CPI Sub-Categories'!AA102-'CPI Sub-Categories'!V102)/'CPI Sub-Categories'!V102","v":6.9993785163836517E-2},{"$f":"('CPI Sub-Categories'!AB102-'CPI Sub-Categories'!W102)/'CPI Sub-Categories'!W102","v":0.12072277953048549},null,{"$f":"('CPI Sub-Categories'!AD102-'CPI Sub-Categories'!Y102)/'CPI Sub-Categories'!Y102","v":0.12072277953048549},{"$f":"('CPI Sub-Categories'!AE102-'CPI Sub-Categories'!Z102)/'CPI Sub-Categories'!Z102","v":0.12072277953048549},{"$f":"('CPI Sub-Categories'!AF102-'CPI Sub-Categories'!AA102)/'CPI Sub-Categories'!AA102","v":0.12072277953048549},{"$f":"('CPI Sub-Categories'!AG102-'CPI Sub-Categories'!AB102)/'CPI Sub-Categories'!AB102","v":0.11655811873334562},null,{"$f":"('CPI Sub-Categories'!AI102-'CPI Sub-Categories'!AD102)/'CPI Sub-Categories'!AD102","v":0.11655811873334562},{"$f":"('CPI Sub-Categories'!AJ102-'CPI Sub-Categories'!AE102)/'CPI Sub-Categories'!AE102","v":0.11655811873334562},{"$f":"('CPI Sub-Categories'!AK102-'CPI Sub-Categories'!AF102)/'CPI Sub-Categories'!AF102","v":0.11655811873334562},{"$f":"('CPI Sub-Categories'!AL102-'CPI Sub-Categories'!AG102)/'CPI Sub-Categories'!AG102","v":6.5903806688502625E-2},null,{"$f":"('CPI Sub-Categories'!AM102-'CPI Sub-Categories'!AI102)/'CPI Sub-Categories'!AI102","v":6.5903806688502625E-2},{"$f":"('CPI Sub-Categories'!AN102-'CPI Sub-Categories'!AJ102)/'CPI Sub-Categories'!AJ102","v":6.5903806688502625E-2},{"$f":"('CPI Sub-Categories'!AO102-'CPI Sub-Categories'!AK102)/'CPI Sub-Categories'!AK102","v":6.5903806688502625E-2},{"$f":"('CPI Sub-Categories'!AQ102-'CPI Sub-Categories'!AL102)/'CPI Sub-Categories'!AL102","v":-1}]
[3,"072400","Other services in respect of personal transport equipment",null,-1.2761547932339566E-3,-1.9212130559959917E-3,-1.9212130559959917E-3,-1.9212130559959917E-3,null,6.4806691445321615E-4,2.5771210725374668E-3,2.5771210725374668E-3,2.5771210725374668E-3,null,1.280677167338602E-3,0,0,0,null,{"$f":"('CPI Sub-Categories'!Y103-'CPI Sub-Categories'!T103)/'CPI Sub-Categories'!T103","v":0},{"$f":"('CPI Sub-Categories'!Z103-'CPI Sub-Categories'!U103)/'CPI Sub-Categories'!U103","v":-1.6014935316538419E-3},{"$f":"('CPI Sub-Categories'!AA103-'CPI Sub-Categories'!V103)/'CPI Sub-Categories'!V103","v":-2.1820811955126211E-3},{"$f":"('CPI Sub-Categories'!AB103-'CPI Sub-Categories'!W103)/'CPI Sub-Categories'!W103","v":-2.1820811955126211E-3},null,{"$f":"('CPI Sub-Categories'!AD103-'CPI Sub-Categories'!Y103)/'CPI Sub-Categories'!Y103","v":-1.6014935316548359E-3},{"$f":"('CPI Sub-Categories'!AE103-'CPI Sub-Categories'!Z103)/'CPI Sub-Categories'!Z103","v":-9.9570732446020876E-16},{"$f":"('CPI Sub-Categories'!AF103-'CPI Sub-Categories'!AA103)/'CPI Sub-Categories'!AA103","v":5.8185732378248202E-4},{"$f":"('CPI Sub-Categories'!AG103-'CPI Sub-Categories'!AB103)/'CPI Sub-Categories'!AB103","v":5.8185732378248202E-4},null,{"$f":"('CPI Sub-Categories'!AI103-'CPI Sub-Categories'!AD103)/'CPI Sub-Categories'!AD103","v":0},{"$f":"('CPI Sub-Categories'!AJ103-'CPI Sub-Categories'!AE103)/'CPI Sub-Categories'!AE103","v":0},{"$f":"('CPI Sub-Categories'!AK103-'CPI Sub-Categories'!AF103)/'CPI Sub-Categories'!AF103","v":0},{"$f":"('CPI Sub-Categories'!AL103-'CPI Sub-Categories'!AG103)/'CPI Sub-Categories'!AG103","v":0},null,{"$f":"('CPI Sub-Categories'!AM103-'CPI Sub-Categories'!AI103)/'CPI Sub-Categories'!AI103","v":-1.1091193745370603E-2},{"$f":"('CPI Sub-Categories'!AN103-'CPI Sub-Categories'!AJ103)/'CPI Sub-Categories'!AJ103","v":-1.1091193745370603E-2},{"$f":"('CPI Sub-Categories'!AO103-'CPI Sub-Categories'!AK103)/'CPI Sub-Categories'!AK103","v":-1.1091193745370603E-2},{"$f":"('CPI Sub-Categories'!AQ103-'CPI Sub-Categories'!AL103)/'CPI Sub-Categories'!AL103","v":-1}]
[2,"073000","Transport services",null,5.7637431105224776E-2,5.4542125753251014E-2,6.3370852857989726E-2,3.7268845254037217E-2,null,2.0449109086921043E-2,2.7837350258701116E-2,-2.5779454778166095E-3,-4.3443573268387575E-2,null,-0.12310044281251054,-0.12903007316722104,-9.430929206627181E-2,-1.8656915218898951E-2,null,{"$f":"('CPI Sub-Categories'!Y104-'CPI Sub-Categories'!T104)/'CPI Sub-Categories'!T104","v":0.11714916612648087},{"$f":"('CPI Sub-Categories'!Z104-'CPI Sub-Categories'!U104)/'CPI Sub-Categories'!U104","v":9.8297334695659822E-2},{"$f":"('CPI Sub-Categories'!AA104-'CPI Sub-Categories'!V104)/'CPI Sub-Categories'!V104","v":0.12837737664245882},{"$f":"('CPI Sub-Categories'!AB104-'CPI Sub-Categories'!W104)/'CPI Sub-Categories'!W104","v":8.7945228867986072E-2},null,{"$f":"('CPI Sub-Categories'!AD104-'CPI Sub-Categories'!Y104)/'CPI Sub-Categories'!Y104","v":2.4987671053959198E-2},{"$f":"('CPI Sub-Categories'!AE104-'CPI Sub-Categories'!Z104)/'CPI Sub-Categories'!Z104","v":1.2313718594854282E-2},{"$f":"('CPI Sub-Categories'!AF104-'CPI Sub-Categories'!AA104)/'CPI Sub-Categories'!AA104","v":-2.6222982189744354E-2},{"$f":"('CPI Sub-Categories'!AG104-'CPI Sub-Categories'!AB104)/'CPI Sub-Categories'!AB104","v":5.3005611173841671E-2},null,{"$f":"('CPI Sub-Categories'!AI104-'CPI Sub-Categories'!AD104)/'CPI Sub-Categories'!AD104","v":2.6085924535075737E-2},{"$f":"('CPI Sub-Categories'!AJ104-'CPI Sub-Categories'!AE104)/'CPI Sub-Categories'!AE104","v":8.8872642037357827E-2},{"$f":"('CPI Sub-Categories'!AK104-'CPI Sub-Categories'!AF104)/'CPI Sub-Categories'!AF104","v":0.11200549618960574},{"$f":"('CPI Sub-Categories'!AL104-'CPI Sub-Categories'!AG104)/'CPI Sub-Categories'!AG104","v":0.20844247480162537},null,{"$f":"('CPI Sub-Categories'!AM104-'CPI Sub-Categories'!AI104)/'CPI Sub-Categories'!AI104","v":0.21045856200217419},{"$f":"('CPI Sub-Categories'!AN104-'CPI Sub-Categories'!AJ104)/'CPI Sub-Categories'!AJ104","v":0.13408724005622505},{"$f":"('CPI Sub-Categories'!AO104-'CPI Sub-Categories'!AK104)/'CPI Sub-Categories'!AK104","v":0.10429634597867117},{"$f":"('CPI Sub-Categories'!AQ104-'CPI Sub-Categories'!AL104)/'CPI Sub-Categories'!AL104","v":-1}]
[3,"073100","Passenger transport by railway",null,"Not relevant","Not relevant","Not relevant","Not relevant",null,"Not relevant","Not relevant","Not relevant","Not relevant",null,"Not relevant","Not relevant","Not relevant","Not relevant",null,"Not relevant","Not relevant","Not relevant","Not relevant",null,"Not relevant","Not relevant","Not relevant","Not relevant",null,"Not relevant","Not relevant","Not relevant","Not relevant",null,"Not relevant","Not relevant","Not relevant","Not relevant"]
[3,"073200","Passenger transport by road",null,0.10291143432377178,9.4751655791443401E-2,0.14346017238774075,0.11414736874327457,null,7.3817253058975268E-2,8.1820996120519171E-2,3.5738152820673094E-2,-7.5318637032317929E-3,null,-9.3032510166161708E-2,-9.3032510166161708E-2,-9.3032510166161708E-2,-9.6489234962611366E-3,null,{"$f":"('CPI Sub-Categories'!Y106-'CPI Sub-Categories'!T106)/'CPI Sub-Categories'!T106","v":0.1674523760749099},{"$f":"('CPI Sub-Categories'!Z106-'CPI Sub-Categories'!U106)/'CPI Sub-Categories'!U106","v":0.12386882275363943},{"$f":"('CPI Sub-Categories'!AA106-'CPI Sub-Categories'!V106)/'CPI Sub-Categories'!V106","v":0.12368995215537383},{"$f":"('CPI Sub-Categories'!AB106-'CPI Sub-Categories'!W106)/'CPI Sub-Categories'!W106","v":6.0466753843629789E-2},null,{"$f":"('CPI Sub-Categories'!AD106-'CPI Sub-Categories'!Y106)/'CPI Sub-Categories'!Y106","v":-3.5879220195450576E-2},{"$f":"('CPI Sub-Categories'!AE106-'CPI Sub-Categories'!Z106)/'CPI Sub-Categories'!Z106","v":-5.2789825916308278E-2},{"$f":"('CPI Sub-Categories'!AF106-'CPI Sub-Categories'!AA106)/'CPI Sub-Categories'!AA106","v":-5.263904762537791E-2},{"$f":"('CPI Sub-Categories'!AG106-'CPI Sub-Categories'!AB106)/'CPI Sub-Categories'!AB106","v":4.3045267808275674E-2},null,{"$f":"('CPI Sub-Categories'!AI106-'CPI Sub-Categories'!AD106)/'CPI Sub-Categories'!AD106","v":-8.3087728469549431E-15},{"$f":"('CPI Sub-Categories'!AJ106-'CPI Sub-Categories'!AE106)/'CPI Sub-Categories'!AE106","v":0.10100090698673468},{"$f":"('CPI Sub-Categories'!AK106-'CPI Sub-Categories'!AF106)/'CPI Sub-Categories'!AF106","v":0.10100090698673468},{"$f":"('CPI Sub-Categories'!AL106-'CPI Sub-Categories'!AG106)/'CPI Sub-Categories'!AG106","v":0.2581194779276017},null,{"$f":"('CPI Sub-Categories'!AM106-'CPI Sub-Categories'!AI106)/'CPI Sub-Categories'!AI106","v":0.27889602646281375},{"$f":"('CPI Sub-Categories'!AN106-'CPI Sub-Categories'!AJ106)/'CPI Sub-Categories'!AJ106","v":0.14593148091676289},{"$f":"('CPI Sub-Categories'!AO106-'CPI Sub-Categories'!AK106)/'CPI Sub-Categories'!AK106","v":0.14593148091676289},{"$f":"('CPI Sub-Categories'!AQ106-'CPI Sub-Categories'!AL106)/'CPI Sub-Categories'!AL106","v":-1}]
[3,"073300","Passenger transport by air",null,0,0,-5.1631612162347976E-2,-7.9519670719108995E-2,null,-6.8634192868335053E-2,-5.7388385730091043E-2,-6.5629739507321927E-2,-0.10855990302099604,null,-0.18536692810467501,-0.19508589005706492,-9.8412547797252573E-2,-3.0587362660118939E-2,null,{"$f":"('CPI Sub-Categories'!Y107-'CPI Sub-Categories'!T107)/'CPI Sub-Categories'!T107","v":3.9828406914321886E-2},{"$f":"('CPI Sub-Categories'!Z107-'CPI Sub-Categories'!U107)/'CPI Sub-Categories'!U107","v":3.9828406914321886E-2},{"$f":"('CPI Sub-Categories'!AA107-'CPI Sub-Categories'!V107)/'CPI Sub-Categories'!V107","v":0.13089522571409126},{"$f":"('CPI Sub-Categories'!AB107-'CPI Sub-Categories'!W107)/'CPI Sub-Categories'!W107","v":0.13169269264356365},null,{"$f":"('CPI Sub-Categories'!AD107-'CPI Sub-Categories'!Y107)/'CPI Sub-Categories'!Y107","v":0.14103735004635462},{"$f":"('CPI Sub-Categories'!AE107-'CPI Sub-Categories'!Z107)/'CPI Sub-Categories'!Z107","v":0.14103735004635462},{"$f":"('CPI Sub-Categories'!AF107-'CPI Sub-Categories'!AA107)/'CPI Sub-Categories'!AA107","v":1.2192839643590742E-2},{"$f":"('CPI Sub-Categories'!AG107-'CPI Sub-Categories'!AB107)/'CPI Sub-Categories'!AB107","v":6.9112867425065047E-2},null,{"$f":"('CPI Sub-Categories'!AI107-'CPI Sub-Categories'!AD107)/'CPI Sub-Categories'!AD107","v":6.9112867425062757E-2},{"$f":"('CPI Sub-Categories'!AJ107-'CPI Sub-Categories'!AE107)/'CPI Sub-Categories'!AE107","v":6.9112867425062757E-2},{"$f":"('CPI Sub-Categories'!AK107-'CPI Sub-Categories'!AF107)/'CPI Sub-Categories'!AF107","v":0.13423488686889579},{"$f":"('CPI Sub-Categories'!AL107-'CPI Sub-Categories'!AG107)/'CPI Sub-Categories'!AG107","v":0.1362079110954533},null,{"$f":"('CPI Sub-Categories'!AM107-'CPI Sub-Categories'!AI107)/'CPI Sub-Categories'!AI107","v":5.6564546446934122E-2},{"$f":"('CPI Sub-Categories'!AN107-'CPI Sub-Categories'!AJ107)/'CPI Sub-Categories'!AJ107","v":0.13845776556697803},{"$f":"('CPI Sub-Categories'!AO107-'CPI Sub-Categories'!AK107)/'CPI Sub-Categories'!AK107","v":5.6310941129895077E-2},{"$f":"('CPI Sub-Categories'!AQ107-'CPI Sub-Categories'!AL107)/'CPI Sub-Categories'!AL107","v":-1}]
[3,"073400","Passenger transport by sea and inland waterway",null,0,5.3336865294819943E-2,0.15461840718630995,0.15461840718630995,null,0.15461840718630995,9.6153040141761459E-2,0,0,null,0,-7.3963121502089335E-2,-7.3963121502089335E-2,-7.3963121502089335E-2,null,{"$f":"('CPI Sub-Categories'!Y108-'CPI Sub-Categories'!T108)/'CPI Sub-Categories'!T108","v":-7.3963121502089335E-2},{"$f":"('CPI Sub-Categories'!Z108-'CPI Sub-Categories'!U108)/'CPI Sub-Categories'!U108","v":0.19567930178316575},{"$f":"('CPI Sub-Categories'!AA108-'CPI Sub-Categories'!V108)/'CPI Sub-Categories'!V108","v":0.19567930178316575},{"$f":"('CPI Sub-Categories'!AB108-'CPI Sub-Categories'!W108)/'CPI Sub-Categories'!W108","v":0.19567930178316575},null,{"$f":"('CPI Sub-Categories'!AD108-'CPI Sub-Categories'!Y108)/'CPI Sub-Categories'!Y108","v":0.19567930178316575},{"$f":"('CPI Sub-Categories'!AE108-'CPI Sub-Categories'!Z108)/'CPI Sub-Categories'!Z108","v":7.4569931823543281E-2},{"$f":"('CPI Sub-Categories'!AF108-'CPI Sub-Categories'!AA108)/'CPI Sub-Categories'!AA108","v":7.4569931823543281E-2},{"$f":"('CPI Sub-Categories'!AG108-'CPI Sub-Categories'!AB108)/'CPI Sub-Categories'!AB108","v":7.4569931823543281E-2},null,{"$f":"('CPI Sub-Categories'!AI108-'CPI Sub-Categories'!AD108)/'CPI Sub-Categories'!AD108","v":7.4569931823543281E-2},{"$f":"('CPI Sub-Categories'!AJ108-'CPI Sub-Categories'!AE108)/'CPI Sub-Categories'!AE108","v":7.7217345015937286E-2},{"$f":"('CPI Sub-Categories'!AK108-'CPI Sub-Categories'!AF108)/'CPI Sub-Categories'!AF108","v":7.7217345015937286E-2},{"$f":"('CPI Sub-Categories'!AL108-'CPI Sub-Categories'!AG108)/'CPI Sub-Categories'!AG108","v":4.0041911525953447E-2},null,{"$f":"('CPI Sub-Categories'!AM108-'CPI Sub-Categories'!AI108)/'CPI Sub-Categories'!AI108","v":4.0041911525953447E-2},{"$f":"('CPI Sub-Categories'!AN108-'CPI Sub-Categories'!AJ108)/'CPI Sub-Categories'!AJ108","v":-0.11209599825739726},{"$f":"('CPI Sub-Categories'!AO108-'CPI Sub-Categories'!AK108)/'CPI Sub-Categories'!AK108","v":-0.11209599825739726},{"$f":"('CPI Sub-Categories'!AQ108-'CPI Sub-Categories'!AL108)/'CPI Sub-Categories'!AL108","v":-1}]
[3,"073500","Combined passenger transport",null,"Not relevant","Not relevant","Not relevant","Not relevant",null,"Not relevant","Not relevant","Not relevant","Not relevant",null,"Not relevant","Not relevant","Not relevant","Not relevant",null,"Not relevant","Not relevant","Not relevant","Not relevant",null,"Not relevant","Not relevant","Not relevant","Not relevant",null,"Not relevant","Not relevant","Not relevant","Not available",null,"Not relevant","Not relevant","Not relevant","Not available"]
[3,"073600","Other purchased transport services",null,"Not relevant","Not relevant","Not relevant","Not relevant",null,"Not relevant","Not relevant","Not relevant","Not relevant",null,"Not relevant","Not relevant","Not relevant","Not relevant",null,"Not relevant","Not relevant","Not relevant","Not relevant",null,"Not relevant","Not relevant","Not relevant","Not relevant",null,"Not relevant","Not relevant","Not relevant","Not available",null,"Not relevant","Not relevant","Not relevant","Not available"]
[1,"080000","Communication",null,-4.081476992113078E-3,-3.7970230482978241E-3,-9.5538401003992159E-3,-3.1964810076478514E-2,null,-2.4520925794663338E-2,-2.2607793260994158E-2,-1.6574195359782381E-2,2.8524273831330646E-2,null,6.2788145660866518E-2,6.7191052193486395E-2,6.7215722065396694E-2,5.0968534772926156E-2,null,{"$f":"('CPI Sub-Categories'!Y111-'CPI Sub-Categories'!T111)/'CPI Sub-Categories'!T111","v":1.406061651967914E-2},{"$f":"('CPI Sub-Categories'!Z111-'CPI Sub-Categories'!U111)/'CPI Sub-Categories'!U111","v":1.3718817373175062E-2},{"$f":"('CPI Sub-Categories'!AA111-'CPI Sub-Categories'!V111)/'CPI Sub-Categories'!V111","v":1.7973865140069451E-2},{"$f":"('CPI Sub-Categories'!AB111-'CPI Sub-Categories'!W111)/'CPI Sub-Categories'!W111","v":4.6739638670326702E-3},null,{"$f":"('CPI Sub-Categories'!AD111-'CPI Sub-Categories'!Y111)/'CPI Sub-Categories'!Y111","v":7.2358638320088849E-3},{"$f":"('CPI Sub-Categories'!AE111-'CPI Sub-Categories'!Z111)/'CPI Sub-Categories'!Z111","v":6.5638532686007811E-3},{"$f":"('CPI Sub-Categories'!AF111-'CPI Sub-Categories'!AA111)/'CPI Sub-Categories'!AA111","v":4.735453289410264E-4},{"$f":"('CPI Sub-Categories'!AG111-'CPI Sub-Categories'!AB111)/'CPI Sub-Categories'!AB111","v":9.5616525018302242E-2},null,{"$f":"('CPI Sub-Categories'!AI111-'CPI Sub-Categories'!AD111)/'CPI Sub-Categories'!AD111","v":9.8747613270392054E-2},{"$f":"('CPI Sub-Categories'!AJ111-'CPI Sub-Categories'!AE111)/'CPI Sub-Categories'!AE111","v":9.3030708868185069E-2},{"$f":"('CPI Sub-Categories'!AK111-'CPI Sub-Categories'!AF111)/'CPI Sub-Categories'!AF111","v":9.247359798570276E-2},{"$f":"('CPI Sub-Categories'!AL111-'CPI Sub-Categories'!AG111)/'CPI Sub-Categories'!AG111","v":1.2879157441512849E-2},null,{"$f":"('CPI Sub-Categories'!AM111-'CPI Sub-Categories'!AI111)/'CPI Sub-Categories'!AI111","v":1.6330861057695292E-2},{"$f":"('CPI Sub-Categories'!AN111-'CPI Sub-Categories'!AJ111)/'CPI Sub-Categories'!AJ111","v":0},{"$f":"('CPI Sub-Categories'!AO111-'CPI Sub-Categories'!AK111)/'CPI Sub-Categories'!AK111","v":1.3367177337323004E-2},{"$f":"('CPI Sub-Categories'!AQ111-'CPI Sub-Categories'!AL111)/'CPI Sub-Categories'!AL111","v":-1},{"$f":"VLOOKUP($B111,'[17]Level 1 - vlookup table'!$B$2:$D$13,3,FALSE)","v":117.697275610809}]
[2,"081000","Postal services",null,0,2.1096037076940063E-2,2.1096037076940063E-2,2.1096037076940063E-2,null,2.1096037076940063E-2,-7.3271903972258287E-2,-7.3271903972258287E-2,-7.3271903972258287E-2,null,-7.3271903972258287E-2,5.6465469247502738E-2,5.6465469247502738E-2,9.2540454826046975E-2,null,{"$f":"('CPI Sub-Categories'!Y112-'CPI Sub-Categories'!T112)/'CPI Sub-Categories'!T112","v":9.2540454826046975E-2},{"$f":"('CPI Sub-Categories'!Z112-'CPI Sub-Categories'!U112)/'CPI Sub-Categories'!U112","v":3.4146866725563989E-2},{"$f":"('CPI Sub-Categories'!AA112-'CPI Sub-Categories'!V112)/'CPI Sub-Categories'!V112","v":3.4146866725563989E-2},{"$f":"('CPI Sub-Categories'!AB112-'CPI Sub-Categories'!W112)/'CPI Sub-Categories'!W112","v":0.21762304620342945},null,{"$f":"('CPI Sub-Categories'!AD112-'CPI Sub-Categories'!Y112)/'CPI Sub-Categories'!Y112","v":0.21762304620341968},{"$f":"('CPI Sub-Categories'!AE112-'CPI Sub-Categories'!Z112)/'CPI Sub-Categories'!Z112","v":0.21762304620340781},{"$f":"('CPI Sub-Categories'!AF112-'CPI Sub-Categories'!AA112)/'CPI Sub-Categories'!AA112","v":0.21762304620340781},{"$f":"('CPI Sub-Categories'!AG112-'CPI Sub-Categories'!AB112)/'CPI Sub-Categories'!AB112","v":7.3380284019737091E-2},null,{"$f":"('CPI Sub-Categories'!AI112-'CPI Sub-Categories'!AD112)/'CPI Sub-Categories'!AD112","v":7.3380284019745695E-2},{"$f":"('CPI Sub-Categories'!AJ112-'CPI Sub-Categories'!AE112)/'CPI Sub-Categories'!AE112","v":0.11752974137403796},{"$f":"('CPI Sub-Categories'!AK112-'CPI Sub-Categories'!AF112)/'CPI Sub-Categories'!AF112","v":0.11752974137403796},{"$f":"('CPI Sub-Categories'!AL112-'CPI Sub-Categories'!AG112)/'CPI Sub-Categories'!AG112","v":9.6886504938826137E-3},null,{"$f":"('CPI Sub-Categories'!AM112-'CPI Sub-Categories'!AI112)/'CPI Sub-Categories'!AI112","v":9.6886504938826137E-3},{"$f":"('CPI Sub-Categories'!AN112-'CPI Sub-Categories'!AJ112)/'CPI Sub-Categories'!AJ112","v":0.1489702352385838},{"$f":"('CPI Sub-Categories'!AO112-'CPI Sub-Categories'!AK112)/'CPI Sub-Categories'!AK112","v":0.1489702352385838},{"$f":"('CPI Sub-Categories'!AQ112-'CPI Sub-Categories'!AL112)/'CPI Sub-Categories'!AL112","v":-1}]
[3,"081100","Postal services",null,0,2.1096037076940063E-2,2.1096037076940063E-2,2.1096037076940063E-2,null,2.1096037076940063E-2,-7.3271903972258287E-2,-7.3271903972258287E-2,-7.3271903972258287E-2,null,-7.3271903972258287E-2,5.6465469247502738E-2,5.6465469247502738E-2,9.2540454826046975E-2,null,{"$f":"('CPI Sub-Categories'!Y113-'CPI Sub-Categories'!T113)/'CPI Sub-Categories'!T113","v":9.2540454826046975E-2},{"$f":"('CPI Sub-Categories'!Z113-'CPI Sub-Categories'!U113)/'CPI Sub-Categories'!U113","v":3.4146866725563989E-2},{"$f":"('CPI Sub-Categories'!AA113-'CPI Sub-Categories'!V113)/'CPI Sub-Categories'!V113","v":3.4146866725563989E-2},{"$f":"('CPI Sub-Categories'!AB113-'CPI Sub-Categories'!W113)/'CPI Sub-Categories'!W113","v":0.21762304620342945},null,{"$f":"('CPI Sub-Categories'!AD113-'CPI Sub-Categories'!Y113)/'CPI Sub-Categories'!Y113","v":0.21762304620341968},{"$f":"('CPI Sub-Categories'!AE113-'CPI Sub-Categories'!Z113)/'CPI Sub-Categories'!Z113","v":0.21762304620340781},{"$f":"('CPI Sub-Categories'!AF113-'CPI Sub-Categories'!AA113)/'CPI Sub-Categories'!AA113","v":0.21762304620340781},{"$f":"('CPI Sub-Categories'!AG113-'CPI Sub-Categories'!AB113)/'CPI Sub-Categories'!AB113","v":7.3380284019737091E-2},null,{"$f":"('CPI Sub-Categories'!AI113-'CPI Sub-Categories'!AD113)/'CPI Sub-Categories'!AD113","v":7.3380284019745695E-2},{"$f":"('CPI Sub-Categories'!AJ113-'CPI Sub-Categories'!AE113)/'CPI Sub-Categories'!AE113","v":0.11752974137403796},{"$f":"('CPI Sub-Categories'!AK113-'CPI Sub-Categories'!AF113)/'CPI Sub-Categories'!AF113","v":0.11752974137403796},{"$f":"('CPI Sub-Categories'!AL113-'CPI Sub-Categories'!AG113)/'CPI Sub-Categories'!AG113","v":9.6886504938826137E-3},null,{"$f":"('CPI Sub-Categories'!AM113-'CPI Sub-Categories'!AI113)/'CPI Sub-Categories'!AI113","v":9.6886504938826137E-3},{"$f":"('CPI Sub-Categories'!AN113-'CPI Sub-Categories'!AJ113)/'CPI Sub-Categories'!AJ113","v":0.1489702352385838},{"$f":"('CPI Sub-Categories'!AO113-'CPI Sub-Categories'!AK113)/'CPI Sub-Categories'!AK113","v":0.1489702352385838},{"$f":"('CPI Sub-Categories'!AQ113-'CPI Sub-Categories'!AL113)/'CPI Sub-Categories'!AL113","v":-1}]
[2,"082000","Telephone and telefax equipment",null,-2.9156658639029717E-2,-2.7860508414137959E-2,-8.6584834785057699E-2,-7.0294482299221653E-2,null,-1.6858995138708067E-2,1.1403562991489846E-2,6.4205413205777967E-2,4.6770505842484392E-2,null,3.798544566952964E-2,5.7170362728255576E-2,5.756085283250259E-2,9.8065592794890064E-2,null,{"$f":"('CPI Sub-Categories'!Y114-'CPI Sub-Categories'!T114)/'CPI Sub-Categories'!T114","v":3.9619823142812989E-2},{"$f":"('CPI Sub-Categories'!Z114-'CPI Sub-Categories'!U114)/'CPI Sub-Categories'!U114","v":4.2261365232152202E-2},{"$f":"('CPI Sub-Categories'!AA114-'CPI Sub-Categories'!V114)/'CPI Sub-Categories'!V114","v":7.5710670496517002E-2},{"$f":"('CPI Sub-Categories'!AB114-'CPI Sub-Categories'!W114)/'CPI Sub-Categories'!W114","v":4.9383686262080034E-2},null,{"$f":"('CPI Sub-Categories'!AD114-'CPI Sub-Categories'!Y114)/'CPI Sub-Categories'!Y114","v":0.1204044194718798},{"$f":"('CPI Sub-Categories'!AE114-'CPI Sub-Categories'!Z114)/'CPI Sub-Categories'!Z114","v":0.10991638263982079},{"$f":"('CPI Sub-Categories'!AF114-'CPI Sub-Categories'!AA114)/'CPI Sub-Categories'!AA114","v":5.8643764377363454E-2},{"$f":"('CPI Sub-Categories'!AG114-'CPI Sub-Categories'!AB114)/'CPI Sub-Categories'!AB114","v":2.0090454830026801E-2},null,{"$f":"('CPI Sub-Categories'!AI114-'CPI Sub-Categories'!AD114)/'CPI Sub-Categories'!AD114","v":4.4656154273031649E-2},{"$f":"('CPI Sub-Categories'!AJ114-'CPI Sub-Categories'!AE114)/'CPI Sub-Categories'!AE114","v":-1.7278082082725652E-4},{"$f":"('CPI Sub-Categories'!AK114-'CPI Sub-Categories'!AF114)/'CPI Sub-Categories'!AF114","v":-2.4217157430967622E-2},{"$f":"('CPI Sub-Categories'!AL114-'CPI Sub-Categories'!AG114)/'CPI Sub-Categories'!AG114","v":-1.8010871565663413E-2},null,{"$f":"('CPI Sub-Categories'!AM114-'CPI Sub-Categories'!AI114)/'CPI Sub-Categories'!AI114","v":1.0164438232346543E-2},{"$f":"('CPI Sub-Categories'!AN114-'CPI Sub-Categories'!AJ114)/'CPI Sub-Categories'!AJ114","v":-4.0822527059562966E-3},{"$f":"('CPI Sub-Categories'!AO114-'CPI Sub-Categories'!AK114)/'CPI Sub-Categories'!AK114","v":-1.3193917129369402E-2},{"$f":"('CPI Sub-Categories'!AQ114-'CPI Sub-Categories'!AL114)/'CPI Sub-Categories'!AL114","v":-1}]
[3,"082100","Telephone and telefax equipment",null,-2.9156658639029717E-2,-2.7860508414137959E-2,-8.6584834785057699E-2,-7.0294482299221653E-2,null,-1.6858995138708067E-2,1.1403562991489846E-2,6.4205413205777967E-2,4.6770505842484392E-2,null,3.798544566952964E-2,5.7170362728255576E-2,5.756085283250259E-2,9.8065592794890064E-2,null,{"$f":"('CPI Sub-Categories'!Y115-'CPI Sub-Categories'!T115)/'CPI Sub-Categories'!T115","v":3.9619823142812989E-2},{"$f":"('CPI Sub-Categories'!Z115-'CPI Sub-Categories'!U115)/'CPI Sub-Categories'!U115","v":4.2261365232152202E-2},{"$f":"('CPI Sub-Categories'!AA115-'CPI Sub-Categories'!V115)/'CPI Sub-Categories'!V115","v":7.5710670496517002E-2},{"$f":"('CPI Sub-Categories'!AB115-'CPI Sub-Categories'!W115)/'CPI Sub-Categories'!W115","v":4.9383686262080034E-2},null,{"$f":"('CPI Sub-Categories'!AD115-'CPI Sub-Categories'!Y115)/'CPI Sub-Categories'!Y115","v":0.1204044194718798},{"$f":"('CPI Sub-Categories'!AE115-'CPI Sub-Categories'!Z115)/'CPI Sub-Categories'!Z115","v":0.10991638263982079},{"$f":"('CPI Sub-Categories'!AF115-'CPI Sub-Categories'!AA115)/'CPI Sub-Categories'!AA115","v":5.8643764377363454E-2},{"$f":"('CPI Sub-Categories'!AG115-'CPI Sub-Categories'!AB115)/'CPI Sub-Categories'!AB115","v":2.0090454830026801E-2},null,{"$f":"('CPI Sub-Categories'!AI115-'CPI Sub-Categories'!AD115)/'CPI Sub-Categories'!AD115","v":4.4656154273031649E-2},{"$f":"('CPI Sub-Categories'!AJ115-'CPI Sub-Categories'!AE115)/'CPI Sub-Categories'!AE115","v":-1.7278082082725652E-4},{"$f":"('CPI Sub-Categories'!AK115-'CPI Sub-Categories'!AF115)/'CPI Sub-Categories'!AF115","v":-2.4217157430967622E-2},{"$f":"('CPI Sub-Categories'!AL115-'CPI Sub-Categories'!AG115)/'CPI Sub-Categories'!AG115","v":-1.8010871565663413E-2},null,{"$f":"('CPI Sub-Categories'!AM115-'CPI Sub-Categories'!AI115)/'CPI Sub-Categories'!AI115","v":1.0164438232346543E-2},{"$f":"('CPI Sub-Categories'!AN115-'CPI Sub-Categories'!AJ115)/'CPI Sub-Categories'!AJ115","v":-4.0822527059562966E-3},{"$f":"('CPI Sub-Categories'!AO115-'CPI Sub-Categories'!AK115)/'CPI Sub-Categories'!AK115","v":-1.3193917129369402E-2},{"$f":"('CPI Sub-Categories'!AQ115-'CPI Sub-Categories'!AL115)/'CPI Sub-Categories'!AL115","v":-1}]
[2,"083000","Telephone and telefax services",null,0,0,0,-2.7486032278338967E-2,null,-2.6401730445411005E-2,-2.6401730445411005E-2,-2.6401730445411005E-2,2.7909467376467788E-2,null,6.8821541784112775E-2,6.8821541784112775E-2,6.8821541784112775E-2,4.3628211885300888E-2,null,{"$f":"('CPI Sub-Categories'!Y116-'CPI Sub-Categories'!T116)/'CPI Sub-Categories'!T116","v":9.2993645562514347E-3},{"$f":"('CPI Sub-Categories'!Z116-'CPI Sub-Categories'!U116)/'CPI Sub-Categories'!U116","v":9.2993645562514347E-3},{"$f":"('CPI Sub-Categories'!AA116-'CPI Sub-Categories'!V116)/'CPI Sub-Categories'!V116","v":9.2993645562514347E-3},{"$f":"('CPI Sub-Categories'!AB116-'CPI Sub-Categories'!W116)/'CPI Sub-Categories'!W116","v":-5.7267013352707901E-3},null,{"$f":"('CPI Sub-Categories'!AD116-'CPI Sub-Categories'!Y116)/'CPI Sub-Categories'!Y116","v":-1.2363095958811049E-2},{"$f":"('CPI Sub-Categories'!AE116-'CPI Sub-Categories'!Z116)/'CPI Sub-Categories'!Z116","v":-1.2363095958811049E-2},{"$f":"('CPI Sub-Categories'!AF116-'CPI Sub-Categories'!AA116)/'CPI Sub-Categories'!AA116","v":-1.2363095958811049E-2},{"$f":"('CPI Sub-Categories'!AG116-'CPI Sub-Categories'!AB116)/'CPI Sub-Categories'!AB116","v":0.10791799527740047},null,{"$f":"('CPI Sub-Categories'!AI116-'CPI Sub-Categories'!AD116)/'CPI Sub-Categories'!AD116","v":0.10791799527740047},{"$f":"('CPI Sub-Categories'!AJ116-'CPI Sub-Categories'!AE116)/'CPI Sub-Categories'!AE116","v":0.10791799527740047},{"$f":"('CPI Sub-Categories'!AK116-'CPI Sub-Categories'!AF116)/'CPI Sub-Categories'!AF116","v":0.10791799527740047},{"$f":"('CPI Sub-Categories'!AL116-'CPI Sub-Categories'!AG116)/'CPI Sub-Categories'!AG116","v":1.7397021421890126E-2},null,{"$f":"('CPI Sub-Categories'!AM116-'CPI Sub-Categories'!AI116)/'CPI Sub-Categories'!AI116","v":1.7397021421890126E-2},{"$f":"('CPI Sub-Categories'!AN116-'CPI Sub-Categories'!AJ116)/'CPI Sub-Categories'!AJ116","v":1.7397021421890126E-2},{"$f":"('CPI Sub-Categories'!AO116-'CPI Sub-Categories'!AK116)/'CPI Sub-Categories'!AK116","v":1.7397021421890126E-2},{"$f":"('CPI Sub-Categories'!AQ116-'CPI Sub-Categories'!AL116)/'CPI Sub-Categories'!AL116","v":-1}]
[3,"083100","Telephone and telefax services",null,0,0,0,-2.7486032278338967E-2,null,-2.6401730445411005E-2,-2.6401730445411005E-2,-2.6401730445411005E-2,2.7909467376467788E-2,null,6.8821541784112775E-2,6.8821541784112775E-2,6.8821541784112775E-2,4.3628211885300888E-2,null,{"$f":"('CPI Sub-Categories'!Y117-'CPI Sub-Categories'!T117)/'CPI Sub-Categories'!T117","v":9.2993645562514347E-3},{"$f":"('CPI Sub-Categories'!Z117-'CPI Sub-Categories'!U117)/'CPI Sub-Categories'!U117","v":9.2993645562514347E-3},{"$f":"('CPI Sub-Categories'!AA117-'CPI Sub-Categories'!V117)/'CPI Sub-Categories'!V117","v":9.2993645562514347E-3},{"$f":"('CPI Sub-Categories'!AB117-'CPI Sub-Categories'!W117)/'CPI Sub-Categories'!W117","v":-5.7267013352707901E-3},null,{"$f":"('CPI Sub-Categories'!AD117-'CPI Sub-Categories'!Y117)/'CPI Sub-Categories'!Y117","v":-1.2363095958811049E-2},{"$f":"('CPI Sub-Categories'!AE117-'CPI Sub-Categories'!Z117)/'CPI Sub-Categories'!Z117","v":-1.2363095958811049E-2},{"$f":"('CPI Sub-Categories'!AF117-'CPI Sub-Categories'!AA117)/'CPI Sub-Categories'!AA117","v":-1.2363095958811049E-2},{"$f":"('CPI Sub-Categories'!AG117-'CPI Sub-Categories'!AB117)/'CPI Sub-Categories'!AB117","v":0.10791799527740047},null,{"$f":"('CPI Sub-Categories'!AI117-'CPI Sub-Categories'!AD117)/'CPI Sub-Categories'!AD117","v":0.10791799527740047},{"$f":"('CPI Sub-Categories'!AJ117-'CPI Sub-Categories'!AE117)/'CPI Sub-Categories'!AE117","v":0.10791799527740047},{"$f":"('CPI Sub-Categories'!AK117-'CPI Sub-Categories'!AF117)/'CPI Sub-Categories'!AF117","v":0.10791799527740047},{"$f":"('CPI Sub-Categories'!AL117-'CPI Sub-Categories'!AG117)/'CPI Sub-Categories'!AG117","v":1.7397021421890126E-2},null,{"$f":"('CPI Sub-Categories'!AM117-'CPI Sub-Categories'!AI117)/'CPI Sub-Categories'!AI117","v":1.7397021421890126E-2},{"$f":"('CPI Sub-Categories'!AN117-'CPI Sub-Categories'!AJ117)/'CPI Sub-Categories'!AJ117","v":1.7397021421890126E-2},{"$f":"('CPI Sub-Categories'!AO117-'CPI Sub-Categories'!AK117)/'CPI Sub-Categories'!AK117","v":1.7397021421890126E-2},{"$f":"('CPI Sub-Categories'!AQ117-'CPI Sub-Categories'!AL117)/'CPI Sub-Categories'!AL117","v":-1}]
[1,"090000","Recreation and culture",null,1.7676871209582268E-4,-4.477570050942745E-3,1.0733810292135231E-2,5.1252572040146348E-2,null,4.4415083899617486E-2,5.705212848203408E-2,4.184591353452629E-2,-1.8821667615953486E-2,null,-5.2661324577234193E-2,-4.974972640446209E-2,-3.5058169687472912E-2,3.5012908813009447E-2,null,{"$f":"('CPI Sub-Categories'!Y118-'CPI Sub-Categories'!T118)/'CPI Sub-Categories'!T118","v":7.0797132060811646E-2},{"$f":"('CPI Sub-Categories'!Z118-'CPI Sub-Categories'!U118)/'CPI Sub-Categories'!U118","v":6.414969721017684E-2},{"$f":"('CPI Sub-Categories'!AA118-'CPI Sub-Categories'!V118)/'CPI Sub-Categories'!V118","v":7.3462247816374518E-2},{"$f":"('CPI Sub-Categories'!AB118-'CPI Sub-Categories'!W118)/'CPI Sub-Categories'!W118","v":2.5166942306875627E-2},null,{"$f":"('CPI Sub-Categories'!AD118-'CPI Sub-Categories'!Y118)/'CPI Sub-Categories'!Y118","v":3.2308101773287905E-2},{"$f":"('CPI Sub-Categories'!AE118-'CPI Sub-Categories'!Z118)/'CPI Sub-Categories'!Z118","v":3.0697397733193955E-2},{"$f":"('CPI Sub-Categories'!AF118-'CPI Sub-Categories'!AA118)/'CPI Sub-Categories'!AA118","v":5.575265539324957E-2},{"$f":"('CPI Sub-Categories'!AG118-'CPI Sub-Categories'!AB118)/'CPI Sub-Categories'!AB118","v":1.0778360774471288E-2},null,{"$f":"('CPI Sub-Categories'!AI118-'CPI Sub-Categories'!AD118)/'CPI Sub-Categories'!AD118","v":-1.3182799735933275E-2},{"$f":"('CPI Sub-Categories'!AJ118-'CPI Sub-Categories'!AE118)/'CPI Sub-Categories'!AE118","v":-2.7203361287689947E-2},{"$f":"('CPI Sub-Categories'!AK118-'CPI Sub-Categories'!AF118)/'CPI Sub-Categories'!AF118","v":-5.5995157570293559E-2},{"$f":"('CPI Sub-Categories'!AL118-'CPI Sub-Categories'!AG118)/'CPI Sub-Categories'!AG118","v":1.7785129050948301E-2},null,{"$f":"('CPI Sub-Categories'!AM118-'CPI Sub-Categories'!AI118)/'CPI Sub-Categories'!AI118","v":3.4022230988762024E-2},{"$f":"('CPI Sub-Categories'!AN118-'CPI Sub-Categories'!AJ118)/'CPI Sub-Categories'!AJ118","v":0},{"$f":"('CPI Sub-Categories'!AO118-'CPI Sub-Categories'!AK118)/'CPI Sub-Categories'!AK118","v":2.0810239272577188E-2},{"$f":"('CPI Sub-Categories'!AQ118-'CPI Sub-Categories'!AL118)/'CPI Sub-Categories'!AL118","v":-1},{"$f":"VLOOKUP($B118,'[17]Level 1 - vlookup table'!$B$2:$D$13,3,FALSE)","v":112.16495540473301}]
[2,"091000","Audio-visual, photographic and information processing equipment",null,-2.0059820063681524E-2,-4.8290135623291541E-2,6.1025083589617564E-2,0.16115014235312272,null,2.8009132663210163E-2,2.7271367036230343E-2,-1.5095994084612707E-2,-5.7578476962641796E-2,null,-5.3960711901866402E-2,-3.4737056862119827E-3,6.5567317546942156E-3,3.2401294995455659E-2,null,{"$f":"('CPI Sub-Categories'!Y119-'CPI Sub-Categories'!T119)/'CPI Sub-Categories'!T119","v":8.1558111696090674E-2},{"$f":"('CPI Sub-Categories'!Z119-'CPI Sub-Categories'!U119)/'CPI Sub-Categories'!U119","v":5.1487424241494474E-2},{"$f":"('CPI Sub-Categories'!AA119-'CPI Sub-Categories'!V119)/'CPI Sub-Categories'!V119","v":2.5024732051652569E-2},{"$f":"('CPI Sub-Categories'!AB119-'CPI Sub-Categories'!W119)/'CPI Sub-Categories'!W119","v":1.6566295873582642E-2},null,{"$f":"('CPI Sub-Categories'!AD119-'CPI Sub-Categories'!Y119)/'CPI Sub-Categories'!Y119","v":1.5986715736688108E-2},{"$f":"('CPI Sub-Categories'!AE119-'CPI Sub-Categories'!Z119)/'CPI Sub-Categories'!Z119","v":6.1810364520591521E-2},{"$f":"('CPI Sub-Categories'!AF119-'CPI Sub-Categories'!AA119)/'CPI Sub-Categories'!AA119","v":0.11408773839136621},{"$f":"('CPI Sub-Categories'!AG119-'CPI Sub-Categories'!AB119)/'CPI Sub-Categories'!AB119","v":-2.3276174896835911E-2},null,{"$f":"('CPI Sub-Categories'!AI119-'CPI Sub-Categories'!AD119)/'CPI Sub-Categories'!AD119","v":-7.569469282579995E-2},{"$f":"('CPI Sub-Categories'!AJ119-'CPI Sub-Categories'!AE119)/'CPI Sub-Categories'!AE119","v":-0.11783501244303955},{"$f":"('CPI Sub-Categories'!AK119-'CPI Sub-Categories'!AF119)/'CPI Sub-Categories'!AF119","v":-0.16374670866571617},{"$f":"('CPI Sub-Categories'!AL119-'CPI Sub-Categories'!AG119)/'CPI Sub-Categories'!AG119","v":-0.14790051285969943},null,{"$f":"('CPI Sub-Categories'!AM119-'CPI Sub-Categories'!AI119)/'CPI Sub-Categories'!AI119","v":-0.1238275468404636},{"$f":"('CPI Sub-Categories'!AN119-'CPI Sub-Categories'!AJ119)/'CPI Sub-Categories'!AJ119","v":-0.10735040801637523},{"$f":"('CPI Sub-Categories'!AO119-'CPI Sub-Categories'!AK119)/'CPI Sub-Categories'!AK119","v":-0.11105001916000999},{"$f":"('CPI Sub-Categories'!AQ119-'CPI Sub-Categories'!AL119)/'CPI Sub-Categories'!AL119","v":-1}]
[3,"091100","Equipment for the reception, recording and reproduction of sounds",null,-2.0752075697123066E-2,6.3875357180485898E-2,2.1402936752190519E-2,3.1266776460609244E-3,null,4.5074569700342987E-2,-0.15947919101758684,-0.17683881245296004,-0.16929456480972305,null,-0.19669474382390173,-3.4052367284116404E-2,-8.5733233093860384E-3,7.5095388040900851E-2,null,{"$f":"('CPI Sub-Categories'!Y120-'CPI Sub-Categories'!T120)/'CPI Sub-Categories'!T120","v":0.134486101721386},{"$f":"('CPI Sub-Categories'!Z120-'CPI Sub-Categories'!U120)/'CPI Sub-Categories'!U120","v":0.10838727377300962},{"$f":"('CPI Sub-Categories'!AA120-'CPI Sub-Categories'!V120)/'CPI Sub-Categories'!V120","v":7.2166420820409999E-2},{"$f":"('CPI Sub-Categories'!AB120-'CPI Sub-Categories'!W120)/'CPI Sub-Categories'!W120","v":-1.8197926809031199E-2},null,{"$f":"('CPI Sub-Categories'!AD120-'CPI Sub-Categories'!Y120)/'CPI Sub-Categories'!Y120","v":-4.1491145457525996E-2},{"$f":"('CPI Sub-Categories'!AE120-'CPI Sub-Categories'!Z120)/'CPI Sub-Categories'!Z120","v":-9.1776875573542416E-2},{"$f":"('CPI Sub-Categories'!AF120-'CPI Sub-Categories'!AA120)/'CPI Sub-Categories'!AA120","v":-8.9712561538983493E-2},{"$f":"('CPI Sub-Categories'!AG120-'CPI Sub-Categories'!AB120)/'CPI Sub-Categories'!AB120","v":-0.10485597949003488},null,{"$f":"('CPI Sub-Categories'!AI120-'CPI Sub-Categories'!AD120)/'CPI Sub-Categories'!AD120","v":-7.767724855535349E-2},{"$f":"('CPI Sub-Categories'!AJ120-'CPI Sub-Categories'!AE120)/'CPI Sub-Categories'!AE120","v":-4.596526460393173E-2},{"$f":"('CPI Sub-Categories'!AK120-'CPI Sub-Categories'!AF120)/'CPI Sub-Categories'!AF120","v":-4.4272819562847628E-2},{"$f":"('CPI Sub-Categories'!AL120-'CPI Sub-Categories'!AG120)/'CPI Sub-Categories'!AG120","v":4.0213942842441668E-2},null,{"$f":"('CPI Sub-Categories'!AM120-'CPI Sub-Categories'!AI120)/'CPI Sub-Categories'!AI120","v":5.3794948091126484E-2},{"$f":"('CPI Sub-Categories'!AN120-'CPI Sub-Categories'!AJ120)/'CPI Sub-Categories'!AJ120","v":7.8828139126375499E-2},{"$f":"('CPI Sub-Categories'!AO120-'CPI Sub-Categories'!AK120)/'CPI Sub-Categories'!AK120","v":6.5024946970858116E-2},{"$f":"('CPI Sub-Categories'!AQ120-'CPI Sub-Categories'!AL120)/'CPI Sub-Categories'!AL120","v":-1}]
[3,"091200","Photographic and cinematographic equipment and optical instruments",null,-0.51551612655233126,-0.54103109414734096,-0.54103109414734096,-5.0955964855555057E-2,null,2.149219258446862E-2,2.5492618993745012E-2,6.6682423796231337E-3,3.6801985096421748E-2,null,-3.6732001747225448E-2,-1.8356423308627145E-2,-4.7918701229522985E-2,-7.4228818452909226E-2,null,{"$f":"('CPI Sub-Categories'!Y121-'CPI Sub-Categories'!T121)/'CPI Sub-Categories'!T121","v":0.50704271830582393},{"$f":"('CPI Sub-Categories'!Z121-'CPI Sub-Categories'!U121)/'CPI Sub-Categories'!U121","v":0.5925762856169815},{"$f":"('CPI Sub-Categories'!AA121-'CPI Sub-Categories'!V121)/'CPI Sub-Categories'!V121","v":0.76362508516488636},{"$f":"('CPI Sub-Categories'!AB121-'CPI Sub-Categories'!W121)/'CPI Sub-Categories'!W121","v":0.7398348629880046},null,{"$f":"('CPI Sub-Categories'!AD121-'CPI Sub-Categories'!Y121)/'CPI Sub-Categories'!Y121","v":-3.6312872890433126E-2},{"$f":"('CPI Sub-Categories'!AE121-'CPI Sub-Categories'!Z121)/'CPI Sub-Categories'!Z121","v":-0.10685881624363459},{"$f":"('CPI Sub-Categories'!AF121-'CPI Sub-Categories'!AA121)/'CPI Sub-Categories'!AA121","v":-0.21062780887189989},{"$f":"('CPI Sub-Categories'!AG121-'CPI Sub-Categories'!AB121)/'CPI Sub-Categories'!AB121","v":-0.2440837591320624},null,{"$f":"('CPI Sub-Categories'!AI121-'CPI Sub-Categories'!AD121)/'CPI Sub-Categories'!AD121","v":-0.16678815594398214},{"$f":"('CPI Sub-Categories'!AJ121-'CPI Sub-Categories'!AE121)/'CPI Sub-Categories'!AE121","v":-5.2388120226793927E-2},{"$f":"('CPI Sub-Categories'!AK121-'CPI Sub-Categories'!AF121)/'CPI Sub-Categories'!AF121","v":3.8983418863617445E-3},{"$f":"('CPI Sub-Categories'!AL121-'CPI Sub-Categories'!AG121)/'CPI Sub-Categories'!AG121","v":0.13226495876379585},null,{"$f":"('CPI Sub-Categories'!AM121-'CPI Sub-Categories'!AI121)/'CPI Sub-Categories'!AI121","v":-4.9780823896059916E-2},{"$f":"('CPI Sub-Categories'!AN121-'CPI Sub-Categories'!AJ121)/'CPI Sub-Categories'!AJ121","v":-9.4999604891008879E-2},{"$f":"('CPI Sub-Categories'!AO121-'CPI Sub-Categories'!AK121)/'CPI Sub-Categories'!AK121","v":-7.4197710111351164E-2},{"$f":"('CPI Sub-Categories'!AQ121-'CPI Sub-Categories'!AL121)/'CPI Sub-Categories'!AL121","v":-1}]
[3,"091300","Information processing equipment",null,6.0640498741485187E-2,2.9317654071822608E-3,0.23224065342452374,0.27696148332458276,null,3.313411135965981E-2,9.3861970535111458E-2,3.3155671915227357E-2,-3.4108169030993937E-2,null,-1.5148380171929845E-2,9.0971246782695567E-3,1.6005660739988315E-2,3.6666973966145947E-2,null,{"$f":"('CPI Sub-Categories'!Y122-'CPI Sub-Categories'!T122)/'CPI Sub-Categories'!T122","v":5.6767953390517656E-2},{"$f":"('CPI Sub-Categories'!Z122-'CPI Sub-Categories'!U122)/'CPI Sub-Categories'!U122","v":1.6783307321273429E-2},{"$f":"('CPI Sub-Categories'!AA122-'CPI Sub-Categories'!V122)/'CPI Sub-Categories'!V122","v":-1.5403482703934632E-2},{"$f":"('CPI Sub-Categories'!AB122-'CPI Sub-Categories'!W122)/'CPI Sub-Categories'!W122","v":-7.4663126893447984E-3},null,{"$f":"('CPI Sub-Categories'!AD122-'CPI Sub-Categories'!Y122)/'CPI Sub-Categories'!Y122","v":4.2019878598263907E-2},{"$f":"('CPI Sub-Categories'!AE122-'CPI Sub-Categories'!Z122)/'CPI Sub-Categories'!Z122","v":0.12741999470179358},{"$f":"('CPI Sub-Categories'!AF122-'CPI Sub-Categories'!AA122)/'CPI Sub-Categories'!AA122","v":0.21074019537999178},{"$f":"('CPI Sub-Categories'!AG122-'CPI Sub-Categories'!AB122)/'CPI Sub-Categories'!AB122","v":1.8314307779411503E-2},null,{"$f":"('CPI Sub-Categories'!AI122-'CPI Sub-Categories'!AD122)/'CPI Sub-Categories'!AD122","v":-6.9290758232138552E-2},{"$f":"('CPI Sub-Categories'!AJ122-'CPI Sub-Categories'!AE122)/'CPI Sub-Categories'!AE122","v":-0.14222225787463141},{"$f":"('CPI Sub-Categories'!AK122-'CPI Sub-Categories'!AF122)/'CPI Sub-Categories'!AF122","v":-0.20637571100335797},{"$f":"('CPI Sub-Categories'!AL122-'CPI Sub-Categories'!AG122)/'CPI Sub-Categories'!AG122","v":-0.21968846596348648},null,{"$f":"('CPI Sub-Categories'!AM122-'CPI Sub-Categories'!AI122)/'CPI Sub-Categories'!AI122","v":-0.18004038491064514},{"$f":"('CPI Sub-Categories'!AN122-'CPI Sub-Categories'!AJ122)/'CPI Sub-Categories'!AJ122","v":-0.16347690398242815},{"$f":"('CPI Sub-Categories'!AO122-'CPI Sub-Categories'!AK122)/'CPI Sub-Categories'!AK122","v":-0.16342233233594136},{"$f":"('CPI Sub-Categories'!AQ122-'CPI Sub-Categories'!AL122)/'CPI Sub-Categories'!AL122","v":-1}]
[3,"091400","Recording media",null,-0.12476541825127604,-0.18000284907118505,-0.25265509759959892,-4.4117965810961342E-2,null,-6.4147128778013512E-2,-4.7751399926381742E-2,-3.1671211587985471E-2,-5.4242879008963164E-2,null,-6.1723766032619254E-2,-5.4242879008961596E-2,-1.9023293423795787E-2,-1.5759306839902423E-2,null,{"$f":"('CPI Sub-Categories'!Y123-'CPI Sub-Categories'!T123)/'CPI Sub-Categories'!T123","v":-5.0304058975094448E-2},{"$f":"('CPI Sub-Categories'!Z123-'CPI Sub-Categories'!U123)/'CPI Sub-Categories'!U123","v":-6.5603970281234422E-2},{"$f":"('CPI Sub-Categories'!AA123-'CPI Sub-Categories'!V123)/'CPI Sub-Categories'!V123","v":-0.13116106422991311},{"$f":"('CPI Sub-Categories'!AB123-'CPI Sub-Categories'!W123)/'CPI Sub-Categories'!W123","v":-0.10617178839943808},null,{"$f":"('CPI Sub-Categories'!AD123-'CPI Sub-Categories'!Y123)/'CPI Sub-Categories'!Y123","v":-7.0591837790578746E-2},{"$f":"('CPI Sub-Categories'!AE123-'CPI Sub-Categories'!Z123)/'CPI Sub-Categories'!Z123","v":-5.5083887318105644E-2},{"$f":"('CPI Sub-Categories'!AF123-'CPI Sub-Categories'!AA123)/'CPI Sub-Categories'!AA123","v":2.1092862925924171E-2},{"$f":"('CPI Sub-Categories'!AG123-'CPI Sub-Categories'!AB123)/'CPI Sub-Categories'!AB123","v":-1.5218623825281882E-2},null,{"$f":"('CPI Sub-Categories'!AI123-'CPI Sub-Categories'!AD123)/'CPI Sub-Categories'!AD123","v":-7.0740588315025499E-2},{"$f":"('CPI Sub-Categories'!AJ123-'CPI Sub-Categories'!AE123)/'CPI Sub-Categories'!AE123","v":-8.2527683253088707E-2},{"$f":"('CPI Sub-Categories'!AK123-'CPI Sub-Categories'!AF123)/'CPI Sub-Categories'!AF123","v":-8.6609060861761969E-2},{"$f":"('CPI Sub-Categories'!AL123-'CPI Sub-Categories'!AG123)/'CPI Sub-Categories'!AG123","v":-5.1060620200992814E-2},null,{"$f":"('CPI Sub-Categories'!AM123-'CPI Sub-Categories'!AI123)/'CPI Sub-Categories'!AI123","v":-1.6922395987354889E-2},{"$f":"('CPI Sub-Categories'!AN123-'CPI Sub-Categories'!AJ123)/'CPI Sub-Categories'!AJ123","v":7.733936764122798E-2},{"$f":"('CPI Sub-Categories'!AO123-'CPI Sub-Categories'!AK123)/'CPI Sub-Categories'!AK123","v":-4.6459219791658724E-3},{"$f":"('CPI Sub-Categories'!AQ123-'CPI Sub-Categories'!AL123)/'CPI Sub-Categories'!AL123","v":-1}]
[3,"091500","Repair of audio-visual, photographic and information processing eq",null,0,0,0,0,null,0,0,0,0,null,0,0,0,-0.1,null,{"$f":"('CPI Sub-Categories'!Y124-'CPI Sub-Categories'!T124)/'CPI Sub-Categories'!T124","v":-0.1},{"$f":"('CPI Sub-Categories'!Z124-'CPI Sub-Categories'!U124)/'CPI Sub-Categories'!U124","v":-0.1},{"$f":"('CPI Sub-Categories'!AA124-'CPI Sub-Categories'!V124)/'CPI Sub-Categories'!V124","v":-0.1},{"$f":"('CPI Sub-Categories'!AB124-'CPI Sub-Categories'!W124)/'CPI Sub-Categories'!W124","v":0},null,{"$f":"('CPI Sub-Categories'!AD124-'CPI Sub-Categories'!Y124)/'CPI Sub-Categories'!Y124","v":0},{"$f":"('CPI Sub-Categories'!AE124-'CPI Sub-Categories'!Z124)/'CPI Sub-Categories'!Z124","v":0},{"$f":"('CPI Sub-Categories'!AF124-'CPI Sub-Categories'!AA124)/'CPI Sub-Categories'!AA124","v":0},{"$f":"('CPI Sub-Categories'!AG124-'CPI Sub-Categories'!AB124)/'CPI Sub-Categories'!AB124","v":0},null,{"$f":"('CPI Sub-Categories'!AI124-'CPI Sub-Categories'!AD124)/'CPI Sub-Categories'!AD124","v":0},{"$f":"('CPI Sub-Categories'!AJ124-'CPI Sub-Categories'!AE124)/'CPI Sub-Categories'!AE124","v":0},{"$f":"('CPI Sub-Categories'!AK124-'CPI Sub-Categories'!AF124)/'CPI Sub-Categories'!AF124","v":0},{"$f":"('CPI Sub-Categories'!AL124-'CPI Sub-Categories'!AG124)/'CPI Sub-Categories'!AG124","v":0},null,{"$f":"('CPI Sub-Categories'!AM124-'CPI Sub-Categories'!AI124)/'CPI Sub-Categories'!AI124","v":0},{"$f":"('CPI Sub-Categories'!AN124-'CPI Sub-Categories'!AJ124)/'CPI Sub-Categories'!AJ124","v":-6.25E-2},{"$f":"('CPI Sub-Categories'!AO124-'CPI Sub-Categories'!AK124)/'CPI Sub-Categories'!AK124","v":-6.25E-2},{"$f":"('CPI Sub-Categories'!AQ124-'CPI Sub-Categories'!AL124)/'CPI Sub-Categories'!AL124","v":-1}]
[2,"092000","Other major durables for recreation and culture",null,"Not relevant","Not relevant","Not relevant","Not relevant",null,"Not relevant","Not relevant","Not relevant","Not relevant",null,"Not relevant","Not relevant","Not relevant","Not relevant",null,"Not relevant","Not relevant","Not relevant","Not relevant",null,"Not relevant","Not relevant","Not relevant","Not relevant",null,"Not relevant","Not relevant","Not relevant","Not available",null,"Not relevant","Not relevant","Not relevant","Not available"]
[3,"092100","Major durables for outdoor recreation",null,"Not relevant","Not relevant","Not relevant","Not relevant",null,"Not relevant","Not relevant","Not relevant","Not relevant",null,"Not relevant","Not relevant","Not relevant","Not relevant",null,"Not relevant","Not relevant","Not relevant","Not relevant",null,"Not relevant","Not relevant","Not relevant","Not relevant",null,"Not relevant","Not relevant","Not relevant","Not available",null,"Not relevant","Not relevant","Not relevant","Not available"]
[3,"092200","Musical instruments and major durables for indoor recreation",null,"Not relevant","Not relevant","Not relevant","Not relevant",null,"Not relevant","Not relevant","Not relevant","Not relevant",null,"Not relevant","Not relevant","Not relevant","Not relevant",null,"Not relevant","Not relevant","Not relevant","Not relevant",null,"Not relevant","Not relevant","Not relevant","Not relevant",null,"Not relevant","Not relevant","Not relevant","Not available",null,"Not relevant","Not relevant","Not relevant","Not available"]
[3,"092300","Maintenance and repair of other major durables for recreation and",null,"Not relevant","Not relevant","Not relevant","Not relevant",null,"Not relevant","Not relevant","Not relevant","Not relevant",null,"Not relevant","Not relevant","Not relevant","Not relevant",null,"Not relevant","Not relevant","Not relevant","Not relevant",null,"Not relevant","Not relevant","Not relevant","Not relevant",null,"Not relevant","Not relevant","Not relevant","Not available",null,"Not relevant","Not relevant","Not relevant","Not available"]
[2,"093000","Other recreational items and equipment, gardens and pets",null,3.6831956827931854E-2,2.8861827640537706E-2,1.8329223830997703E-2,5.2696311882526971E-2,null,4.0571636295577446E-2,4.2759519638686593E-2,2.2301565727969565E-2,-5.5951690301223184E-2,null,-6.065727222737876E-2,-6.8686344332036728E-2,-3.3070702445395825E-2,3.0763077729056551E-2,null,{"$f":"('CPI Sub-Categories'!Y129-'CPI Sub-Categories'!T129)/'CPI Sub-Categories'!T129","v":4.2554856592046941E-2},{"$f":"('CPI Sub-Categories'!Z129-'CPI Sub-Categories'!U129)/'CPI Sub-Categories'!U129","v":6.6351669014938136E-2},{"$f":"('CPI Sub-Categories'!AA129-'CPI Sub-Categories'!V129)/'CPI Sub-Categories'!V129","v":9.5599024080249034E-2},{"$f":"('CPI Sub-Categories'!AB129-'CPI Sub-Categories'!W129)/'CPI Sub-Categories'!W129","v":2.2770894058908558E-2},null,{"$f":"('CPI Sub-Categories'!AD129-'CPI Sub-Categories'!Y129)/'CPI Sub-Categories'!Y129","v":4.7409676915355498E-2},{"$f":"('CPI Sub-Categories'!AE129-'CPI Sub-Categories'!Z129)/'CPI Sub-Categories'!Z129","v":9.3107523670172415E-3},{"$f":"('CPI Sub-Categories'!AF129-'CPI Sub-Categories'!AA129)/'CPI Sub-Categories'!AA129","v":3.5574584064175952E-3},{"$f":"('CPI Sub-Categories'!AG129-'CPI Sub-Categories'!AB129)/'CPI Sub-Categories'!AB129","v":5.1805471813986585E-2},null,{"$f":"('CPI Sub-Categories'!AI129-'CPI Sub-Categories'!AD129)/'CPI Sub-Categories'!AD129","v":1.8527112526509335E-3},{"$f":"('CPI Sub-Categories'!AJ129-'CPI Sub-Categories'!AE129)/'CPI Sub-Categories'!AE129","v":-1.4909963416553894E-2},{"$f":"('CPI Sub-Categories'!AK129-'CPI Sub-Categories'!AF129)/'CPI Sub-Categories'!AF129","v":-2.2643853041514891E-2},{"$f":"('CPI Sub-Categories'!AL129-'CPI Sub-Categories'!AG129)/'CPI Sub-Categories'!AG129","v":8.4584396127649428E-3},null,{"$f":"('CPI Sub-Categories'!AM129-'CPI Sub-Categories'!AI129)/'CPI Sub-Categories'!AI129","v":4.6607165240355075E-2},{"$f":"('CPI Sub-Categories'!AN129-'CPI Sub-Categories'!AJ129)/'CPI Sub-Categories'!AJ129","v":5.9379577183333684E-2},{"$f":"('CPI Sub-Categories'!AO129-'CPI Sub-Categories'!AK129)/'CPI Sub-Categories'!AK129","v":3.2291856230416083E-2},{"$f":"('CPI Sub-Categories'!AQ129-'CPI Sub-Categories'!AL129)/'CPI Sub-Categories'!AL129","v":-1}]
[3,"093100","Games, toys and hobbies",null,8.2978693971942616E-2,3.826655221095393E-2,2.5258993094187734E-2,0.1337031562923153,null,6.4166891940196202E-2,9.7895051521828841E-2,4.5850615221536259E-2,-0.14444184609571334,null,-0.14380140591523535,-0.17421432237333143,-8.1535234473192789E-2,6.976687415479095E-2,null,{"$f":"('CPI Sub-Categories'!Y130-'CPI Sub-Categories'!T130)/'CPI Sub-Categories'!T130","v":8.6030782536348369E-2},{"$f":"('CPI Sub-Categories'!Z130-'CPI Sub-Categories'!U130)/'CPI Sub-Categories'!U130","v":0.18133539415740377},{"$f":"('CPI Sub-Categories'!AA130-'CPI Sub-Categories'!V130)/'CPI Sub-Categories'!V130","v":0.22524834861249959},{"$f":"('CPI Sub-Categories'!AB130-'CPI Sub-Categories'!W130)/'CPI Sub-Categories'!W130","v":-1.3522733693404102E-2},null,{"$f":"('CPI Sub-Categories'!AD130-'CPI Sub-Categories'!Y130)/'CPI Sub-Categories'!Y130","v":7.3433635567724517E-2},{"$f":"('CPI Sub-Categories'!AE130-'CPI Sub-Categories'!Z130)/'CPI Sub-Categories'!Z130","v":-2.6441072057024652E-2},{"$f":"('CPI Sub-Categories'!AF130-'CPI Sub-Categories'!AA130)/'CPI Sub-Categories'!AA130","v":-8.9472671871438966E-2},{"$f":"('CPI Sub-Categories'!AG130-'CPI Sub-Categories'!AB130)/'CPI Sub-Categories'!AB130","v":-5.3722243606804478E-2},null,{"$f":"('CPI Sub-Categories'!AI130-'CPI Sub-Categories'!AD130)/'CPI Sub-Categories'!AD130","v":-7.8986577307034553E-2},{"$f":"('CPI Sub-Categories'!AJ130-'CPI Sub-Categories'!AE130)/'CPI Sub-Categories'!AE130","v":-0.10443207953168346},{"$f":"('CPI Sub-Categories'!AK130-'CPI Sub-Categories'!AF130)/'CPI Sub-Categories'!AF130","v":-5.4132593862924683E-2},{"$f":"('CPI Sub-Categories'!AL130-'CPI Sub-Categories'!AG130)/'CPI Sub-Categories'!AG130","v":0.10589861098232713},null,{"$f":"('CPI Sub-Categories'!AM130-'CPI Sub-Categories'!AI130)/'CPI Sub-Categories'!AI130","v":9.2976188037407773E-2},{"$f":"('CPI Sub-Categories'!AN130-'CPI Sub-Categories'!AJ130)/'CPI Sub-Categories'!AJ130","v":0.11957889200635904},{"$f":"('CPI Sub-Categories'!AO130-'CPI Sub-Categories'!AK130)/'CPI Sub-Categories'!AK130","v":5.1096330743030695E-2},{"$f":"('CPI Sub-Categories'!AQ130-'CPI Sub-Categories'!AL130)/'CPI Sub-Categories'!AL130","v":-1}]
[3,"093200","Equipment for sport, camping and open-air recreation",null,-0.14234499022166119,0.18580000646360664,0.18580000646360664,0.27805622047026379,null,0.22319632847381682,8.6497866976328705E-2,3.6425576078458005E-2,-6.7169500451401243E-2,null,-2.9436482119662554E-2,-4.4058540596283405E-2,-4.9447737928535566E-2,7.056125422857161E-2,null,{"$f":"('CPI Sub-Categories'!Y131-'CPI Sub-Categories'!T131)/'CPI Sub-Categories'!T131","v":0.16366015344683588},{"$f":"('CPI Sub-Categories'!Z131-'CPI Sub-Categories'!U131)/'CPI Sub-Categories'!U131","v":2.8755347054833489E-2},{"$f":"('CPI Sub-Categories'!AA131-'CPI Sub-Categories'!V131)/'CPI Sub-Categories'!V131","v":0.22374041854142107},{"$f":"('CPI Sub-Categories'!AB131-'CPI Sub-Categories'!W131)/'CPI Sub-Categories'!W131","v":5.7268703352009065E-2},null,{"$f":"('CPI Sub-Categories'!AD131-'CPI Sub-Categories'!Y131)/'CPI Sub-Categories'!Y131","v":-4.5706002628767679E-2},{"$f":"('CPI Sub-Categories'!AE131-'CPI Sub-Categories'!Z131)/'CPI Sub-Categories'!Z131","v":-7.4740097859681304E-2},{"$f":"('CPI Sub-Categories'!AF131-'CPI Sub-Categories'!AA131)/'CPI Sub-Categories'!AA131","v":-0.13816102679003786},{"$f":"('CPI Sub-Categories'!AG131-'CPI Sub-Categories'!AB131)/'CPI Sub-Categories'!AB131","v":-0.11031656138878379},null,{"$f":"('CPI Sub-Categories'!AI131-'CPI Sub-Categories'!AD131)/'CPI Sub-Categories'!AD131","v":-5.4194964703036308E-2},{"$f":"('CPI Sub-Categories'!AJ131-'CPI Sub-Categories'!AE131)/'CPI Sub-Categories'!AE131","v":0.1639726659757548},{"$f":"('CPI Sub-Categories'!AK131-'CPI Sub-Categories'!AF131)/'CPI Sub-Categories'!AF131","v":0.15794382187851533},{"$f":"('CPI Sub-Categories'!AL131-'CPI Sub-Categories'!AG131)/'CPI Sub-Categories'!AG131","v":0.14609922578023149},null,{"$f":"('CPI Sub-Categories'!AM131-'CPI Sub-Categories'!AI131)/'CPI Sub-Categories'!AI131","v":4.4874586695850073E-2},{"$f":"('CPI Sub-Categories'!AN131-'CPI Sub-Categories'!AJ131)/'CPI Sub-Categories'!AJ131","v":-4.1952401540369721E-2},{"$f":"('CPI Sub-Categories'!AO131-'CPI Sub-Categories'!AK131)/'CPI Sub-Categories'!AK131","v":-8.4067736541381805E-2},{"$f":"('CPI Sub-Categories'!AQ131-'CPI Sub-Categories'!AL131)/'CPI Sub-Categories'!AL131","v":-1}]
[3,"093300","Gardens, plants and flowers",null,0,0,0,-2.5631743544117E-2,null,7.1312863897740039E-2,0.10237184242059001,6.7366946755730059E-2,9.5445115010330608E-2,null,-3.6832537673949172E-3,-3.1754163448148444E-2,0,0,null,{"$f":"('CPI Sub-Categories'!Y132-'CPI Sub-Categories'!T132)/'CPI Sub-Categories'!T132","v":0},{"$f":"('CPI Sub-Categories'!Z132-'CPI Sub-Categories'!U132)/'CPI Sub-Categories'!U132","v":0},{"$f":"('CPI Sub-Categories'!AA132-'CPI Sub-Categories'!V132)/'CPI Sub-Categories'!V132","v":0},{"$f":"('CPI Sub-Categories'!AB132-'CPI Sub-Categories'!W132)/'CPI Sub-Categories'!W132","v":-3.390821692070143E-2},null,{"$f":"('CPI Sub-Categories'!AD132-'CPI Sub-Categories'!Y132)/'CPI Sub-Categories'!Y132","v":1.7965815778215627E-2},{"$f":"('CPI Sub-Categories'!AE132-'CPI Sub-Categories'!Z132)/'CPI Sub-Categories'!Z132","v":1.7965815778215627E-2},{"$f":"('CPI Sub-Categories'!AF132-'CPI Sub-Categories'!AA132)/'CPI Sub-Categories'!AA132","v":1.7965815778215627E-2},{"$f":"('CPI Sub-Categories'!AG132-'CPI Sub-Categories'!AB132)/'CPI Sub-Categories'!AB132","v":0.74887802725755814},null,{"$f":"('CPI Sub-Categories'!AI132-'CPI Sub-Categories'!AD132)/'CPI Sub-Categories'!AD132","v":-4.6537410754407461E-2},{"$f":"('CPI Sub-Categories'!AJ132-'CPI Sub-Categories'!AE132)/'CPI Sub-Categories'!AE132","v":-4.6537410754407461E-2},{"$f":"('CPI Sub-Categories'!AK132-'CPI Sub-Categories'!AF132)/'CPI Sub-Categories'!AF132","v":-4.6537410754416614E-2},{"$f":"('CPI Sub-Categories'!AL132-'CPI Sub-Categories'!AG132)/'CPI Sub-Categories'!AG132","v":-0.21417863500341697},null,{"$f":"('CPI Sub-Categories'!AM132-'CPI Sub-Categories'!AI132)/'CPI Sub-Categories'!AI132","v":0.3679332006094016},{"$f":"('CPI Sub-Categories'!AN132-'CPI Sub-Categories'!AJ132)/'CPI Sub-Categories'!AJ132","v":0.44981238174104571},{"$f":"('CPI Sub-Categories'!AO132-'CPI Sub-Categories'!AK132)/'CPI Sub-Categories'!AK132","v":0.44981238174106947},{"$f":"('CPI Sub-Categories'!AQ132-'CPI Sub-Categories'!AL132)/'CPI Sub-Categories'!AL132","v":-1}]
[3,"093400","Pets and related products",null,6.240663297591683E-2,4.7636331208809363E-2,5.4329274702687091E-3,3.1076348195344557E-3,null,3.6250954979809055E-2,9.4528172993745187E-3,1.396856165585408E-2,-1.1890809125386266E-2,null,-2.7545646248916811E-2,1.3322104137346785E-4,-5.4436758755408701E-3,2.7393717977105918E-2,null,{"$f":"('CPI Sub-Categories'!Y133-'CPI Sub-Categories'!T133)/'CPI Sub-Categories'!T133","v":4.4737783512458024E-2},{"$f":"('CPI Sub-Categories'!Z133-'CPI Sub-Categories'!U133)/'CPI Sub-Categories'!U133","v":2.462811235245364E-2},{"$f":"('CPI Sub-Categories'!AA133-'CPI Sub-Categories'!V133)/'CPI Sub-Categories'!V133","v":5.4965513943088316E-2},{"$f":"('CPI Sub-Categories'!AB133-'CPI Sub-Categories'!W133)/'CPI Sub-Categories'!W133","v":0.11997060890050415},null,{"$f":"('CPI Sub-Categories'!AD133-'CPI Sub-Categories'!Y133)/'CPI Sub-Categories'!Y133","v":9.7658744488226562E-2},{"$f":"('CPI Sub-Categories'!AE133-'CPI Sub-Categories'!Z133)/'CPI Sub-Categories'!Z133","v":8.8800218642254167E-2},{"$f":"('CPI Sub-Categories'!AF133-'CPI Sub-Categories'!AA133)/'CPI Sub-Categories'!AA133","v":0.17994386754655906},{"$f":"('CPI Sub-Categories'!AG133-'CPI Sub-Categories'!AB133)/'CPI Sub-Categories'!AB133","v":0.16296870493431737},null,{"$f":"('CPI Sub-Categories'!AI133-'CPI Sub-Categories'!AD133)/'CPI Sub-Categories'!AD133","v":0.13893345884082431},{"$f":"('CPI Sub-Categories'!AJ133-'CPI Sub-Categories'!AE133)/'CPI Sub-Categories'!AE133","v":7.7996451491828211E-2},{"$f":"('CPI Sub-Categories'!AK133-'CPI Sub-Categories'!AF133)/'CPI Sub-Categories'!AF133","v":-2.4303641427500963E-2},{"$f":"('CPI Sub-Categories'!AL133-'CPI Sub-Categories'!AG133)/'CPI Sub-Categories'!AG133","v":-4.4824701265409439E-2},null,{"$f":"('CPI Sub-Categories'!AM133-'CPI Sub-Categories'!AI133)/'CPI Sub-Categories'!AI133","v":-1.6479352977629296E-2},{"$f":"('CPI Sub-Categories'!AN133-'CPI Sub-Categories'!AJ133)/'CPI Sub-Categories'!AJ133","v":2.7632525674365836E-2},{"$f":"('CPI Sub-Categories'!AO133-'CPI Sub-Categories'!AK133)/'CPI Sub-Categories'!AK133","v":1.2909082017218392E-2},{"$f":"('CPI Sub-Categories'!AQ133-'CPI Sub-Categories'!AL133)/'CPI Sub-Categories'!AL133","v":-1}]
[3,"093500","Veterinary and other services for pets",null,0,2.0269996257900403E-3,2.0269996257900403E-3,2.0269996257900403E-3,null,2.0269996257900403E-3,-2.6664028214088164E-3,-2.6664028214088164E-3,-2.6664028214088164E-3,null,-2.6664028214088164E-3,-4.0852555095145992E-3,-4.0852555095145992E-3,-4.0852555095145992E-3,null,{"$f":"('CPI Sub-Categories'!Y134-'CPI Sub-Categories'!T134)/'CPI Sub-Categories'!T134","v":-4.0852555095145992E-3},{"$f":"('CPI Sub-Categories'!Z134-'CPI Sub-Categories'!U134)/'CPI Sub-Categories'!U134","v":-9.9948482390281315E-16},{"$f":"('CPI Sub-Categories'!AA134-'CPI Sub-Categories'!V134)/'CPI Sub-Categories'!V134","v":-9.9948482390281315E-16},{"$f":"('CPI Sub-Categories'!AB134-'CPI Sub-Categories'!W134)/'CPI Sub-Categories'!W134","v":-9.9948482390281315E-16},null,{"$f":"('CPI Sub-Categories'!AD134-'CPI Sub-Categories'!Y134)/'CPI Sub-Categories'!Y134","v":-9.9948482390281315E-16},{"$f":"('CPI Sub-Categories'!AE134-'CPI Sub-Categories'!Z134)/'CPI Sub-Categories'!Z134","v":0},{"$f":"('CPI Sub-Categories'!AF134-'CPI Sub-Categories'!AA134)/'CPI Sub-Categories'!AA134","v":0},{"$f":"('CPI Sub-Categories'!AG134-'CPI Sub-Categories'!AB134)/'CPI Sub-Categories'!AB134","v":0},null,{"$f":"('CPI Sub-Categories'!AI134-'CPI Sub-Categories'!AD134)/'CPI Sub-Categories'!AD134","v":0},{"$f":"('CPI Sub-Categories'!AJ134-'CPI Sub-Categories'!AE134)/'CPI Sub-Categories'!AE134","v":0},{"$f":"('CPI Sub-Categories'!AK134-'CPI Sub-Categories'!AF134)/'CPI Sub-Categories'!AF134","v":0},{"$f":"('CPI Sub-Categories'!AL134-'CPI Sub-Categories'!AG134)/'CPI Sub-Categories'!AG134","v":0},null,{"$f":"('CPI Sub-Categories'!AM134-'CPI Sub-Categories'!AI134)/'CPI Sub-Categories'!AI134","v":0},{"$f":"('CPI Sub-Categories'!AN134-'CPI Sub-Categories'!AJ134)/'CPI Sub-Categories'!AJ134","v":-1.4603303792261081E-2},{"$f":"('CPI Sub-Categories'!AO134-'CPI Sub-Categories'!AK134)/'CPI Sub-Categories'!AK134","v":-1.4603303792261081E-2},{"$f":"('CPI Sub-Categories'!AQ134-'CPI Sub-Categories'!AL134)/'CPI Sub-Categories'!AL134","v":-1}]
[2,"094000","Recreational and cultural services",null,0,2.0744324450400597E-3,-2.1104587738859947E-3,6.8506862677899958E-3,null,2.7462868661509959E-2,2.4509448655937977E-2,2.4336275504438041E-2,1.1554970334802633E-2,null,-6.3212402355002972E-2,-6.1505689560483537E-2,-5.2547827780819983E-2,-5.3954090429983705E-2,null,{"$f":"('CPI Sub-Categories'!Y135-'CPI Sub-Categories'!T135)/'CPI Sub-Categories'!T135","v":-6.862206247239171E-3},{"$f":"('CPI Sub-Categories'!Z135-'CPI Sub-Categories'!U135)/'CPI Sub-Categories'!U135","v":-7.8686248998560016E-3},{"$f":"('CPI Sub-Categories'!AA135-'CPI Sub-Categories'!V135)/'CPI Sub-Categories'!V135","v":-9.9580961081081158E-3},{"$f":"('CPI Sub-Categories'!AB135-'CPI Sub-Categories'!W135)/'CPI Sub-Categories'!W135","v":-1.1313104212387383E-2},null,{"$f":"('CPI Sub-Categories'!AD135-'CPI Sub-Categories'!Y135)/'CPI Sub-Categories'!Y135","v":-3.4277921379127726E-3},{"$f":"('CPI Sub-Categories'!AE135-'CPI Sub-Categories'!Z135)/'CPI Sub-Categories'!Z135","v":-3.4277921379117357E-3},{"$f":"('CPI Sub-Categories'!AF135-'CPI Sub-Categories'!AA135)/'CPI Sub-Categories'!AA135","v":5.3778734157242367E-2},{"$f":"('CPI Sub-Categories'!AG135-'CPI Sub-Categories'!AB135)/'CPI Sub-Categories'!AB135","v":6.061991442785556E-2},null,{"$f":"('CPI Sub-Categories'!AI135-'CPI Sub-Categories'!AD135)/'CPI Sub-Categories'!AD135","v":6.4909566862745391E-2},{"$f":"('CPI Sub-Categories'!AJ135-'CPI Sub-Categories'!AE135)/'CPI Sub-Categories'!AE135","v":6.4909566862745391E-2},{"$f":"('CPI Sub-Categories'!AK135-'CPI Sub-Categories'!AF135)/'CPI Sub-Categories'!AF135","v":2.8171014525587078E-2},{"$f":"('CPI Sub-Categories'!AL135-'CPI Sub-Categories'!AG135)/'CPI Sub-Categories'!AG135","v":9.9300582760020406E-2},null,{"$f":"('CPI Sub-Categories'!AM135-'CPI Sub-Categories'!AI135)/'CPI Sub-Categories'!AI135","v":9.4872396960727925E-2},{"$f":"('CPI Sub-Categories'!AN135-'CPI Sub-Categories'!AJ135)/'CPI Sub-Categories'!AJ135","v":7.4522369178027556E-2},{"$f":"('CPI Sub-Categories'!AO135-'CPI Sub-Categories'!AK135)/'CPI Sub-Categories'!AK135","v":4.9308173955639849E-2},{"$f":"('CPI Sub-Categories'!AQ135-'CPI Sub-Categories'!AL135)/'CPI Sub-Categories'!AL135","v":-1}]
[3,"094100","Sporting and recreational services",null,0,0,0,0,null,-1.934188627825904E-2,-2.9305720297559928E-2,-2.9305720297559928E-2,-2.9305720297559928E-2,null,-8.9702490374127919E-2,-6.8256675424210336E-2,3.019047388076028E-2,3.019047388076028E-2,null,{"$f":"('CPI Sub-Categories'!Y136-'CPI Sub-Categories'!T136)/'CPI Sub-Categories'!T136","v":0.10520944959211612},{"$f":"('CPI Sub-Categories'!Z136-'CPI Sub-Categories'!U136)/'CPI Sub-Categories'!U136","v":9.0854455305705198E-2},{"$f":"('CPI Sub-Categories'!AA136-'CPI Sub-Categories'!V136)/'CPI Sub-Categories'!V136","v":-3.2397124290234981E-2},{"$f":"('CPI Sub-Categories'!AB136-'CPI Sub-Categories'!W136)/'CPI Sub-Categories'!W136","v":-3.239712429023598E-2},null,{"$f":"('CPI Sub-Categories'!AD136-'CPI Sub-Categories'!Y136)/'CPI Sub-Categories'!Y136","v":-1.9265212461391821E-2},{"$f":"('CPI Sub-Categories'!AE136-'CPI Sub-Categories'!Z136)/'CPI Sub-Categories'!Z136","v":-1.926521246139087E-2},{"$f":"('CPI Sub-Categories'!AF136-'CPI Sub-Categories'!AA136)/'CPI Sub-Categories'!AA136","v":4.0041911525949776E-2},{"$f":"('CPI Sub-Categories'!AG136-'CPI Sub-Categories'!AB136)/'CPI Sub-Categories'!AB136","v":4.0041911525950845E-2},null,{"$f":"('CPI Sub-Categories'!AI136-'CPI Sub-Categories'!AD136)/'CPI Sub-Categories'!AD136","v":9.0854455305714787E-2},{"$f":"('CPI Sub-Categories'!AJ136-'CPI Sub-Categories'!AE136)/'CPI Sub-Categories'!AE136","v":9.0854455305717036E-2},{"$f":"('CPI Sub-Categories'!AK136-'CPI Sub-Categories'!AF136)/'CPI Sub-Categories'!AF136","v":4.885624628838614E-2},{"$f":"('CPI Sub-Categories'!AL136-'CPI Sub-Categories'!AG136)/'CPI Sub-Categories'!AG136","v":4.8856246288396167E-2},null,{"$f":"('CPI Sub-Categories'!AM136-'CPI Sub-Categories'!AI136)/'CPI Sub-Categories'!AI136","v":-9.5590468035958777E-15},{"$f":"('CPI Sub-Categories'!AN136-'CPI Sub-Categories'!AJ136)/'CPI Sub-Categories'!AJ136","v":0},{"$f":"('CPI Sub-Categories'!AO136-'CPI Sub-Categories'!AK136)/'CPI Sub-Categories'!AK136","v":0},{"$f":"('CPI Sub-Categories'!AQ136-'CPI Sub-Categories'!AL136)/'CPI Sub-Categories'!AL136","v":-1}]
[3,"094200","Cultural services",null,0,2.6592323356899785E-3,-2.705414788551934E-3,8.7819521375899975E-3,null,3.7265679270240069E-2,3.451466442286133E-2,3.4346359932446134E-2,1.787927653929712E-2,null,-7.1230857442507386E-2,-7.1230857442507386E-2,-6.9776303913920007E-2,-7.1643732127798301E-2,null,{"$f":"('CPI Sub-Categories'!Y137-'CPI Sub-Categories'!T137)/'CPI Sub-Categories'!T137","v":-1.9175917623448269E-2},{"$f":"('CPI Sub-Categories'!Z137-'CPI Sub-Categories'!U137)/'CPI Sub-Categories'!U137","v":-1.9175917623448269E-2},{"$f":"('CPI Sub-Categories'!AA137-'CPI Sub-Categories'!V137)/'CPI Sub-Categories'!V137","v":-9.2864325079994887E-3},{"$f":"('CPI Sub-Categories'!AB137-'CPI Sub-Categories'!W137)/'CPI Sub-Categories'!W137","v":-1.103771002227541E-2},null,{"$f":"('CPI Sub-Categories'!AD137-'CPI Sub-Categories'!Y137)/'CPI Sub-Categories'!Y137","v":-2.3020608776446101E-3},{"$f":"('CPI Sub-Categories'!AE137-'CPI Sub-Categories'!Z137)/'CPI Sub-Categories'!Z137","v":-2.3020608776446101E-3},{"$f":"('CPI Sub-Categories'!AF137-'CPI Sub-Categories'!AA137)/'CPI Sub-Categories'!AA137","v":4.8337624475982451E-2},{"$f":"('CPI Sub-Categories'!AG137-'CPI Sub-Categories'!AB137)/'CPI Sub-Categories'!AB137","v":5.7153741189375912E-2},null,{"$f":"('CPI Sub-Categories'!AI137-'CPI Sub-Categories'!AD137)/'CPI Sub-Categories'!AD137","v":5.7153741189375912E-2},{"$f":"('CPI Sub-Categories'!AJ137-'CPI Sub-Categories'!AE137)/'CPI Sub-Categories'!AE137","v":5.7153741189375912E-2},{"$f":"('CPI Sub-Categories'!AK137-'CPI Sub-Categories'!AF137)/'CPI Sub-Categories'!AF137","v":4.4069725171065242E-2},{"$f":"('CPI Sub-Categories'!AL137-'CPI Sub-Categories'!AG137)/'CPI Sub-Categories'!AG137","v":0.13651109074089535},null,{"$f":"('CPI Sub-Categories'!AM137-'CPI Sub-Categories'!AI137)/'CPI Sub-Categories'!AI137","v":0.13651188782594106},{"$f":"('CPI Sub-Categories'!AN137-'CPI Sub-Categories'!AJ137)/'CPI Sub-Categories'!AJ137","v":0.10995683474537486},{"$f":"('CPI Sub-Categories'!AO137-'CPI Sub-Categories'!AK137)/'CPI Sub-Categories'!AK137","v":6.3106043577226864E-2},{"$f":"('CPI Sub-Categories'!AQ137-'CPI Sub-Categories'!AL137)/'CPI Sub-Categories'!AL137","v":-1}]
[3,"094300","Games of chance",null,0,0,0,0,null,0,0,0,0,null,0,0,0,0,null,{"$f":"('CPI Sub-Categories'!Y138-'CPI Sub-Categories'!T138)/'CPI Sub-Categories'!T138","v":0},{"$f":"('CPI Sub-Categories'!Z138-'CPI Sub-Categories'!U138)/'CPI Sub-Categories'!U138","v":0},{"$f":"('CPI Sub-Categories'!AA138-'CPI Sub-Categories'!V138)/'CPI Sub-Categories'!V138","v":0},{"$f":"('CPI Sub-Categories'!AB138-'CPI Sub-Categories'!W138)/'CPI Sub-Categories'!W138","v":0},null,{"$f":"('CPI Sub-Categories'!AD138-'CPI Sub-Categories'!Y138)/'CPI Sub-Categories'!Y138","v":0},{"$f":"('CPI Sub-Categories'!AE138-'CPI Sub-Categories'!Z138)/'CPI Sub-Categories'!Z138","v":0},{"$f":"('CPI Sub-Categories'!AF138-'CPI Sub-Categories'!AA138)/'CPI Sub-Categories'!AA138","v":9.1351340848609935E-2},{"$f":"('CPI Sub-Categories'!AG138-'CPI Sub-Categories'!AB138)/'CPI Sub-Categories'!AB138","v":9.1351340848609935E-2},null,{"$f":"('CPI Sub-Categories'!AI138-'CPI Sub-Categories'!AD138)/'CPI Sub-Categories'!AD138","v":9.1351340848609935E-2},{"$f":"('CPI Sub-Categories'!AJ138-'CPI Sub-Categories'!AE138)/'CPI Sub-Categories'!AE138","v":9.1351340848609935E-2},{"$f":"('CPI Sub-Categories'!AK138-'CPI Sub-Categories'!AF138)/'CPI Sub-Categories'!AF138","v":-6.620959409675875E-2},{"$f":"('CPI Sub-Categories'!AL138-'CPI Sub-Categories'!AG138)/'CPI Sub-Categories'!AG138","v":-6.620959409675875E-2},null,{"$f":"('CPI Sub-Categories'!AM138-'CPI Sub-Categories'!AI138)/'CPI Sub-Categories'!AI138","v":-6.620959409675875E-2},{"$f":"('CPI Sub-Categories'!AN138-'CPI Sub-Categories'!AJ138)/'CPI Sub-Categories'!AJ138","v":-6.620959409675875E-2},{"$f":"('CPI Sub-Categories'!AO138-'CPI Sub-Categories'!AK138)/'CPI Sub-Categories'!AK138","v":0},{"$f":"('CPI Sub-Categories'!AQ138-'CPI Sub-Categories'!AL138)/'CPI Sub-Categories'!AL138","v":-1}]
[2,"095000","Newspapers, books and stationery",null,-0.11781107193682112,-9.1556816349043807E-2,-8.3446754192535735E-2,3.3930081027898379E-2,null,0.21460551187284987,0.43662591502546211,0.43668230282569359,0.24466728348562616,null,0.14448520911548635,4.5729563262084987E-2,2.976812737319923E-2,8.8957137172136366E-2,null,{"$f":"('CPI Sub-Categories'!Y139-'CPI Sub-Categories'!T139)/'CPI Sub-Categories'!T139","v":0.11825420853630207},{"$f":"('CPI Sub-Categories'!Z139-'CPI Sub-Categories'!U139)/'CPI Sub-Categories'!U139","v":3.9647800736750415E-2},{"$f":"('CPI Sub-Categories'!AA139-'CPI Sub-Categories'!V139)/'CPI Sub-Categories'!V139","v":0.1232525348553643},{"$f":"('CPI Sub-Categories'!AB139-'CPI Sub-Categories'!W139)/'CPI Sub-Categories'!W139","v":9.9793284512881344E-2},null,{"$f":"('CPI Sub-Categories'!AD139-'CPI Sub-Categories'!Y139)/'CPI Sub-Categories'!Y139","v":6.973174186154224E-2},{"$f":"('CPI Sub-Categories'!AE139-'CPI Sub-Categories'!Z139)/'CPI Sub-Categories'!Z139","v":6.5389788877269317E-2},{"$f":"('CPI Sub-Categories'!AF139-'CPI Sub-Categories'!AA139)/'CPI Sub-Categories'!AA139","v":3.1415701615543204E-2},{"$f":"('CPI Sub-Categories'!AG139-'CPI Sub-Categories'!AB139)/'CPI Sub-Categories'!AB139","v":3.6183490803504761E-2},null,{"$f":"('CPI Sub-Categories'!AI139-'CPI Sub-Categories'!AD139)/'CPI Sub-Categories'!AD139","v":3.6654595190339763E-2},{"$f":"('CPI Sub-Categories'!AJ139-'CPI Sub-Categories'!AE139)/'CPI Sub-Categories'!AE139","v":4.1023182195539631E-2},{"$f":"('CPI Sub-Categories'!AK139-'CPI Sub-Categories'!AF139)/'CPI Sub-Categories'!AF139","v":8.3155758114223191E-4},{"$f":"('CPI Sub-Categories'!AL139-'CPI Sub-Categories'!AG139)/'CPI Sub-Categories'!AG139","v":9.8880306895031203E-3},null,{"$f":"('CPI Sub-Categories'!AM139-'CPI Sub-Categories'!AI139)/'CPI Sub-Categories'!AI139","v":4.3791838404059702E-2},{"$f":"('CPI Sub-Categories'!AN139-'CPI Sub-Categories'!AJ139)/'CPI Sub-Categories'!AJ139","v":4.1124840690875165E-2},{"$f":"('CPI Sub-Categories'!AO139-'CPI Sub-Categories'!AK139)/'CPI Sub-Categories'!AK139","v":3.5024705193720924E-2},{"$f":"('CPI Sub-Categories'!AQ139-'CPI Sub-Categories'!AL139)/'CPI Sub-Categories'!AL139","v":-1}]
[3,"095100","Books",null,-5.3817100200192661E-2,-3.048532663052372E-4,-3.048532663052372E-4,0.33055762966163732,null,0.60394189271443166,1.2586120530060381,1.2586120530060381,0.57345959772711375,null,0.33333333333333537,6.6666666666667831E-2,6.6666666666667831E-2,0.15039944425147397,null,{"$f":"('CPI Sub-Categories'!Y140-'CPI Sub-Categories'!T140)/'CPI Sub-Categories'!T140","v":0.12653061224489834},{"$f":"('CPI Sub-Categories'!Z140-'CPI Sub-Categories'!U140)/'CPI Sub-Categories'!U140","v":0},{"$f":"('CPI Sub-Categories'!AA140-'CPI Sub-Categories'!V140)/'CPI Sub-Categories'!V140","v":0.14492753623188254},{"$f":"('CPI Sub-Categories'!AB140-'CPI Sub-Categories'!W140)/'CPI Sub-Categories'!W140","v":0.14492753623188254},null,{"$f":"('CPI Sub-Categories'!AD140-'CPI Sub-Categories'!Y140)/'CPI Sub-Categories'!Y140","v":0.14492753623188254},{"$f":"('CPI Sub-Categories'!AE140-'CPI Sub-Categories'!Z140)/'CPI Sub-Categories'!Z140","v":0.14492753623188254},{"$f":"('CPI Sub-Categories'!AF140-'CPI Sub-Categories'!AA140)/'CPI Sub-Categories'!AA140","v":6.3291139240505695E-2},{"$f":"('CPI Sub-Categories'!AG140-'CPI Sub-Categories'!AB140)/'CPI Sub-Categories'!AB140","v":6.3291139240505695E-2},null,{"$f":"('CPI Sub-Categories'!AI140-'CPI Sub-Categories'!AD140)/'CPI Sub-Categories'!AD140","v":6.3291139240505695E-2},{"$f":"('CPI Sub-Categories'!AJ140-'CPI Sub-Categories'!AE140)/'CPI Sub-Categories'!AE140","v":6.3291139240505695E-2},{"$f":"('CPI Sub-Categories'!AK140-'CPI Sub-Categories'!AF140)/'CPI Sub-Categories'!AF140","v":0},{"$f":"('CPI Sub-Categories'!AL140-'CPI Sub-Categories'!AG140)/'CPI Sub-Categories'!AG140","v":0},null,{"$f":"('CPI Sub-Categories'!AM140-'CPI Sub-Categories'!AI140)/'CPI Sub-Categories'!AI140","v":3.9560600503527138E-2},{"$f":"('CPI Sub-Categories'!AN140-'CPI Sub-Categories'!AJ140)/'CPI Sub-Categories'!AJ140","v":3.9560600503527138E-2},{"$f":"('CPI Sub-Categories'!AO140-'CPI Sub-Categories'!AK140)/'CPI Sub-Categories'!AK140","v":3.9560600503527138E-2},{"$f":"('CPI Sub-Categories'!AQ140-'CPI Sub-Categories'!AL140)/'CPI Sub-Categories'!AL140","v":-1}]
[3,"095200","Newspapers and periodicals",null,0,0,0,0,null,0,0,0,0,null,0,0,0,0.11111111111111001,null,{"$f":"('CPI Sub-Categories'!Y141-'CPI Sub-Categories'!T141)/'CPI Sub-Categories'!T141","v":0.33333333333333004},{"$f":"('CPI Sub-Categories'!Z141-'CPI Sub-Categories'!U141)/'CPI Sub-Categories'!U141","v":0.33333333333333004},{"$f":"('CPI Sub-Categories'!AA141-'CPI Sub-Categories'!V141)/'CPI Sub-Categories'!V141","v":0.33333333333333004},{"$f":"('CPI Sub-Categories'!AB141-'CPI Sub-Categories'!W141)/'CPI Sub-Categories'!W141","v":0.19999999999999821},null,{"$f":"('CPI Sub-Categories'!AD141-'CPI Sub-Categories'!Y141)/'CPI Sub-Categories'!Y141","v":0},{"$f":"('CPI Sub-Categories'!AE141-'CPI Sub-Categories'!Z141)/'CPI Sub-Categories'!Z141","v":0},{"$f":"('CPI Sub-Categories'!AF141-'CPI Sub-Categories'!AA141)/'CPI Sub-Categories'!AA141","v":0},{"$f":"('CPI Sub-Categories'!AG141-'CPI Sub-Categories'!AB141)/'CPI Sub-Categories'!AB141","v":0},null,{"$f":"('CPI Sub-Categories'!AI141-'CPI Sub-Categories'!AD141)/'CPI Sub-Categories'!AD141","v":0},{"$f":"('CPI Sub-Categories'!AJ141-'CPI Sub-Categories'!AE141)/'CPI Sub-Categories'!AE141","v":0},{"$f":"('CPI Sub-Categories'!AK141-'CPI Sub-Categories'!AF141)/'CPI Sub-Categories'!AF141","v":0},{"$f":"('CPI Sub-Categories'!AL141-'CPI Sub-Categories'!AG141)/'CPI Sub-Categories'!AG141","v":0},null,{"$f":"('CPI Sub-Categories'!AM141-'CPI Sub-Categories'!AI141)/'CPI Sub-Categories'!AI141","v":0},{"$f":"('CPI Sub-Categories'!AN141-'CPI Sub-Categories'!AJ141)/'CPI Sub-Categories'!AJ141","v":0},{"$f":"('CPI Sub-Categories'!AO141-'CPI Sub-Categories'!AK141)/'CPI Sub-Categories'!AK141","v":0},{"$f":"('CPI Sub-Categories'!AQ141-'CPI Sub-Categories'!AL141)/'CPI Sub-Categories'!AL141","v":-1}]
[3,"095300","Miscellaneous printed matter",null,"Not relevant","Not relevant","Not relevant","Not relevant",null,"Not relevant","Not relevant","Not relevant","Not relevant",null,"Not relevant","Not relevant","Not relevant","Not relevant",null,"Not relevant","Not relevant","Not relevant",{"$f":"('CPI Sub-Categories'!AB142-'CPI Sub-Categories'!W142)/'CPI Sub-Categories'!W142","v":{"$error":"#VALUE!"}},null,"Not relevant","Not relevant","Not relevant","Not relevant",null,"Not relevant","Not relevant","Not relevant","Not available",null,"Not available","Not relevant","Not relevant","Not available"]
[3,"095400","Stationery and drawing materials",null,-0.20832533062268863,-0.1720896931575284,-0.15792486329145572,-0.13079141757795848,null,8.7255345551697106E-3,-9.2376130599741649E-3,3.0182646537750052E-3,1.6641298859132011E-2,null,-2.2684940320090444E-2,2.7754476267300151E-2,-1.9424607930223055E-2,-1.1496103602356424E-2,null,{"$f":"('CPI Sub-Categories'!Y143-'CPI Sub-Categories'!T143)/'CPI Sub-Categories'!T143","v":2.2965662092581541E-2},{"$f":"('CPI Sub-Categories'!Z143-'CPI Sub-Categories'!U143)/'CPI Sub-Categories'!U143","v":-2.4366441404930102E-4},{"$f":"('CPI Sub-Categories'!AA143-'CPI Sub-Categories'!V143)/'CPI Sub-Categories'!V143","v":5.7469878983281335E-3},{"$f":"('CPI Sub-Categories'!AB143-'CPI Sub-Categories'!W143)/'CPI Sub-Categories'!W143","v":-2.0439529276052557E-2},null,{"$f":"('CPI Sub-Categories'!AD143-'CPI Sub-Categories'!Y143)/'CPI Sub-Categories'!Y143","v":-2.7826677045152071E-2},{"$f":"('CPI Sub-Categories'!AE143-'CPI Sub-Categories'!Z143)/'CPI Sub-Categories'!Z143","v":-4.2167081376845758E-2},{"$f":"('CPI Sub-Categories'!AF143-'CPI Sub-Categories'!AA143)/'CPI Sub-Categories'!AA143","v":-1.7286569072189586E-2},{"$f":"('CPI Sub-Categories'!AG143-'CPI Sub-Categories'!AB143)/'CPI Sub-Categories'!AB143","v":-9.5642601978704399E-4},null,{"$f":"('CPI Sub-Categories'!AI143-'CPI Sub-Categories'!AD143)/'CPI Sub-Categories'!AD143","v":2.3960693910623173E-4},{"$f":"('CPI Sub-Categories'!AJ143-'CPI Sub-Categories'!AE143)/'CPI Sub-Categories'!AE143","v":1.5466475907630261E-2},{"$f":"('CPI Sub-Categories'!AK143-'CPI Sub-Categories'!AF143)/'CPI Sub-Categories'!AF143","v":3.0707703991973596E-3},{"$f":"('CPI Sub-Categories'!AL143-'CPI Sub-Categories'!AG143)/'CPI Sub-Categories'!AG143","v":3.6396818286519188E-2},null,{"$f":"('CPI Sub-Categories'!AM143-'CPI Sub-Categories'!AI143)/'CPI Sub-Categories'!AI143","v":3.1553629932450047E-2},{"$f":"('CPI Sub-Categories'!AN143-'CPI Sub-Categories'!AJ143)/'CPI Sub-Categories'!AJ143","v":6.5643367223194971E-2},{"$f":"('CPI Sub-Categories'!AO143-'CPI Sub-Categories'!AK143)/'CPI Sub-Categories'!AK143","v":4.2868857743079351E-2},{"$f":"('CPI Sub-Categories'!AQ143-'CPI Sub-Categories'!AL143)/'CPI Sub-Categories'!AL143","v":-1}]
[2,"096000","Package holidays",null,0,0,0,6.5562296304770062E-2,null,6.5562296304770062E-2,6.5562296304770062E-2,6.5562296304770062E-2,-0.20084038099998888,null,-0.20084038099998888,-0.20084038099998888,-0.20084038099998888,0.8339252197912147,null,{"$f":"('CPI Sub-Categories'!Y144-'CPI Sub-Categories'!T144)/'CPI Sub-Categories'!T144","v":0.8339252197912147},{"$f":"('CPI Sub-Categories'!Z144-'CPI Sub-Categories'!U144)/'CPI Sub-Categories'!U144","v":0.8339252197912147},{"$f":"('CPI Sub-Categories'!AA144-'CPI Sub-Categories'!V144)/'CPI Sub-Categories'!V144","v":0.8339252197912147},{"$f":"('CPI Sub-Categories'!AB144-'CPI Sub-Categories'!W144)/'CPI Sub-Categories'!W144","v":0.15170899698423904},null,{"$f":"('CPI Sub-Categories'!AD144-'CPI Sub-Categories'!Y144)/'CPI Sub-Categories'!Y144","v":0.15170899698423904},{"$f":"('CPI Sub-Categories'!AE144-'CPI Sub-Categories'!Z144)/'CPI Sub-Categories'!Z144","v":0.15170899698423904},{"$f":"('CPI Sub-Categories'!AF144-'CPI Sub-Categories'!AA144)/'CPI Sub-Categories'!AA144","v":0.15170899698423904},{"$f":"('CPI Sub-Categories'!AG144-'CPI Sub-Categories'!AB144)/'CPI Sub-Categories'!AB144","v":-0.293739701204912},null,{"$f":"('CPI Sub-Categories'!AI144-'CPI Sub-Categories'!AD144)/'CPI Sub-Categories'!AD144","v":-0.293739701204912},{"$f":"('CPI Sub-Categories'!AJ144-'CPI Sub-Categories'!AE144)/'CPI Sub-Categories'!AE144","v":-0.293739701204912},{"$f":"('CPI Sub-Categories'!AK144-'CPI Sub-Categories'!AF144)/'CPI Sub-Categories'!AF144","v":-0.293739701204912},{"$f":"('CPI Sub-Categories'!AL144-'CPI Sub-Categories'!AG144)/'CPI Sub-Categories'!AG144","v":0.15845499958064033},null,{"$f":"('CPI Sub-Categories'!AM144-'CPI Sub-Categories'!AI144)/'CPI Sub-Categories'!AI144","v":0.15845499958064033},{"$f":"('CPI Sub-Categories'!AN144-'CPI Sub-Categories'!AJ144)/'CPI Sub-Categories'!AJ144","v":0.15845499958064033},{"$f":"('CPI Sub-Categories'!AO144-'CPI Sub-Categories'!AK144)/'CPI Sub-Categories'!AK144","v":0.15845499958064033},{"$f":"('CPI Sub-Categories'!AQ144-'CPI Sub-Categories'!AL144)/'CPI Sub-Categories'!AL144","v":-1}]
[3,"096000","Package holidays",null,0,0,0,6.5562296304770062E-2,null,6.5562296304770062E-2,6.5562296304770062E-2,6.5562296304770062E-2,-0.20084038099998888,null,-0.20084038099998888,-0.20084038099998888,-0.20084038099998888,0.8339252197912147,null,{"$f":"('CPI Sub-Categories'!Y145-'CPI Sub-Categories'!T145)/'CPI Sub-Categories'!T145","v":0.8339252197912147},{"$f":"('CPI Sub-Categories'!Z145-'CPI Sub-Categories'!U145)/'CPI Sub-Categories'!U145","v":0.8339252197912147},{"$f":"('CPI Sub-Categories'!AA145-'CPI Sub-Categories'!V145)/'CPI Sub-Categories'!V145","v":0.8339252197912147},{"$f":"('CPI Sub-Categories'!AB145-'CPI Sub-Categories'!W145)/'CPI Sub-Categories'!W145","v":0.15170899698423904},null,{"$f":"('CPI Sub-Categories'!AD145-'CPI Sub-Categories'!Y145)/'CPI Sub-Categories'!Y145","v":0.15170899698423904},{"$f":"('CPI Sub-Categories'!AE145-'CPI Sub-Categories'!Z145)/'CPI Sub-Categories'!Z145","v":0.15170899698423904},{"$f":"('CPI Sub-Categories'!AF145-'CPI Sub-Categories'!AA145)/'CPI Sub-Categories'!AA145","v":0.15170899698423904},{"$f":"('CPI Sub-Categories'!AG145-'CPI Sub-Categories'!AB145)/'CPI Sub-Categories'!AB145","v":-0.293739701204912},null,{"$f":"('CPI Sub-Categories'!AI145-'CPI Sub-Categories'!AD145)/'CPI Sub-Categories'!AD145","v":-0.293739701204912},{"$f":"('CPI Sub-Categories'!AJ145-'CPI Sub-Categories'!AE145)/'CPI Sub-Categories'!AE145","v":-0.293739701204912},{"$f":"('CPI Sub-Categories'!AK145-'CPI Sub-Categories'!AF145)/'CPI Sub-Categories'!AF145","v":-0.293739701204912},{"$f":"('CPI Sub-Categories'!AL145-'CPI Sub-Categories'!AG145)/'CPI Sub-Categories'!AG145","v":0.15845499958064033},null,{"$f":"('CPI Sub-Categories'!AM145-'CPI Sub-Categories'!AI145)/'CPI Sub-Categories'!AI145","v":0.15845499958064033},{"$f":"('CPI Sub-Categories'!AN145-'CPI Sub-Categories'!AJ145)/'CPI Sub-Categories'!AJ145","v":0.15845499958064033},{"$f":"('CPI Sub-Categories'!AO145-'CPI Sub-Categories'!AK145)/'CPI Sub-Categories'!AK145","v":0.15845499958064033},{"$f":"('CPI Sub-Categories'!AQ145-'CPI Sub-Categories'!AL145)/'CPI Sub-Categories'!AL145","v":-1}]
[1,"100000","Education",null,0,0,5.0593928097200092E-3,8.2109968010699672E-3,null,8.2109968010699672E-3,8.2109968010699672E-3,9.8521620665701568E-3,1.0029640858941442E-2,null,1.0029640858941442E-2,1.0029640858941442E-2,-3.5271289526257604E-3,-1.0600022478530579E-2,null,{"$f":"('CPI Sub-Categories'!Y146-'CPI Sub-Categories'!T146)/'CPI Sub-Categories'!T146","v":-1.0600022478530579E-2},{"$f":"('CPI Sub-Categories'!Z146-'CPI Sub-Categories'!U146)/'CPI Sub-Categories'!U146","v":-1.0600022478530579E-2},{"$f":"('CPI Sub-Categories'!AA146-'CPI Sub-Categories'!V146)/'CPI Sub-Categories'!V146","v":2.5623230614502515E-2},{"$f":"('CPI Sub-Categories'!AB146-'CPI Sub-Categories'!W146)/'CPI Sub-Categories'!W146","v":2.9545180010358829E-2},null,{"$f":"('CPI Sub-Categories'!AD146-'CPI Sub-Categories'!Y146)/'CPI Sub-Categories'!Y146","v":2.9545180010358829E-2},{"$f":"('CPI Sub-Categories'!AE146-'CPI Sub-Categories'!Z146)/'CPI Sub-Categories'!Z146","v":2.9545180010358829E-2},{"$f":"('CPI Sub-Categories'!AF146-'CPI Sub-Categories'!AA146)/'CPI Sub-Categories'!AA146","v":3.6964896296434561E-2},{"$f":"('CPI Sub-Categories'!AG146-'CPI Sub-Categories'!AB146)/'CPI Sub-Categories'!AB146","v":3.6964896296434561E-2},null,{"$f":"('CPI Sub-Categories'!AI146-'CPI Sub-Categories'!AD146)/'CPI Sub-Categories'!AD146","v":3.6964896296434561E-2},{"$f":"('CPI Sub-Categories'!AJ146-'CPI Sub-Categories'!AE146)/'CPI Sub-Categories'!AE146","v":3.6964896296434561E-2},{"$f":"('CPI Sub-Categories'!AK146-'CPI Sub-Categories'!AF146)/'CPI Sub-Categories'!AF146","v":0},{"$f":"('CPI Sub-Categories'!AL146-'CPI Sub-Categories'!AG146)/'CPI Sub-Categories'!AG146","v":1.2982025482088676E-2},null,{"$f":"('CPI Sub-Categories'!AM146-'CPI Sub-Categories'!AI146)/'CPI Sub-Categories'!AI146","v":1.2982025482088676E-2},{"$f":"('CPI Sub-Categories'!AN146-'CPI Sub-Categories'!AJ146)/'CPI Sub-Categories'!AJ146","v":0},{"$f":"('CPI Sub-Categories'!AO146-'CPI Sub-Categories'!AK146)/'CPI Sub-Categories'!AK146","v":3.9677061036622968E-2},{"$f":"('CPI Sub-Categories'!AQ146-'CPI Sub-Categories'!AL146)/'CPI Sub-Categories'!AL146","v":-1},{"$f":"VLOOKUP($B146,'[17]Level 1 - vlookup table'!$B$2:$D$13,3,FALSE)","v":108.960389978907}]
[2,"101000","Pre-primary and primary education",null,0,0,2.7174587770799974E-3,6.2084381038100388E-3,null,6.2084381038100388E-3,6.2084381038100388E-3,1.1381096664276804E-2,1.1786135652577851E-2,null,1.1786135652577851E-2,1.1786135652577851E-2,-1.2481261392320782E-2,-2.5349139826395105E-2,null,{"$f":"('CPI Sub-Categories'!Y147-'CPI Sub-Categories'!T147)/'CPI Sub-Categories'!T147","v":-2.5349139826395105E-2},{"$f":"('CPI Sub-Categories'!Z147-'CPI Sub-Categories'!U147)/'CPI Sub-Categories'!U147","v":-2.5349139826396083E-2},{"$f":"('CPI Sub-Categories'!AA147-'CPI Sub-Categories'!V147)/'CPI Sub-Categories'!V147","v":5.5027587489265911E-4},{"$f":"('CPI Sub-Categories'!AB147-'CPI Sub-Categories'!W147)/'CPI Sub-Categories'!W147","v":9.8384921454325539E-3},null,{"$f":"('CPI Sub-Categories'!AD147-'CPI Sub-Categories'!Y147)/'CPI Sub-Categories'!Y147","v":9.8384921454325539E-3},{"$f":"('CPI Sub-Categories'!AE147-'CPI Sub-Categories'!Z147)/'CPI Sub-Categories'!Z147","v":9.838492145433567E-3},{"$f":"('CPI Sub-Categories'!AF147-'CPI Sub-Categories'!AA147)/'CPI Sub-Categories'!AA147","v":3.1185680597550187E-2},{"$f":"('CPI Sub-Categories'!AG147-'CPI Sub-Categories'!AB147)/'CPI Sub-Categories'!AB147","v":3.1185680597550187E-2},null,{"$f":"('CPI Sub-Categories'!AI147-'CPI Sub-Categories'!AD147)/'CPI Sub-Categories'!AD147","v":3.1185680597550187E-2},{"$f":"('CPI Sub-Categories'!AJ147-'CPI Sub-Categories'!AE147)/'CPI Sub-Categories'!AE147","v":3.1185680597550187E-2},{"$f":"('CPI Sub-Categories'!AK147-'CPI Sub-Categories'!AF147)/'CPI Sub-Categories'!AF147","v":1.916764697762054E-2},{"$f":"('CPI Sub-Categories'!AL147-'CPI Sub-Categories'!AG147)/'CPI Sub-Categories'!AG147","v":1.916764697762054E-2},null,{"$f":"('CPI Sub-Categories'!AM147-'CPI Sub-Categories'!AI147)/'CPI Sub-Categories'!AI147","v":1.916764697762054E-2},{"$f":"('CPI Sub-Categories'!AN147-'CPI Sub-Categories'!AJ147)/'CPI Sub-Categories'!AJ147","v":1.916764697762054E-2},{"$f":"('CPI Sub-Categories'!AO147-'CPI Sub-Categories'!AK147)/'CPI Sub-Categories'!AK147","v":3.7240516097130069E-2},{"$f":"('CPI Sub-Categories'!AQ147-'CPI Sub-Categories'!AL147)/'CPI Sub-Categories'!AL147","v":-1}]
[3,"101000","Pre-primary and primary education",null,0,0,2.7174587770799974E-3,6.2084381038100388E-3,null,6.2084381038100388E-3,6.2084381038100388E-3,1.1381096664276804E-2,1.1786135652577851E-2,null,1.1786135652577851E-2,1.1786135652577851E-2,-1.2481261392320782E-2,-2.5349139826395105E-2,null,{"$f":"('CPI Sub-Categories'!Y148-'CPI Sub-Categories'!T148)/'CPI Sub-Categories'!T148","v":-2.5349139826395105E-2},{"$f":"('CPI Sub-Categories'!Z148-'CPI Sub-Categories'!U148)/'CPI Sub-Categories'!U148","v":-2.5349139826396083E-2},{"$f":"('CPI Sub-Categories'!AA148-'CPI Sub-Categories'!V148)/'CPI Sub-Categories'!V148","v":5.5027587489265911E-4},{"$f":"('CPI Sub-Categories'!AB148-'CPI Sub-Categories'!W148)/'CPI Sub-Categories'!W148","v":9.8384921454325539E-3},null,{"$f":"('CPI Sub-Categories'!AD148-'CPI Sub-Categories'!Y148)/'CPI Sub-Categories'!Y148","v":9.8384921454325539E-3},{"$f":"('CPI Sub-Categories'!AE148-'CPI Sub-Categories'!Z148)/'CPI Sub-Categories'!Z148","v":9.838492145433567E-3},{"$f":"('CPI Sub-Categories'!AF148-'CPI Sub-Categories'!AA148)/'CPI Sub-Categories'!AA148","v":3.1185680597550187E-2},{"$f":"('CPI Sub-Categories'!AG148-'CPI Sub-Categories'!AB148)/'CPI Sub-Categories'!AB148","v":3.1185680597550187E-2},null,{"$f":"('CPI Sub-Categories'!AI148-'CPI Sub-Categories'!AD148)/'CPI Sub-Categories'!AD148","v":3.1185680597550187E-2},{"$f":"('CPI Sub-Categories'!AJ148-'CPI Sub-Categories'!AE148)/'CPI Sub-Categories'!AE148","v":3.1185680597550187E-2},{"$f":"('CPI Sub-Categories'!AK148-'CPI Sub-Categories'!AF148)/'CPI Sub-Categories'!AF148","v":1.916764697762054E-2},{"$f":"('CPI Sub-Categories'!AL148-'CPI Sub-Categories'!AG148)/'CPI Sub-Categories'!AG148","v":1.916764697762054E-2},null,{"$f":"('CPI Sub-Categories'!AM148-'CPI Sub-Categories'!AI148)/'CPI Sub-Categories'!AI148","v":1.916764697762054E-2},{"$f":"('CPI Sub-Categories'!AN148-'CPI Sub-Categories'!AJ148)/'CPI Sub-Categories'!AJ148","v":1.916764697762054E-2},{"$f":"('CPI Sub-Categories'!AO148-'CPI Sub-Categories'!AK148)/'CPI Sub-Categories'!AK148","v":3.7240516097130069E-2},{"$f":"('CPI Sub-Categories'!AQ148-'CPI Sub-Categories'!AL148)/'CPI Sub-Categories'!AL148","v":-1}]
[2,"102000","Secondary education",null,0,0,5.8041899633900582E-3,9.351901904729943E-3,null,9.351901904729943E-3,9.351901904729943E-3,1.0119356121771964E-2,9.8408711309265623E-3,null,9.8408711309265623E-3,9.8408711309265623E-3,3.2505715988381313E-3,0,null,{"$f":"('CPI Sub-Categories'!Y149-'CPI Sub-Categories'!T149)/'CPI Sub-Categories'!T149","v":0},{"$f":"('CPI Sub-Categories'!Z149-'CPI Sub-Categories'!U149)/'CPI Sub-Categories'!U149","v":0},{"$f":"('CPI Sub-Categories'!AA149-'CPI Sub-Categories'!V149)/'CPI Sub-Categories'!V149","v":1.990940487353534E-2},{"$f":"('CPI Sub-Categories'!AB149-'CPI Sub-Categories'!W149)/'CPI Sub-Categories'!W149","v":1.990940487353534E-2},null,{"$f":"('CPI Sub-Categories'!AD149-'CPI Sub-Categories'!Y149)/'CPI Sub-Categories'!Y149","v":1.990940487353534E-2},{"$f":"('CPI Sub-Categories'!AE149-'CPI Sub-Categories'!Z149)/'CPI Sub-Categories'!Z149","v":1.990940487353534E-2},{"$f":"('CPI Sub-Categories'!AF149-'CPI Sub-Categories'!AA149)/'CPI Sub-Categories'!AA149","v":2.0767564975324171E-2},{"$f":"('CPI Sub-Categories'!AG149-'CPI Sub-Categories'!AB149)/'CPI Sub-Categories'!AB149","v":2.0767564975324171E-2},null,{"$f":"('CPI Sub-Categories'!AI149-'CPI Sub-Categories'!AD149)/'CPI Sub-Categories'!AD149","v":2.0767564975324171E-2},{"$f":"('CPI Sub-Categories'!AJ149-'CPI Sub-Categories'!AE149)/'CPI Sub-Categories'!AE149","v":2.0767564975324171E-2},{"$f":"('CPI Sub-Categories'!AK149-'CPI Sub-Categories'!AF149)/'CPI Sub-Categories'!AF149","v":1.7420227937904924E-2},{"$f":"('CPI Sub-Categories'!AL149-'CPI Sub-Categories'!AG149)/'CPI Sub-Categories'!AG149","v":1.7420227937904924E-2},null,{"$f":"('CPI Sub-Categories'!AM149-'CPI Sub-Categories'!AI149)/'CPI Sub-Categories'!AI149","v":1.7420227937904924E-2},{"$f":"('CPI Sub-Categories'!AN149-'CPI Sub-Categories'!AJ149)/'CPI Sub-Categories'!AJ149","v":1.7420227937904924E-2},{"$f":"('CPI Sub-Categories'!AO149-'CPI Sub-Categories'!AK149)/'CPI Sub-Categories'!AK149","v":2.565612827587728E-2},{"$f":"('CPI Sub-Categories'!AQ149-'CPI Sub-Categories'!AL149)/'CPI Sub-Categories'!AL149","v":-1}]
[3,"102000","Secondary education",null,0,0,5.8041899633900582E-3,9.351901904729943E-3,null,9.351901904729943E-3,9.351901904729943E-3,1.0119356121771964E-2,9.8408711309265623E-3,null,9.8408711309265623E-3,9.8408711309265623E-3,3.2505715988381313E-3,0,null,{"$f":"('CPI Sub-Categories'!Y150-'CPI Sub-Categories'!T150)/'CPI Sub-Categories'!T150","v":0},{"$f":"('CPI Sub-Categories'!Z150-'CPI Sub-Categories'!U150)/'CPI Sub-Categories'!U150","v":0},{"$f":"('CPI Sub-Categories'!AA150-'CPI Sub-Categories'!V150)/'CPI Sub-Categories'!V150","v":1.990940487353534E-2},{"$f":"('CPI Sub-Categories'!AB150-'CPI Sub-Categories'!W150)/'CPI Sub-Categories'!W150","v":1.990940487353534E-2},null,{"$f":"('CPI Sub-Categories'!AD150-'CPI Sub-Categories'!Y150)/'CPI Sub-Categories'!Y150","v":1.990940487353534E-2},{"$f":"('CPI Sub-Categories'!AE150-'CPI Sub-Categories'!Z150)/'CPI Sub-Categories'!Z150","v":1.990940487353534E-2},{"$f":"('CPI Sub-Categories'!AF150-'CPI Sub-Categories'!AA150)/'CPI Sub-Categories'!AA150","v":2.0767564975324171E-2},{"$f":"('CPI Sub-Categories'!AG150-'CPI Sub-Categories'!AB150)/'CPI Sub-Categories'!AB150","v":2.0767564975324171E-2},null,{"$f":"('CPI Sub-Categories'!AI150-'CPI Sub-Categories'!AD150)/'CPI Sub-Categories'!AD150","v":2.0767564975324171E-2},{"$f":"('CPI Sub-Categories'!AJ150-'CPI Sub-Categories'!AE150)/'CPI Sub-Categories'!AE150","v":2.0767564975324171E-2},{"$f":"('CPI Sub-Categories'!AK150-'CPI Sub-Categories'!AF150)/'CPI Sub-Categories'!AF150","v":1.7420227937904924E-2},{"$f":"('CPI Sub-Categories'!AL150-'CPI Sub-Categories'!AG150)/'CPI Sub-Categories'!AG150","v":1.7420227937904924E-2},null,{"$f":"('CPI Sub-Categories'!AM150-'CPI Sub-Categories'!AI150)/'CPI Sub-Categories'!AI150","v":1.7420227937904924E-2},{"$f":"('CPI Sub-Categories'!AN150-'CPI Sub-Categories'!AJ150)/'CPI Sub-Categories'!AJ150","v":1.7420227937904924E-2},{"$f":"('CPI Sub-Categories'!AO150-'CPI Sub-Categories'!AK150)/'CPI Sub-Categories'!AK150","v":2.565612827587728E-2},{"$f":"('CPI Sub-Categories'!AQ150-'CPI Sub-Categories'!AL150)/'CPI Sub-Categories'!AL150","v":-1}]
[2,"103000","Post-secondary non-tertiary education",null,0,0,3.3361135207002237E-4,5.0037531276998944E-4,null,5.0037531276998944E-4,5.0037531276998944E-4,1.6670834490362248E-4,0,null,0,0,0,0,null,{"$f":"('CPI Sub-Categories'!Y151-'CPI Sub-Categories'!T151)/'CPI Sub-Categories'!T151","v":0},{"$f":"('CPI Sub-Categories'!Z151-'CPI Sub-Categories'!U151)/'CPI Sub-Categories'!U151","v":0},{"$f":"('CPI Sub-Categories'!AA151-'CPI Sub-Categories'!V151)/'CPI Sub-Categories'!V151","v":8.0123449734648897E-2},{"$f":"('CPI Sub-Categories'!AB151-'CPI Sub-Categories'!W151)/'CPI Sub-Categories'!W151","v":8.0123449734648897E-2},null,{"$f":"('CPI Sub-Categories'!AD151-'CPI Sub-Categories'!Y151)/'CPI Sub-Categories'!Y151","v":8.0123449734648897E-2},{"$f":"('CPI Sub-Categories'!AE151-'CPI Sub-Categories'!Z151)/'CPI Sub-Categories'!Z151","v":8.0123449734648897E-2},{"$f":"('CPI Sub-Categories'!AF151-'CPI Sub-Categories'!AA151)/'CPI Sub-Categories'!AA151","v":0},{"$f":"('CPI Sub-Categories'!AG151-'CPI Sub-Categories'!AB151)/'CPI Sub-Categories'!AB151","v":0},null,{"$f":"('CPI Sub-Categories'!AI151-'CPI Sub-Categories'!AD151)/'CPI Sub-Categories'!AD151","v":0},{"$f":"('CPI Sub-Categories'!AJ151-'CPI Sub-Categories'!AE151)/'CPI Sub-Categories'!AE151","v":0},{"$f":"('CPI Sub-Categories'!AK151-'CPI Sub-Categories'!AF151)/'CPI Sub-Categories'!AF151","v":0},{"$f":"('CPI Sub-Categories'!AL151-'CPI Sub-Categories'!AG151)/'CPI Sub-Categories'!AG151","v":0},null,{"$f":"('CPI Sub-Categories'!AM151-'CPI Sub-Categories'!AI151)/'CPI Sub-Categories'!AI151","v":0},{"$f":"('CPI Sub-Categories'!AN151-'CPI Sub-Categories'!AJ151)/'CPI Sub-Categories'!AJ151","v":0},{"$f":"('CPI Sub-Categories'!AO151-'CPI Sub-Categories'!AK151)/'CPI Sub-Categories'!AK151","v":0},{"$f":"('CPI Sub-Categories'!AQ151-'CPI Sub-Categories'!AL151)/'CPI Sub-Categories'!AL151","v":-1}]
[3,"103000","Post-secondary non-tertiary education",null,0,0,3.3361135207002237E-4,5.0037531276998944E-4,null,5.0037531276998944E-4,5.0037531276998944E-4,1.6670834490362248E-4,0,null,0,0,0,0,null,{"$f":"('CPI Sub-Categories'!Y152-'CPI Sub-Categories'!T152)/'CPI Sub-Categories'!T152","v":0},{"$f":"('CPI Sub-Categories'!Z152-'CPI Sub-Categories'!U152)/'CPI Sub-Categories'!U152","v":0},{"$f":"('CPI Sub-Categories'!AA152-'CPI Sub-Categories'!V152)/'CPI Sub-Categories'!V152","v":8.0123449734648897E-2},{"$f":"('CPI Sub-Categories'!AB152-'CPI Sub-Categories'!W152)/'CPI Sub-Categories'!W152","v":8.0123449734648897E-2},null,{"$f":"('CPI Sub-Categories'!AD152-'CPI Sub-Categories'!Y152)/'CPI Sub-Categories'!Y152","v":8.0123449734648897E-2},{"$f":"('CPI Sub-Categories'!AE152-'CPI Sub-Categories'!Z152)/'CPI Sub-Categories'!Z152","v":8.0123449734648897E-2},{"$f":"('CPI Sub-Categories'!AF152-'CPI Sub-Categories'!AA152)/'CPI Sub-Categories'!AA152","v":0},{"$f":"('CPI Sub-Categories'!AG152-'CPI Sub-Categories'!AB152)/'CPI Sub-Categories'!AB152","v":0},null,{"$f":"('CPI Sub-Categories'!AI152-'CPI Sub-Categories'!AD152)/'CPI Sub-Categories'!AD152","v":0},{"$f":"('CPI Sub-Categories'!AJ152-'CPI Sub-Categories'!AE152)/'CPI Sub-Categories'!AE152","v":0},{"$f":"('CPI Sub-Categories'!AK152-'CPI Sub-Categories'!AF152)/'CPI Sub-Categories'!AF152","v":0},{"$f":"('CPI Sub-Categories'!AL152-'CPI Sub-Categories'!AG152)/'CPI Sub-Categories'!AG152","v":0},null,{"$f":"('CPI Sub-Categories'!AM152-'CPI Sub-Categories'!AI152)/'CPI Sub-Categories'!AI152","v":0},{"$f":"('CPI Sub-Categories'!AN152-'CPI Sub-Categories'!AJ152)/'CPI Sub-Categories'!AJ152","v":0},{"$f":"('CPI Sub-Categories'!AO152-'CPI Sub-Categories'!AK152)/'CPI Sub-Categories'!AK152","v":0},{"$f":"('CPI Sub-Categories'!AQ152-'CPI Sub-Categories'!AL152)/'CPI Sub-Categories'!AL152","v":-1}]
[2,"104000","Tertiary education",null,0,0,4.7722557505170043E-2,7.0087712549569969E-2,null,7.0087712549569969E-2,7.0087712549569969E-2,5.7942407855364288E-2,5.3736146474279184E-2,null,5.3736146474279184E-2,5.3736146474279184E-2,1.7285688040745404E-2,0,null,{"$f":"('CPI Sub-Categories'!Y153-'CPI Sub-Categories'!T153)/'CPI Sub-Categories'!T153","v":0},{"$f":"('CPI Sub-Categories'!Z153-'CPI Sub-Categories'!U153)/'CPI Sub-Categories'!U153","v":0},{"$f":"('CPI Sub-Categories'!AA153-'CPI Sub-Categories'!V153)/'CPI Sub-Categories'!V153","v":0.13676338042817854},{"$f":"('CPI Sub-Categories'!AB153-'CPI Sub-Categories'!W153)/'CPI Sub-Categories'!W153","v":0.13676338042817854},null,{"$f":"('CPI Sub-Categories'!AD153-'CPI Sub-Categories'!Y153)/'CPI Sub-Categories'!Y153","v":0.13676338042817854},{"$f":"('CPI Sub-Categories'!AE153-'CPI Sub-Categories'!Z153)/'CPI Sub-Categories'!Z153","v":0.13676338042817854},{"$f":"('CPI Sub-Categories'!AF153-'CPI Sub-Categories'!AA153)/'CPI Sub-Categories'!AA153","v":8.4128942313194521E-3},{"$f":"('CPI Sub-Categories'!AG153-'CPI Sub-Categories'!AB153)/'CPI Sub-Categories'!AB153","v":8.4128942313194521E-3},null,{"$f":"('CPI Sub-Categories'!AI153-'CPI Sub-Categories'!AD153)/'CPI Sub-Categories'!AD153","v":8.4128942313194521E-3},{"$f":"('CPI Sub-Categories'!AJ153-'CPI Sub-Categories'!AE153)/'CPI Sub-Categories'!AE153","v":8.4128942313194521E-3},{"$f":"('CPI Sub-Categories'!AK153-'CPI Sub-Categories'!AF153)/'CPI Sub-Categories'!AF153","v":0},{"$f":"('CPI Sub-Categories'!AL153-'CPI Sub-Categories'!AG153)/'CPI Sub-Categories'!AG153","v":0},null,{"$f":"('CPI Sub-Categories'!AM153-'CPI Sub-Categories'!AI153)/'CPI Sub-Categories'!AI153","v":0},{"$f":"('CPI Sub-Categories'!AN153-'CPI Sub-Categories'!AJ153)/'CPI Sub-Categories'!AJ153","v":0},{"$f":"('CPI Sub-Categories'!AO153-'CPI Sub-Categories'!AK153)/'CPI Sub-Categories'!AK153","v":8.0511200554254231E-2},{"$f":"('CPI Sub-Categories'!AQ153-'CPI Sub-Categories'!AL153)/'CPI Sub-Categories'!AL153","v":-1}]
[3,"104000","Tertiary education",null,0,0,4.7722557505170043E-2,7.0087712549569969E-2,null,7.0087712549569969E-2,7.0087712549569969E-2,5.7942407855364288E-2,5.3736146474279184E-2,null,5.3736146474279184E-2,5.3736146474279184E-2,1.7285688040745404E-2,0,null,{"$f":"('CPI Sub-Categories'!Y154-'CPI Sub-Categories'!T154)/'CPI Sub-Categories'!T154","v":0},{"$f":"('CPI Sub-Categories'!Z154-'CPI Sub-Categories'!U154)/'CPI Sub-Categories'!U154","v":0},{"$f":"('CPI Sub-Categories'!AA154-'CPI Sub-Categories'!V154)/'CPI Sub-Categories'!V154","v":0.13676338042817854},{"$f":"('CPI Sub-Categories'!AB154-'CPI Sub-Categories'!W154)/'CPI Sub-Categories'!W154","v":0.13676338042817854},null,{"$f":"('CPI Sub-Categories'!AD154-'CPI Sub-Categories'!Y154)/'CPI Sub-Categories'!Y154","v":0.13676338042817854},{"$f":"('CPI Sub-Categories'!AE154-'CPI Sub-Categories'!Z154)/'CPI Sub-Categories'!Z154","v":0.13676338042817854},{"$f":"('CPI Sub-Categories'!AF154-'CPI Sub-Categories'!AA154)/'CPI Sub-Categories'!AA154","v":8.4128942313194521E-3},{"$f":"('CPI Sub-Categories'!AG154-'CPI Sub-Categories'!AB154)/'CPI Sub-Categories'!AB154","v":8.4128942313194521E-3},null,{"$f":"('CPI Sub-Categories'!AI154-'CPI Sub-Categories'!AD154)/'CPI Sub-Categories'!AD154","v":8.4128942313194521E-3},{"$f":"('CPI Sub-Categories'!AJ154-'CPI Sub-Categories'!AE154)/'CPI Sub-Categories'!AE154","v":8.4128942313194521E-3},{"$f":"('CPI Sub-Categories'!AK154-'CPI Sub-Categories'!AF154)/'CPI Sub-Categories'!AF154","v":0},{"$f":"('CPI Sub-Categories'!AL154-'CPI Sub-Categories'!AG154)/'CPI Sub-Categories'!AG154","v":0},null,{"$f":"('CPI Sub-Categories'!AM154-'CPI Sub-Categories'!AI154)/'CPI Sub-Categories'!AI154","v":0},{"$f":"('CPI Sub-Categories'!AN154-'CPI Sub-Categories'!AJ154)/'CPI Sub-Categories'!AJ154","v":0},{"$f":"('CPI Sub-Categories'!AO154-'CPI Sub-Categories'!AK154)/'CPI Sub-Categories'!AK154","v":8.0511200554254231E-2},{"$f":"('CPI Sub-Categories'!AQ154-'CPI Sub-Categories'!AL154)/'CPI Sub-Categories'!AL154","v":-1}]
[2,"105000","Education not definable by level",null,0,0,5.1741879618299432E-3,1.4533059538800331E-3,null,1.4533059538800331E-3,1.4533059538800331E-3,-3.7017285685525441E-3,0,null,0,0,0,0,null,{"$f":"('CPI Sub-Categories'!Y155-'CPI Sub-Categories'!T155)/'CPI Sub-Categories'!T155","v":0},{"$f":"('CPI Sub-Categories'!Z155-'CPI Sub-Categories'!U155)/'CPI Sub-Categories'!U155","v":0},{"$f":"('CPI Sub-Categories'!AA155-'CPI Sub-Categories'!V155)/'CPI Sub-Categories'!V155","v":0},{"$f":"('CPI Sub-Categories'!AB155-'CPI Sub-Categories'!W155)/'CPI Sub-Categories'!W155","v":0},null,{"$f":"('CPI Sub-Categories'!AD155-'CPI Sub-Categories'!Y155)/'CPI Sub-Categories'!Y155","v":0},{"$f":"('CPI Sub-Categories'!AE155-'CPI Sub-Categories'!Z155)/'CPI Sub-Categories'!Z155","v":0},{"$f":"('CPI Sub-Categories'!AF155-'CPI Sub-Categories'!AA155)/'CPI Sub-Categories'!AA155","v":0.27781528059050897},{"$f":"('CPI Sub-Categories'!AG155-'CPI Sub-Categories'!AB155)/'CPI Sub-Categories'!AB155","v":0.27781528059050897},null,{"$f":"('CPI Sub-Categories'!AI155-'CPI Sub-Categories'!AD155)/'CPI Sub-Categories'!AD155","v":0.27781528059050897},{"$f":"('CPI Sub-Categories'!AJ155-'CPI Sub-Categories'!AE155)/'CPI Sub-Categories'!AE155","v":0.27781528059050897},{"$f":"('CPI Sub-Categories'!AK155-'CPI Sub-Categories'!AF155)/'CPI Sub-Categories'!AF155","v":0},{"$f":"('CPI Sub-Categories'!AL155-'CPI Sub-Categories'!AG155)/'CPI Sub-Categories'!AG155","v":0},null,{"$f":"('CPI Sub-Categories'!AM155-'CPI Sub-Categories'!AI155)/'CPI Sub-Categories'!AI155","v":0},{"$f":"('CPI Sub-Categories'!AN155-'CPI Sub-Categories'!AJ155)/'CPI Sub-Categories'!AJ155","v":0},{"$f":"('CPI Sub-Categories'!AO155-'CPI Sub-Categories'!AK155)/'CPI Sub-Categories'!AK155","v":0},{"$f":"('CPI Sub-Categories'!AQ155-'CPI Sub-Categories'!AL155)/'CPI Sub-Categories'!AL155","v":-1}]
[3,"105000","Education not definable by level",null,0,0,5.1741879618299432E-3,1.4533059538800331E-3,null,1.4533059538800331E-3,1.4533059538800331E-3,-3.7017285685525441E-3,0,null,0,0,0,0,null,{"$f":"('CPI Sub-Categories'!Y156-'CPI Sub-Categories'!T156)/'CPI Sub-Categories'!T156","v":0},{"$f":"('CPI Sub-Categories'!Z156-'CPI Sub-Categories'!U156)/'CPI Sub-Categories'!U156","v":0},{"$f":"('CPI Sub-Categories'!AA156-'CPI Sub-Categories'!V156)/'CPI Sub-Categories'!V156","v":0},{"$f":"('CPI Sub-Categories'!AB156-'CPI Sub-Categories'!W156)/'CPI Sub-Categories'!W156","v":0},null,{"$f":"('CPI Sub-Categories'!AD156-'CPI Sub-Categories'!Y156)/'CPI Sub-Categories'!Y156","v":0},{"$f":"('CPI Sub-Categories'!AE156-'CPI Sub-Categories'!Z156)/'CPI Sub-Categories'!Z156","v":0},{"$f":"('CPI Sub-Categories'!AF156-'CPI Sub-Categories'!AA156)/'CPI Sub-Categories'!AA156","v":0.27781528059050897},{"$f":"('CPI Sub-Categories'!AG156-'CPI Sub-Categories'!AB156)/'CPI Sub-Categories'!AB156","v":0.27781528059050897},null,{"$f":"('CPI Sub-Categories'!AI156-'CPI Sub-Categories'!AD156)/'CPI Sub-Categories'!AD156","v":0.27781528059050897},{"$f":"('CPI Sub-Categories'!AJ156-'CPI Sub-Categories'!AE156)/'CPI Sub-Categories'!AE156","v":0.27781528059050897},{"$f":"('CPI Sub-Categories'!AK156-'CPI Sub-Categories'!AF156)/'CPI Sub-Categories'!AF156","v":0},{"$f":"('CPI Sub-Categories'!AL156-'CPI Sub-Categories'!AG156)/'CPI Sub-Categories'!AG156","v":0},null,{"$f":"('CPI Sub-Categories'!AM156-'CPI Sub-Categories'!AI156)/'CPI Sub-Categories'!AI156","v":0},{"$f":"('CPI Sub-Categories'!AN156-'CPI Sub-Categories'!AJ156)/'CPI Sub-Categories'!AJ156","v":0},{"$f":"('CPI Sub-Categories'!AO156-'CPI Sub-Categories'!AK156)/'CPI Sub-Categories'!AK156","v":0},{"$f":"('CPI Sub-Categories'!AQ156-'CPI Sub-Categories'!AL156)/'CPI Sub-Categories'!AL156","v":-1}]
[1,"110000","Restaurants and hotels",null,4.2003175085397636E-11,3.7040245250143149E-4,2.0268966753982562E-5,3.5657559565485694E-3,null,6.3858062906112026E-3,1.1116491485493749E-2,2.1737449346709101E-2,1.8412696172605991E-2,null,1.6025755799736311E-2,1.8876463785681686E-2,2.2937779892705623E-2,2.7706834216027917E-2,null,{"$f":"('CPI Sub-Categories'!Y157-'CPI Sub-Categories'!T157)/'CPI Sub-Categories'!T157","v":3.6494798652858117E-2},{"$f":"('CPI Sub-Categories'!Z157-'CPI Sub-Categories'!U157)/'CPI Sub-Categories'!U157","v":9.7105612196235716E-2},{"$f":"('CPI Sub-Categories'!AA157-'CPI Sub-Categories'!V157)/'CPI Sub-Categories'!V157","v":8.9200061791030516E-2},{"$f":"('CPI Sub-Categories'!AB157-'CPI Sub-Categories'!W157)/'CPI Sub-Categories'!W157","v":9.0731352314676467E-2},null,{"$f":"('CPI Sub-Categories'!AD157-'CPI Sub-Categories'!Y157)/'CPI Sub-Categories'!Y157","v":8.0986655300233606E-2},{"$f":"('CPI Sub-Categories'!AE157-'CPI Sub-Categories'!Z157)/'CPI Sub-Categories'!Z157","v":5.2979090132546147E-2},{"$f":"('CPI Sub-Categories'!AF157-'CPI Sub-Categories'!AA157)/'CPI Sub-Categories'!AA157","v":9.0385769082217862E-2},{"$f":"('CPI Sub-Categories'!AG157-'CPI Sub-Categories'!AB157)/'CPI Sub-Categories'!AB157","v":6.4670453328895372E-2},null,{"$f":"('CPI Sub-Categories'!AI157-'CPI Sub-Categories'!AD157)/'CPI Sub-Categories'!AD157","v":6.4670453328895372E-2},{"$f":"('CPI Sub-Categories'!AJ157-'CPI Sub-Categories'!AE157)/'CPI Sub-Categories'!AE157","v":7.4920147322235217E-2},{"$f":"('CPI Sub-Categories'!AK157-'CPI Sub-Categories'!AF157)/'CPI Sub-Categories'!AF157","v":-1.7391676701007591E-2},{"$f":"('CPI Sub-Categories'!AL157-'CPI Sub-Categories'!AG157)/'CPI Sub-Categories'!AG157","v":3.587988465730662E-2},null,{"$f":"('CPI Sub-Categories'!AM157-'CPI Sub-Categories'!AI157)/'CPI Sub-Categories'!AI157","v":3.5879885869818842E-2},{"$f":"('CPI Sub-Categories'!AN157-'CPI Sub-Categories'!AJ157)/'CPI Sub-Categories'!AJ157","v":0},{"$f":"('CPI Sub-Categories'!AO157-'CPI Sub-Categories'!AK157)/'CPI Sub-Categories'!AK157","v":7.271128939780859E-2},{"$f":"('CPI Sub-Categories'!AQ157-'CPI Sub-Categories'!AL157)/'CPI Sub-Categories'!AL157","v":-1},{"$f":"VLOOKUP($B157,'[17]Level 1 - vlookup table'!$B$2:$D$13,3,FALSE)","v":126.351299347394}]
[2,"111000","Catering services",null,4.2003175085397636E-11,3.7040245250143149E-4,2.0268966753982562E-5,3.5657559565485694E-3,null,6.3858062906112026E-3,1.1116491485493749E-2,2.1737449346709101E-2,1.8412696172605991E-2,null,1.6025755799736311E-2,1.8876463785681686E-2,2.2937779892705623E-2,2.7706834216027917E-2,null,{"$f":"('CPI Sub-Categories'!Y158-'CPI Sub-Categories'!T158)/'CPI Sub-Categories'!T158","v":3.6494798652858117E-2},{"$f":"('CPI Sub-Categories'!Z158-'CPI Sub-Categories'!U158)/'CPI Sub-Categories'!U158","v":9.7105612196235716E-2},{"$f":"('CPI Sub-Categories'!AA158-'CPI Sub-Categories'!V158)/'CPI Sub-Categories'!V158","v":8.9200061791030516E-2},{"$f":"('CPI Sub-Categories'!AB158-'CPI Sub-Categories'!W158)/'CPI Sub-Categories'!W158","v":9.0731352314676467E-2},null,{"$f":"('CPI Sub-Categories'!AD158-'CPI Sub-Categories'!Y158)/'CPI Sub-Categories'!Y158","v":8.0986655300233606E-2},{"$f":"('CPI Sub-Categories'!AE158-'CPI Sub-Categories'!Z158)/'CPI Sub-Categories'!Z158","v":5.2979090132546147E-2},{"$f":"('CPI Sub-Categories'!AF158-'CPI Sub-Categories'!AA158)/'CPI Sub-Categories'!AA158","v":9.0385769082217862E-2},{"$f":"('CPI Sub-Categories'!AG158-'CPI Sub-Categories'!AB158)/'CPI Sub-Categories'!AB158","v":6.4670453328895372E-2},null,{"$f":"('CPI Sub-Categories'!AI158-'CPI Sub-Categories'!AD158)/'CPI Sub-Categories'!AD158","v":6.4670453328895372E-2},{"$f":"('CPI Sub-Categories'!AJ158-'CPI Sub-Categories'!AE158)/'CPI Sub-Categories'!AE158","v":7.4920147322235217E-2},{"$f":"('CPI Sub-Categories'!AK158-'CPI Sub-Categories'!AF158)/'CPI Sub-Categories'!AF158","v":2.8359903773964478E-2},{"$f":"('CPI Sub-Categories'!AL158-'CPI Sub-Categories'!AG158)/'CPI Sub-Categories'!AG158","v":3.587988465730662E-2},null,{"$f":"('CPI Sub-Categories'!AM158-'CPI Sub-Categories'!AI158)/'CPI Sub-Categories'!AI158","v":3.587988465730662E-2},{"$f":"('CPI Sub-Categories'!AN158-'CPI Sub-Categories'!AJ158)/'CPI Sub-Categories'!AJ158","v":-2.6898400810867751E-3},{"$f":"('CPI Sub-Categories'!AO158-'CPI Sub-Categories'!AK158)/'CPI Sub-Categories'!AK158","v":2.2751579476423953E-2},{"$f":"('CPI Sub-Categories'!AQ158-'CPI Sub-Categories'!AL158)/'CPI Sub-Categories'!AL158","v":-1}]
[3,"111100","Restaurants, cafés and the like",null,4.2003175085397636E-11,3.7040245250143149E-4,2.0268966753982562E-5,3.5657559565485694E-3,null,6.3858062906112026E-3,1.1116491485493749E-2,2.1737449346709101E-2,1.8412696172605991E-2,null,1.6025755799736311E-2,1.8876463785681686E-2,2.2937779892705623E-2,2.7706834216027917E-2,null,{"$f":"('CPI Sub-Categories'!Y159-'CPI Sub-Categories'!T159)/'CPI Sub-Categories'!T159","v":3.6494798652858117E-2},{"$f":"('CPI Sub-Categories'!Z159-'CPI Sub-Categories'!U159)/'CPI Sub-Categories'!U159","v":9.7105612196235716E-2},{"$f":"('CPI Sub-Categories'!AA159-'CPI Sub-Categories'!V159)/'CPI Sub-Categories'!V159","v":8.9200061791030516E-2},{"$f":"('CPI Sub-Categories'!AB159-'CPI Sub-Categories'!W159)/'CPI Sub-Categories'!W159","v":9.0731352314676467E-2},null,{"$f":"('CPI Sub-Categories'!AD159-'CPI Sub-Categories'!Y159)/'CPI Sub-Categories'!Y159","v":8.0986655300233606E-2},{"$f":"('CPI Sub-Categories'!AE159-'CPI Sub-Categories'!Z159)/'CPI Sub-Categories'!Z159","v":5.2979090132546147E-2},{"$f":"('CPI Sub-Categories'!AF159-'CPI Sub-Categories'!AA159)/'CPI Sub-Categories'!AA159","v":9.0385769082217862E-2},{"$f":"('CPI Sub-Categories'!AG159-'CPI Sub-Categories'!AB159)/'CPI Sub-Categories'!AB159","v":6.4670453328895372E-2},null,{"$f":"('CPI Sub-Categories'!AI159-'CPI Sub-Categories'!AD159)/'CPI Sub-Categories'!AD159","v":6.4670453328895372E-2},{"$f":"('CPI Sub-Categories'!AJ159-'CPI Sub-Categories'!AE159)/'CPI Sub-Categories'!AE159","v":7.4920147322235217E-2},{"$f":"('CPI Sub-Categories'!AK159-'CPI Sub-Categories'!AF159)/'CPI Sub-Categories'!AF159","v":2.8359903773964478E-2},{"$f":"('CPI Sub-Categories'!AL159-'CPI Sub-Categories'!AG159)/'CPI Sub-Categories'!AG159","v":3.587988465730662E-2},null,{"$f":"('CPI Sub-Categories'!AM159-'CPI Sub-Categories'!AI159)/'CPI Sub-Categories'!AI159","v":3.587988465730662E-2},{"$f":"('CPI Sub-Categories'!AN159-'CPI Sub-Categories'!AJ159)/'CPI Sub-Categories'!AJ159","v":-2.6898400810867751E-3},{"$f":"('CPI Sub-Categories'!AO159-'CPI Sub-Categories'!AK159)/'CPI Sub-Categories'!AK159","v":2.2751579476423953E-2},{"$f":"('CPI Sub-Categories'!AQ159-'CPI Sub-Categories'!AL159)/'CPI Sub-Categories'!AL159","v":-1}]
[3,"111200","Canteens",null,"Not relevant","Not relevant","Not relevant","Not relevant",null,"Not relevant","Not relevant","Not relevant","Not relevant",null,"Not relevant","Not relevant","Not relevant","Not relevant",null,"Not relevant","Not relevant","Not relevant","Not relevant",null,"Not relevant","Not relevant","Not relevant","Not relevant",null,"Not relevant","Not relevant","Not relevant","Not relevant",null,"Not relevant","Not relevant","Not relevant","Not relevant"]
[2,"112000","Accommodation services",null,"Not yet available","Not yet available","Not yet available","Not yet available",null,"Not yet available","Not yet available","Not yet available","Not yet available",null,"Not yet available","Not yet available","Not yet available","Not available",null,"Not yet available","Not yet available","Not yet available","Not available",null,"Not yet available","Not yet available","Not yet available","Not yet available",null,"Not yet available","Not yet available","Not yet available","Not yet available",null,"Not yet available","Not yet available","Not yet available","Not yet available"]
[3,"112100","Accommodation services",null,"Not yet available","Not yet available","Not yet available","Not yet available",null,"Not yet available","Not yet available","Not yet available","Not yet available",null,"Not yet available","Not yet available","Not yet available","Not available",null,"Not yet available","Not yet available","Not yet available","Not available",null,"Not yet available","Not yet available","Not yet available","Not yet available",null,"Not yet available","Not yet available","Not yet available","Not yet available",null,"Not yet available","Not yet available","Not yet available","Not yet available"]
[1,"120000","Miscellaneous goods and services",null,6.8527688369535824E-3,-8.7593023409998517E-3,-2.1306903956875459E-3,-3.3308028458957696E-3,null,-1.3146913039049093E-2,1.219711873471279E-2,8.0922346439783865E-3,3.3965601396533443E-2,null,3.9387604617762348E-2,3.1310615859781038E-2,2.7997688952327727E-2,8.8025908839042977E-3,null,{"$f":"('CPI Sub-Categories'!Y163-'CPI Sub-Categories'!T163)/'CPI Sub-Categories'!T163","v":6.5926033129695078E-3},{"$f":"('CPI Sub-Categories'!Z163-'CPI Sub-Categories'!U163)/'CPI Sub-Categories'!U163","v":-4.7680944529251762E-3},{"$f":"('CPI Sub-Categories'!AA163-'CPI Sub-Categories'!V163)/'CPI Sub-Categories'!V163","v":-3.6078292256052683E-3},{"$f":"('CPI Sub-Categories'!AB163-'CPI Sub-Categories'!W163)/'CPI Sub-Categories'!W163","v":5.3893945132359525E-3},null,{"$f":"('CPI Sub-Categories'!AD163-'CPI Sub-Categories'!Y163)/'CPI Sub-Categories'!Y163","v":7.5087773086338298E-3},{"$f":"('CPI Sub-Categories'!AE163-'CPI Sub-Categories'!Z163)/'CPI Sub-Categories'!Z163","v":3.9421634659708114E-4},{"$f":"('CPI Sub-Categories'!AF163-'CPI Sub-Categories'!AA163)/'CPI Sub-Categories'!AA163","v":-8.1863992937562906E-3},{"$f":"('CPI Sub-Categories'!AG163-'CPI Sub-Categories'!AB163)/'CPI Sub-Categories'!AB163","v":-1.5004749137603917E-2},null,{"$f":"('CPI Sub-Categories'!AI163-'CPI Sub-Categories'!AD163)/'CPI Sub-Categories'!AD163","v":-9.5310055164239751E-3},{"$f":"('CPI Sub-Categories'!AJ163-'CPI Sub-Categories'!AE163)/'CPI Sub-Categories'!AE163","v":2.0812409927628693E-2},{"$f":"('CPI Sub-Categories'!AK163-'CPI Sub-Categories'!AF163)/'CPI Sub-Categories'!AF163","v":9.5006390136933537E-3},{"$f":"('CPI Sub-Categories'!AL163-'CPI Sub-Categories'!AG163)/'CPI Sub-Categories'!AG163","v":5.4330150673838749E-2},null,{"$f":"('CPI Sub-Categories'!AM163-'CPI Sub-Categories'!AI163)/'CPI Sub-Categories'!AI163","v":4.5673661932512849E-2},{"$f":"('CPI Sub-Categories'!AN163-'CPI Sub-Categories'!AJ163)/'CPI Sub-Categories'!AJ163","v":0},{"$f":"('CPI Sub-Categories'!AO163-'CPI Sub-Categories'!AK163)/'CPI Sub-Categories'!AK163","v":3.7984681534684768E-2},{"$f":"('CPI Sub-Categories'!AQ163-'CPI Sub-Categories'!AL163)/'CPI Sub-Categories'!AL163","v":-1},{"$f":"VLOOKUP($B163,'[17]Level 1 - vlookup table'!$B$2:$D$13,3,FALSE)","v":108.33959510048}]
[2,"121000","Personal care",null,7.5378850601407355E-3,-2.7187576479225914E-2,-4.382842633493083E-2,-2.6032285411872965E-2,null,-5.929682597492425E-2,-5.8575166371742328E-3,-1.068250922280121E-2,4.618456596730016E-2,null,5.3507818230189137E-2,3.0906357343863454E-2,4.0815977762584686E-2,7.0863543291650984E-3,null,{"$f":"('CPI Sub-Categories'!Y164-'CPI Sub-Categories'!T164)/'CPI Sub-Categories'!T164","v":1.6840851489625917E-2},{"$f":"('CPI Sub-Categories'!Z164-'CPI Sub-Categories'!U164)/'CPI Sub-Categories'!U164","v":2.2881755578009397E-2},{"$f":"('CPI Sub-Categories'!AA164-'CPI Sub-Categories'!V164)/'CPI Sub-Categories'!V164","v":2.3038291321080793E-2},{"$f":"('CPI Sub-Categories'!AB164-'CPI Sub-Categories'!W164)/'CPI Sub-Categories'!W164","v":3.2612783998829845E-2},null,{"$f":"('CPI Sub-Categories'!AD164-'CPI Sub-Categories'!Y164)/'CPI Sub-Categories'!Y164","v":3.0873430513946497E-2},{"$f":"('CPI Sub-Categories'!AE164-'CPI Sub-Categories'!Z164)/'CPI Sub-Categories'!Z164","v":1.6991325797051034E-2},{"$f":"('CPI Sub-Categories'!AF164-'CPI Sub-Categories'!AA164)/'CPI Sub-Categories'!AA164","v":5.1261496476979213E-3},{"$f":"('CPI Sub-Categories'!AG164-'CPI Sub-Categories'!AB164)/'CPI Sub-Categories'!AB164","v":-6.5047052221024115E-3},null,{"$f":"('CPI Sub-Categories'!AI164-'CPI Sub-Categories'!AD164)/'CPI Sub-Categories'!AD164","v":5.8826694065774073E-3},{"$f":"('CPI Sub-Categories'!AJ164-'CPI Sub-Categories'!AE164)/'CPI Sub-Categories'!AE164","v":1.2348614222407413E-2},{"$f":"('CPI Sub-Categories'!AK164-'CPI Sub-Categories'!AF164)/'CPI Sub-Categories'!AF164","v":3.8756912769134538E-2},{"$f":"('CPI Sub-Categories'!AL164-'CPI Sub-Categories'!AG164)/'CPI Sub-Categories'!AG164","v":8.1006069906354713E-2},null,{"$f":"('CPI Sub-Categories'!AM164-'CPI Sub-Categories'!AI164)/'CPI Sub-Categories'!AI164","v":6.6371027350059023E-2},{"$f":"('CPI Sub-Categories'!AN164-'CPI Sub-Categories'!AJ164)/'CPI Sub-Categories'!AJ164","v":4.5972384360370579E-2},{"$f":"('CPI Sub-Categories'!AO164-'CPI Sub-Categories'!AK164)/'CPI Sub-Categories'!AK164","v":2.43951224462827E-2},{"$f":"('CPI Sub-Categories'!AQ164-'CPI Sub-Categories'!AL164)/'CPI Sub-Categories'!AL164","v":-1}]
[3,"121100","Hairdressing salons and personal grooming establishments",null,1.2262448672608924E-2,1.0816361252215365E-2,1.0816361252215365E-2,1.3176147522619277E-2,null,-3.0104844491439377E-2,-4.5382781436721802E-2,-4.5382781436721802E-2,-4.5382781436721802E-2,null,-1.8065954445754283E-2,-1.46671920951113E-3,-1.46671920951113E-3,-1.46671920951113E-3,null,{"$f":"('CPI Sub-Categories'!Y165-'CPI Sub-Categories'!T165)/'CPI Sub-Categories'!T165","v":3.6283911753899022E-3},{"$f":"('CPI Sub-Categories'!Z165-'CPI Sub-Categories'!U165)/'CPI Sub-Categories'!U165","v":4.1743000039058415E-3},{"$f":"('CPI Sub-Categories'!AA165-'CPI Sub-Categories'!V165)/'CPI Sub-Categories'!V165","v":4.1743000039058415E-3},{"$f":"('CPI Sub-Categories'!AB165-'CPI Sub-Categories'!W165)/'CPI Sub-Categories'!W165","v":4.1743000039058415E-3},null,{"$f":"('CPI Sub-Categories'!AD165-'CPI Sub-Categories'!Y165)/'CPI Sub-Categories'!Y165","v":-2.8059404664945282E-2},{"$f":"('CPI Sub-Categories'!AE165-'CPI Sub-Categories'!Z165)/'CPI Sub-Categories'!Z165","v":-2.8059404664945282E-2},{"$f":"('CPI Sub-Categories'!AF165-'CPI Sub-Categories'!AA165)/'CPI Sub-Categories'!AA165","v":-2.8059404664945282E-2},{"$f":"('CPI Sub-Categories'!AG165-'CPI Sub-Categories'!AB165)/'CPI Sub-Categories'!AB165","v":-2.8059404664945282E-2},null,{"$f":"('CPI Sub-Categories'!AI165-'CPI Sub-Categories'!AD165)/'CPI Sub-Categories'!AD165","v":5.864578759846515E-2},{"$f":"('CPI Sub-Categories'!AJ165-'CPI Sub-Categories'!AE165)/'CPI Sub-Categories'!AE165","v":5.8645787598464089E-2},{"$f":"('CPI Sub-Categories'!AK165-'CPI Sub-Categories'!AF165)/'CPI Sub-Categories'!AF165","v":5.8645787598464089E-2},{"$f":"('CPI Sub-Categories'!AL165-'CPI Sub-Categories'!AG165)/'CPI Sub-Categories'!AG165","v":5.8645787598464089E-2},null,{"$f":"('CPI Sub-Categories'!AM165-'CPI Sub-Categories'!AI165)/'CPI Sub-Categories'!AI165","v":4.542683283650957E-2},{"$f":"('CPI Sub-Categories'!AN165-'CPI Sub-Categories'!AJ165)/'CPI Sub-Categories'!AJ165","v":4.5426832836510618E-2},{"$f":"('CPI Sub-Categories'!AO165-'CPI Sub-Categories'!AK165)/'CPI Sub-Categories'!AK165","v":4.5426832836510618E-2},{"$f":"('CPI Sub-Categories'!AQ165-'CPI Sub-Categories'!AL165)/'CPI Sub-Categories'!AL165","v":-1}]
[3,"121200","Electric appliances for personal care",null,-0.1442190802314964,-3.12328769773088E-2,-7.8837083881308029E-2,-0.23823063863642158,null,5.5841346909936702E-2,-1.3356494537467201E-2,-0.15816431680706863,-5.5449829584774839E-2,null,-7.0268358400378927E-2,-0.12366703665778217,-3.0834827742167194E-2,-8.0743004667929302E-2,null,{"$f":"('CPI Sub-Categories'!Y166-'CPI Sub-Categories'!T166)/'CPI Sub-Categories'!T166","v":0.44630195965963237},{"$f":"('CPI Sub-Categories'!Z166-'CPI Sub-Categories'!U166)/'CPI Sub-Categories'!U166","v":0.276818433214087},{"$f":"('CPI Sub-Categories'!AA166-'CPI Sub-Categories'!V166)/'CPI Sub-Categories'!V166","v":0.29330969051479444},{"$f":"('CPI Sub-Categories'!AB166-'CPI Sub-Categories'!W166)/'CPI Sub-Categories'!W166","v":0.34151442501873508},null,{"$f":"('CPI Sub-Categories'!AD166-'CPI Sub-Categories'!Y166)/'CPI Sub-Categories'!Y166","v":-0.10715284899264314},{"$f":"('CPI Sub-Categories'!AE166-'CPI Sub-Categories'!Z166)/'CPI Sub-Categories'!Z166","v":5.0649924021411781E-2},{"$f":"('CPI Sub-Categories'!AF166-'CPI Sub-Categories'!AA166)/'CPI Sub-Categories'!AA166","v":0.1085181058606861},{"$f":"('CPI Sub-Categories'!AG166-'CPI Sub-Categories'!AB166)/'CPI Sub-Categories'!AB166","v":0.20327140581439648},null,{"$f":"('CPI Sub-Categories'!AI166-'CPI Sub-Categories'!AD166)/'CPI Sub-Categories'!AD166","v":0.18572297227290979},{"$f":"('CPI Sub-Categories'!AJ166-'CPI Sub-Categories'!AE166)/'CPI Sub-Categories'!AE166","v":0.26242639834705017},{"$f":"('CPI Sub-Categories'!AK166-'CPI Sub-Categories'!AF166)/'CPI Sub-Categories'!AF166","v":0.17017365966035927},{"$f":"('CPI Sub-Categories'!AL166-'CPI Sub-Categories'!AG166)/'CPI Sub-Categories'!AG166","v":3.9289877625411612E-2},null,{"$f":"('CPI Sub-Categories'!AM166-'CPI Sub-Categories'!AI166)/'CPI Sub-Categories'!AI166","v":7.0347571464031838E-2},{"$f":"('CPI Sub-Categories'!AN166-'CPI Sub-Categories'!AJ166)/'CPI Sub-Categories'!AJ166","v":5.776266504874572E-2},{"$f":"('CPI Sub-Categories'!AO166-'CPI Sub-Categories'!AK166)/'CPI Sub-Categories'!AK166","v":6.7789972372438959E-2},{"$f":"('CPI Sub-Categories'!AQ166-'CPI Sub-Categories'!AL166)/'CPI Sub-Categories'!AL166","v":-1}]
[3,"121300","Other appliances, articles and products for personal care",null,8.1305120123237474E-3,-4.0472572431020225E-2,-6.3948371455200478E-2,-3.4991280658903307E-2,null,-7.0553329421906189E-2,8.5110219122882611E-3,3.5527890156427963E-3,8.1417468553736549E-2,null,8.0857789101721866E-2,4.3568673182575138E-2,5.6081368803150004E-2,1.0726318689955853E-2,null,{"$f":"('CPI Sub-Categories'!Y167-'CPI Sub-Categories'!T167)/'CPI Sub-Categories'!T167","v":1.7253229967668173E-2},{"$f":"('CPI Sub-Categories'!Z167-'CPI Sub-Categories'!U167)/'CPI Sub-Categories'!U167","v":2.6822922481103934E-2},{"$f":"('CPI Sub-Categories'!AA167-'CPI Sub-Categories'!V167)/'CPI Sub-Categories'!V167","v":2.6877657041182335E-2},{"$f":"('CPI Sub-Categories'!AB167-'CPI Sub-Categories'!W167)/'CPI Sub-Categories'!W167","v":3.9220797063451315E-2},null,{"$f":"('CPI Sub-Categories'!AD167-'CPI Sub-Categories'!Y167)/'CPI Sub-Categories'!Y167","v":5.1886598262100021E-2},{"$f":"('CPI Sub-Categories'!AE167-'CPI Sub-Categories'!Z167)/'CPI Sub-Categories'!Z167","v":3.1057835501181748E-2},{"$f":"('CPI Sub-Categories'!AF167-'CPI Sub-Categories'!AA167)/'CPI Sub-Categories'!AA167","v":1.4601383079714361E-2},{"$f":"('CPI Sub-Categories'!AG167-'CPI Sub-Categories'!AB167)/'CPI Sub-Categories'!AB167","v":-2.0458125839243947E-3},null,{"$f":"('CPI Sub-Categories'!AI167-'CPI Sub-Categories'!AD167)/'CPI Sub-Categories'!AD167","v":-1.2004050232184794E-2},{"$f":"('CPI Sub-Categories'!AJ167-'CPI Sub-Categories'!AE167)/'CPI Sub-Categories'!AE167","v":-4.3531191324969023E-3},{"$f":"('CPI Sub-Categories'!AK167-'CPI Sub-Categories'!AF167)/'CPI Sub-Categories'!AF167","v":3.1125206425902049E-2},{"$f":"('CPI Sub-Categories'!AL167-'CPI Sub-Categories'!AG167)/'CPI Sub-Categories'!AG167","v":8.8402929145324272E-2},null,{"$f":"('CPI Sub-Categories'!AM167-'CPI Sub-Categories'!AI167)/'CPI Sub-Categories'!AI167","v":7.3076311509560871E-2},{"$f":"('CPI Sub-Categories'!AN167-'CPI Sub-Categories'!AJ167)/'CPI Sub-Categories'!AJ167","v":4.5984527787311956E-2},{"$f":"('CPI Sub-Categories'!AO167-'CPI Sub-Categories'!AK167)/'CPI Sub-Categories'!AK167","v":1.7211941802532785E-2},{"$f":"('CPI Sub-Categories'!AQ167-'CPI Sub-Categories'!AL167)/'CPI Sub-Categories'!AL167","v":-1}]
[2,"122000","Prostitution",null,"Not available","Not available","Not available","Not available",null,"Not available","Not available","Not available","Not available",null,"Not available","Not available","Not available",{"$error":"#VALUE!"},null,"Not available","Not available","Not available","Not available",null,"Not available","Not available","Not available","Not available",null,"Not available","Not available","Not available","Not available",null,"Not available","Not available","Not available","Not available"]
[3,"122000","Prostitution",null,"Not available","Not available","Not available","Not available",null,"Not available","Not available","Not available","Not available",null,"Not available","Not available","Not available","Not available",null,"Not available","Not available","Not available","Not available",null,"Not available","Not available","Not available","Not available",null,"Not available","Not available","Not available","Not available",null,"Not available","Not available","Not available","Not available"]
[2,"123000","Personal effects n.e.c.",null,4.9024835250975778E-2,1.0753513358841156E-2,2.00669005890229E-4,-3.4615771781132863E-2,null,-2.1127942556579973E-2,-2.5102040877388782E-2,-2.3692959253847859E-2,8.3944124067053035E-3,null,3.8349196614414389E-2,9.1697075677964243E-2,0.12132278399533593,5.389855438972449E-2,null,{"$f":"('CPI Sub-Categories'!Y170-'CPI Sub-Categories'!T170)/'CPI Sub-Categories'!T170","v":-2.1266921958118409E-2},{"$f":"('CPI Sub-Categories'!Z170-'CPI Sub-Categories'!U170)/'CPI Sub-Categories'!U170","v":-3.6584389723801784E-2},{"$f":"('CPI Sub-Categories'!AA170-'CPI Sub-Categories'!V170)/'CPI Sub-Categories'!V170","v":-2.1755949331317848E-3},{"$f":"('CPI Sub-Categories'!AB170-'CPI Sub-Categories'!W170)/'CPI Sub-Categories'!W170","v":5.5401103205487336E-2},null,{"$f":"('CPI Sub-Categories'!AD170-'CPI Sub-Categories'!Y170)/'CPI Sub-Categories'!Y170","v":8.8988314959649706E-2},{"$f":"('CPI Sub-Categories'!AE170-'CPI Sub-Categories'!Z170)/'CPI Sub-Categories'!Z170","v":5.5445115958835188E-2},{"$f":"('CPI Sub-Categories'!AF170-'CPI Sub-Categories'!AA170)/'CPI Sub-Categories'!AA170","v":1.2930772271032858E-2},{"$f":"('CPI Sub-Categories'!AG170-'CPI Sub-Categories'!AB170)/'CPI Sub-Categories'!AB170","v":-9.3839560251594793E-3},null,{"$f":"('CPI Sub-Categories'!AI170-'CPI Sub-Categories'!AD170)/'CPI Sub-Categories'!AD170","v":-7.3996293426300949E-3},{"$f":"('CPI Sub-Categories'!AJ170-'CPI Sub-Categories'!AE170)/'CPI Sub-Categories'!AE170","v":4.8367082174753696E-2},{"$f":"('CPI Sub-Categories'!AK170-'CPI Sub-Categories'!AF170)/'CPI Sub-Categories'!AF170","v":6.0724960101844472E-2},{"$f":"('CPI Sub-Categories'!AL170-'CPI Sub-Categories'!AG170)/'CPI Sub-Categories'!AG170","v":5.5690454355283962E-2},null,{"$f":"('CPI Sub-Categories'!AM170-'CPI Sub-Categories'!AI170)/'CPI Sub-Categories'!AI170","v":2.7822319956283988E-2},{"$f":"('CPI Sub-Categories'!AN170-'CPI Sub-Categories'!AJ170)/'CPI Sub-Categories'!AJ170","v":3.0484756090609379E-2},{"$f":"('CPI Sub-Categories'!AO170-'CPI Sub-Categories'!AK170)/'CPI Sub-Categories'!AK170","v":-3.5333618320621684E-3},{"$f":"('CPI Sub-Categories'!AQ170-'CPI Sub-Categories'!AL170)/'CPI Sub-Categories'!AL170","v":-1}]
[3,"123100","Jewellery, clocks and watches",null,6.3863675734994532E-2,4.4843637156048485E-2,1.5699779675429397E-2,5.3910077468481742E-3,null,3.7832638536517038E-3,-3.6570997835349374E-2,-2.3815713035158594E-2,6.7071685759383668E-3,null,8.3639723899149351E-2,0.16861941484670961,0.18092574506268277,6.7873540899898305E-2,null,{"$f":"('CPI Sub-Categories'!Y171-'CPI Sub-Categories'!T171)/'CPI Sub-Categories'!T171","v":-4.2699029720000864E-2},{"$f":"('CPI Sub-Categories'!Z171-'CPI Sub-Categories'!U171)/'CPI Sub-Categories'!U171","v":-7.921125123340516E-3},{"$f":"('CPI Sub-Categories'!AA171-'CPI Sub-Categories'!V171)/'CPI Sub-Categories'!V171","v":2.7499551781872775E-2},{"$f":"('CPI Sub-Categories'!AB171-'CPI Sub-Categories'!W171)/'CPI Sub-Categories'!W171","v":0.10621277186733233},null,{"$f":"('CPI Sub-Categories'!AD171-'CPI Sub-Categories'!Y171)/'CPI Sub-Categories'!Y171","v":0.1217014744529256},{"$f":"('CPI Sub-Categories'!AE171-'CPI Sub-Categories'!Z171)/'CPI Sub-Categories'!Z171","v":1.7113136200243257E-2},{"$f":"('CPI Sub-Categories'!AF171-'CPI Sub-Categories'!AA171)/'CPI Sub-Categories'!AA171","v":-1.3331337502711741E-2},{"$f":"('CPI Sub-Categories'!AG171-'CPI Sub-Categories'!AB171)/'CPI Sub-Categories'!AB171","v":-3.8890500729064123E-2},null,{"$f":"('CPI Sub-Categories'!AI171-'CPI Sub-Categories'!AD171)/'CPI Sub-Categories'!AD171","v":-1.95361398625684E-2},{"$f":"('CPI Sub-Categories'!AJ171-'CPI Sub-Categories'!AE171)/'CPI Sub-Categories'!AE171","v":4.8230696741732811E-2},{"$f":"('CPI Sub-Categories'!AK171-'CPI Sub-Categories'!AF171)/'CPI Sub-Categories'!AF171","v":5.0128961066760569E-2},{"$f":"('CPI Sub-Categories'!AL171-'CPI Sub-Categories'!AG171)/'CPI Sub-Categories'!AG171","v":5.1097415627421851E-2},null,{"$f":"('CPI Sub-Categories'!AM171-'CPI Sub-Categories'!AI171)/'CPI Sub-Categories'!AI171","v":1.6521722595493716E-2},{"$f":"('CPI Sub-Categories'!AN171-'CPI Sub-Categories'!AJ171)/'CPI Sub-Categories'!AJ171","v":1.9342652326069899E-2},{"$f":"('CPI Sub-Categories'!AO171-'CPI Sub-Categories'!AK171)/'CPI Sub-Categories'!AK171","v":-1.2769505498179238E-3},{"$f":"('CPI Sub-Categories'!AQ171-'CPI Sub-Categories'!AL171)/'CPI Sub-Categories'!AL171","v":-1}]
[3,"123200","Other personal effects ",null,2.7007760847631939E-2,-4.8940608513429219E-2,-2.1071422855144514E-2,-9.2972096155275588E-2,null,-6.1155808590201421E-2,-6.1963546108904314E-3,-2.3494036973783376E-2,1.1332784818821662E-2,null,-3.9458306893209637E-2,-3.1227901555754771E-2,2.4768110718014141E-2,2.9672122161191253E-2,null,{"$f":"('CPI Sub-Categories'!Y172-'CPI Sub-Categories'!T172)/'CPI Sub-Categories'!T172","v":2.0271279164306089E-2},{"$f":"('CPI Sub-Categories'!Z172-'CPI Sub-Categories'!U172)/'CPI Sub-Categories'!U172","v":-9.1838524395423074E-2},{"$f":"('CPI Sub-Categories'!AA172-'CPI Sub-Categories'!V172)/'CPI Sub-Categories'!V172","v":-5.7573753082337524E-2},{"$f":"('CPI Sub-Categories'!AB172-'CPI Sub-Categories'!W172)/'CPI Sub-Categories'!W172","v":-3.5951808184469393E-2},null,{"$f":"('CPI Sub-Categories'!AD172-'CPI Sub-Categories'!Y172)/'CPI Sub-Categories'!Y172","v":2.9499114865468402E-2},{"$f":"('CPI Sub-Categories'!AE172-'CPI Sub-Categories'!Z172)/'CPI Sub-Categories'!Z172","v":0.13616555326696878},{"$f":"('CPI Sub-Categories'!AF172-'CPI Sub-Categories'!AA172)/'CPI Sub-Categories'!AA172","v":6.6383064184035195E-2},{"$f":"('CPI Sub-Categories'!AG172-'CPI Sub-Categories'!AB172)/'CPI Sub-Categories'!AB172","v":5.1487994018896151E-2},null,{"$f":"('CPI Sub-Categories'!AI172-'CPI Sub-Categories'!AD172)/'CPI Sub-Categories'!AD172","v":1.664736427628687E-2},{"$f":"('CPI Sub-Categories'!AJ172-'CPI Sub-Categories'!AE172)/'CPI Sub-Categories'!AE172","v":4.8624191535260403E-2},{"$f":"('CPI Sub-Categories'!AK172-'CPI Sub-Categories'!AF172)/'CPI Sub-Categories'!AF172","v":8.0679270560778921E-2},{"$f":"('CPI Sub-Categories'!AL172-'CPI Sub-Categories'!AG172)/'CPI Sub-Categories'!AG172","v":6.4351443974162398E-2},null,{"$f":"('CPI Sub-Categories'!AM172-'CPI Sub-Categories'!AI172)/'CPI Sub-Categories'!AI172","v":4.9416146274094588E-2},{"$f":"('CPI Sub-Categories'!AN172-'CPI Sub-Categories'!AJ172)/'CPI Sub-Categories'!AJ172","v":5.1481603925130758E-2},{"$f":"('CPI Sub-Categories'!AO172-'CPI Sub-Categories'!AK172)/'CPI Sub-Categories'!AK172","v":-7.6624950269488061E-3},{"$f":"('CPI Sub-Categories'!AQ172-'CPI Sub-Categories'!AL172)/'CPI Sub-Categories'!AL172","v":-1}]
[2,"124000","Social protection",null,0,0,5.4268315786799807E-3,9.0302791996599296E-3,null,9.0302791996599296E-3,9.0302791996599296E-3,3.583997868171037E-3,0,null,0,0,-1.0184974071708158E-2,-1.6415634042193542E-2,null,{"$f":"('CPI Sub-Categories'!Y173-'CPI Sub-Categories'!T173)/'CPI Sub-Categories'!T173","v":-1.6415634042193542E-2},{"$f":"('CPI Sub-Categories'!Z173-'CPI Sub-Categories'!U173)/'CPI Sub-Categories'!U173","v":-1.6415634042193542E-2},{"$f":"('CPI Sub-Categories'!AA173-'CPI Sub-Categories'!V173)/'CPI Sub-Categories'!V173","v":5.6070206868596897E-3},{"$f":"('CPI Sub-Categories'!AB173-'CPI Sub-Categories'!W173)/'CPI Sub-Categories'!W173","v":1.1977186405924673E-2},null,{"$f":"('CPI Sub-Categories'!AD173-'CPI Sub-Categories'!Y173)/'CPI Sub-Categories'!Y173","v":1.1977186405924673E-2},{"$f":"('CPI Sub-Categories'!AE173-'CPI Sub-Categories'!Z173)/'CPI Sub-Categories'!Z173","v":1.1977186405924673E-2},{"$f":"('CPI Sub-Categories'!AF173-'CPI Sub-Categories'!AA173)/'CPI Sub-Categories'!AA173","v":-4.7224265589574127E-2},{"$f":"('CPI Sub-Categories'!AG173-'CPI Sub-Categories'!AB173)/'CPI Sub-Categories'!AB173","v":-4.7224265589575112E-2},null,{"$f":"('CPI Sub-Categories'!AI173-'CPI Sub-Categories'!AD173)/'CPI Sub-Categories'!AD173","v":-4.7224265589575112E-2},{"$f":"('CPI Sub-Categories'!AJ173-'CPI Sub-Categories'!AE173)/'CPI Sub-Categories'!AE173","v":-4.7224265589575112E-2},{"$f":"('CPI Sub-Categories'!AK173-'CPI Sub-Categories'!AF173)/'CPI Sub-Categories'!AF173","v":0.10779117567405712},{"$f":"('CPI Sub-Categories'!AL173-'CPI Sub-Categories'!AG173)/'CPI Sub-Categories'!AG173","v":0.10779117567405826},null,{"$f":"('CPI Sub-Categories'!AM173-'CPI Sub-Categories'!AI173)/'CPI Sub-Categories'!AI173","v":0.10779117567405826},{"$f":"('CPI Sub-Categories'!AN173-'CPI Sub-Categories'!AJ173)/'CPI Sub-Categories'!AJ173","v":0.10779117567405826},{"$f":"('CPI Sub-Categories'!AO173-'CPI Sub-Categories'!AK173)/'CPI Sub-Categories'!AK173","v":2.7121548678573866E-2},{"$f":"('CPI Sub-Categories'!AQ173-'CPI Sub-Categories'!AL173)/'CPI Sub-Categories'!AL173","v":-1}]
[3,"124000","Social protection",null,0,0,5.4268315786799807E-3,9.0302791996599296E-3,null,9.0302791996599296E-3,9.0302791996599296E-3,3.583997868171037E-3,0,null,0,0,-1.0184974071708158E-2,-1.6415634042193542E-2,null,{"$f":"('CPI Sub-Categories'!Y174-'CPI Sub-Categories'!T174)/'CPI Sub-Categories'!T174","v":-1.6415634042193542E-2},{"$f":"('CPI Sub-Categories'!Z174-'CPI Sub-Categories'!U174)/'CPI Sub-Categories'!U174","v":-1.6415634042193542E-2},{"$f":"('CPI Sub-Categories'!AA174-'CPI Sub-Categories'!V174)/'CPI Sub-Categories'!V174","v":5.6070206868596897E-3},{"$f":"('CPI Sub-Categories'!AB174-'CPI Sub-Categories'!W174)/'CPI Sub-Categories'!W174","v":1.1977186405924673E-2},null,{"$f":"('CPI Sub-Categories'!AD174-'CPI Sub-Categories'!Y174)/'CPI Sub-Categories'!Y174","v":1.1977186405924673E-2},{"$f":"('CPI Sub-Categories'!AE174-'CPI Sub-Categories'!Z174)/'CPI Sub-Categories'!Z174","v":1.1977186405924673E-2},{"$f":"('CPI Sub-Categories'!AF174-'CPI Sub-Categories'!AA174)/'CPI Sub-Categories'!AA174","v":-4.7224265589574127E-2},{"$f":"('CPI Sub-Categories'!AG174-'CPI Sub-Categories'!AB174)/'CPI Sub-Categories'!AB174","v":-4.7224265589575112E-2},null,{"$f":"('CPI Sub-Categories'!AI174-'CPI Sub-Categories'!AD174)/'CPI Sub-Categories'!AD174","v":-4.7224265589575112E-2},{"$f":"('CPI Sub-Categories'!AJ174-'CPI Sub-Categories'!AE174)/'CPI Sub-Categories'!AE174","v":-4.7224265589575112E-2},{"$f":"('CPI Sub-Categories'!AK174-'CPI Sub-Categories'!AF174)/'CPI Sub-Categories'!AF174","v":0.10779117567405712},{"$f":"('CPI Sub-Categories'!AL174-'CPI Sub-Categories'!AG174)/'CPI Sub-Categories'!AG174","v":0.10779117567405826},null,{"$f":"('CPI Sub-Categories'!AM174-'CPI Sub-Categories'!AI174)/'CPI Sub-Categories'!AI174","v":0.10779117567405826},{"$f":"('CPI Sub-Categories'!AN174-'CPI Sub-Categories'!AJ174)/'CPI Sub-Categories'!AJ174","v":0.10779117567405826},{"$f":"('CPI Sub-Categories'!AO174-'CPI Sub-Categories'!AK174)/'CPI Sub-Categories'!AK174","v":2.7121548678573866E-2},{"$f":"('CPI Sub-Categories'!AQ174-'CPI Sub-Categories'!AL174)/'CPI Sub-Categories'!AL174","v":-1}]
[2,"125000","Insurance",null,0,-2.9625860825589711E-3,-1.0281770088143958E-2,-1.0281770088143958E-2,null,-1.0281770088143958E-2,2.9652532579342063E-3,3.0405847275859585E-2,3.0405847275859585E-2,null,3.0405847275859585E-2,2.3511078980057672E-2,1.0200255074044772E-2,1.0200255074044772E-2,null,{"$f":"('CPI Sub-Categories'!Y175-'CPI Sub-Categories'!T175)/'CPI Sub-Categories'!T175","v":1.0200255074044772E-2},{"$f":"('CPI Sub-Categories'!Z175-'CPI Sub-Categories'!U175)/'CPI Sub-Categories'!U175","v":-1.4105828016612242E-3},{"$f":"('CPI Sub-Categories'!AA175-'CPI Sub-Categories'!V175)/'CPI Sub-Categories'!V175","v":-7.9136088726378707E-3},{"$f":"('CPI Sub-Categories'!AB175-'CPI Sub-Categories'!W175)/'CPI Sub-Categories'!W175","v":-7.9136088726378707E-3},null,{"$f":"('CPI Sub-Categories'!AD175-'CPI Sub-Categories'!Y175)/'CPI Sub-Categories'!Y175","v":-7.9136088726378707E-3},{"$f":"('CPI Sub-Categories'!AE175-'CPI Sub-Categories'!Z175)/'CPI Sub-Categories'!Z175","v":4.4995349563340239E-2},{"$f":"('CPI Sub-Categories'!AF175-'CPI Sub-Categories'!AA175)/'CPI Sub-Categories'!AA175","v":4.4995349563340239E-2},{"$f":"('CPI Sub-Categories'!AG175-'CPI Sub-Categories'!AB175)/'CPI Sub-Categories'!AB175","v":4.4995349563340239E-2},null,{"$f":"('CPI Sub-Categories'!AI175-'CPI Sub-Categories'!AD175)/'CPI Sub-Categories'!AD175","v":4.4995349563340239E-2},{"$f":"('CPI Sub-Categories'!AJ175-'CPI Sub-Categories'!AE175)/'CPI Sub-Categories'!AE175","v":-1.2466169426272189E-2},{"$f":"('CPI Sub-Categories'!AK175-'CPI Sub-Categories'!AF175)/'CPI Sub-Categories'!AF175","v":-1.2466169426272189E-2},{"$f":"('CPI Sub-Categories'!AL175-'CPI Sub-Categories'!AG175)/'CPI Sub-Categories'!AG175","v":-1.2466169426272189E-2},null,{"$f":"('CPI Sub-Categories'!AM175-'CPI Sub-Categories'!AI175)/'CPI Sub-Categories'!AI175","v":-1.2466169426272189E-2},{"$f":"('CPI Sub-Categories'!AN175-'CPI Sub-Categories'!AJ175)/'CPI Sub-Categories'!AJ175","v":4.5825934278456992E-2},{"$f":"('CPI Sub-Categories'!AO175-'CPI Sub-Categories'!AK175)/'CPI Sub-Categories'!AK175","v":4.5825934278456992E-2},{"$f":"('CPI Sub-Categories'!AQ175-'CPI Sub-Categories'!AL175)/'CPI Sub-Categories'!AL175","v":-1}]
[3,"125100","Life insurance",null,0,2.7655287142799522E-3,8.2498295300800356E-3,8.2498295300800356E-3,null,8.2498295300800356E-3,1.158724248372206E-2,1.7929962018784135E-2,1.7929962018784135E-2,null,1.7929962018784135E-2,1.9075633003619155E-2,1.9971388463095735E-2,1.9971388463095735E-2,null,{"$f":"('CPI Sub-Categories'!Y176-'CPI Sub-Categories'!T176)/'CPI Sub-Categories'!T176","v":1.9971388463095735E-2},{"$f":"('CPI Sub-Categories'!Z176-'CPI Sub-Categories'!U176)/'CPI Sub-Categories'!U176","v":-3.8907735670050562E-2},{"$f":"('CPI Sub-Categories'!AA176-'CPI Sub-Categories'!V176)/'CPI Sub-Categories'!V176","v":-5.0925741057061234E-2},{"$f":"('CPI Sub-Categories'!AB176-'CPI Sub-Categories'!W176)/'CPI Sub-Categories'!W176","v":-5.0925741057061234E-2},null,{"$f":"('CPI Sub-Categories'!AD176-'CPI Sub-Categories'!Y176)/'CPI Sub-Categories'!Y176","v":-5.0925741057061234E-2},{"$f":"('CPI Sub-Categories'!AE176-'CPI Sub-Categories'!Z176)/'CPI Sub-Categories'!Z176","v":3.7169580479107941E-2},{"$f":"('CPI Sub-Categories'!AF176-'CPI Sub-Categories'!AA176)/'CPI Sub-Categories'!AA176","v":3.7169580479106908E-2},{"$f":"('CPI Sub-Categories'!AG176-'CPI Sub-Categories'!AB176)/'CPI Sub-Categories'!AB176","v":3.7169580479106908E-2},null,{"$f":"('CPI Sub-Categories'!AI176-'CPI Sub-Categories'!AD176)/'CPI Sub-Categories'!AD176","v":3.7169580479106908E-2},{"$f":"('CPI Sub-Categories'!AJ176-'CPI Sub-Categories'!AE176)/'CPI Sub-Categories'!AE176","v":-3.7514915917493417E-2},{"$f":"('CPI Sub-Categories'!AK176-'CPI Sub-Categories'!AF176)/'CPI Sub-Categories'!AF176","v":-3.7514915917492453E-2},{"$f":"('CPI Sub-Categories'!AL176-'CPI Sub-Categories'!AG176)/'CPI Sub-Categories'!AG176","v":-3.7514915917492453E-2},null,{"$f":"('CPI Sub-Categories'!AM176-'CPI Sub-Categories'!AI176)/'CPI Sub-Categories'!AI176","v":-3.7514915917492453E-2},{"$f":"('CPI Sub-Categories'!AN176-'CPI Sub-Categories'!AJ176)/'CPI Sub-Categories'!AJ176","v":0.17097049798791944},{"$f":"('CPI Sub-Categories'!AO176-'CPI Sub-Categories'!AK176)/'CPI Sub-Categories'!AK176","v":0.17097049798791825},{"$f":"('CPI Sub-Categories'!AQ176-'CPI Sub-Categories'!AL176)/'CPI Sub-Categories'!AL176","v":-1}]
[3,"125200","Insurance connected with the dwelling",null,0,-1.4024023642343054E-2,-4.4035822098224028E-2,-4.4035822098224028E-2,null,-4.4035822098224028E-2,-3.2855998809054869E-2,-7.8108146222213154E-3,-7.8108146222213154E-3,null,-7.8108146222213154E-3,-4.2485285770695229E-3,3.2261763673360816E-3,3.2261763673360816E-3,null,{"$f":"('CPI Sub-Categories'!Y177-'CPI Sub-Categories'!T177)/'CPI Sub-Categories'!T177","v":3.2261763673360816E-3},{"$f":"('CPI Sub-Categories'!Z177-'CPI Sub-Categories'!U177)/'CPI Sub-Categories'!U177","v":2.1163568507243957E-3},{"$f":"('CPI Sub-Categories'!AA177-'CPI Sub-Categories'!V177)/'CPI Sub-Categories'!V177","v":-1.9294317025468762E-5},{"$f":"('CPI Sub-Categories'!AB177-'CPI Sub-Categories'!W177)/'CPI Sub-Categories'!W177","v":-1.9294317025468762E-5},null,{"$f":"('CPI Sub-Categories'!AD177-'CPI Sub-Categories'!Y177)/'CPI Sub-Categories'!Y177","v":-1.9294317025468762E-5},{"$f":"('CPI Sub-Categories'!AE177-'CPI Sub-Categories'!Z177)/'CPI Sub-Categories'!Z177","v":0.14547618536598289},{"$f":"('CPI Sub-Categories'!AF177-'CPI Sub-Categories'!AA177)/'CPI Sub-Categories'!AA177","v":0.14547618536598408},{"$f":"('CPI Sub-Categories'!AG177-'CPI Sub-Categories'!AB177)/'CPI Sub-Categories'!AB177","v":0.14547618536598408},null,{"$f":"('CPI Sub-Categories'!AI177-'CPI Sub-Categories'!AD177)/'CPI Sub-Categories'!AD177","v":0.14547618536598408},{"$f":"('CPI Sub-Categories'!AJ177-'CPI Sub-Categories'!AE177)/'CPI Sub-Categories'!AE177","v":-8.1675746441740998E-2},{"$f":"('CPI Sub-Categories'!AK177-'CPI Sub-Categories'!AF177)/'CPI Sub-Categories'!AF177","v":-8.1675746441740998E-2},{"$f":"('CPI Sub-Categories'!AL177-'CPI Sub-Categories'!AG177)/'CPI Sub-Categories'!AG177","v":-8.1675746441740998E-2},null,{"$f":"('CPI Sub-Categories'!AM177-'CPI Sub-Categories'!AI177)/'CPI Sub-Categories'!AI177","v":-8.1675746441740998E-2},{"$f":"('CPI Sub-Categories'!AN177-'CPI Sub-Categories'!AJ177)/'CPI Sub-Categories'!AJ177","v":-2.2526845066437578E-2},{"$f":"('CPI Sub-Categories'!AO177-'CPI Sub-Categories'!AK177)/'CPI Sub-Categories'!AK177","v":-2.2526845066437578E-2},{"$f":"('CPI Sub-Categories'!AQ177-'CPI Sub-Categories'!AL177)/'CPI Sub-Categories'!AL177","v":-1}]
[3,"125300","Insurance connected with health",null,0,0,0,0,null,0,1.9100222694259941E-2,5.7300649894179968E-2,5.7300649894179968E-2,null,5.7300649894179968E-2,3.7484465560145924E-2,0,0,null,{"$f":"('CPI Sub-Categories'!Y178-'CPI Sub-Categories'!T178)/'CPI Sub-Categories'!T178","v":0},{"$f":"('CPI Sub-Categories'!Z178-'CPI Sub-Categories'!U178)/'CPI Sub-Categories'!U178","v":0},{"$f":"('CPI Sub-Categories'!AA178-'CPI Sub-Categories'!V178)/'CPI Sub-Categories'!V178","v":0},{"$f":"('CPI Sub-Categories'!AB178-'CPI Sub-Categories'!W178)/'CPI Sub-Categories'!W178","v":0},null,{"$f":"('CPI Sub-Categories'!AD178-'CPI Sub-Categories'!Y178)/'CPI Sub-Categories'!Y178","v":0},{"$f":"('CPI Sub-Categories'!AE178-'CPI Sub-Categories'!Z178)/'CPI Sub-Categories'!Z178","v":8.4240791828856312E-2},{"$f":"('CPI Sub-Categories'!AF178-'CPI Sub-Categories'!AA178)/'CPI Sub-Categories'!AA178","v":8.4240791828846764E-2},{"$f":"('CPI Sub-Categories'!AG178-'CPI Sub-Categories'!AB178)/'CPI Sub-Categories'!AB178","v":8.4240791828846764E-2},null,{"$f":"('CPI Sub-Categories'!AI178-'CPI Sub-Categories'!AD178)/'CPI Sub-Categories'!AD178","v":8.4240791828846764E-2},{"$f":"('CPI Sub-Categories'!AJ178-'CPI Sub-Categories'!AE178)/'CPI Sub-Categories'!AE178","v":-5.4944525499309178E-2},{"$f":"('CPI Sub-Categories'!AK178-'CPI Sub-Categories'!AF178)/'CPI Sub-Categories'!AF178","v":-5.4944525499300866E-2},{"$f":"('CPI Sub-Categories'!AL178-'CPI Sub-Categories'!AG178)/'CPI Sub-Categories'!AG178","v":-5.4944525499300866E-2},null,{"$f":"('CPI Sub-Categories'!AM178-'CPI Sub-Categories'!AI178)/'CPI Sub-Categories'!AI178","v":-5.4944525499300866E-2},{"$f":"('CPI Sub-Categories'!AN178-'CPI Sub-Categories'!AJ178)/'CPI Sub-Categories'!AJ178","v":0},{"$f":"('CPI Sub-Categories'!AO178-'CPI Sub-Categories'!AK178)/'CPI Sub-Categories'!AK178","v":0},{"$f":"('CPI Sub-Categories'!AQ178-'CPI Sub-Categories'!AL178)/'CPI Sub-Categories'!AL178","v":-1}]
[3,"125400","Insurance connected with transport",null,0,-4.8613833493669741E-3,-1.7464409188771981E-2,-1.7464409188771981E-2,null,-1.7464409188771981E-2,9.0198127120822346E-4,3.9657182817093579E-2,3.9657182817093579E-2,null,3.9657182817093579E-2,2.9191816710308013E-2,1.0175509962084861E-2,1.0175509962084861E-2,null,{"$f":"('CPI Sub-Categories'!Y179-'CPI Sub-Categories'!T179)/'CPI Sub-Categories'!T179","v":1.0175509962084861E-2},{"$f":"('CPI Sub-Categories'!Z179-'CPI Sub-Categories'!U179)/'CPI Sub-Categories'!U179","v":2.5114074860933613E-2},{"$f":"('CPI Sub-Categories'!AA179-'CPI Sub-Categories'!V179)/'CPI Sub-Categories'!V179","v":1.8376489111731571E-2},{"$f":"('CPI Sub-Categories'!AB179-'CPI Sub-Categories'!W179)/'CPI Sub-Categories'!W179","v":1.8376489111731571E-2},null,{"$f":"('CPI Sub-Categories'!AD179-'CPI Sub-Categories'!Y179)/'CPI Sub-Categories'!Y179","v":1.8376489111731571E-2},{"$f":"('CPI Sub-Categories'!AE179-'CPI Sub-Categories'!Z179)/'CPI Sub-Categories'!Z179","v":0},{"$f":"('CPI Sub-Categories'!AF179-'CPI Sub-Categories'!AA179)/'CPI Sub-Categories'!AA179","v":0},{"$f":"('CPI Sub-Categories'!AG179-'CPI Sub-Categories'!AB179)/'CPI Sub-Categories'!AB179","v":0},null,{"$f":"('CPI Sub-Categories'!AI179-'CPI Sub-Categories'!AD179)/'CPI Sub-Categories'!AD179","v":0},{"$f":"('CPI Sub-Categories'!AJ179-'CPI Sub-Categories'!AE179)/'CPI Sub-Categories'!AE179","v":5.31638279640749E-2},{"$f":"('CPI Sub-Categories'!AK179-'CPI Sub-Categories'!AF179)/'CPI Sub-Categories'!AF179","v":5.3163827964084871E-2},{"$f":"('CPI Sub-Categories'!AL179-'CPI Sub-Categories'!AG179)/'CPI Sub-Categories'!AG179","v":5.3163827964084871E-2},null,{"$f":"('CPI Sub-Categories'!AM179-'CPI Sub-Categories'!AI179)/'CPI Sub-Categories'!AI179","v":5.3163827964084871E-2},{"$f":"('CPI Sub-Categories'!AN179-'CPI Sub-Categories'!AJ179)/'CPI Sub-Categories'!AJ179","v":4.768218655458561E-3},{"$f":"('CPI Sub-Categories'!AO179-'CPI Sub-Categories'!AK179)/'CPI Sub-Categories'!AK179","v":4.7682186554494441E-3},{"$f":"('CPI Sub-Categories'!AQ179-'CPI Sub-Categories'!AL179)/'CPI Sub-Categories'!AL179","v":-1}]
[3,"125500","Other insurance",null,"Not relevant","Not relevant","Not relevant","Not relevant",null,"Not relevant","Not relevant","Not relevant","Not relevant",null,"Not available","Not available","Not available","Not available",null,"Not available","Not available","Not available","Not available",null,"Not available","Not available","Not available","Not available",null,"Not available","Not available","Not available","Not available",null,"Not available","Not available","Not available","Not available"]
[2,"126000","Financial services n.e.c.",null,0,1.0730272133639999E-2,8.7368418599219955E-2,8.7368418599219955E-2,null,8.7368418599219955E-2,9.7330571085430778E-2,5.3539593503540629E-2,5.3539593503540629E-2,null,5.3539593503540629E-2,3.2891788900231846E-2,0,0,null,{"$f":"('CPI Sub-Categories'!Y181-'CPI Sub-Categories'!T181)/'CPI Sub-Categories'!T181","v":0},{"$f":"('CPI Sub-Categories'!Z181-'CPI Sub-Categories'!U181)/'CPI Sub-Categories'!U181","v":-5.0526495335420141E-2},{"$f":"('CPI Sub-Categories'!AA181-'CPI Sub-Categories'!V181)/'CPI Sub-Categories'!V181","v":-5.6277942564508882E-2},{"$f":"('CPI Sub-Categories'!AB181-'CPI Sub-Categories'!W181)/'CPI Sub-Categories'!W181","v":-5.6277942564508882E-2},null,{"$f":"('CPI Sub-Categories'!AD181-'CPI Sub-Categories'!Y181)/'CPI Sub-Categories'!Y181","v":-5.6277942564508882E-2},{"$f":"('CPI Sub-Categories'!AE181-'CPI Sub-Categories'!Z181)/'CPI Sub-Categories'!Z181","v":-0.10111649940361273},{"$f":"('CPI Sub-Categories'!AF181-'CPI Sub-Categories'!AA181)/'CPI Sub-Categories'!AA181","v":-9.5638317582973295E-2},{"$f":"('CPI Sub-Categories'!AG181-'CPI Sub-Categories'!AB181)/'CPI Sub-Categories'!AB181","v":-9.5638317582973295E-2},null,{"$f":"('CPI Sub-Categories'!AI181-'CPI Sub-Categories'!AD181)/'CPI Sub-Categories'!AD181","v":-9.5638317582973295E-2},{"$f":"('CPI Sub-Categories'!AJ181-'CPI Sub-Categories'!AE181)/'CPI Sub-Categories'!AE181","v":4.0458703172007948E-2},{"$f":"('CPI Sub-Categories'!AK181-'CPI Sub-Categories'!AF181)/'CPI Sub-Categories'!AF181","v":4.0458703172006893E-2},{"$f":"('CPI Sub-Categories'!AL181-'CPI Sub-Categories'!AG181)/'CPI Sub-Categories'!AG181","v":4.0458703172006893E-2},null,{"$f":"('CPI Sub-Categories'!AM181-'CPI Sub-Categories'!AI181)/'CPI Sub-Categories'!AI181","v":4.0458703172006893E-2},{"$f":"('CPI Sub-Categories'!AN181-'CPI Sub-Categories'!AJ181)/'CPI Sub-Categories'!AJ181","v":-4.689422032084218E-2},{"$f":"('CPI Sub-Categories'!AO181-'CPI Sub-Categories'!AK181)/'CPI Sub-Categories'!AK181","v":-4.6894220320844136E-2},{"$f":"('CPI Sub-Categories'!AQ181-'CPI Sub-Categories'!AL181)/'CPI Sub-Categories'!AL181","v":-1}]
[3,"126100","FISIM",null,"Not available","Not available","Not available","Not available",null,"Not available","Not available","Not available","Not available",null,"Not available","Not available","Not available","Not available",null,"Not available","Not available","Not available","Not available",null,"Not available","Not available","Not available","Not available",null,"Not available","Not available","Not available","Not available",null,"Not available","Not available","Not available","Not available"]
[3,"126200","Other financial services n.e.c.",null,0,1.0730272133639999E-2,8.7368418599219955E-2,8.7368418599219955E-2,null,8.7368418599219955E-2,9.7330571085430778E-2,5.3539593503540629E-2,5.3539593503540629E-2,null,5.3539593503540629E-2,3.2891788900231846E-2,0,0,null,{"$f":"('CPI Sub-Categories'!Y183-'CPI Sub-Categories'!T183)/'CPI Sub-Categories'!T183","v":0},{"$f":"('CPI Sub-Categories'!Z183-'CPI Sub-Categories'!U183)/'CPI Sub-Categories'!U183","v":-5.0526495335420141E-2},{"$f":"('CPI Sub-Categories'!AA183-'CPI Sub-Categories'!V183)/'CPI Sub-Categories'!V183","v":-5.6277942564508882E-2},{"$f":"('CPI Sub-Categories'!AB183-'CPI Sub-Categories'!W183)/'CPI Sub-Categories'!W183","v":-5.6277942564508882E-2},null,{"$f":"('CPI Sub-Categories'!AD183-'CPI Sub-Categories'!Y183)/'CPI Sub-Categories'!Y183","v":-5.6277942564508882E-2},{"$f":"('CPI Sub-Categories'!AE183-'CPI Sub-Categories'!Z183)/'CPI Sub-Categories'!Z183","v":-0.10111649940361273},{"$f":"('CPI Sub-Categories'!AF183-'CPI Sub-Categories'!AA183)/'CPI Sub-Categories'!AA183","v":-9.5638317582973295E-2},{"$f":"('CPI Sub-Categories'!AG183-'CPI Sub-Categories'!AB183)/'CPI Sub-Categories'!AB183","v":-9.5638317582973295E-2},null,{"$f":"('CPI Sub-Categories'!AI183-'CPI Sub-Categories'!AD183)/'CPI Sub-Categories'!AD183","v":-9.5638317582973295E-2},{"$f":"('CPI Sub-Categories'!AJ183-'CPI Sub-Categories'!AE183)/'CPI Sub-Categories'!AE183","v":4.0458703172007948E-2},{"$f":"('CPI Sub-Categories'!AK183-'CPI Sub-Categories'!AF183)/'CPI Sub-Categories'!AF183","v":4.0458703172006893E-2},{"$f":"('CPI Sub-Categories'!AL183-'CPI Sub-Categories'!AG183)/'CPI Sub-Categories'!AG183","v":4.0458703172006893E-2},null,{"$f":"('CPI Sub-Categories'!AM183-'CPI Sub-Categories'!AI183)/'CPI Sub-Categories'!AI183","v":4.0458703172006893E-2},{"$f":"('CPI Sub-Categories'!AN183-'CPI Sub-Categories'!AJ183)/'CPI Sub-Categories'!AJ183","v":-4.689422032084218E-2},{"$f":"('CPI Sub-Categories'!AO183-'CPI Sub-Categories'!AK183)/'CPI Sub-Categories'!AK183","v":-4.6894220320844136E-2},{"$f":"('CPI Sub-Categories'!AQ183-'CPI Sub-Categories'!AL183)/'CPI Sub-Categories'!AL183","v":-1}]
[2,"127000","Other services n.e.c.",null,0,-2.8710734602910293E-3,-8.0095119900340708E-3,-6.1574878206360492E-3,null,-6.1574878206360492E-3,-2.5836539244656082E-2,-2.0790443418621515E-2,-2.2615199095169729E-2,null,-2.2615199095169729E-2,0,0,0,null,{"$f":"('CPI Sub-Categories'!Y184-'CPI Sub-Categories'!T184)/'CPI Sub-Categories'!T184","v":0},{"$f":"('CPI Sub-Categories'!Z184-'CPI Sub-Categories'!U184)/'CPI Sub-Categories'!U184","v":0},{"$f":"('CPI Sub-Categories'!AA184-'CPI Sub-Categories'!V184)/'CPI Sub-Categories'!V184","v":0},{"$f":"('CPI Sub-Categories'!AB184-'CPI Sub-Categories'!W184)/'CPI Sub-Categories'!W184","v":0},null,{"$f":"('CPI Sub-Categories'!AD184-'CPI Sub-Categories'!Y184)/'CPI Sub-Categories'!Y184","v":0},{"$f":"('CPI Sub-Categories'!AE184-'CPI Sub-Categories'!Z184)/'CPI Sub-Categories'!Z184","v":0},{"$f":"('CPI Sub-Categories'!AF184-'CPI Sub-Categories'!AA184)/'CPI Sub-Categories'!AA184","v":0},{"$f":"('CPI Sub-Categories'!AG184-'CPI Sub-Categories'!AB184)/'CPI Sub-Categories'!AB184","v":0},null,{"$f":"('CPI Sub-Categories'!AI184-'CPI Sub-Categories'!AD184)/'CPI Sub-Categories'!AD184","v":0},{"$f":"('CPI Sub-Categories'!AJ184-'CPI Sub-Categories'!AE184)/'CPI Sub-Categories'!AE184","v":8.2833235200070257E-2},{"$f":"('CPI Sub-Categories'!AK184-'CPI Sub-Categories'!AF184)/'CPI Sub-Categories'!AF184","v":8.2833235200070257E-2},{"$f":"('CPI Sub-Categories'!AL184-'CPI Sub-Categories'!AG184)/'CPI Sub-Categories'!AG184","v":8.2833235200070257E-2},null,{"$f":"('CPI Sub-Categories'!AM184-'CPI Sub-Categories'!AI184)/'CPI Sub-Categories'!AI184","v":8.2833235200070257E-2},{"$f":"('CPI Sub-Categories'!AN184-'CPI Sub-Categories'!AJ184)/'CPI Sub-Categories'!AJ184","v":0},{"$f":"('CPI Sub-Categories'!AO184-'CPI Sub-Categories'!AK184)/'CPI Sub-Categories'!AK184","v":0},{"$f":"('CPI Sub-Categories'!AQ184-'CPI Sub-Categories'!AL184)/'CPI Sub-Categories'!AL184","v":-1}]
[3,"127000","Other services n.e.c.",null,0,-2.8710734602910293E-3,-8.0095119900340708E-3,-6.1574878206360492E-3,null,-6.1574878206360492E-3,-2.5836539244656082E-2,-2.0790443418621515E-2,-2.2615199095169729E-2,null,-2.2615199095169729E-2,0,0,0,null,{"$f":"('CPI Sub-Categories'!Y185-'CPI Sub-Categories'!T185)/'CPI Sub-Categories'!T185","v":0},{"$f":"('CPI Sub-Categories'!Z185-'CPI Sub-Categories'!U185)/'CPI Sub-Categories'!U185","v":0},{"$f":"('CPI Sub-Categories'!AA185-'CPI Sub-Categories'!V185)/'CPI Sub-Categories'!V185","v":0},{"$f":"('CPI Sub-Categories'!AB185-'CPI Sub-Categories'!W185)/'CPI Sub-Categories'!W185","v":0},null,{"$f":"('CPI Sub-Categories'!AD185-'CPI Sub-Categories'!Y185)/'CPI Sub-Categories'!Y185","v":0},{"$f":"('CPI Sub-Categories'!AE185-'CPI Sub-Categories'!Z185)/'CPI Sub-Categories'!Z185","v":0},{"$f":"('CPI Sub-Categories'!AF185-'CPI Sub-Categories'!AA185)/'CPI Sub-Categories'!AA185","v":0},{"$f":"('CPI Sub-Categories'!AG185-'CPI Sub-Categories'!AB185)/'CPI Sub-Categories'!AB185","v":0},null,{"$f":"('CPI Sub-Categories'!AI185-'CPI Sub-Categories'!AD185)/'CPI Sub-Categories'!AD185","v":0},{"$f":"('CPI Sub-Categories'!AJ185-'CPI Sub-Categories'!AE185)/'CPI Sub-Categories'!AE185","v":8.2833235200070257E-2},{"$f":"('CPI Sub-Categories'!AK185-'CPI Sub-Categories'!AF185)/'CPI Sub-Categories'!AF185","v":8.2833235200070257E-2},{"$f":"('CPI Sub-Categories'!AL185-'CPI Sub-Categories'!AG185)/'CPI Sub-Categories'!AG185","v":8.2833235200070257E-2},null,{"$f":"('CPI Sub-Categories'!AM185-'CPI Sub-Categories'!AI185)/'CPI Sub-Categories'!AI185","v":{"$error":"#N/A"}},{"$f":"('CPI Sub-Categories'!AN185-'CPI Sub-Categories'!AJ185)/'CPI Sub-Categories'!AJ185","v":0},{"$f":"('CPI Sub-Categories'!AO185-'CPI Sub-Categories'!AK185)/'CPI Sub-Categories'!AK185","v":0},{"$f":"('CPI Sub-Categories'!AQ185-'CPI Sub-Categories'!AL185)/'CPI Sub-Categories'!AL185","v":-1}]

{"sheet":"Inflation Charts","index":8,"n_rows":140,"n_cols":5,"rows_kept":140,"cut":false,"hidden":false,"merged":[]}
[]
["Inflation Charts    Quarterly comparison between Total Inflation and the four expenditure categories with the highest weight"]
[]
[]
[null,null,null,"Navigate the charts, by clicking on the relevant cell below."]
[null,null,null,null,"Expenditure categories (weight)"]
[null,null,null,"Chart 1","Food and non-alcoholic beverages (7%)"]
[null,null,null,"Chart 2","Housing, water, electricity, gas and other fuels (36%)"]
[null,null,null,"Chart 3","Transport (15%)"]
[null,null,null,"Chart 4","Miscellaneous goods and services (13%)"]
[]
[]
[]
[]
[]
[]
[]
[]
[]
[]
[]
[]
[]
[]
[]
[]
[]
[]
[]
[]
[]
[]
[]
[]
[]
[]
[]
[]
[]
[]
[]
[]
[]
[]
[]
[]
[]
[]
[]
[]
[]
[]
[]
[]
[]
[]
[]
[]
[]
[]
[]
[]
[]
[]
[]
[]
[]
[]
[]
[]
[null,null,"Back to the top"]
[]
[]
[]
[]
[]
[]
[]
[]
[]
[]
[]
[]
[]
[]
[]
[]
[]
[]
[]
[]
[]
[]
[]
[]
[]
[]
[]
[]
[]
[]
[]
[]
[]
[null,null,"Back to the top"]
[]
[]
[]
[]
[]
[]
[]
[]
[]
[]
[]
[]
[]
[]
[]
[]
[]
[]
[]
[]
[]
[]
[]
[]
[]
[]
[]
[]
[]
[]
[]
[]
[]
[]
[null,null,"Back to the top"]

{"sheet":"Lock","index":9,"n_rows":0,"n_cols":0,"rows_kept":0,"cut":false,"hidden":true,"merged":[]}

{"sheet":"Press Release_Table & Chart","index":10,"n_rows":30,"n_cols":7,"rows_kept":30,"cut":false,"hidden":true,"merged":[]}
["Expenditure category","2018 WEIGHTS","INDEX  2023 Quarter 2","INDEX 2024 Quarter 1","INDEX 2024 Quarter 4","Quarter-to-Quarter % Change Q1 2023 to Q2 2023","Year-on-Year % Change Q2 2022 to Q2 2023"]
[{"$f":"'2025Q3 Overview'!C11","v":"Food and non-alcoholic beverages"},{"$f":"'2025Q3 Overview'!D11","v":7.1575201768881838E-2},{"$f":"'2025Q3 Overview'!E11","v":120.721958285993},{"$f":"'2025Q3 Overview'!F11","v":123.380029759834},{"$f":"'2025Q3 Overview'!G11","v":121.762387419002},{"$f":"'2025Q3 Overview'!H11","v":-1.311105487639155E-2},{"$f":"'2025Q3 Overview'!I11","v":8.6183917804265511E-3}]
[{"$f":"'2025Q3 Overview'!C25","v":"Alcoholic beverages, tobacco and narcotics"},{"$f":"'2025Q3 Overview'!D25","v":3.9026875644902685E-3},{"$f":"'2025Q3 Overview'!E25","v":112.442304543959},{"$f":"'2025Q3 Overview'!F25","v":112.327025140774},{"$f":"'2025Q3 Overview'!G25","v":110.88519047477401},{"$f":"'2025Q3 Overview'!H25","v":-1.2836044257319287E-2},{"$f":"'2025Q3 Overview'!I25","v":-1.3848115933769761E-2}]
[{"$f":"'2025Q3 Overview'!C34","v":"Clothing and footwear"},{"$f":"'2025Q3 Overview'!D34","v":4.7592002679085331E-2},{"$f":"'2025Q3 Overview'!E34","v":121.121053475068},{"$f":"'2025Q3 Overview'!F34","v":123.390207785325},{"$f":"'2025Q3 Overview'!G34","v":122.346358582166},{"$f":"'2025Q3 Overview'!H34","v":-8.4597410272223023E-3},{"$f":"'2025Q3 Overview'!I34","v":1.0116367649908449E-2}]
[{"$f":"'2025Q3 Overview'!C43","v":"Housing, water, electricity, gas and other fuels"},{"$f":"'2025Q3 Overview'!D43","v":0.36126906341259835},{"$f":"'2025Q3 Overview'!E43","v":112.18340255661199},{"$f":"'2025Q3 Overview'!F43","v":112.458546058167},{"$f":"'2025Q3 Overview'!G43","v":111.576563892403},{"$f":"'2025Q3 Overview'!H43","v":-7.8427313590539605E-3},{"$f":"'2025Q3 Overview'!I43","v":-5.4093444340196362E-3}]
[{"$f":"'2025Q3 Overview'!C64","v":"Furnishings, household equipment and routine household maintenance"},{"$f":"'2025Q3 Overview'!D64","v":6.4625948261438373E-2},{"$f":"'2025Q3 Overview'!E64","v":116.601492676314},{"$f":"'2025Q3 Overview'!F64","v":117.34485022311701},{"$f":"'2025Q3 Overview'!G64","v":114.753511296022},{"$f":"'2025Q3 Overview'!H64","v":-2.2083107372568054E-2},{"$f":"'2025Q3 Overview'!I64","v":-1.584869402505848E-2}]
[{"$f":"'2025Q3 Overview'!C83","v":"Health"},{"$f":"'2025Q3 Overview'!D83","v":1.9365947128605548E-2},{"$f":"'2025Q3 Overview'!E83","v":109.160848334679},{"$f":"'2025Q3 Overview'!F83","v":109.22570980818401},{"$f":"'2025Q3 Overview'!G83","v":111.275480997155},{"$f":"'2025Q3 Overview'!H83","v":1.8766380118478379E-2},{"$f":"'2025Q3 Overview'!I83","v":1.9371713345362543E-2}]
[{"$f":"'2025Q3 Overview'!C94","v":"Transport"},{"$f":"'2025Q3 Overview'!D94","v":0.14575378806582548},{"$f":"'2025Q3 Overview'!E94","v":114.721567247941},{"$f":"'2025Q3 Overview'!F94","v":116.333073044633},{"$f":"'2025Q3 Overview'!G94","v":123.238339744851},{"$f":"'2025Q3 Overview'!H94","v":5.9357726220889001E-2},{"$f":"'2025Q3 Overview'!I94","v":7.4238634471434709E-2}]
[{"$f":"'2025Q3 Overview'!C112","v":"Communication"},{"$f":"'2025Q3 Overview'!D112","v":6.0220541079939932E-2},{"$f":"'2025Q3 Overview'!E112","v":115.806062888144},{"$f":"'2025Q3 Overview'!F112","v":115.79526090461},{"$f":"'2025Q3 Overview'!G112","v":116.678886102699},{"$f":"'2025Q3 Overview'!H112","v":7.6309271310930999E-3},{"$f":"'2025Q3 Overview'!I112","v":7.5369388509308874E-3}]
[{"$f":"'2025Q3 Overview'!C119","v":"Recreation and culture"},{"$f":"'2025Q3 Overview'!D119","v":4.6015376247221684E-2},{"$f":"'2025Q3 Overview'!E119","v":108.474413840675},{"$f":"'2025Q3 Overview'!F119","v":107.378989820003},{"$f":"'2025Q3 Overview'!G119","v":111.561546219584},{"$f":"'2025Q3 Overview'!H119","v":3.8951347992676487E-2},{"$f":"'2025Q3 Overview'!I119","v":2.8459544233567568E-2}]
[{"$f":"'2025Q3 Overview'!C147","v":"Education"},{"$f":"'2025Q3 Overview'!D147","v":2.6018666205681367E-2},{"$f":"'2025Q3 Overview'!E147","v":107.563991500295},{"$f":"'2025Q3 Overview'!F147","v":107.563991500295},{"$f":"'2025Q3 Overview'!G147","v":108.960389978907},{"$f":"'2025Q3 Overview'!H147","v":1.2982025482088676E-2},{"$f":"'2025Q3 Overview'!I147","v":1.2982025482088676E-2}]
[{"$f":"'2025Q3 Overview'!C158","v":"Restaurants and hotels"},{"$f":"'2025Q3 Overview'!D158","v":1.9675778938253445E-2},{"$f":"'2025Q3 Overview'!E158","v":121.974855454692},{"$f":"'2025Q3 Overview'!F158","v":127.97536447739699},{"$f":"'2025Q3 Overview'!G158","v":126.351299199498},{"$f":"'2025Q3 Overview'!H158","v":-1.2690452451775084E-2},{"$f":"'2025Q3 Overview'!I158","v":3.587988465730662E-2}]
[{"$f":"'2025Q3 Overview'!C164","v":"Miscellaneous goods and services"},{"$f":"'2025Q3 Overview'!D164","v":0.13398499864797866},{"$f":"'2025Q3 Overview'!E164","v":103.607462867772},{"$f":"'2025Q3 Overview'!F164","v":105.16177025722},{"$f":"'2025Q3 Overview'!G164","v":108.220556005551},{"$f":"'2025Q3 Overview'!H164","v":2.9086480199500067E-2},{"$f":"'2025Q3 Overview'!I164","v":4.4524718684274878E-2}]
["TOTAL CPI",{"$f":"'2025Q3 Overview'!D9","v":1},{"$f":"'2025Q3 Overview'!E9","v":113.822041355032},{"$f":"'2025Q3 Overview'!F9","v":114.22829585201499},{"$f":"'2025Q3 Overview'!G9","v":115.09192592725},{"$f":"'2025Q3 Overview'!H9","v":7.5605616698848233E-3},{"$f":"'2025Q3 Overview'!I9","v":1.1156754501151486E-2}]
[]
[]
["All items",{"$f":"'2025Q3 Overview'!G6&\" \"&'2025Q3 Overview'!G7","v":"2025 Quarter 3"},{"$f":"'2025Q3 Overview'!F6&\" \"&'2025Q3 Overview'!F7","v":"2025 Quarter 2"},{"$f":"'2025Q3 Overview'!E6&\" \"&'2025Q3 Overview'!E7","v":"2024 Quarter 3"}]
["Miscellaneous goods and services",{"$f":"E13","v":108.220556005551},{"$f":"D13","v":105.16177025722},{"$f":"C13","v":103.607462867772}]
["Restaurants and hotels",{"$f":"E12","v":126.351299199498},{"$f":"D12","v":127.97536447739699},{"$f":"C12","v":121.974855454692}]
["Education",{"$f":"E11","v":108.960389978907},{"$f":"D11","v":107.563991500295},{"$f":"C11","v":107.563991500295}]
["Recreation and culture",{"$f":"E10","v":111.561546219584},{"$f":"D10","v":107.378989820003},{"$f":"C10","v":108.474413840675}]
["Communication",{"$f":"E9","v":116.678886102699},{"$f":"D9","v":115.79526090461},{"$f":"C9","v":115.806062888144}]
["Transport",{"$f":"E8","v":123.238339744851},{"$f":"D8","v":116.333073044633},{"$f":"C8","v":114.721567247941}]
["Health",{"$f":"E7","v":111.275480997155},{"$f":"D7","v":109.22570980818401},{"$f":"C7","v":109.160848334679}]
["Furnishings, household equipment and routine household maintenance",{"$f":"E6","v":114.753511296022},{"$f":"D6","v":117.34485022311701},{"$f":"C6","v":116.601492676314}]
["Housing, water, electricity, gas and other fuels",{"$f":"E5","v":111.576563892403},{"$f":"D5","v":112.458546058167},{"$f":"C5","v":112.18340255661199}]
["Clothing and footwear",{"$f":"E4","v":122.346358582166},{"$f":"D4","v":123.390207785325},{"$f":"C4","v":121.121053475068}]
["Alcoholic beverages, tobacco and narcotics",{"$f":"E3","v":110.88519047477401},{"$f":"D3","v":112.327025140774},{"$f":"C3","v":112.442304543959}]
["Food and non-alcoholic beverages",{"$f":"E2","v":121.762387419002},{"$f":"D2","v":123.380029759834},{"$f":"C2","v":120.721958285993}]
["TOTAL CPI",{"$f":"E14","v":115.09192592725},{"$f":"D14","v":114.22829585201499},{"$f":"C14","v":113.822041355032}]